Workbook

Sheet Children on WL by Age
A8: Child Care Assistance Program (CCAP) Statistics: Number of Children on the Waitlist
B9: December 2025
B10: <1 | C10: 1 | D10: 2 | E10: 3 | F10: 4 | G10: 5 | H10: 6 | I10: 7 | J10: 8 | K10: 9 | L10: 10 | M10: 11 | N10: 12 | O10: >12 | P10: Total Children | Q10: Total Cases
A11: CCAP Wait List Total as of 12/31 | B11: 472 | C11: 1189 | D11: 1189 | E11: 1194 | F11: 1010 | G11: 708 | H11: 515 | I11: 373 | J11: 270 | K11: 206 | L11: 170 | M11: 96 | N11: 55 | O11: 89 | P11: 7536 | Q11: 5371
B12: January 2026
B13: <1 | C13: 1 | D13: 2 | E13: 3 | F13: 4 | G13: 5 | H13: 6 | I13: 7 | J13: 8 | K13: 9 | L13: 10 | M13: 11 | N13: 12 | O13: >12 | P13: Total Children | Q13: Total Cases
A14: CCAP Wait List Total as of 1/31 | B14: 447 | C14: 1206 | D14: 1224 | E14: 1204 | F14: 1034 | G14: 721 | H14: 539 | I14: 384 | J14: 274 | K14: 220 | L14: 167 | M14: 108 | N14: 57 | O14: 93 | P14: 7678 | Q14: 5485
B15: February 2026
B16: <1 | C16: 1 | D16: 2 | E16: 3 | F16: 4 | G16: 5 | H16: 6 | I16: 7 | J16: 8 | K16: 9 | L16: 10 | M16: 11 | N16: 12 | O16: >12 | P16: Total Children | Q16: Total Cases
A17: CCAP Wait List Total as of 2/28 | B17: 416 | C17: 1235 | D17: 1233 | E17: 1231 | F17: 1045 | G17: 734 | H17: 553 | I17: 390 | J17: 285 | K17: 225 | L17: 162 | M17: 110 | N17: 60 | O17: 102 | P17: 7781 | Q17: 5568
B18: March 2026
B19: <1 | C19: 1 | D19: 2 | E19: 3 | F19: 4 | G19: 5 | H19: 6 | I19: 7 | J19: 8 | K19: 9 | L19: 10 | M19: 11 | N19: 12 | O19: >12 | P19: Total Children | Q19: Total Cases
A20: CCAP Wait List Total as of 3/31 | B20: 348 | C20: 1197 | D20: 1207 | E20: 1248 | F20: 1052 | G20: 749 | H20: 561 | I20: 405 | J20: 286 | K20: 231 | L20: 168 | M20: 111 | N20: 65 | O20: 108 | P20: 7736 | Q20: 5543
B21: April 2026
B22: <1 | C22: 1 | D22: 2 | E22: 3 | F22: 4 | G22: 5 | H22: 6 | I22: 7 | J22: 8 | K22: 9 | L22: 10 | M22: 11 | N22: 12 | O22: >12 | P22: Total Children | Q22: Total Cases
A23: CCAP Wait List Total as of 4/30 | B23: 306 | C23: 1225 | D23: 1217 | E23: 1252 | F23: 1071 | G23: 784 | H23: 570 | I23: 428 | J23: 289 | K23: 244 | L23: 168 | M23: 112 | N23: 75 | O23: 110 | P23: 7851 | Q23: 5634
B24: May 2026
B25: <1 | C25: 1 | D25: 2 | E25: 3 | F25: 4 | G25: 5 | H25: 6 | I25: 7 | J25: 8 | K25: 9 | L25: 10 | M25: 11 | N25: 12 | O25: >12 | P25: Total Children | Q25: Total Cases
A26: CCAP Wait List Total as of 5/31 | B26: 284 | C26: 1215 | D26: 1219 | E26: 1278 | F26: 1074 | G26: 810 | H26: 569 | I26: 421 | J26: 307 | K26: 246 | L26: 169 | M26: 121 | N26: 76 | O26: 114 | P26: 7903 | Q26: 5667
B27: June 2026
B28: <1 | C28: 1 | D28: 2 | E28: 3 | F28: 4 | G28: 5 | H28: 6 | I28: 7 | J28: 8 | K28: 9 | L28: 10 | M28: 11 | N28: 12 | O28: >12 | P28: Total Children | Q28: Total Cases
A29: CCAP Wait List Total as of 6/30 | B29: 268 | C29: 1177 | D29: 1212 | E29: 1292 | F29: 1047 | G29: 829 | H29: 554 | I29: 416 | J29: 305 | K29: 243 | L29: 176 | M29: 120 | N29: 80 | O29: 115 | P29: 7834 | Q29: 5612
B30: July 2026
B31: <1 | C31: 1 | D31: 2 | E31: 3 | F31: 4 | G31: 5 | H31: 6 | I31: 7 | J31: 8 | K31: 9 | L31: 10 | M31: 11 | N31: 12 | O31: >12 | P31: Total Children | Q31: Total Cases
A32: CCAP Wait List Total as of 7/31 | B32: 237 | C32: 1114 | D32: 1209 | E32: 1293 | F32: 1075 | G32: 827 | H32: 549 | I32: 431 | J32: 298 | K32: 247 | L32: 192 | M32: 133 | N32: 76 | O32: 119 | P32: 7800 | Q32: 5573
B33: August 2026
B34: <1 | C34: 1 | D34: 2 | E34: 3 | F34: 4 | G34: 5 | H34: 6 | I34: 7 | J34: 8 | K34: 9 | L34: 10 | M34: 11 | N34: 12 | O34: >12 | P34: Total Children | Q34: Total Cases
A35: CCAP Wait List Total as of 8/31 | B35: 246 | C35: 1046 | D35: 1238 | E35: 1284 | F35: 1095 | G35: 832 | H35: 558 | I35: 427 | J35: 322 | K35: 240 | L35: 198 | M35: 131 | N35: 81 | O35: 121 | P35: 7819 | Q35: 5582
B36: September 2026
B37: <1 | C37: 1 | D37: 2 | E37: 3 | F37: 4 | G37: 5 | H37: 6 | I37: 7 | J37: 8 | K37: 9 | L37: 10 | M37: 11 | N37: 12 | O37: >12 | P37: Total Children | Q37: Total Cases
A38: CCAP Wait List Total as of 9/30
B39: October 2026
B40: <1 | C40: 1 | D40: 2 | E40: 3 | F40: 4 | G40: 5 | H40: 6 | I40: 7 | J40: 8 | K40: 9 | L40: 10 | M40: 11 | N40: 12 | O40: >12 | P40: Total Children | Q40: Total Cases
A41: CCAP Wait List Total as of 10/31
B42: November 2026
B43: <1 | C43: 1 | D43: 2 | E43: 3 | F43: 4 | G43: 5 | H43: 6 | I43: 7 | J43: 8 | K43: 9 | L43: 10 | M43: 11 | N43: 12 | O43: >12 | P43: Total Children | Q43: Total Cases
A44: CCAP Wait List Total as of 11/30
B45: December 2026
B46: <1 | C46: 1 | D46: 2 | E46: 3 | F46: 4 | G46: 5 | H46: 6 | I46: 7 | J46: 8 | K46: 9 | L46: 10 | M46: 11 | N46: 12 | O46: >12 | P46: Total Children | Q46: Total Cases
A47: CCAP Wait List Total as of 12/31

Sheet Parishes-Aug. 26
B3: Child Care Assistance Program (CCAP) Statistics: Wait List August 2026
A6: PARISH1 | B6: Wait List Families Added During Month | C6: Wait List Children Added During Month | D6: Total Wait List Families to Date | E6: Total Wait List Children To Date
A7: ACADIA | B7: =D7-'Parishes-July 26'!D7 -> 0 | C7: =E7-'Parishes-July 26'!E7 -> 2 | D7: 98 | E7: 153
A8: ALLEN | B8: =D8-'Parishes-July 26'!D8 -> -1 | C8: =E8-'Parishes-July 26'!E8 -> 0 | D8: 16 | E8: 25
A9: ASCENSION | B9: =D9-'Parishes-July 26'!D9 -> -1 | C9: =E9-'Parishes-July 26'!E9 -> 1 | D9: 156 | E9: 231
A10: ASSUMPTION | B10: =D10-'Parishes-July 26'!D10 -> 1 | C10: =E10-'Parishes-July 26'!E10 -> 1 | D10: 12 | E10: 17
A11: AVOYELLES | B11: =D11-'Parishes-July 26'!D11 -> 3 | C11: =E11-'Parishes-July 26'!E11 -> 5 | D11: 74 | E11: 106
A12: BEAUREGARD | B12: =D12-'Parishes-July 26'!D12 -> 0 | C12: =E12-'Parishes-July 26'!E12 -> 0 | D12: 23 | E12: 31
A13: BIENVILLE | B13: =D13-'Parishes-July 26'!D13 -> 0 | C13: =E13-'Parishes-July 26'!E13 -> 0 | D13: 14 | E13: 22
A14: BOSSIER | B14: =D14-'Parishes-July 26'!D14 -> -1 | C14: =E14-'Parishes-July 26'!E14 -> -3 | D14: 126 | E14: 181
A15: CADDO | B15: =D15-'Parishes-July 26'!D15 -> 7 | C15: =E15-'Parishes-July 26'!E15 -> 12 | D15: 421 | E15: 644
A16: CALCASIEU | B16: =D16-'Parishes-July 26'!D16 -> 0 | C16: =E16-'Parishes-July 26'!E16 -> 1 | D16: 232 | E16: 320
A17: CALDWELL | B17: =D17-'Parishes-July 26'!D17 -> -1 | C17: =E17-'Parishes-July 26'!E17 -> -2 | D17: 12 | E17: 19
A18: CAMERON | B18: =D18-'Parishes-July 26'!D18 -> 0 | C18: =E18-'Parishes-July 26'!E18 -> 0 | D18: 4 | E18: 4
... A71: NULL | B71: =D71-'Parishes-July 26'!D71 -> -1 | C71: =E71-'Parishes-July 26'!E71 -> -1 | D71: 48 | E71: 62
A72: TOTAL | D72: =SUM(D7:D71) -> 5582 | E72: =SUM(E7:E71) -> 7819
A74: Children and Families removed from the Waitlist appear in BLUE
A75: Children and Families added to the Waitlist appear in ORANGE

Sheet Parishes-July 26
B3: Child Care Assistance Program (CCAP) Statistics: Wait List July 2026
A6: PARISH1 | B6: Wait List Families Added During Month | C6: Wait List Children Added During Month | D6: Total Wait List Families to Date | E6: Total Wait List Children To Date
A7: ACADIA | B7: =D7-'Parishes-June 26'!D7 -> 1 | C7: =E7-'Parishes-June 26'!E7 -> 4 | D7: 98 | E7: 151
A8: ALLEN | B8: =D8-'Parishes-June 26'!D8 -> 2 | C8: =E8-'Parishes-June 26'!E8 -> 2 | D8: 17 | E8: 25
A9: ASCENSION | B9: =D9-'Parishes-June 26'!D9 -> 4 | C9: =E9-'Parishes-June 26'!E9 -> 7 | D9: 157 | E9: 230
A10: ASSUMPTION | B10: =D10-'Parishes-June 26'!D10 -> 0 | C10: =E10-'Parishes-June 26'!E10 -> 0 | D10: 11 | E10: 16
A11: AVOYELLES | B11: =D11-'Parishes-June 26'!D11 -> 3 | C11: =E11-'Parishes-June 26'!E11 -> 3 | D11: 71 | E11: 101
A12: BEAUREGARD | B12: =D12-'Parishes-June 26'!D12 -> 3 | C12: =E12-'Parishes-June 26'!E12 -> 5 | D12: 23 | E12: 31
A13: BIENVILLE | B13: =D13-'Parishes-June 26'!D13 -> 0 | C13: =E13-'Parishes-June 26'!E13 -> 0 | D13: 14 | E13: 22
A14: BOSSIER | B14: =D14-'Parishes-June 26'!D14 -> -3 | C14: =E14-'Parishes-June 26'!E14 -> -4 | D14: 127 | E14: 184
A15: CADDO | B15: =D15-'Parishes-June 26'!D15 -> 8 | C15: =E15-'Parishes-June 26'!E15 -> 14 | D15: 414 | E15: 632
A16: CALCASIEU | B16: =D16-'Parishes-June 26'!D16 -> 2 | C16: =E16-'Parishes-June 26'!E16 -> 3 | D16: 232 | E16: 319
A17: CALDWELL | B17: =D17-'Parishes-June 26'!D17 -> 1 | C17: =E17-'Parishes-June 26'!E17 -> 2 | D17: 13 | E17: 21
A18: CAMERON | B18: =D18-'Parishes-June 26'!D18 -> 0 | C18: =E18-'Parishes-June 26'!E18 -> 0 | D18: 4 | E18: 4
... A71: NULL | B71: =D71-'Parishes-June 26'!D71 -> 3 | C71: =E71-'Parishes-June 26'!E71 -> 2 | D71: 49 | E71: 63
A72: TOTAL | D72: =SUM(D7:D71) -> 5573 | E72: =SUM(E7:E71) -> 7800
A74: Children and Families removed from the Waitlist appear in BLUE
A75: Children and Families added to the Waitlist appear in ORANGE

Sheet Parishes-June 26
B3: Child Care Assistance Program (CCAP) Statistics: Wait List June 2026
A6: PARISH1 | B6: Wait List Families Added During Month | C6: Wait List Children Added During Month | D6: Total Wait List Families to Date | E6: Total Wait List Children To Date
A7: ACADIA | B7: 1 | C7: 3 | D7: 97 | E7: 147
A8: ALLEN | B8: 0 | C8: 0 | D8: 15 | E8: 23
A9: ASCENSION | B9: 0 | C9: 4 | D9: 153 | E9: 223
A10: ASSUMPTION | B10: -1 | C10: 1 | D10: 11 | E10: 16
A11: AVOYELLES | B11: -1 | C11: -3 | D11: 68 | E11: 98
A12: BEAUREGARD | B12: -1 | C12: -1 | D12: 20 | E12: 26
A13: BIENVILLE | B13: 1 | C13: 2 | D13: 14 | E13: 22
A14: BOSSIER | B14: -3 | C14: -3 | D14: 130 | E14: 188
A15: CADDO | B15: -5 | C15: -13 | D15: 406 | E15: 618
A16: CALCASIEU | B16: 0 | C16: 1 | D16: 230 | E16: 316
A17: CALDWELL | B17: 0 | C17: 0 | D17: 12 | E17: 19
A18: CAMERON | B18: 0 | C18: 0 | D18: 4 | E18: 4
... A71: NULL | B71: -1 | C71: -2 | D71: 46 | E71: 61
A72: TOTAL | D72: =SUM(D7:D71) -> 5612 | E72: =SUM(E7:E71) -> 7834
A74: Children and Families removed from the Waitlist appear in BLUE
A75: Children and Families added to the Waitlist appear in ORANGE

Sheet Parishes-May 26
B3: Child Care Assistance Program (CCAP) Statistics: Wait List May 2026
A6: PARISH1 | B6: Wait List Families Added During Month | C6: Wait List Children Added During Month | D6: Total Wait List Families to Date | E6: Total Wait List Children To Date
A7: ACADIA | B7: 2 | C7: 2 | D7: 96 | E7: 144
A8: ALLEN | B8: 0 | C8: 0 | D8: 15 | E8: 23
A9: ASCENSION | B9: 3 | C9: 6 | D9: 153 | E9: 219
A10: ASSUMPTION | B10: 0 | C10: 0 | D10: 12 | E10: 15
A11: AVOYELLES | B11: -2 | C11: -4 | D11: 69 | E11: 101
A12: BEAUREGARD | B12: 0 | C12: 0 | D12: 21 | E12: 27
A13: BIENVILLE | B13: 1 | C13: 1 | D13: 13 | E13: 20
A14: BOSSIER | B14: -2 | C14: -3 | D14: 133 | E14: 191
A15: CADDO | B15: 7 | C15: 5 | D15: 411 | E15: 631
A16: CALCASIEU | B16: -6 | C16: -7 | D16: 230 | E16: 315
A17: CALDWELL | B17: 1 | C17: 2 | D17: 12 | E17: 19
A18: CAMERON | B18: 0 | C18: 0 | D18: 4 | E18: 4
... A71: NULL | B71: -1 | C71: -1 | D71: 47 | E71: 63
A72: TOTAL | D72: =SUM(D7:D71) -> 5667 | E72: =SUM(E7:E71) -> 7903
D73: TOTALS HERE MUST MATCH RESPECTIVE MONTH TOTALS ON "Children on WL by Age" SUMMARY TAB
A74: Children and Families removed from the Waitlist appear in BLUE
A75: Children and Families added to the Waitlist appear in ORANGE

Sheet Parishes-Apr. 26
B3: Child Care Assistance Program (CCAP) Statistics: Wait List April 2026
A6: PARISH1 | B6: Wait List Families Added During Month | C6: Wait List Children Added During Month | D6: Total Wait List Families to Date | E6: Total Wait List Children To Date
A7: ACADIA | B7: -2 | C7: -3 | D7: 94 | E7: 142
A8: ALLEN | B8: 0 | C8: 0 | D8: 15 | E8: 23
A9: ASCENSION | B9: 1 | C9: 2 | D9: 150 | E9: 213
A10: ASSUMPTION | B10: -1 | C10: -2 | D10: 12 | E10: 15
A11: AVOYELLES | B11: 2 | C11: 4 | D11: 71 | E11: 105
A12: BEAUREGARD | B12: 0 | C12: 0 | D12: 21 | E12: 27
A13: BIENVILLE | B13: -1 | C13: -1 | D13: 12 | E13: 19
A14: BOSSIER | B14: 3 | C14: 2 | D14: 135 | E14: 194
A15: CADDO | B15: 0 | C15: 1 | D15: 404 | E15: 626
A16: CALCASIEU | B16: 3 | C16: 1 | D16: 236 | E16: 322
A17: CALDWELL | B17: 1 | C17: 2 | D17: 11 | E17: 17
A18: CAMERON | B18: 0 | C18: 0 | D18: 4 | E18: 4
... A71: NULL | B71: 0 | C71: -16 | D71: 48 | E71: 64
A72: TOTAL | D72: =SUM(D7:D71) -> 5634 | E72: =SUM(E7:E71) -> 7851
A74: Children and Families removed from the Waitlist appear in BLUE
A75: Children and Families added to the Waitlist appear in ORANGE

Sheet Parishes-Mar. 26
B3: Child Care Assistance Program (CCAP) Statistics: Wait List March 2026
A6: PARISH1 | B6: Wait List Families Added During Month | C6: Wait List Children Added During Month | D6: Total Wait List Families to Date | E6: Total Wait List Children To Date
A7: ACADIA | B7: 1 | C7: 3 | D7: 96 | E7: 145
A8: ALLEN | B8: 0 | C8: 0 | D8: 15 | E8: 23
A9: ASCENSION | B9: 0 | C9: 2 | D9: 149 | E9: 211
A10: ASSUMPTION | B10: 0 | C10: 0 | D10: 13 | E10: 17
A11: AVOYELLES | B11: -1 | C11: -2 | D11: 69 | E11: 101
A12: BEAUREGARD | B12: 0 | C12: 0 | D12: 21 | E12: 27
A13: BIENVILLE | B13: 0 | C13: 0 | D13: 13 | E13: 20
A14: BOSSIER | B14: 0 | C14: 0 | D14: 132 | E14: 192
A15: CADDO | B15: 0 | C15: -2 | D15: 404 | E15: 625
A16: CALCASIEU | B16: -2 | C16: -4 | D16: 233 | E16: 321
A17: CALDWELL | B17: 0 | C17: 0 | D17: 10 | E17: 15
A18: CAMERON | B18: 0 | C18: 0 | D18: 4 | E18: 4
... A71: NULL | B71: -1 | C71: -1 | D71: 48 | E71: 64
A72: TOTAL | D72: =SUM(D7:D71) -> 5543 | E72: =SUM(E7:E71) -> 7736
A74: Children and Families removed from the Waitlist appear in BLUE
A75: Children and Families added to the Waitlist appear in ORANGE

Sheet Parishes-Feb. 26
B3: Child Care Assistance Program (CCAP) Statistics: Wait List February 2026
A6: PARISH1 | B6: Wait List Families Added During Month | C6: Wait List Children Added During Month | D6: Total Wait List Families to Date | E6: Total Wait List Children To Date
A7: ACADIA | B7: 2 | C7: 2 | D7: 95 | E7: 142
A8: ALLEN | B8: -1 | C8: -3 | D8: 15 | E8: 23
A9: ASCENSION | B9: 2 | C9: 4 | D9: 149 | E9: 209
A10: ASSUMPTION | B10: 0 | C10: 0 | D10: 13 | E10: 17
A11: AVOYELLES | B11: -3 | C11: -4 | D11: 70 | E11: 103
A12: BEAUREGARD | B12: 0 | C12: 0 | D12: 21 | E12: 27
A13: BIENVILLE | B13: 0 | C13: 0 | D13: 13 | E13: 20
A14: BOSSIER | B14: 3 | C14: 3 | D14: 132 | E14: 192
A15: CADDO | B15: 1 | C15: 3 | D15: 404 | E15: 627
A16: CALCASIEU | B16: 3 | C16: 7 | D16: 235 | E16: 325
A17: CALDWELL | B17: 0 | C17: 0 | D17: 10 | E17: 15
A18: CAMERON | B18: 0 | C18: 0 | D18: 4 | E18: 4
... A71: NULL | B71: -1 | C71: -1 | D71: 49 | E71: 65
A72: TOTAL | D72: =SUM(D7:D71) -> 5568 | E72: =SUM(E7:E71) -> 7781
A74: Children and Families removed from the Waitlist appear in BLUE
A75: Children and Families added to the Waitlist appear in ORANGE

Sheet Parishes-Jan. 26
B3: Child Care Assistance Program (CCAP) Statistics: Wait List January 2026
A6: PARISH1 | B6: Wait List Families Added During Month | C6: Wait List Children Added During Month | D6: Total Wait List Families to Date | E6: Total Wait List Children To Date
A7: ACADIA | B7: 0 | C7: 0 | D7: 93 | E7: 140
A8: ALLEN | B8: 0 | C8: 0 | D8: 16 | E8: 26
A9: ASCENSION | B9: 3 | C9: 4 | D9: 147 | E9: 205
A10: ASSUMPTION | B10: 0 | C10: 0 | D10: 13 | E10: 17
A11: AVOYELLES | B11: 2 | C11: 3 | D11: 73 | E11: 107
A12: BEAUREGARD | B12: 0 | C12: 0 | D12: 21 | E12: 27
A13: BIENVILLE | B13: 0 | C13: 0 | D13: 13 | E13: 20
A14: BOSSIER | B14: 2 | C14: 1 | D14: 129 | E14: 189
A15: CADDO | B15: 8 | C15: 11 | D15: 403 | E15: 624
A16: CALCASIEU | B16: 11 | C16: 15 | D16: 232 | E16: 318
A17: CALDWELL | B17: 0 | C17: 0 | D17: 10 | E17: 15
A18: CAMERON | B18: 1 | C18: 1 | D18: 4 | E18: 4
... A71: NULL | B71: -2 | C71: -3 | D71: 50 | E71: 66
A72: TOTAL | D72: =SUM(D7:D71) -> 5485 | E72: =SUM(E7:E71) -> 7678
A74: Children and Families removed from the Waitlist appear in BLUE
A75: Children and Families added to the Waitlist appear in ORANGE

Sheet Parishes-Dec. 25
B3: Child Care Assistance Program (CCAP) Statistics: Wait List December 2025
A6: PARISH1 | B6: Wait List Families Added During Month | C6: Wait List Children Added During Month | D6: Total Wait List Families to Date | E6: Total Wait List Children To Date
A7: ACADIA | B7: 6 | C7: 11 | D7: 93 | E7: 140
A8: ALLEN | B8: 1 | C8: 1 | D8: 16 | E8: 26
A9: ASCENSION | B9: 6 | C9: 5 | D9: 144 | E9: 201
A10: ASSUMPTION | B10: 0 | C10: 0 | D10: 13 | E10: 17
A11: AVOYELLES | B11: -2 | C11: -3 | D11: 71 | E11: 104
A12: BEAUREGARD | B12: 1 | C12: 1 | D12: 21 | E12: 27
A13: BIENVILLE | B13: 1 | C13: 3 | D13: 13 | E13: 20
A14: BOSSIER | B14: 3 | C14: 5 | D14: 127 | E14: 188
A15: CADDO | B15: 4 | C15: 3 | D15: 395 | E15: 613
A16: CALCASIEU | B16: 4 | C16: 6 | D16: 221 | E16: 303
A17: CALDWELL | B17: 0 | C17: 0 | D17: 10 | E17: 15
A18: CAMERON | B18: 0 | C18: 0 | D18: 3 | E18: 3
... A71: NULL | B71: 1 | C71: 1 | D71: 52 | E71: 69
A72: TOTAL | D72: =SUM(D7:D71) -> 5371 | E72: =SUM(E7:E71) -> 7536
A74: Children and Families removed from the Waitlist appear in BLUE
A75: Children and Families added to the Waitlist appear in ORANGE
