{"text_format":"1","workbook":"xlsx","n_sheets":24,"sheets":["Feb_Legacy_Res","Feb_New Type 2_Res","Feb_OPSB Breakout","Oct_MidYear Adj","Oct_Legacy","Oct_NOCCA","Oct_LSMSA","Oct_Thrive","Oct_SSD","Oct_New Type 2","Feb_MidYear Adj","Feb_Legacy","for incrementing rows (DNCHG)","Feb_LSMSA","Feb_NOCCA","Feb_Thrive","Feb_SSD","Feb_Williams","2.1.22 MFP Base Count","2.1.23 SIS","Feb_New Type 2","Per Pupil Summary","10.1.23 Base Count","2.1.24 Base Count"],"not_rendered":{"charts":0,"images":0,"macros":1,"external_links":6,"defined_names":140,"comments":0,"pivot_tables":0},"unopened":[],"bounds":{"document_bytes":16777216,"sheet_cells":100000,"rows_first":2000,"rows_last":500,"rows_between":2000,"halvings":0,"cell_chars":16384,"cell_head_chars":4096},"cells_cut":0,"cells_raw":0,"read":"whole","date_system":"1900"}

{"sheet":"Feb_Legacy_Res","index":0,"n_rows":92,"n_cols":31,"rows_kept":92,"cut":false,"hidden":true,"merged":[[1,27,3,27],[1,28,3,28],[1,29,3,29],[1,30,3,30],[76,0,76,1],[77,0,77,1],[0,14,0,18],[0,19,0,23],[0,24,1,24],[75,0,75,1],[0,0,1,1],[0,2,1,2],[0,3,1,3],[0,4,1,4],[0,5,0,8],[0,9,0,13]]}
["Table 5A2\nLegacy Type 2\nCharter Schools",null,"Oct. 1, 2022\nMFP Funded\nMembership\n\n(Per SIS)","Feb. 1, 2023\nMFP Funded\nMembership\n\n(Per SIS)","Change in\nMFP Funded\nMembership","Unweighted Legacy Type 2 Charter School\n(Includes Final Local Revenue Representation)",null,null,null,"Economically Disadvantaged",null,null,null,null,"Students with Disabilities",null,null,null,null,"Gifted & Talented",null,null,null,null,"Change in\nTotal MFP\nState Cost\nAllocation\n\n(Levels 1,\n2, & 3)"]
[null,null,null,null,null,"Half the\nPer Pupil\nWithout\nContinuation\nof Prior Year\nPay Raises","Change in\nState Cost\nAllocation","Continuation\nof Prior Year\nPay Raises\n\nHalf the\nPer Pupil","Change in\nState Cost\nAllocation","10/1/22\nStudent\nCount","2/1/23\nStudent\nCount","Change\nin\nStudent\nCount","Half\nPer\nPupil","Change in\nState Cost\nAllocation","10/1/22\nStudent\nCount","2/1/23\nStudent\nCount","Change\nin\nStudent\nCount","Half\nPer\nPupil","Change in\nState Cost\nAllocation","10/1/22\nStudent\nCount","2/1/23\nStudent\nCount","Change\nin\nStudent\nCount","Half\nPer\nPupil","Change in\nState Cost\nAllocation",null,null,null,"column E math ck - mlb 3/4/23","column L math ck - mlb 3/4/24","column Q math ck - mlb 3/4/25","column V math ck - mlb 3/4/26"]
[]
[null,null,1,{"$f":"C4+1","v":2},{"$f":"D4+1","v":3},4,5,6,7,8,9,10,11,12,13,14,15,16,17,18,19,20,21,22,23]
[]
[null,null,"Link in File","Link in File","Formula","Values","Formula","Link to \"Counts in Budget Letter\"","Link in File","Formula","Link to \"Counts in Budget Letter\"","Link in File","Formula","Link to \"Counts in Budget Letter\"","Link in File","Formula","Link to \"Counts in Budget Letter\"","Link in File","Formula","Formula","Link to Mid-Year File","Link to Mid-Year File","Formula","Formula","Formula"]
[1,"Acadia",{"$f":"#REF!+#REF!+#REF!+#REF!+#REF!+#REF!+#REF!","v":{"$error":"#REF!"}},{"$f":"#REF!+#REF!+#REF!+#REF!+#REF!+#REF!+#REF!","v":{"$error":"#REF!"}},{"$f":"#REF!+#REF!+#REF!+#REF!+#REF!+#REF!+#REF!","v":{"$error":"#REF!"}},{"$f":"#REF!*0.5","v":{"$error":"#REF!"}},{"$f":"#REF!+#REF!+#REF!+#REF!+#REF!+#REF!+#REF!","v":{"$error":"#REF!"}},null,{"$f":"#REF!+#REF!+#REF!+#REF!+#REF!+#REF!+#REF!","v":{"$error":"#REF!"}},{"$f":"#REF!+#REF!+#REF!+#REF!+#REF!+#REF!+#REF!","v":{"$error":"#REF!"}},{"$f":"#REF!+#REF!+#REF!+#REF!+#REF!+#REF!+#REF!","v":{"$error":"#REF!"}},{"$f":"#REF!+#REF!+#REF!+#REF!+#REF!+#REF!+#REF!","v":{"$error":"#REF!"}},{"$f":"#REF!*0.5","v":{"$error":"#REF!"}},{"$f":"#REF!+#REF!+#REF!+#REF!+#REF!+#REF!+#REF!","v":{"$error":"#REF!"}},{"$f":"#REF!+#REF!+#REF!+#REF!+#REF!+#REF!+#REF!","v":{"$error":"#REF!"}},{"$f":"#REF!+#REF!+#REF!+#REF!+#REF!+#REF!+#REF!","v":{"$error":"#REF!"}},{"$f":"#REF!+#REF!+#REF!+#REF!+#REF!+#REF!+#REF!","v":{"$error":"#REF!"}},{"$f":"#REF!*0.5","v":{"$error":"#REF!"}},{"$f":"#REF!+#REF!+#REF!+#REF!+#REF!+#REF!+#REF!","v":{"$error":"#REF!"}},{"$f":"#REF!+#REF!+#REF!+#REF!+#REF!+#REF!+#REF!","v":{"$error":"#REF!"}},{"$f":"#REF!+#REF!+#REF!+#REF!+#REF!+#REF!+#REF!","v":{"$error":"#REF!"}},{"$f":"#REF!+#REF!+#REF!+#REF!+#REF!+#REF!+#REF!","v":{"$error":"#REF!"}},{"$f":"#REF!*0.5","v":{"$error":"#REF!"}},{"$f":"#REF!+#REF!+#REF!+#REF!+#REF!+#REF!+#REF!","v":{"$error":"#REF!"}},{"$f":"#REF!+#REF!+#REF!+#REF!+#REF!+#REF!+#REF!","v":{"$error":"#REF!"}},null,null,{"$f":"E7=(D7-C7)","v":{"$error":"#REF!"}},{"$f":"L7=(K7-J7)","v":{"$error":"#REF!"}},{"$f":"Q7=(P7-O7)","v":{"$error":"#REF!"}},{"$f":"V7=(U7-T7)","v":{"$error":"#REF!"}}]
[2,"Allen",{"$f":"#REF!+#REF!+#REF!+#REF!+#REF!+#REF!+#REF!","v":{"$error":"#REF!"}},{"$f":"#REF!+#REF!+#REF!+#REF!+#REF!+#REF!+#REF!","v":{"$error":"#REF!"}},{"$f":"#REF!+#REF!+#REF!+#REF!+#REF!+#REF!+#REF!","v":{"$error":"#REF!"}},{"$f":"#REF!*0.5","v":{"$error":"#REF!"}},{"$f":"#REF!+#REF!+#REF!+#REF!+#REF!+#REF!+#REF!","v":{"$error":"#REF!"}},null,{"$f":"#REF!+#REF!+#REF!+#REF!+#REF!+#REF!+#REF!","v":{"$error":"#REF!"}},{"$f":"#REF!+#REF!+#REF!+#REF!+#REF!+#REF!+#REF!","v":{"$error":"#REF!"}},{"$f":"#REF!+#REF!+#REF!+#REF!+#REF!+#REF!+#REF!","v":{"$error":"#REF!"}},{"$f":"#REF!+#REF!+#REF!+#REF!+#REF!+#REF!+#REF!","v":{"$error":"#REF!"}},{"$f":"#REF!*0.5","v":{"$error":"#REF!"}},{"$f":"#REF!+#REF!+#REF!+#REF!+#REF!+#REF!+#REF!","v":{"$error":"#REF!"}},{"$f":"#REF!+#REF!+#REF!+#REF!+#REF!+#REF!+#REF!","v":{"$error":"#REF!"}},{"$f":"#REF!+#REF!+#REF!+#REF!+#REF!+#REF!+#REF!","v":{"$error":"#REF!"}},{"$f":"#REF!+#REF!+#REF!+#REF!+#REF!+#REF!+#REF!","v":{"$error":"#REF!"}},{"$f":"#REF!*0.5","v":{"$error":"#REF!"}},{"$f":"#REF!+#REF!+#REF!+#REF!+#REF!+#REF!+#REF!","v":{"$error":"#REF!"}},{"$f":"#REF!+#REF!+#REF!+#REF!+#REF!+#REF!+#REF!","v":{"$error":"#REF!"}},{"$f":"#REF!+#REF!+#REF!+#REF!+#REF!+#REF!+#REF!","v":{"$error":"#REF!"}},{"$f":"#REF!+#REF!+#REF!+#REF!+#REF!+#REF!+#REF!","v":{"$error":"#REF!"}},{"$f":"#REF!*0.5","v":{"$error":"#REF!"}},{"$f":"#REF!+#REF!+#REF!+#REF!+#REF!+#REF!+#REF!","v":{"$error":"#REF!"}},{"$f":"#REF!+#REF!+#REF!+#REF!+#REF!+#REF!+#REF!","v":{"$error":"#REF!"}},null,null,{"$f":"E8=(D8-C8)","v":{"$error":"#REF!"}},{"$f":"L8=(K8-J8)","v":{"$error":"#REF!"}},{"$f":"Q8=(P8-O8)","v":{"$error":"#REF!"}},{"$f":"V8=(U8-T8)","v":{"$error":"#REF!"}}]
[3,"Ascension",{"$f":"#REF!+#REF!+#REF!+#REF!+#REF!+#REF!+#REF!","v":{"$error":"#REF!"}},{"$f":"#REF!+#REF!+#REF!+#REF!+#REF!+#REF!+#REF!","v":{"$error":"#REF!"}},{"$f":"#REF!+#REF!+#REF!+#REF!+#REF!+#REF!+#REF!","v":{"$error":"#REF!"}},{"$f":"#REF!*0.5","v":{"$error":"#REF!"}},{"$f":"#REF!+#REF!+#REF!+#REF!+#REF!+#REF!+#REF!","v":{"$error":"#REF!"}},null,{"$f":"#REF!+#REF!+#REF!+#REF!+#REF!+#REF!+#REF!","v":{"$error":"#REF!"}},{"$f":"#REF!+#REF!+#REF!+#REF!+#REF!+#REF!+#REF!","v":{"$error":"#REF!"}},{"$f":"#REF!+#REF!+#REF!+#REF!+#REF!+#REF!+#REF!","v":{"$error":"#REF!"}},{"$f":"#REF!+#REF!+#REF!+#REF!+#REF!+#REF!+#REF!","v":{"$error":"#REF!"}},{"$f":"#REF!*0.5","v":{"$error":"#REF!"}},{"$f":"#REF!+#REF!+#REF!+#REF!+#REF!+#REF!+#REF!","v":{"$error":"#REF!"}},{"$f":"#REF!+#REF!+#REF!+#REF!+#REF!+#REF!+#REF!","v":{"$error":"#REF!"}},{"$f":"#REF!+#REF!+#REF!+#REF!+#REF!+#REF!+#REF!","v":{"$error":"#REF!"}},{"$f":"#REF!+#REF!+#REF!+#REF!+#REF!+#REF!+#REF!","v":{"$error":"#REF!"}},{"$f":"#REF!*0.5","v":{"$error":"#REF!"}},{"$f":"#REF!+#REF!+#REF!+#REF!+#REF!+#REF!+#REF!","v":{"$error":"#REF!"}},{"$f":"#REF!+#REF!+#REF!+#REF!+#REF!+#REF!+#REF!","v":{"$error":"#REF!"}},{"$f":"#REF!+#REF!+#REF!+#REF!+#REF!+#REF!+#REF!","v":{"$error":"#REF!"}},{"$f":"#REF!+#REF!+#REF!+#REF!+#REF!+#REF!+#REF!","v":{"$error":"#REF!"}},{"$f":"#REF!*0.5","v":{"$error":"#REF!"}},{"$f":"#REF!+#REF!+#REF!+#REF!+#REF!+#REF!+#REF!","v":{"$error":"#REF!"}},{"$f":"#REF!+#REF!+#REF!+#REF!+#REF!+#REF!+#REF!","v":{"$error":"#REF!"}},null,null,{"$error":"#REF!"},{"$error":"#REF!"},{"$error":"#REF!"},{"$error":"#REF!"}]
[4,"Assumption",{"$f":"#REF!+#REF!+#REF!+#REF!+#REF!+#REF!+#REF!","v":{"$error":"#REF!"}},{"$f":"#REF!+#REF!+#REF!+#REF!+#REF!+#REF!+#REF!","v":{"$error":"#REF!"}},{"$f":"#REF!+#REF!+#REF!+#REF!+#REF!+#REF!+#REF!","v":{"$error":"#REF!"}},{"$f":"#REF!*0.5","v":{"$error":"#REF!"}},{"$f":"#REF!+#REF!+#REF!+#REF!+#REF!+#REF!+#REF!","v":{"$error":"#REF!"}},null,{"$f":"#REF!+#REF!+#REF!+#REF!+#REF!+#REF!+#REF!","v":{"$error":"#REF!"}},{"$f":"#REF!+#REF!+#REF!+#REF!+#REF!+#REF!+#REF!","v":{"$error":"#REF!"}},{"$f":"#REF!+#REF!+#REF!+#REF!+#REF!+#REF!+#REF!","v":{"$error":"#REF!"}},{"$f":"#REF!+#REF!+#REF!+#REF!+#REF!+#REF!+#REF!","v":{"$error":"#REF!"}},{"$f":"#REF!*0.5","v":{"$error":"#REF!"}},{"$f":"#REF!+#REF!+#REF!+#REF!+#REF!+#REF!+#REF!","v":{"$error":"#REF!"}},{"$f":"#REF!+#REF!+#REF!+#REF!+#REF!+#REF!+#REF!","v":{"$error":"#REF!"}},{"$f":"#REF!+#REF!+#REF!+#REF!+#REF!+#REF!+#REF!","v":{"$error":"#REF!"}},{"$f":"#REF!+#REF!+#REF!+#REF!+#REF!+#REF!+#REF!","v":{"$error":"#REF!"}},{"$f":"#REF!*0.5","v":{"$error":"#REF!"}},{"$f":"#REF!+#REF!+#REF!+#REF!+#REF!+#REF!+#REF!","v":{"$error":"#REF!"}},{"$f":"#REF!+#REF!+#REF!+#REF!+#REF!+#REF!+#REF!","v":{"$error":"#REF!"}},{"$f":"#REF!+#REF!+#REF!+#REF!+#REF!+#REF!+#REF!","v":{"$error":"#REF!"}},{"$f":"#REF!+#REF!+#REF!+#REF!+#REF!+#REF!+#REF!","v":{"$error":"#REF!"}},{"$f":"#REF!*0.5","v":{"$error":"#REF!"}},{"$f":"#REF!+#REF!+#REF!+#REF!+#REF!+#REF!+#REF!","v":{"$error":"#REF!"}},{"$f":"#REF!+#REF!+#REF!+#REF!+#REF!+#REF!+#REF!","v":{"$error":"#REF!"}},null,null,{"$error":"#REF!"},{"$error":"#REF!"},{"$error":"#REF!"},{"$error":"#REF!"}]
[5,"Avoyelles",{"$f":"#REF!+#REF!+#REF!+#REF!+#REF!+#REF!+#REF!","v":{"$error":"#REF!"}},{"$f":"#REF!+#REF!+#REF!+#REF!+#REF!+#REF!+#REF!","v":{"$error":"#REF!"}},{"$f":"#REF!+#REF!+#REF!+#REF!+#REF!+#REF!+#REF!","v":{"$error":"#REF!"}},{"$f":"#REF!*0.5","v":{"$error":"#REF!"}},{"$f":"#REF!+#REF!+#REF!+#REF!+#REF!+#REF!+#REF!","v":{"$error":"#REF!"}},null,{"$f":"#REF!+#REF!+#REF!+#REF!+#REF!+#REF!+#REF!","v":{"$error":"#REF!"}},{"$f":"#REF!+#REF!+#REF!+#REF!+#REF!+#REF!+#REF!","v":{"$error":"#REF!"}},{"$f":"#REF!+#REF!+#REF!+#REF!+#REF!+#REF!+#REF!","v":{"$error":"#REF!"}},{"$f":"#REF!+#REF!+#REF!+#REF!+#REF!+#REF!+#REF!","v":{"$error":"#REF!"}},{"$f":"#REF!*0.5","v":{"$error":"#REF!"}},{"$f":"#REF!+#REF!+#REF!+#REF!+#REF!+#REF!+#REF!","v":{"$error":"#REF!"}},{"$f":"#REF!+#REF!+#REF!+#REF!+#REF!+#REF!+#REF!","v":{"$error":"#REF!"}},{"$f":"#REF!+#REF!+#REF!+#REF!+#REF!+#REF!+#REF!","v":{"$error":"#REF!"}},{"$f":"#REF!+#REF!+#REF!+#REF!+#REF!+#REF!+#REF!","v":{"$error":"#REF!"}},{"$f":"#REF!*0.5","v":{"$error":"#REF!"}},{"$f":"#REF!+#REF!+#REF!+#REF!+#REF!+#REF!+#REF!","v":{"$error":"#REF!"}},{"$f":"#REF!+#REF!+#REF!+#REF!+#REF!+#REF!+#REF!","v":{"$error":"#REF!"}},{"$f":"#REF!+#REF!+#REF!+#REF!+#REF!+#REF!+#REF!","v":{"$error":"#REF!"}},{"$f":"#REF!+#REF!+#REF!+#REF!+#REF!+#REF!+#REF!","v":{"$error":"#REF!"}},{"$f":"#REF!*0.5","v":{"$error":"#REF!"}},{"$f":"#REF!+#REF!+#REF!+#REF!+#REF!+#REF!+#REF!","v":{"$error":"#REF!"}},{"$f":"#REF!+#REF!+#REF!+#REF!+#REF!+#REF!+#REF!","v":{"$error":"#REF!"}},null,null,{"$error":"#REF!"},{"$error":"#REF!"},{"$error":"#REF!"},{"$error":"#REF!"}]
[6,"Beauregard",{"$f":"#REF!+#REF!+#REF!+#REF!+#REF!+#REF!+#REF!","v":{"$error":"#REF!"}},{"$f":"#REF!+#REF!+#REF!+#REF!+#REF!+#REF!+#REF!","v":{"$error":"#REF!"}},{"$f":"#REF!+#REF!+#REF!+#REF!+#REF!+#REF!+#REF!","v":{"$error":"#REF!"}},{"$f":"#REF!*0.5","v":{"$error":"#REF!"}},{"$f":"#REF!+#REF!+#REF!+#REF!+#REF!+#REF!+#REF!","v":{"$error":"#REF!"}},null,{"$f":"#REF!+#REF!+#REF!+#REF!+#REF!+#REF!+#REF!","v":{"$error":"#REF!"}},{"$f":"#REF!+#REF!+#REF!+#REF!+#REF!+#REF!+#REF!","v":{"$error":"#REF!"}},{"$f":"#REF!+#REF!+#REF!+#REF!+#REF!+#REF!+#REF!","v":{"$error":"#REF!"}},{"$f":"#REF!+#REF!+#REF!+#REF!+#REF!+#REF!+#REF!","v":{"$error":"#REF!"}},{"$f":"#REF!*0.5","v":{"$error":"#REF!"}},{"$f":"#REF!+#REF!+#REF!+#REF!+#REF!+#REF!+#REF!","v":{"$error":"#REF!"}},{"$f":"#REF!+#REF!+#REF!+#REF!+#REF!+#REF!+#REF!","v":{"$error":"#REF!"}},{"$f":"#REF!+#REF!+#REF!+#REF!+#REF!+#REF!+#REF!","v":{"$error":"#REF!"}},{"$f":"#REF!+#REF!+#REF!+#REF!+#REF!+#REF!+#REF!","v":{"$error":"#REF!"}},{"$f":"#REF!*0.5","v":{"$error":"#REF!"}},{"$f":"#REF!+#REF!+#REF!+#REF!+#REF!+#REF!+#REF!","v":{"$error":"#REF!"}},{"$f":"#REF!+#REF!+#REF!+#REF!+#REF!+#REF!+#REF!","v":{"$error":"#REF!"}},{"$f":"#REF!+#REF!+#REF!+#REF!+#REF!+#REF!+#REF!","v":{"$error":"#REF!"}},{"$f":"#REF!+#REF!+#REF!+#REF!+#REF!+#REF!+#REF!","v":{"$error":"#REF!"}},{"$f":"#REF!*0.5","v":{"$error":"#REF!"}},{"$f":"#REF!+#REF!+#REF!+#REF!+#REF!+#REF!+#REF!","v":{"$error":"#REF!"}},{"$f":"#REF!+#REF!+#REF!+#REF!+#REF!+#REF!+#REF!","v":{"$error":"#REF!"}},null,null,{"$error":"#REF!"},{"$error":"#REF!"},{"$error":"#REF!"},{"$error":"#REF!"}]
[7,"Bienville",{"$f":"#REF!+#REF!+#REF!+#REF!+#REF!+#REF!+#REF!","v":{"$error":"#REF!"}},{"$f":"#REF!+#REF!+#REF!+#REF!+#REF!+#REF!+#REF!","v":{"$error":"#REF!"}},{"$f":"#REF!+#REF!+#REF!+#REF!+#REF!+#REF!+#REF!","v":{"$error":"#REF!"}},{"$f":"#REF!*0.5","v":{"$error":"#REF!"}},{"$f":"#REF!+#REF!+#REF!+#REF!+#REF!+#REF!+#REF!","v":{"$error":"#REF!"}},null,{"$f":"#REF!+#REF!+#REF!+#REF!+#REF!+#REF!+#REF!","v":{"$error":"#REF!"}},{"$f":"#REF!+#REF!+#REF!+#REF!+#REF!+#REF!+#REF!","v":{"$error":"#REF!"}},{"$f":"#REF!+#REF!+#REF!+#REF!+#REF!+#REF!+#REF!","v":{"$error":"#REF!"}},{"$f":"#REF!+#REF!+#REF!+#REF!+#REF!+#REF!+#REF!","v":{"$error":"#REF!"}},{"$f":"#REF!*0.5","v":{"$error":"#REF!"}},{"$f":"#REF!+#REF!+#REF!+#REF!+#REF!+#REF!+#REF!","v":{"$error":"#REF!"}},{"$f":"#REF!+#REF!+#REF!+#REF!+#REF!+#REF!+#REF!","v":{"$error":"#REF!"}},{"$f":"#REF!+#REF!+#REF!+#REF!+#REF!+#REF!+#REF!","v":{"$error":"#REF!"}},{"$f":"#REF!+#REF!+#REF!+#REF!+#REF!+#REF!+#REF!","v":{"$error":"#REF!"}},{"$f":"#REF!*0.5","v":{"$error":"#REF!"}},{"$f":"#REF!+#REF!+#REF!+#REF!+#REF!+#REF!+#REF!","v":{"$error":"#REF!"}},{"$f":"#REF!+#REF!+#REF!+#REF!+#REF!+#REF!+#REF!","v":{"$error":"#REF!"}},{"$f":"#REF!+#REF!+#REF!+#REF!+#REF!+#REF!+#REF!","v":{"$error":"#REF!"}},{"$f":"#REF!+#REF!+#REF!+#REF!+#REF!+#REF!+#REF!","v":{"$error":"#REF!"}},{"$f":"#REF!*0.5","v":{"$error":"#REF!"}},{"$f":"#REF!+#REF!+#REF!+#REF!+#REF!+#REF!+#REF!","v":{"$error":"#REF!"}},{"$f":"#REF!+#REF!+#REF!+#REF!+#REF!+#REF!+#REF!","v":{"$error":"#REF!"}},null,null,{"$error":"#REF!"},{"$error":"#REF!"},{"$error":"#REF!"},{"$error":"#REF!"}]
[8,"Bossier",{"$f":"#REF!+#REF!+#REF!+#REF!+#REF!+#REF!+#REF!","v":{"$error":"#REF!"}},{"$f":"#REF!+#REF!+#REF!+#REF!+#REF!+#REF!+#REF!","v":{"$error":"#REF!"}},{"$f":"#REF!+#REF!+#REF!+#REF!+#REF!+#REF!+#REF!","v":{"$error":"#REF!"}},{"$f":"#REF!*0.5","v":{"$error":"#REF!"}},{"$f":"#REF!+#REF!+#REF!+#REF!+#REF!+#REF!+#REF!","v":{"$error":"#REF!"}},null,{"$f":"#REF!+#REF!+#REF!+#REF!+#REF!+#REF!+#REF!","v":{"$error":"#REF!"}},{"$f":"#REF!+#REF!+#REF!+#REF!+#REF!+#REF!+#REF!","v":{"$error":"#REF!"}},{"$f":"#REF!+#REF!+#REF!+#REF!+#REF!+#REF!+#REF!","v":{"$error":"#REF!"}},{"$f":"#REF!+#REF!+#REF!+#REF!+#REF!+#REF!+#REF!","v":{"$error":"#REF!"}},{"$f":"#REF!*0.5","v":{"$error":"#REF!"}},{"$f":"#REF!+#REF!+#REF!+#REF!+#REF!+#REF!+#REF!","v":{"$error":"#REF!"}},{"$f":"#REF!+#REF!+#REF!+#REF!+#REF!+#REF!+#REF!","v":{"$error":"#REF!"}},{"$f":"#REF!+#REF!+#REF!+#REF!+#REF!+#REF!+#REF!","v":{"$error":"#REF!"}},{"$f":"#REF!+#REF!+#REF!+#REF!+#REF!+#REF!+#REF!","v":{"$error":"#REF!"}},{"$f":"#REF!*0.5","v":{"$error":"#REF!"}},{"$f":"#REF!+#REF!+#REF!+#REF!+#REF!+#REF!+#REF!","v":{"$error":"#REF!"}},{"$f":"#REF!+#REF!+#REF!+#REF!+#REF!+#REF!+#REF!","v":{"$error":"#REF!"}},{"$f":"#REF!+#REF!+#REF!+#REF!+#REF!+#REF!+#REF!","v":{"$error":"#REF!"}},{"$f":"#REF!+#REF!+#REF!+#REF!+#REF!+#REF!+#REF!","v":{"$error":"#REF!"}},{"$f":"#REF!*0.5","v":{"$error":"#REF!"}},{"$f":"#REF!+#REF!+#REF!+#REF!+#REF!+#REF!+#REF!","v":{"$error":"#REF!"}},{"$f":"#REF!+#REF!+#REF!+#REF!+#REF!+#REF!+#REF!","v":{"$error":"#REF!"}},null,null,{"$error":"#REF!"},{"$error":"#REF!"},{"$error":"#REF!"},{"$error":"#REF!"}]
[9,"Caddo",{"$f":"#REF!+#REF!+#REF!+#REF!+#REF!+#REF!+#REF!","v":{"$error":"#REF!"}},{"$f":"#REF!+#REF!+#REF!+#REF!+#REF!+#REF!+#REF!","v":{"$error":"#REF!"}},{"$f":"#REF!+#REF!+#REF!+#REF!+#REF!+#REF!+#REF!","v":{"$error":"#REF!"}},{"$f":"#REF!*0.5","v":{"$error":"#REF!"}},{"$f":"#REF!+#REF!+#REF!+#REF!+#REF!+#REF!+#REF!","v":{"$error":"#REF!"}},null,{"$f":"#REF!+#REF!+#REF!+#REF!+#REF!+#REF!+#REF!","v":{"$error":"#REF!"}},{"$f":"#REF!+#REF!+#REF!+#REF!+#REF!+#REF!+#REF!","v":{"$error":"#REF!"}},{"$f":"#REF!+#REF!+#REF!+#REF!+#REF!+#REF!+#REF!","v":{"$error":"#REF!"}},{"$f":"#REF!+#REF!+#REF!+#REF!+#REF!+#REF!+#REF!","v":{"$error":"#REF!"}},{"$f":"#REF!*0.5","v":{"$error":"#REF!"}},{"$f":"#REF!+#REF!+#REF!+#REF!+#REF!+#REF!+#REF!","v":{"$error":"#REF!"}},{"$f":"#REF!+#REF!+#REF!+#REF!+#REF!+#REF!+#REF!","v":{"$error":"#REF!"}},{"$f":"#REF!+#REF!+#REF!+#REF!+#REF!+#REF!+#REF!","v":{"$error":"#REF!"}},{"$f":"#REF!+#REF!+#REF!+#REF!+#REF!+#REF!+#REF!","v":{"$error":"#REF!"}},{"$f":"#REF!*0.5","v":{"$error":"#REF!"}},{"$f":"#REF!+#REF!+#REF!+#REF!+#REF!+#REF!+#REF!","v":{"$error":"#REF!"}},{"$f":"#REF!+#REF!+#REF!+#REF!+#REF!+#REF!+#REF!","v":{"$error":"#REF!"}},{"$f":"#REF!+#REF!+#REF!+#REF!+#REF!+#REF!+#REF!","v":{"$error":"#REF!"}},{"$f":"#REF!+#REF!+#REF!+#REF!+#REF!+#REF!+#REF!","v":{"$error":"#REF!"}},{"$f":"#REF!*0.5","v":{"$error":"#REF!"}},{"$f":"#REF!+#REF!+#REF!+#REF!+#REF!+#REF!+#REF!","v":{"$error":"#REF!"}},{"$f":"#REF!+#REF!+#REF!+#REF!+#REF!+#REF!+#REF!","v":{"$error":"#REF!"}},null,null,{"$error":"#REF!"},{"$error":"#REF!"},{"$error":"#REF!"},{"$error":"#REF!"}]
[10,"Calcasieu",{"$f":"#REF!+#REF!+#REF!+#REF!+#REF!+#REF!+#REF!","v":{"$error":"#REF!"}},{"$f":"#REF!+#REF!+#REF!+#REF!+#REF!+#REF!+#REF!","v":{"$error":"#REF!"}},{"$f":"#REF!+#REF!+#REF!+#REF!+#REF!+#REF!+#REF!","v":{"$error":"#REF!"}},{"$f":"#REF!*0.5","v":{"$error":"#REF!"}},{"$f":"#REF!+#REF!+#REF!+#REF!+#REF!+#REF!+#REF!","v":{"$error":"#REF!"}},null,{"$f":"#REF!+#REF!+#REF!+#REF!+#REF!+#REF!+#REF!","v":{"$error":"#REF!"}},{"$f":"#REF!+#REF!+#REF!+#REF!+#REF!+#REF!+#REF!","v":{"$error":"#REF!"}},{"$f":"#REF!+#REF!+#REF!+#REF!+#REF!+#REF!+#REF!","v":{"$error":"#REF!"}},{"$f":"#REF!+#REF!+#REF!+#REF!+#REF!+#REF!+#REF!","v":{"$error":"#REF!"}},{"$f":"#REF!*0.5","v":{"$error":"#REF!"}},{"$f":"#REF!+#REF!+#REF!+#REF!+#REF!+#REF!+#REF!","v":{"$error":"#REF!"}},{"$f":"#REF!+#REF!+#REF!+#REF!+#REF!+#REF!+#REF!","v":{"$error":"#REF!"}},{"$f":"#REF!+#REF!+#REF!+#REF!+#REF!+#REF!+#REF!","v":{"$error":"#REF!"}},{"$f":"#REF!+#REF!+#REF!+#REF!+#REF!+#REF!+#REF!","v":{"$error":"#REF!"}},{"$f":"#REF!*0.5","v":{"$error":"#REF!"}},{"$f":"#REF!+#REF!+#REF!+#REF!+#REF!+#REF!+#REF!","v":{"$error":"#REF!"}},{"$f":"#REF!+#REF!+#REF!+#REF!+#REF!+#REF!+#REF!","v":{"$error":"#REF!"}},{"$f":"#REF!+#REF!+#REF!+#REF!+#REF!+#REF!+#REF!","v":{"$error":"#REF!"}},{"$f":"#REF!+#REF!+#REF!+#REF!+#REF!+#REF!+#REF!","v":{"$error":"#REF!"}},{"$f":"#REF!*0.5","v":{"$error":"#REF!"}},{"$f":"#REF!+#REF!+#REF!+#REF!+#REF!+#REF!+#REF!","v":{"$error":"#REF!"}},{"$f":"#REF!+#REF!+#REF!+#REF!+#REF!+#REF!+#REF!","v":{"$error":"#REF!"}},null,null,{"$error":"#REF!"},{"$error":"#REF!"},{"$error":"#REF!"},{"$error":"#REF!"}]
[11,"Caldwell",{"$f":"#REF!+#REF!+#REF!+#REF!+#REF!+#REF!+#REF!","v":{"$error":"#REF!"}},{"$f":"#REF!+#REF!+#REF!+#REF!+#REF!+#REF!+#REF!","v":{"$error":"#REF!"}},{"$f":"#REF!+#REF!+#REF!+#REF!+#REF!+#REF!+#REF!","v":{"$error":"#REF!"}},{"$f":"#REF!*0.5","v":{"$error":"#REF!"}},{"$f":"#REF!+#REF!+#REF!+#REF!+#REF!+#REF!+#REF!","v":{"$error":"#REF!"}},null,{"$f":"#REF!+#REF!+#REF!+#REF!+#REF!+#REF!+#REF!","v":{"$error":"#REF!"}},{"$f":"#REF!+#REF!+#REF!+#REF!+#REF!+#REF!+#REF!","v":{"$error":"#REF!"}},{"$f":"#REF!+#REF!+#REF!+#REF!+#REF!+#REF!+#REF!","v":{"$error":"#REF!"}},{"$f":"#REF!+#REF!+#REF!+#REF!+#REF!+#REF!+#REF!","v":{"$error":"#REF!"}},{"$f":"#REF!*0.5","v":{"$error":"#REF!"}},{"$f":"#REF!+#REF!+#REF!+#REF!+#REF!+#REF!+#REF!","v":{"$error":"#REF!"}},{"$f":"#REF!+#REF!+#REF!+#REF!+#REF!+#REF!+#REF!","v":{"$error":"#REF!"}},{"$f":"#REF!+#REF!+#REF!+#REF!+#REF!+#REF!+#REF!","v":{"$error":"#REF!"}},{"$f":"#REF!+#REF!+#REF!+#REF!+#REF!+#REF!+#REF!","v":{"$error":"#REF!"}},{"$f":"#REF!*0.5","v":{"$error":"#REF!"}},{"$f":"#REF!+#REF!+#REF!+#REF!+#REF!+#REF!+#REF!","v":{"$error":"#REF!"}},{"$f":"#REF!+#REF!+#REF!+#REF!+#REF!+#REF!+#REF!","v":{"$error":"#REF!"}},{"$f":"#REF!+#REF!+#REF!+#REF!+#REF!+#REF!+#REF!","v":{"$error":"#REF!"}},{"$f":"#REF!+#REF!+#REF!+#REF!+#REF!+#REF!+#REF!","v":{"$error":"#REF!"}},{"$f":"#REF!*0.5","v":{"$error":"#REF!"}},{"$f":"#REF!+#REF!+#REF!+#REF!+#REF!+#REF!+#REF!","v":{"$error":"#REF!"}},{"$f":"#REF!+#REF!+#REF!+#REF!+#REF!+#REF!+#REF!","v":{"$error":"#REF!"}},null,null,{"$error":"#REF!"},{"$error":"#REF!"},{"$error":"#REF!"},{"$error":"#REF!"}]
[12,"Cameron",{"$f":"#REF!+#REF!+#REF!+#REF!+#REF!+#REF!+#REF!","v":{"$error":"#REF!"}},{"$f":"#REF!+#REF!+#REF!+#REF!+#REF!+#REF!+#REF!","v":{"$error":"#REF!"}},{"$f":"#REF!+#REF!+#REF!+#REF!+#REF!+#REF!+#REF!","v":{"$error":"#REF!"}},{"$f":"#REF!*0.5","v":{"$error":"#REF!"}},{"$f":"#REF!+#REF!+#REF!+#REF!+#REF!+#REF!+#REF!","v":{"$error":"#REF!"}},null,{"$f":"#REF!+#REF!+#REF!+#REF!+#REF!+#REF!+#REF!","v":{"$error":"#REF!"}},{"$f":"#REF!+#REF!+#REF!+#REF!+#REF!+#REF!+#REF!","v":{"$error":"#REF!"}},{"$f":"#REF!+#REF!+#REF!+#REF!+#REF!+#REF!+#REF!","v":{"$error":"#REF!"}},{"$f":"#REF!+#REF!+#REF!+#REF!+#REF!+#REF!+#REF!","v":{"$error":"#REF!"}},{"$f":"#REF!*0.5","v":{"$error":"#REF!"}},{"$f":"#REF!+#REF!+#REF!+#REF!+#REF!+#REF!+#REF!","v":{"$error":"#REF!"}},{"$f":"#REF!+#REF!+#REF!+#REF!+#REF!+#REF!+#REF!","v":{"$error":"#REF!"}},{"$f":"#REF!+#REF!+#REF!+#REF!+#REF!+#REF!+#REF!","v":{"$error":"#REF!"}},{"$f":"#REF!+#REF!+#REF!+#REF!+#REF!+#REF!+#REF!","v":{"$error":"#REF!"}},{"$f":"#REF!*0.5","v":{"$error":"#REF!"}},{"$f":"#REF!+#REF!+#REF!+#REF!+#REF!+#REF!+#REF!","v":{"$error":"#REF!"}},{"$f":"#REF!+#REF!+#REF!+#REF!+#REF!+#REF!+#REF!","v":{"$error":"#REF!"}},{"$f":"#REF!+#REF!+#REF!+#REF!+#REF!+#REF!+#REF!","v":{"$error":"#REF!"}},{"$f":"#REF!+#REF!+#REF!+#REF!+#REF!+#REF!+#REF!","v":{"$error":"#REF!"}},{"$f":"#REF!*0.5","v":{"$error":"#REF!"}},{"$f":"#REF!+#REF!+#REF!+#REF!+#REF!+#REF!+#REF!","v":{"$error":"#REF!"}},{"$f":"#REF!+#REF!+#REF!+#REF!+#REF!+#REF!+#REF!","v":{"$error":"#REF!"}},null,null,{"$error":"#REF!"},{"$error":"#REF!"},{"$error":"#REF!"},{"$error":"#REF!"}]
[13,"Catahoula",{"$f":"#REF!+#REF!+#REF!+#REF!+#REF!+#REF!+#REF!","v":{"$error":"#REF!"}},{"$f":"#REF!+#REF!+#REF!+#REF!+#REF!+#REF!+#REF!","v":{"$error":"#REF!"}},{"$f":"#REF!+#REF!+#REF!+#REF!+#REF!+#REF!+#REF!","v":{"$error":"#REF!"}},{"$f":"#REF!*0.5","v":{"$error":"#REF!"}},{"$f":"#REF!+#REF!+#REF!+#REF!+#REF!+#REF!+#REF!","v":{"$error":"#REF!"}},null,{"$f":"#REF!+#REF!+#REF!+#REF!+#REF!+#REF!+#REF!","v":{"$error":"#REF!"}},{"$f":"#REF!+#REF!+#REF!+#REF!+#REF!+#REF!+#REF!","v":{"$error":"#REF!"}},{"$f":"#REF!+#REF!+#REF!+#REF!+#REF!+#REF!+#REF!","v":{"$error":"#REF!"}},{"$f":"#REF!+#REF!+#REF!+#REF!+#REF!+#REF!+#REF!","v":{"$error":"#REF!"}},{"$f":"#REF!*0.5","v":{"$error":"#REF!"}},{"$f":"#REF!+#REF!+#REF!+#REF!+#REF!+#REF!+#REF!","v":{"$error":"#REF!"}},{"$f":"#REF!+#REF!+#REF!+#REF!+#REF!+#REF!+#REF!","v":{"$error":"#REF!"}},{"$f":"#REF!+#REF!+#REF!+#REF!+#REF!+#REF!+#REF!","v":{"$error":"#REF!"}},{"$f":"#REF!+#REF!+#REF!+#REF!+#REF!+#REF!+#REF!","v":{"$error":"#REF!"}},{"$f":"#REF!*0.5","v":{"$error":"#REF!"}},{"$f":"#REF!+#REF!+#REF!+#REF!+#REF!+#REF!+#REF!","v":{"$error":"#REF!"}},{"$f":"#REF!+#REF!+#REF!+#REF!+#REF!+#REF!+#REF!","v":{"$error":"#REF!"}},{"$f":"#REF!+#REF!+#REF!+#REF!+#REF!+#REF!+#REF!","v":{"$error":"#REF!"}},{"$f":"#REF!+#REF!+#REF!+#REF!+#REF!+#REF!+#REF!","v":{"$error":"#REF!"}},{"$f":"#REF!*0.5","v":{"$error":"#REF!"}},{"$f":"#REF!+#REF!+#REF!+#REF!+#REF!+#REF!+#REF!","v":{"$error":"#REF!"}},{"$f":"#REF!+#REF!+#REF!+#REF!+#REF!+#REF!+#REF!","v":{"$error":"#REF!"}},null,null,{"$error":"#REF!"},{"$error":"#REF!"},{"$error":"#REF!"},{"$error":"#REF!"}]
[14,"Claiborne",{"$f":"#REF!+#REF!+#REF!+#REF!+#REF!+#REF!+#REF!","v":{"$error":"#REF!"}},{"$f":"#REF!+#REF!+#REF!+#REF!+#REF!+#REF!+#REF!","v":{"$error":"#REF!"}},{"$f":"#REF!+#REF!+#REF!+#REF!+#REF!+#REF!+#REF!","v":{"$error":"#REF!"}},{"$f":"#REF!*0.5","v":{"$error":"#REF!"}},{"$f":"#REF!+#REF!+#REF!+#REF!+#REF!+#REF!+#REF!","v":{"$error":"#REF!"}},null,{"$f":"#REF!+#REF!+#REF!+#REF!+#REF!+#REF!+#REF!","v":{"$error":"#REF!"}},{"$f":"#REF!+#REF!+#REF!+#REF!+#REF!+#REF!+#REF!","v":{"$error":"#REF!"}},{"$f":"#REF!+#REF!+#REF!+#REF!+#REF!+#REF!+#REF!","v":{"$error":"#REF!"}},{"$f":"#REF!+#REF!+#REF!+#REF!+#REF!+#REF!+#REF!","v":{"$error":"#REF!"}},{"$f":"#REF!*0.5","v":{"$error":"#REF!"}},{"$f":"#REF!+#REF!+#REF!+#REF!+#REF!+#REF!+#REF!","v":{"$error":"#REF!"}},{"$f":"#REF!+#REF!+#REF!+#REF!+#REF!+#REF!+#REF!","v":{"$error":"#REF!"}},{"$f":"#REF!+#REF!+#REF!+#REF!+#REF!+#REF!+#REF!","v":{"$error":"#REF!"}},{"$f":"#REF!+#REF!+#REF!+#REF!+#REF!+#REF!+#REF!","v":{"$error":"#REF!"}},{"$f":"#REF!*0.5","v":{"$error":"#REF!"}},{"$f":"#REF!+#REF!+#REF!+#REF!+#REF!+#REF!+#REF!","v":{"$error":"#REF!"}},{"$f":"#REF!+#REF!+#REF!+#REF!+#REF!+#REF!+#REF!","v":{"$error":"#REF!"}},{"$f":"#REF!+#REF!+#REF!+#REF!+#REF!+#REF!+#REF!","v":{"$error":"#REF!"}},{"$f":"#REF!+#REF!+#REF!+#REF!+#REF!+#REF!+#REF!","v":{"$error":"#REF!"}},{"$f":"#REF!*0.5","v":{"$error":"#REF!"}},{"$f":"#REF!+#REF!+#REF!+#REF!+#REF!+#REF!+#REF!","v":{"$error":"#REF!"}},{"$f":"#REF!+#REF!+#REF!+#REF!+#REF!+#REF!+#REF!","v":{"$error":"#REF!"}},null,null,{"$error":"#REF!"},{"$error":"#REF!"},{"$error":"#REF!"},{"$error":"#REF!"}]
[15,"Concordia",{"$f":"#REF!+#REF!+#REF!+#REF!+#REF!+#REF!+#REF!","v":{"$error":"#REF!"}},{"$f":"#REF!+#REF!+#REF!+#REF!+#REF!+#REF!+#REF!","v":{"$error":"#REF!"}},{"$f":"#REF!+#REF!+#REF!+#REF!+#REF!+#REF!+#REF!","v":{"$error":"#REF!"}},{"$f":"#REF!*0.5","v":{"$error":"#REF!"}},{"$f":"#REF!+#REF!+#REF!+#REF!+#REF!+#REF!+#REF!","v":{"$error":"#REF!"}},null,{"$f":"#REF!+#REF!+#REF!+#REF!+#REF!+#REF!+#REF!","v":{"$error":"#REF!"}},{"$f":"#REF!+#REF!+#REF!+#REF!+#REF!+#REF!+#REF!","v":{"$error":"#REF!"}},{"$f":"#REF!+#REF!+#REF!+#REF!+#REF!+#REF!+#REF!","v":{"$error":"#REF!"}},{"$f":"#REF!+#REF!+#REF!+#REF!+#REF!+#REF!+#REF!","v":{"$error":"#REF!"}},{"$f":"#REF!*0.5","v":{"$error":"#REF!"}},{"$f":"#REF!+#REF!+#REF!+#REF!+#REF!+#REF!+#REF!","v":{"$error":"#REF!"}},{"$f":"#REF!+#REF!+#REF!+#REF!+#REF!+#REF!+#REF!","v":{"$error":"#REF!"}},{"$f":"#REF!+#REF!+#REF!+#REF!+#REF!+#REF!+#REF!","v":{"$error":"#REF!"}},{"$f":"#REF!+#REF!+#REF!+#REF!+#REF!+#REF!+#REF!","v":{"$error":"#REF!"}},{"$f":"#REF!*0.5","v":{"$error":"#REF!"}},{"$f":"#REF!+#REF!+#REF!+#REF!+#REF!+#REF!+#REF!","v":{"$error":"#REF!"}},{"$f":"#REF!+#REF!+#REF!+#REF!+#REF!+#REF!+#REF!","v":{"$error":"#REF!"}},{"$f":"#REF!+#REF!+#REF!+#REF!+#REF!+#REF!+#REF!","v":{"$error":"#REF!"}},{"$f":"#REF!+#REF!+#REF!+#REF!+#REF!+#REF!+#REF!","v":{"$error":"#REF!"}},{"$f":"#REF!*0.5","v":{"$error":"#REF!"}},{"$f":"#REF!+#REF!+#REF!+#REF!+#REF!+#REF!+#REF!","v":{"$error":"#REF!"}},{"$f":"#REF!+#REF!+#REF!+#REF!+#REF!+#REF!+#REF!","v":{"$error":"#REF!"}},null,null,{"$error":"#REF!"},{"$error":"#REF!"},{"$error":"#REF!"},{"$error":"#REF!"}]
[16,"DeSoto",{"$f":"#REF!+#REF!+#REF!+#REF!+#REF!+#REF!+#REF!","v":{"$error":"#REF!"}},{"$f":"#REF!+#REF!+#REF!+#REF!+#REF!+#REF!+#REF!","v":{"$error":"#REF!"}},{"$f":"#REF!+#REF!+#REF!+#REF!+#REF!+#REF!+#REF!","v":{"$error":"#REF!"}},{"$f":"#REF!*0.5","v":{"$error":"#REF!"}},{"$f":"#REF!+#REF!+#REF!+#REF!+#REF!+#REF!+#REF!","v":{"$error":"#REF!"}},null,{"$f":"#REF!+#REF!+#REF!+#REF!+#REF!+#REF!+#REF!","v":{"$error":"#REF!"}},{"$f":"#REF!+#REF!+#REF!+#REF!+#REF!+#REF!+#REF!","v":{"$error":"#REF!"}},{"$f":"#REF!+#REF!+#REF!+#REF!+#REF!+#REF!+#REF!","v":{"$error":"#REF!"}},{"$f":"#REF!+#REF!+#REF!+#REF!+#REF!+#REF!+#REF!","v":{"$error":"#REF!"}},{"$f":"#REF!*0.5","v":{"$error":"#REF!"}},{"$f":"#REF!+#REF!+#REF!+#REF!+#REF!+#REF!+#REF!","v":{"$error":"#REF!"}},{"$f":"#REF!+#REF!+#REF!+#REF!+#REF!+#REF!+#REF!","v":{"$error":"#REF!"}},{"$f":"#REF!+#REF!+#REF!+#REF!+#REF!+#REF!+#REF!","v":{"$error":"#REF!"}},{"$f":"#REF!+#REF!+#REF!+#REF!+#REF!+#REF!+#REF!","v":{"$error":"#REF!"}},{"$f":"#REF!*0.5","v":{"$error":"#REF!"}},{"$f":"#REF!+#REF!+#REF!+#REF!+#REF!+#REF!+#REF!","v":{"$error":"#REF!"}},{"$f":"#REF!+#REF!+#REF!+#REF!+#REF!+#REF!+#REF!","v":{"$error":"#REF!"}},{"$f":"#REF!+#REF!+#REF!+#REF!+#REF!+#REF!+#REF!","v":{"$error":"#REF!"}},{"$f":"#REF!+#REF!+#REF!+#REF!+#REF!+#REF!+#REF!","v":{"$error":"#REF!"}},{"$f":"#REF!*0.5","v":{"$error":"#REF!"}},{"$f":"#REF!+#REF!+#REF!+#REF!+#REF!+#REF!+#REF!","v":{"$error":"#REF!"}},{"$f":"#REF!+#REF!+#REF!+#REF!+#REF!+#REF!+#REF!","v":{"$error":"#REF!"}},null,null,{"$error":"#REF!"},{"$error":"#REF!"},{"$error":"#REF!"},{"$error":"#REF!"}]
[17,"East Baton Rouge",{"$f":"#REF!+#REF!+#REF!+#REF!+#REF!+#REF!+#REF!","v":{"$error":"#REF!"}},{"$f":"#REF!+#REF!+#REF!+#REF!+#REF!+#REF!+#REF!","v":{"$error":"#REF!"}},{"$f":"#REF!+#REF!+#REF!+#REF!+#REF!+#REF!+#REF!","v":{"$error":"#REF!"}},{"$f":"#REF!*0.5","v":{"$error":"#REF!"}},{"$f":"#REF!+#REF!+#REF!+#REF!+#REF!+#REF!+#REF!","v":{"$error":"#REF!"}},null,{"$f":"#REF!+#REF!+#REF!+#REF!+#REF!+#REF!+#REF!","v":{"$error":"#REF!"}},{"$f":"#REF!+#REF!+#REF!+#REF!+#REF!+#REF!+#REF!","v":{"$error":"#REF!"}},{"$f":"#REF!+#REF!+#REF!+#REF!+#REF!+#REF!+#REF!","v":{"$error":"#REF!"}},{"$f":"#REF!+#REF!+#REF!+#REF!+#REF!+#REF!+#REF!","v":{"$error":"#REF!"}},{"$f":"#REF!*0.5","v":{"$error":"#REF!"}},{"$f":"#REF!+#REF!+#REF!+#REF!+#REF!+#REF!+#REF!","v":{"$error":"#REF!"}},{"$f":"#REF!+#REF!+#REF!+#REF!+#REF!+#REF!+#REF!","v":{"$error":"#REF!"}},{"$f":"#REF!+#REF!+#REF!+#REF!+#REF!+#REF!+#REF!","v":{"$error":"#REF!"}},{"$f":"#REF!+#REF!+#REF!+#REF!+#REF!+#REF!+#REF!","v":{"$error":"#REF!"}},{"$f":"#REF!*0.5","v":{"$error":"#REF!"}},{"$f":"#REF!+#REF!+#REF!+#REF!+#REF!+#REF!+#REF!","v":{"$error":"#REF!"}},{"$f":"#REF!+#REF!+#REF!+#REF!+#REF!+#REF!+#REF!","v":{"$error":"#REF!"}},{"$f":"#REF!+#REF!+#REF!+#REF!+#REF!+#REF!+#REF!","v":{"$error":"#REF!"}},{"$f":"#REF!+#REF!+#REF!+#REF!+#REF!+#REF!+#REF!","v":{"$error":"#REF!"}},{"$f":"#REF!*0.5","v":{"$error":"#REF!"}},{"$f":"#REF!+#REF!+#REF!+#REF!+#REF!+#REF!+#REF!","v":{"$error":"#REF!"}},{"$f":"#REF!+#REF!+#REF!+#REF!+#REF!+#REF!+#REF!","v":{"$error":"#REF!"}},null,null,{"$error":"#REF!"},{"$error":"#REF!"},{"$error":"#REF!"},{"$error":"#REF!"}]
[18,"East Carroll",{"$f":"#REF!+#REF!+#REF!+#REF!+#REF!+#REF!+#REF!","v":{"$error":"#REF!"}},{"$f":"#REF!+#REF!+#REF!+#REF!+#REF!+#REF!+#REF!","v":{"$error":"#REF!"}},{"$f":"#REF!+#REF!+#REF!+#REF!+#REF!+#REF!+#REF!","v":{"$error":"#REF!"}},{"$f":"#REF!*0.5","v":{"$error":"#REF!"}},{"$f":"#REF!+#REF!+#REF!+#REF!+#REF!+#REF!+#REF!","v":{"$error":"#REF!"}},null,{"$f":"#REF!+#REF!+#REF!+#REF!+#REF!+#REF!+#REF!","v":{"$error":"#REF!"}},{"$f":"#REF!+#REF!+#REF!+#REF!+#REF!+#REF!+#REF!","v":{"$error":"#REF!"}},{"$f":"#REF!+#REF!+#REF!+#REF!+#REF!+#REF!+#REF!","v":{"$error":"#REF!"}},{"$f":"#REF!+#REF!+#REF!+#REF!+#REF!+#REF!+#REF!","v":{"$error":"#REF!"}},{"$f":"#REF!*0.5","v":{"$error":"#REF!"}},{"$f":"#REF!+#REF!+#REF!+#REF!+#REF!+#REF!+#REF!","v":{"$error":"#REF!"}},{"$f":"#REF!+#REF!+#REF!+#REF!+#REF!+#REF!+#REF!","v":{"$error":"#REF!"}},{"$f":"#REF!+#REF!+#REF!+#REF!+#REF!+#REF!+#REF!","v":{"$error":"#REF!"}},{"$f":"#REF!+#REF!+#REF!+#REF!+#REF!+#REF!+#REF!","v":{"$error":"#REF!"}},{"$f":"#REF!*0.5","v":{"$error":"#REF!"}},{"$f":"#REF!+#REF!+#REF!+#REF!+#REF!+#REF!+#REF!","v":{"$error":"#REF!"}},{"$f":"#REF!+#REF!+#REF!+#REF!+#REF!+#REF!+#REF!","v":{"$error":"#REF!"}},{"$f":"#REF!+#REF!+#REF!+#REF!+#REF!+#REF!+#REF!","v":{"$error":"#REF!"}},{"$f":"#REF!+#REF!+#REF!+#REF!+#REF!+#REF!+#REF!","v":{"$error":"#REF!"}},{"$f":"#REF!*0.5","v":{"$error":"#REF!"}},{"$f":"#REF!+#REF!+#REF!+#REF!+#REF!+#REF!+#REF!","v":{"$error":"#REF!"}},{"$f":"#REF!+#REF!+#REF!+#REF!+#REF!+#REF!+#REF!","v":{"$error":"#REF!"}},null,null,{"$error":"#REF!"},{"$error":"#REF!"},{"$error":"#REF!"},{"$error":"#REF!"}]
[19,"East Feliciana",{"$f":"#REF!+#REF!+#REF!+#REF!+#REF!+#REF!+#REF!","v":{"$error":"#REF!"}},{"$f":"#REF!+#REF!+#REF!+#REF!+#REF!+#REF!+#REF!","v":{"$error":"#REF!"}},{"$f":"#REF!+#REF!+#REF!+#REF!+#REF!+#REF!+#REF!","v":{"$error":"#REF!"}},{"$f":"#REF!*0.5","v":{"$error":"#REF!"}},{"$f":"#REF!+#REF!+#REF!+#REF!+#REF!+#REF!+#REF!","v":{"$error":"#REF!"}},null,{"$f":"#REF!+#REF!+#REF!+#REF!+#REF!+#REF!+#REF!","v":{"$error":"#REF!"}},{"$f":"#REF!+#REF!+#REF!+#REF!+#REF!+#REF!+#REF!","v":{"$error":"#REF!"}},{"$f":"#REF!+#REF!+#REF!+#REF!+#REF!+#REF!+#REF!","v":{"$error":"#REF!"}},{"$f":"#REF!+#REF!+#REF!+#REF!+#REF!+#REF!+#REF!","v":{"$error":"#REF!"}},{"$f":"#REF!*0.5","v":{"$error":"#REF!"}},{"$f":"#REF!+#REF!+#REF!+#REF!+#REF!+#REF!+#REF!","v":{"$error":"#REF!"}},{"$f":"#REF!+#REF!+#REF!+#REF!+#REF!+#REF!+#REF!","v":{"$error":"#REF!"}},{"$f":"#REF!+#REF!+#REF!+#REF!+#REF!+#REF!+#REF!","v":{"$error":"#REF!"}},{"$f":"#REF!+#REF!+#REF!+#REF!+#REF!+#REF!+#REF!","v":{"$error":"#REF!"}},{"$f":"#REF!*0.5","v":{"$error":"#REF!"}},{"$f":"#REF!+#REF!+#REF!+#REF!+#REF!+#REF!+#REF!","v":{"$error":"#REF!"}},{"$f":"#REF!+#REF!+#REF!+#REF!+#REF!+#REF!+#REF!","v":{"$error":"#REF!"}},{"$f":"#REF!+#REF!+#REF!+#REF!+#REF!+#REF!+#REF!","v":{"$error":"#REF!"}},{"$f":"#REF!+#REF!+#REF!+#REF!+#REF!+#REF!+#REF!","v":{"$error":"#REF!"}},{"$f":"#REF!*0.5","v":{"$error":"#REF!"}},{"$f":"#REF!+#REF!+#REF!+#REF!+#REF!+#REF!+#REF!","v":{"$error":"#REF!"}},{"$f":"#REF!+#REF!+#REF!+#REF!+#REF!+#REF!+#REF!","v":{"$error":"#REF!"}},null,null,{"$error":"#REF!"},{"$error":"#REF!"},{"$error":"#REF!"},{"$error":"#REF!"}]
[20,"Evangeline",{"$f":"#REF!+#REF!+#REF!+#REF!+#REF!+#REF!+#REF!","v":{"$error":"#REF!"}},{"$f":"#REF!+#REF!+#REF!+#REF!+#REF!+#REF!+#REF!","v":{"$error":"#REF!"}},{"$f":"#REF!+#REF!+#REF!+#REF!+#REF!+#REF!+#REF!","v":{"$error":"#REF!"}},{"$f":"#REF!*0.5","v":{"$error":"#REF!"}},{"$f":"#REF!+#REF!+#REF!+#REF!+#REF!+#REF!+#REF!","v":{"$error":"#REF!"}},null,{"$f":"#REF!+#REF!+#REF!+#REF!+#REF!+#REF!+#REF!","v":{"$error":"#REF!"}},{"$f":"#REF!+#REF!+#REF!+#REF!+#REF!+#REF!+#REF!","v":{"$error":"#REF!"}},{"$f":"#REF!+#REF!+#REF!+#REF!+#REF!+#REF!+#REF!","v":{"$error":"#REF!"}},{"$f":"#REF!+#REF!+#REF!+#REF!+#REF!+#REF!+#REF!","v":{"$error":"#REF!"}},{"$f":"#REF!*0.5","v":{"$error":"#REF!"}},{"$f":"#REF!+#REF!+#REF!+#REF!+#REF!+#REF!+#REF!","v":{"$error":"#REF!"}},{"$f":"#REF!+#REF!+#REF!+#REF!+#REF!+#REF!+#REF!","v":{"$error":"#REF!"}},{"$f":"#REF!+#REF!+#REF!+#REF!+#REF!+#REF!+#REF!","v":{"$error":"#REF!"}},{"$f":"#REF!+#REF!+#REF!+#REF!+#REF!+#REF!+#REF!","v":{"$error":"#REF!"}},{"$f":"#REF!*0.5","v":{"$error":"#REF!"}},{"$f":"#REF!+#REF!+#REF!+#REF!+#REF!+#REF!+#REF!","v":{"$error":"#REF!"}},{"$f":"#REF!+#REF!+#REF!+#REF!+#REF!+#REF!+#REF!","v":{"$error":"#REF!"}},{"$f":"#REF!+#REF!+#REF!+#REF!+#REF!+#REF!+#REF!","v":{"$error":"#REF!"}},{"$f":"#REF!+#REF!+#REF!+#REF!+#REF!+#REF!+#REF!","v":{"$error":"#REF!"}},{"$f":"#REF!*0.5","v":{"$error":"#REF!"}},{"$f":"#REF!+#REF!+#REF!+#REF!+#REF!+#REF!+#REF!","v":{"$error":"#REF!"}},{"$f":"#REF!+#REF!+#REF!+#REF!+#REF!+#REF!+#REF!","v":{"$error":"#REF!"}},null,null,{"$error":"#REF!"},{"$error":"#REF!"},{"$error":"#REF!"},{"$error":"#REF!"}]
[21,"Franklin",{"$f":"#REF!+#REF!+#REF!+#REF!+#REF!+#REF!+#REF!","v":{"$error":"#REF!"}},{"$f":"#REF!+#REF!+#REF!+#REF!+#REF!+#REF!+#REF!","v":{"$error":"#REF!"}},{"$f":"#REF!+#REF!+#REF!+#REF!+#REF!+#REF!+#REF!","v":{"$error":"#REF!"}},{"$f":"#REF!*0.5","v":{"$error":"#REF!"}},{"$f":"#REF!+#REF!+#REF!+#REF!+#REF!+#REF!+#REF!","v":{"$error":"#REF!"}},null,{"$f":"#REF!+#REF!+#REF!+#REF!+#REF!+#REF!+#REF!","v":{"$error":"#REF!"}},{"$f":"#REF!+#REF!+#REF!+#REF!+#REF!+#REF!+#REF!","v":{"$error":"#REF!"}},{"$f":"#REF!+#REF!+#REF!+#REF!+#REF!+#REF!+#REF!","v":{"$error":"#REF!"}},{"$f":"#REF!+#REF!+#REF!+#REF!+#REF!+#REF!+#REF!","v":{"$error":"#REF!"}},{"$f":"#REF!*0.5","v":{"$error":"#REF!"}},{"$f":"#REF!+#REF!+#REF!+#REF!+#REF!+#REF!+#REF!","v":{"$error":"#REF!"}},{"$f":"#REF!+#REF!+#REF!+#REF!+#REF!+#REF!+#REF!","v":{"$error":"#REF!"}},{"$f":"#REF!+#REF!+#REF!+#REF!+#REF!+#REF!+#REF!","v":{"$error":"#REF!"}},{"$f":"#REF!+#REF!+#REF!+#REF!+#REF!+#REF!+#REF!","v":{"$error":"#REF!"}},{"$f":"#REF!*0.5","v":{"$error":"#REF!"}},{"$f":"#REF!+#REF!+#REF!+#REF!+#REF!+#REF!+#REF!","v":{"$error":"#REF!"}},{"$f":"#REF!+#REF!+#REF!+#REF!+#REF!+#REF!+#REF!","v":{"$error":"#REF!"}},{"$f":"#REF!+#REF!+#REF!+#REF!+#REF!+#REF!+#REF!","v":{"$error":"#REF!"}},{"$f":"#REF!+#REF!+#REF!+#REF!+#REF!+#REF!+#REF!","v":{"$error":"#REF!"}},{"$f":"#REF!*0.5","v":{"$error":"#REF!"}},{"$f":"#REF!+#REF!+#REF!+#REF!+#REF!+#REF!+#REF!","v":{"$error":"#REF!"}},{"$f":"#REF!+#REF!+#REF!+#REF!+#REF!+#REF!+#REF!","v":{"$error":"#REF!"}},null,null,{"$error":"#REF!"},{"$error":"#REF!"},{"$error":"#REF!"},{"$error":"#REF!"}]
[22,"Grant",{"$f":"#REF!+#REF!+#REF!+#REF!+#REF!+#REF!+#REF!","v":{"$error":"#REF!"}},{"$f":"#REF!+#REF!+#REF!+#REF!+#REF!+#REF!+#REF!","v":{"$error":"#REF!"}},{"$f":"#REF!+#REF!+#REF!+#REF!+#REF!+#REF!+#REF!","v":{"$error":"#REF!"}},{"$f":"#REF!*0.5","v":{"$error":"#REF!"}},{"$f":"#REF!+#REF!+#REF!+#REF!+#REF!+#REF!+#REF!","v":{"$error":"#REF!"}},null,{"$f":"#REF!+#REF!+#REF!+#REF!+#REF!+#REF!+#REF!","v":{"$error":"#REF!"}},{"$f":"#REF!+#REF!+#REF!+#REF!+#REF!+#REF!+#REF!","v":{"$error":"#REF!"}},{"$f":"#REF!+#REF!+#REF!+#REF!+#REF!+#REF!+#REF!","v":{"$error":"#REF!"}},{"$f":"#REF!+#REF!+#REF!+#REF!+#REF!+#REF!+#REF!","v":{"$error":"#REF!"}},{"$f":"#REF!*0.5","v":{"$error":"#REF!"}},{"$f":"#REF!+#REF!+#REF!+#REF!+#REF!+#REF!+#REF!","v":{"$error":"#REF!"}},{"$f":"#REF!+#REF!+#REF!+#REF!+#REF!+#REF!+#REF!","v":{"$error":"#REF!"}},{"$f":"#REF!+#REF!+#REF!+#REF!+#REF!+#REF!+#REF!","v":{"$error":"#REF!"}},{"$f":"#REF!+#REF!+#REF!+#REF!+#REF!+#REF!+#REF!","v":{"$error":"#REF!"}},{"$f":"#REF!*0.5","v":{"$error":"#REF!"}},{"$f":"#REF!+#REF!+#REF!+#REF!+#REF!+#REF!+#REF!","v":{"$error":"#REF!"}},{"$f":"#REF!+#REF!+#REF!+#REF!+#REF!+#REF!+#REF!","v":{"$error":"#REF!"}},{"$f":"#REF!+#REF!+#REF!+#REF!+#REF!+#REF!+#REF!","v":{"$error":"#REF!"}},{"$f":"#REF!+#REF!+#REF!+#REF!+#REF!+#REF!+#REF!","v":{"$error":"#REF!"}},{"$f":"#REF!*0.5","v":{"$error":"#REF!"}},{"$f":"#REF!+#REF!+#REF!+#REF!+#REF!+#REF!+#REF!","v":{"$error":"#REF!"}},{"$f":"#REF!+#REF!+#REF!+#REF!+#REF!+#REF!+#REF!","v":{"$error":"#REF!"}},null,null,{"$error":"#REF!"},{"$error":"#REF!"},{"$error":"#REF!"},{"$error":"#REF!"}]
[23,"Iberia",{"$f":"#REF!+#REF!+#REF!+#REF!+#REF!+#REF!+#REF!","v":{"$error":"#REF!"}},{"$f":"#REF!+#REF!+#REF!+#REF!+#REF!+#REF!+#REF!","v":{"$error":"#REF!"}},{"$f":"#REF!+#REF!+#REF!+#REF!+#REF!+#REF!+#REF!","v":{"$error":"#REF!"}},{"$f":"#REF!*0.5","v":{"$error":"#REF!"}},{"$f":"#REF!+#REF!+#REF!+#REF!+#REF!+#REF!+#REF!","v":{"$error":"#REF!"}},null,{"$f":"#REF!+#REF!+#REF!+#REF!+#REF!+#REF!+#REF!","v":{"$error":"#REF!"}},{"$f":"#REF!+#REF!+#REF!+#REF!+#REF!+#REF!+#REF!","v":{"$error":"#REF!"}},{"$f":"#REF!+#REF!+#REF!+#REF!+#REF!+#REF!+#REF!","v":{"$error":"#REF!"}},{"$f":"#REF!+#REF!+#REF!+#REF!+#REF!+#REF!+#REF!","v":{"$error":"#REF!"}},{"$f":"#REF!*0.5","v":{"$error":"#REF!"}},{"$f":"#REF!+#REF!+#REF!+#REF!+#REF!+#REF!+#REF!","v":{"$error":"#REF!"}},{"$f":"#REF!+#REF!+#REF!+#REF!+#REF!+#REF!+#REF!","v":{"$error":"#REF!"}},{"$f":"#REF!+#REF!+#REF!+#REF!+#REF!+#REF!+#REF!","v":{"$error":"#REF!"}},{"$f":"#REF!+#REF!+#REF!+#REF!+#REF!+#REF!+#REF!","v":{"$error":"#REF!"}},{"$f":"#REF!*0.5","v":{"$error":"#REF!"}},{"$f":"#REF!+#REF!+#REF!+#REF!+#REF!+#REF!+#REF!","v":{"$error":"#REF!"}},{"$f":"#REF!+#REF!+#REF!+#REF!+#REF!+#REF!+#REF!","v":{"$error":"#REF!"}},{"$f":"#REF!+#REF!+#REF!+#REF!+#REF!+#REF!+#REF!","v":{"$error":"#REF!"}},{"$f":"#REF!+#REF!+#REF!+#REF!+#REF!+#REF!+#REF!","v":{"$error":"#REF!"}},{"$f":"#REF!*0.5","v":{"$error":"#REF!"}},{"$f":"#REF!+#REF!+#REF!+#REF!+#REF!+#REF!+#REF!","v":{"$error":"#REF!"}},{"$f":"#REF!+#REF!+#REF!+#REF!+#REF!+#REF!+#REF!","v":{"$error":"#REF!"}},null,null,{"$error":"#REF!"},{"$error":"#REF!"},{"$error":"#REF!"},{"$error":"#REF!"}]
[24,"Iberville",{"$f":"#REF!+#REF!+#REF!+#REF!+#REF!+#REF!+#REF!","v":{"$error":"#REF!"}},{"$f":"#REF!+#REF!+#REF!+#REF!+#REF!+#REF!+#REF!","v":{"$error":"#REF!"}},{"$f":"#REF!+#REF!+#REF!+#REF!+#REF!+#REF!+#REF!","v":{"$error":"#REF!"}},{"$f":"#REF!*0.5","v":{"$error":"#REF!"}},{"$f":"#REF!+#REF!+#REF!+#REF!+#REF!+#REF!+#REF!","v":{"$error":"#REF!"}},null,{"$f":"#REF!+#REF!+#REF!+#REF!+#REF!+#REF!+#REF!","v":{"$error":"#REF!"}},{"$f":"#REF!+#REF!+#REF!+#REF!+#REF!+#REF!+#REF!","v":{"$error":"#REF!"}},{"$f":"#REF!+#REF!+#REF!+#REF!+#REF!+#REF!+#REF!","v":{"$error":"#REF!"}},{"$f":"#REF!+#REF!+#REF!+#REF!+#REF!+#REF!+#REF!","v":{"$error":"#REF!"}},{"$f":"#REF!*0.5","v":{"$error":"#REF!"}},{"$f":"#REF!+#REF!+#REF!+#REF!+#REF!+#REF!+#REF!","v":{"$error":"#REF!"}},{"$f":"#REF!+#REF!+#REF!+#REF!+#REF!+#REF!+#REF!","v":{"$error":"#REF!"}},{"$f":"#REF!+#REF!+#REF!+#REF!+#REF!+#REF!+#REF!","v":{"$error":"#REF!"}},{"$f":"#REF!+#REF!+#REF!+#REF!+#REF!+#REF!+#REF!","v":{"$error":"#REF!"}},{"$f":"#REF!*0.5","v":{"$error":"#REF!"}},{"$f":"#REF!+#REF!+#REF!+#REF!+#REF!+#REF!+#REF!","v":{"$error":"#REF!"}},{"$f":"#REF!+#REF!+#REF!+#REF!+#REF!+#REF!+#REF!","v":{"$error":"#REF!"}},{"$f":"#REF!+#REF!+#REF!+#REF!+#REF!+#REF!+#REF!","v":{"$error":"#REF!"}},{"$f":"#REF!+#REF!+#REF!+#REF!+#REF!+#REF!+#REF!","v":{"$error":"#REF!"}},{"$f":"#REF!*0.5","v":{"$error":"#REF!"}},{"$f":"#REF!+#REF!+#REF!+#REF!+#REF!+#REF!+#REF!","v":{"$error":"#REF!"}},{"$f":"#REF!+#REF!+#REF!+#REF!+#REF!+#REF!+#REF!","v":{"$error":"#REF!"}},null,null,{"$error":"#REF!"},{"$error":"#REF!"},{"$error":"#REF!"},{"$error":"#REF!"}]
[25,"Jackson",{"$f":"#REF!+#REF!+#REF!+#REF!+#REF!+#REF!+#REF!","v":{"$error":"#REF!"}},{"$f":"#REF!+#REF!+#REF!+#REF!+#REF!+#REF!+#REF!","v":{"$error":"#REF!"}},{"$f":"#REF!+#REF!+#REF!+#REF!+#REF!+#REF!+#REF!","v":{"$error":"#REF!"}},{"$f":"#REF!*0.5","v":{"$error":"#REF!"}},{"$f":"#REF!+#REF!+#REF!+#REF!+#REF!+#REF!+#REF!","v":{"$error":"#REF!"}},null,{"$f":"#REF!+#REF!+#REF!+#REF!+#REF!+#REF!+#REF!","v":{"$error":"#REF!"}},{"$f":"#REF!+#REF!+#REF!+#REF!+#REF!+#REF!+#REF!","v":{"$error":"#REF!"}},{"$f":"#REF!+#REF!+#REF!+#REF!+#REF!+#REF!+#REF!","v":{"$error":"#REF!"}},{"$f":"#REF!+#REF!+#REF!+#REF!+#REF!+#REF!+#REF!","v":{"$error":"#REF!"}},{"$f":"#REF!*0.5","v":{"$error":"#REF!"}},{"$f":"#REF!+#REF!+#REF!+#REF!+#REF!+#REF!+#REF!","v":{"$error":"#REF!"}},{"$f":"#REF!+#REF!+#REF!+#REF!+#REF!+#REF!+#REF!","v":{"$error":"#REF!"}},{"$f":"#REF!+#REF!+#REF!+#REF!+#REF!+#REF!+#REF!","v":{"$error":"#REF!"}},{"$f":"#REF!+#REF!+#REF!+#REF!+#REF!+#REF!+#REF!","v":{"$error":"#REF!"}},{"$f":"#REF!*0.5","v":{"$error":"#REF!"}},{"$f":"#REF!+#REF!+#REF!+#REF!+#REF!+#REF!+#REF!","v":{"$error":"#REF!"}},{"$f":"#REF!+#REF!+#REF!+#REF!+#REF!+#REF!+#REF!","v":{"$error":"#REF!"}},{"$f":"#REF!+#REF!+#REF!+#REF!+#REF!+#REF!+#REF!","v":{"$error":"#REF!"}},{"$f":"#REF!+#REF!+#REF!+#REF!+#REF!+#REF!+#REF!","v":{"$error":"#REF!"}},{"$f":"#REF!*0.5","v":{"$error":"#REF!"}},{"$f":"#REF!+#REF!+#REF!+#REF!+#REF!+#REF!+#REF!","v":{"$error":"#REF!"}},{"$f":"#REF!+#REF!+#REF!+#REF!+#REF!+#REF!+#REF!","v":{"$error":"#REF!"}},null,null,{"$error":"#REF!"},{"$error":"#REF!"},{"$error":"#REF!"},{"$error":"#REF!"}]
[26,"Jefferson",{"$f":"#REF!+#REF!+#REF!+#REF!+#REF!+#REF!+#REF!","v":{"$error":"#REF!"}},{"$f":"#REF!+#REF!+#REF!+#REF!+#REF!+#REF!+#REF!","v":{"$error":"#REF!"}},{"$f":"#REF!+#REF!+#REF!+#REF!+#REF!+#REF!+#REF!","v":{"$error":"#REF!"}},{"$f":"#REF!*0.5","v":{"$error":"#REF!"}},{"$f":"#REF!+#REF!+#REF!+#REF!+#REF!+#REF!+#REF!","v":{"$error":"#REF!"}},null,{"$f":"#REF!+#REF!+#REF!+#REF!+#REF!+#REF!+#REF!","v":{"$error":"#REF!"}},{"$f":"#REF!+#REF!+#REF!+#REF!+#REF!+#REF!+#REF!","v":{"$error":"#REF!"}},{"$f":"#REF!+#REF!+#REF!+#REF!+#REF!+#REF!+#REF!","v":{"$error":"#REF!"}},{"$f":"#REF!+#REF!+#REF!+#REF!+#REF!+#REF!+#REF!","v":{"$error":"#REF!"}},{"$f":"#REF!*0.5","v":{"$error":"#REF!"}},{"$f":"#REF!+#REF!+#REF!+#REF!+#REF!+#REF!+#REF!","v":{"$error":"#REF!"}},{"$f":"#REF!+#REF!+#REF!+#REF!+#REF!+#REF!+#REF!","v":{"$error":"#REF!"}},{"$f":"#REF!+#REF!+#REF!+#REF!+#REF!+#REF!+#REF!","v":{"$error":"#REF!"}},{"$f":"#REF!+#REF!+#REF!+#REF!+#REF!+#REF!+#REF!","v":{"$error":"#REF!"}},{"$f":"#REF!*0.5","v":{"$error":"#REF!"}},{"$f":"#REF!+#REF!+#REF!+#REF!+#REF!+#REF!+#REF!","v":{"$error":"#REF!"}},{"$f":"#REF!+#REF!+#REF!+#REF!+#REF!+#REF!+#REF!","v":{"$error":"#REF!"}},{"$f":"#REF!+#REF!+#REF!+#REF!+#REF!+#REF!+#REF!","v":{"$error":"#REF!"}},{"$f":"#REF!+#REF!+#REF!+#REF!+#REF!+#REF!+#REF!","v":{"$error":"#REF!"}},{"$f":"#REF!*0.5","v":{"$error":"#REF!"}},{"$f":"#REF!+#REF!+#REF!+#REF!+#REF!+#REF!+#REF!","v":{"$error":"#REF!"}},{"$f":"#REF!+#REF!+#REF!+#REF!+#REF!+#REF!+#REF!","v":{"$error":"#REF!"}},null,null,{"$error":"#REF!"},{"$error":"#REF!"},{"$error":"#REF!"},{"$error":"#REF!"}]
[27,"Jefferson Davis",{"$f":"#REF!+#REF!+#REF!+#REF!+#REF!+#REF!+#REF!","v":{"$error":"#REF!"}},{"$f":"#REF!+#REF!+#REF!+#REF!+#REF!+#REF!+#REF!","v":{"$error":"#REF!"}},{"$f":"#REF!+#REF!+#REF!+#REF!+#REF!+#REF!+#REF!","v":{"$error":"#REF!"}},{"$f":"#REF!*0.5","v":{"$error":"#REF!"}},{"$f":"#REF!+#REF!+#REF!+#REF!+#REF!+#REF!+#REF!","v":{"$error":"#REF!"}},null,{"$f":"#REF!+#REF!+#REF!+#REF!+#REF!+#REF!+#REF!","v":{"$error":"#REF!"}},{"$f":"#REF!+#REF!+#REF!+#REF!+#REF!+#REF!+#REF!","v":{"$error":"#REF!"}},{"$f":"#REF!+#REF!+#REF!+#REF!+#REF!+#REF!+#REF!","v":{"$error":"#REF!"}},{"$f":"#REF!+#REF!+#REF!+#REF!+#REF!+#REF!+#REF!","v":{"$error":"#REF!"}},{"$f":"#REF!*0.5","v":{"$error":"#REF!"}},{"$f":"#REF!+#REF!+#REF!+#REF!+#REF!+#REF!+#REF!","v":{"$error":"#REF!"}},{"$f":"#REF!+#REF!+#REF!+#REF!+#REF!+#REF!+#REF!","v":{"$error":"#REF!"}},{"$f":"#REF!+#REF!+#REF!+#REF!+#REF!+#REF!+#REF!","v":{"$error":"#REF!"}},{"$f":"#REF!+#REF!+#REF!+#REF!+#REF!+#REF!+#REF!","v":{"$error":"#REF!"}},{"$f":"#REF!*0.5","v":{"$error":"#REF!"}},{"$f":"#REF!+#REF!+#REF!+#REF!+#REF!+#REF!+#REF!","v":{"$error":"#REF!"}},{"$f":"#REF!+#REF!+#REF!+#REF!+#REF!+#REF!+#REF!","v":{"$error":"#REF!"}},{"$f":"#REF!+#REF!+#REF!+#REF!+#REF!+#REF!+#REF!","v":{"$error":"#REF!"}},{"$f":"#REF!+#REF!+#REF!+#REF!+#REF!+#REF!+#REF!","v":{"$error":"#REF!"}},{"$f":"#REF!*0.5","v":{"$error":"#REF!"}},{"$f":"#REF!+#REF!+#REF!+#REF!+#REF!+#REF!+#REF!","v":{"$error":"#REF!"}},{"$f":"#REF!+#REF!+#REF!+#REF!+#REF!+#REF!+#REF!","v":{"$error":"#REF!"}},null,null,{"$error":"#REF!"},{"$error":"#REF!"},{"$error":"#REF!"},{"$error":"#REF!"}]
[28,"Lafayette",{"$f":"#REF!+#REF!+#REF!+#REF!+#REF!+#REF!+#REF!","v":{"$error":"#REF!"}},{"$f":"#REF!+#REF!+#REF!+#REF!+#REF!+#REF!+#REF!","v":{"$error":"#REF!"}},{"$f":"#REF!+#REF!+#REF!+#REF!+#REF!+#REF!+#REF!","v":{"$error":"#REF!"}},{"$f":"#REF!*0.5","v":{"$error":"#REF!"}},{"$f":"#REF!+#REF!+#REF!+#REF!+#REF!+#REF!+#REF!","v":{"$error":"#REF!"}},null,{"$f":"#REF!+#REF!+#REF!+#REF!+#REF!+#REF!+#REF!","v":{"$error":"#REF!"}},{"$f":"#REF!+#REF!+#REF!+#REF!+#REF!+#REF!+#REF!","v":{"$error":"#REF!"}},{"$f":"#REF!+#REF!+#REF!+#REF!+#REF!+#REF!+#REF!","v":{"$error":"#REF!"}},{"$f":"#REF!+#REF!+#REF!+#REF!+#REF!+#REF!+#REF!","v":{"$error":"#REF!"}},{"$f":"#REF!*0.5","v":{"$error":"#REF!"}},{"$f":"#REF!+#REF!+#REF!+#REF!+#REF!+#REF!+#REF!","v":{"$error":"#REF!"}},{"$f":"#REF!+#REF!+#REF!+#REF!+#REF!+#REF!+#REF!","v":{"$error":"#REF!"}},{"$f":"#REF!+#REF!+#REF!+#REF!+#REF!+#REF!+#REF!","v":{"$error":"#REF!"}},{"$f":"#REF!+#REF!+#REF!+#REF!+#REF!+#REF!+#REF!","v":{"$error":"#REF!"}},{"$f":"#REF!*0.5","v":{"$error":"#REF!"}},{"$f":"#REF!+#REF!+#REF!+#REF!+#REF!+#REF!+#REF!","v":{"$error":"#REF!"}},{"$f":"#REF!+#REF!+#REF!+#REF!+#REF!+#REF!+#REF!","v":{"$error":"#REF!"}},{"$f":"#REF!+#REF!+#REF!+#REF!+#REF!+#REF!+#REF!","v":{"$error":"#REF!"}},{"$f":"#REF!+#REF!+#REF!+#REF!+#REF!+#REF!+#REF!","v":{"$error":"#REF!"}},{"$f":"#REF!*0.5","v":{"$error":"#REF!"}},{"$f":"#REF!+#REF!+#REF!+#REF!+#REF!+#REF!+#REF!","v":{"$error":"#REF!"}},{"$f":"#REF!+#REF!+#REF!+#REF!+#REF!+#REF!+#REF!","v":{"$error":"#REF!"}},null,null,{"$error":"#REF!"},{"$error":"#REF!"},{"$error":"#REF!"},{"$error":"#REF!"}]
[29,"Lafourche",{"$f":"#REF!+#REF!+#REF!+#REF!+#REF!+#REF!+#REF!","v":{"$error":"#REF!"}},{"$f":"#REF!+#REF!+#REF!+#REF!+#REF!+#REF!+#REF!","v":{"$error":"#REF!"}},{"$f":"#REF!+#REF!+#REF!+#REF!+#REF!+#REF!+#REF!","v":{"$error":"#REF!"}},{"$f":"#REF!*0.5","v":{"$error":"#REF!"}},{"$f":"#REF!+#REF!+#REF!+#REF!+#REF!+#REF!+#REF!","v":{"$error":"#REF!"}},null,{"$f":"#REF!+#REF!+#REF!+#REF!+#REF!+#REF!+#REF!","v":{"$error":"#REF!"}},{"$f":"#REF!+#REF!+#REF!+#REF!+#REF!+#REF!+#REF!","v":{"$error":"#REF!"}},{"$f":"#REF!+#REF!+#REF!+#REF!+#REF!+#REF!+#REF!","v":{"$error":"#REF!"}},{"$f":"#REF!+#REF!+#REF!+#REF!+#REF!+#REF!+#REF!","v":{"$error":"#REF!"}},{"$f":"#REF!*0.5","v":{"$error":"#REF!"}},{"$f":"#REF!+#REF!+#REF!+#REF!+#REF!+#REF!+#REF!","v":{"$error":"#REF!"}},{"$f":"#REF!+#REF!+#REF!+#REF!+#REF!+#REF!+#REF!","v":{"$error":"#REF!"}},{"$f":"#REF!+#REF!+#REF!+#REF!+#REF!+#REF!+#REF!","v":{"$error":"#REF!"}},{"$f":"#REF!+#REF!+#REF!+#REF!+#REF!+#REF!+#REF!","v":{"$error":"#REF!"}},{"$f":"#REF!*0.5","v":{"$error":"#REF!"}},{"$f":"#REF!+#REF!+#REF!+#REF!+#REF!+#REF!+#REF!","v":{"$error":"#REF!"}},{"$f":"#REF!+#REF!+#REF!+#REF!+#REF!+#REF!+#REF!","v":{"$error":"#REF!"}},{"$f":"#REF!+#REF!+#REF!+#REF!+#REF!+#REF!+#REF!","v":{"$error":"#REF!"}},{"$f":"#REF!+#REF!+#REF!+#REF!+#REF!+#REF!+#REF!","v":{"$error":"#REF!"}},{"$f":"#REF!*0.5","v":{"$error":"#REF!"}},{"$f":"#REF!+#REF!+#REF!+#REF!+#REF!+#REF!+#REF!","v":{"$error":"#REF!"}},{"$f":"#REF!+#REF!+#REF!+#REF!+#REF!+#REF!+#REF!","v":{"$error":"#REF!"}},null,null,{"$error":"#REF!"},{"$error":"#REF!"},{"$error":"#REF!"},{"$error":"#REF!"}]
[30,"LaSalle",{"$f":"#REF!+#REF!+#REF!+#REF!+#REF!+#REF!+#REF!","v":{"$error":"#REF!"}},{"$f":"#REF!+#REF!+#REF!+#REF!+#REF!+#REF!+#REF!","v":{"$error":"#REF!"}},{"$f":"#REF!+#REF!+#REF!+#REF!+#REF!+#REF!+#REF!","v":{"$error":"#REF!"}},{"$f":"#REF!*0.5","v":{"$error":"#REF!"}},{"$f":"#REF!+#REF!+#REF!+#REF!+#REF!+#REF!+#REF!","v":{"$error":"#REF!"}},null,{"$f":"#REF!+#REF!+#REF!+#REF!+#REF!+#REF!+#REF!","v":{"$error":"#REF!"}},{"$f":"#REF!+#REF!+#REF!+#REF!+#REF!+#REF!+#REF!","v":{"$error":"#REF!"}},{"$f":"#REF!+#REF!+#REF!+#REF!+#REF!+#REF!+#REF!","v":{"$error":"#REF!"}},{"$f":"#REF!+#REF!+#REF!+#REF!+#REF!+#REF!+#REF!","v":{"$error":"#REF!"}},{"$f":"#REF!*0.5","v":{"$error":"#REF!"}},{"$f":"#REF!+#REF!+#REF!+#REF!+#REF!+#REF!+#REF!","v":{"$error":"#REF!"}},{"$f":"#REF!+#REF!+#REF!+#REF!+#REF!+#REF!+#REF!","v":{"$error":"#REF!"}},{"$f":"#REF!+#REF!+#REF!+#REF!+#REF!+#REF!+#REF!","v":{"$error":"#REF!"}},{"$f":"#REF!+#REF!+#REF!+#REF!+#REF!+#REF!+#REF!","v":{"$error":"#REF!"}},{"$f":"#REF!*0.5","v":{"$error":"#REF!"}},{"$f":"#REF!+#REF!+#REF!+#REF!+#REF!+#REF!+#REF!","v":{"$error":"#REF!"}},{"$f":"#REF!+#REF!+#REF!+#REF!+#REF!+#REF!+#REF!","v":{"$error":"#REF!"}},{"$f":"#REF!+#REF!+#REF!+#REF!+#REF!+#REF!+#REF!","v":{"$error":"#REF!"}},{"$f":"#REF!+#REF!+#REF!+#REF!+#REF!+#REF!+#REF!","v":{"$error":"#REF!"}},{"$f":"#REF!*0.5","v":{"$error":"#REF!"}},{"$f":"#REF!+#REF!+#REF!+#REF!+#REF!+#REF!+#REF!","v":{"$error":"#REF!"}},{"$f":"#REF!+#REF!+#REF!+#REF!+#REF!+#REF!+#REF!","v":{"$error":"#REF!"}},null,null,{"$error":"#REF!"},{"$error":"#REF!"},{"$error":"#REF!"},{"$error":"#REF!"}]
[31,"Lincoln",{"$f":"#REF!+#REF!+#REF!+#REF!+#REF!+#REF!+#REF!","v":{"$error":"#REF!"}},{"$f":"#REF!+#REF!+#REF!+#REF!+#REF!+#REF!+#REF!","v":{"$error":"#REF!"}},{"$f":"#REF!+#REF!+#REF!+#REF!+#REF!+#REF!+#REF!","v":{"$error":"#REF!"}},{"$f":"#REF!*0.5","v":{"$error":"#REF!"}},{"$f":"#REF!+#REF!+#REF!+#REF!+#REF!+#REF!+#REF!","v":{"$error":"#REF!"}},null,{"$f":"#REF!+#REF!+#REF!+#REF!+#REF!+#REF!+#REF!","v":{"$error":"#REF!"}},{"$f":"#REF!+#REF!+#REF!+#REF!+#REF!+#REF!+#REF!","v":{"$error":"#REF!"}},{"$f":"#REF!+#REF!+#REF!+#REF!+#REF!+#REF!+#REF!","v":{"$error":"#REF!"}},{"$f":"#REF!+#REF!+#REF!+#REF!+#REF!+#REF!+#REF!","v":{"$error":"#REF!"}},{"$f":"#REF!*0.5","v":{"$error":"#REF!"}},{"$f":"#REF!+#REF!+#REF!+#REF!+#REF!+#REF!+#REF!","v":{"$error":"#REF!"}},{"$f":"#REF!+#REF!+#REF!+#REF!+#REF!+#REF!+#REF!","v":{"$error":"#REF!"}},{"$f":"#REF!+#REF!+#REF!+#REF!+#REF!+#REF!+#REF!","v":{"$error":"#REF!"}},{"$f":"#REF!+#REF!+#REF!+#REF!+#REF!+#REF!+#REF!","v":{"$error":"#REF!"}},{"$f":"#REF!*0.5","v":{"$error":"#REF!"}},{"$f":"#REF!+#REF!+#REF!+#REF!+#REF!+#REF!+#REF!","v":{"$error":"#REF!"}},{"$f":"#REF!+#REF!+#REF!+#REF!+#REF!+#REF!+#REF!","v":{"$error":"#REF!"}},{"$f":"#REF!+#REF!+#REF!+#REF!+#REF!+#REF!+#REF!","v":{"$error":"#REF!"}},{"$f":"#REF!+#REF!+#REF!+#REF!+#REF!+#REF!+#REF!","v":{"$error":"#REF!"}},{"$f":"#REF!*0.5","v":{"$error":"#REF!"}},{"$f":"#REF!+#REF!+#REF!+#REF!+#REF!+#REF!+#REF!","v":{"$error":"#REF!"}},{"$f":"#REF!+#REF!+#REF!+#REF!+#REF!+#REF!+#REF!","v":{"$error":"#REF!"}},null,null,{"$error":"#REF!"},{"$error":"#REF!"},{"$error":"#REF!"},{"$error":"#REF!"}]
[32,"Livingston",{"$f":"#REF!+#REF!+#REF!+#REF!+#REF!+#REF!+#REF!","v":{"$error":"#REF!"}},{"$f":"#REF!+#REF!+#REF!+#REF!+#REF!+#REF!+#REF!","v":{"$error":"#REF!"}},{"$f":"#REF!+#REF!+#REF!+#REF!+#REF!+#REF!+#REF!","v":{"$error":"#REF!"}},{"$f":"#REF!*0.5","v":{"$error":"#REF!"}},{"$f":"#REF!+#REF!+#REF!+#REF!+#REF!+#REF!+#REF!","v":{"$error":"#REF!"}},null,{"$f":"#REF!+#REF!+#REF!+#REF!+#REF!+#REF!+#REF!","v":{"$error":"#REF!"}},{"$f":"#REF!+#REF!+#REF!+#REF!+#REF!+#REF!+#REF!","v":{"$error":"#REF!"}},{"$f":"#REF!+#REF!+#REF!+#REF!+#REF!+#REF!+#REF!","v":{"$error":"#REF!"}},{"$f":"#REF!+#REF!+#REF!+#REF!+#REF!+#REF!+#REF!","v":{"$error":"#REF!"}},{"$f":"#REF!*0.5","v":{"$error":"#REF!"}},{"$f":"#REF!+#REF!+#REF!+#REF!+#REF!+#REF!+#REF!","v":{"$error":"#REF!"}},{"$f":"#REF!+#REF!+#REF!+#REF!+#REF!+#REF!+#REF!","v":{"$error":"#REF!"}},{"$f":"#REF!+#REF!+#REF!+#REF!+#REF!+#REF!+#REF!","v":{"$error":"#REF!"}},{"$f":"#REF!+#REF!+#REF!+#REF!+#REF!+#REF!+#REF!","v":{"$error":"#REF!"}},{"$f":"#REF!*0.5","v":{"$error":"#REF!"}},{"$f":"#REF!+#REF!+#REF!+#REF!+#REF!+#REF!+#REF!","v":{"$error":"#REF!"}},{"$f":"#REF!+#REF!+#REF!+#REF!+#REF!+#REF!+#REF!","v":{"$error":"#REF!"}},{"$f":"#REF!+#REF!+#REF!+#REF!+#REF!+#REF!+#REF!","v":{"$error":"#REF!"}},{"$f":"#REF!+#REF!+#REF!+#REF!+#REF!+#REF!+#REF!","v":{"$error":"#REF!"}},{"$f":"#REF!*0.5","v":{"$error":"#REF!"}},{"$f":"#REF!+#REF!+#REF!+#REF!+#REF!+#REF!+#REF!","v":{"$error":"#REF!"}},{"$f":"#REF!+#REF!+#REF!+#REF!+#REF!+#REF!+#REF!","v":{"$error":"#REF!"}},null,null,{"$error":"#REF!"},{"$error":"#REF!"},{"$error":"#REF!"},{"$error":"#REF!"}]
[33,"Madison",{"$f":"#REF!+#REF!+#REF!+#REF!+#REF!+#REF!+#REF!","v":{"$error":"#REF!"}},{"$f":"#REF!+#REF!+#REF!+#REF!+#REF!+#REF!+#REF!","v":{"$error":"#REF!"}},{"$f":"#REF!+#REF!+#REF!+#REF!+#REF!+#REF!+#REF!","v":{"$error":"#REF!"}},{"$f":"#REF!*0.5","v":{"$error":"#REF!"}},{"$f":"#REF!+#REF!+#REF!+#REF!+#REF!+#REF!+#REF!","v":{"$error":"#REF!"}},null,{"$f":"#REF!+#REF!+#REF!+#REF!+#REF!+#REF!+#REF!","v":{"$error":"#REF!"}},{"$f":"#REF!+#REF!+#REF!+#REF!+#REF!+#REF!+#REF!","v":{"$error":"#REF!"}},{"$f":"#REF!+#REF!+#REF!+#REF!+#REF!+#REF!+#REF!","v":{"$error":"#REF!"}},{"$f":"#REF!+#REF!+#REF!+#REF!+#REF!+#REF!+#REF!","v":{"$error":"#REF!"}},{"$f":"#REF!*0.5","v":{"$error":"#REF!"}},{"$f":"#REF!+#REF!+#REF!+#REF!+#REF!+#REF!+#REF!","v":{"$error":"#REF!"}},{"$f":"#REF!+#REF!+#REF!+#REF!+#REF!+#REF!+#REF!","v":{"$error":"#REF!"}},{"$f":"#REF!+#REF!+#REF!+#REF!+#REF!+#REF!+#REF!","v":{"$error":"#REF!"}},{"$f":"#REF!+#REF!+#REF!+#REF!+#REF!+#REF!+#REF!","v":{"$error":"#REF!"}},{"$f":"#REF!*0.5","v":{"$error":"#REF!"}},{"$f":"#REF!+#REF!+#REF!+#REF!+#REF!+#REF!+#REF!","v":{"$error":"#REF!"}},{"$f":"#REF!+#REF!+#REF!+#REF!+#REF!+#REF!+#REF!","v":{"$error":"#REF!"}},{"$f":"#REF!+#REF!+#REF!+#REF!+#REF!+#REF!+#REF!","v":{"$error":"#REF!"}},{"$f":"#REF!+#REF!+#REF!+#REF!+#REF!+#REF!+#REF!","v":{"$error":"#REF!"}},{"$f":"#REF!*0.5","v":{"$error":"#REF!"}},{"$f":"#REF!+#REF!+#REF!+#REF!+#REF!+#REF!+#REF!","v":{"$error":"#REF!"}},{"$f":"#REF!+#REF!+#REF!+#REF!+#REF!+#REF!+#REF!","v":{"$error":"#REF!"}},null,null,{"$error":"#REF!"},{"$error":"#REF!"},{"$error":"#REF!"},{"$error":"#REF!"}]
[34,"Morehouse",{"$f":"#REF!+#REF!+#REF!+#REF!+#REF!+#REF!+#REF!","v":{"$error":"#REF!"}},{"$f":"#REF!+#REF!+#REF!+#REF!+#REF!+#REF!+#REF!","v":{"$error":"#REF!"}},{"$f":"#REF!+#REF!+#REF!+#REF!+#REF!+#REF!+#REF!","v":{"$error":"#REF!"}},{"$f":"#REF!*0.5","v":{"$error":"#REF!"}},{"$f":"#REF!+#REF!+#REF!+#REF!+#REF!+#REF!+#REF!","v":{"$error":"#REF!"}},null,{"$f":"#REF!+#REF!+#REF!+#REF!+#REF!+#REF!+#REF!","v":{"$error":"#REF!"}},{"$f":"#REF!+#REF!+#REF!+#REF!+#REF!+#REF!+#REF!","v":{"$error":"#REF!"}},{"$f":"#REF!+#REF!+#REF!+#REF!+#REF!+#REF!+#REF!","v":{"$error":"#REF!"}},{"$f":"#REF!+#REF!+#REF!+#REF!+#REF!+#REF!+#REF!","v":{"$error":"#REF!"}},{"$f":"#REF!*0.5","v":{"$error":"#REF!"}},{"$f":"#REF!+#REF!+#REF!+#REF!+#REF!+#REF!+#REF!","v":{"$error":"#REF!"}},{"$f":"#REF!+#REF!+#REF!+#REF!+#REF!+#REF!+#REF!","v":{"$error":"#REF!"}},{"$f":"#REF!+#REF!+#REF!+#REF!+#REF!+#REF!+#REF!","v":{"$error":"#REF!"}},{"$f":"#REF!+#REF!+#REF!+#REF!+#REF!+#REF!+#REF!","v":{"$error":"#REF!"}},{"$f":"#REF!*0.5","v":{"$error":"#REF!"}},{"$f":"#REF!+#REF!+#REF!+#REF!+#REF!+#REF!+#REF!","v":{"$error":"#REF!"}},{"$f":"#REF!+#REF!+#REF!+#REF!+#REF!+#REF!+#REF!","v":{"$error":"#REF!"}},{"$f":"#REF!+#REF!+#REF!+#REF!+#REF!+#REF!+#REF!","v":{"$error":"#REF!"}},{"$f":"#REF!+#REF!+#REF!+#REF!+#REF!+#REF!+#REF!","v":{"$error":"#REF!"}},{"$f":"#REF!*0.5","v":{"$error":"#REF!"}},{"$f":"#REF!+#REF!+#REF!+#REF!+#REF!+#REF!+#REF!","v":{"$error":"#REF!"}},{"$f":"#REF!+#REF!+#REF!+#REF!+#REF!+#REF!+#REF!","v":{"$error":"#REF!"}},null,null,{"$error":"#REF!"},{"$error":"#REF!"},{"$error":"#REF!"},{"$error":"#REF!"}]
[35,"Natchitoches",{"$f":"#REF!+#REF!+#REF!+#REF!+#REF!+#REF!+#REF!","v":{"$error":"#REF!"}},{"$f":"#REF!+#REF!+#REF!+#REF!+#REF!+#REF!+#REF!","v":{"$error":"#REF!"}},{"$f":"#REF!+#REF!+#REF!+#REF!+#REF!+#REF!+#REF!","v":{"$error":"#REF!"}},{"$f":"#REF!*0.5","v":{"$error":"#REF!"}},{"$f":"#REF!+#REF!+#REF!+#REF!+#REF!+#REF!+#REF!","v":{"$error":"#REF!"}},null,{"$f":"#REF!+#REF!+#REF!+#REF!+#REF!+#REF!+#REF!","v":{"$error":"#REF!"}},{"$f":"#REF!+#REF!+#REF!+#REF!+#REF!+#REF!+#REF!","v":{"$error":"#REF!"}},{"$f":"#REF!+#REF!+#REF!+#REF!+#REF!+#REF!+#REF!","v":{"$error":"#REF!"}},{"$f":"#REF!+#REF!+#REF!+#REF!+#REF!+#REF!+#REF!","v":{"$error":"#REF!"}},{"$f":"#REF!*0.5","v":{"$error":"#REF!"}},{"$f":"#REF!+#REF!+#REF!+#REF!+#REF!+#REF!+#REF!","v":{"$error":"#REF!"}},{"$f":"#REF!+#REF!+#REF!+#REF!+#REF!+#REF!+#REF!","v":{"$error":"#REF!"}},{"$f":"#REF!+#REF!+#REF!+#REF!+#REF!+#REF!+#REF!","v":{"$error":"#REF!"}},{"$f":"#REF!+#REF!+#REF!+#REF!+#REF!+#REF!+#REF!","v":{"$error":"#REF!"}},{"$f":"#REF!*0.5","v":{"$error":"#REF!"}},{"$f":"#REF!+#REF!+#REF!+#REF!+#REF!+#REF!+#REF!","v":{"$error":"#REF!"}},{"$f":"#REF!+#REF!+#REF!+#REF!+#REF!+#REF!+#REF!","v":{"$error":"#REF!"}},{"$f":"#REF!+#REF!+#REF!+#REF!+#REF!+#REF!+#REF!","v":{"$error":"#REF!"}},{"$f":"#REF!+#REF!+#REF!+#REF!+#REF!+#REF!+#REF!","v":{"$error":"#REF!"}},{"$f":"#REF!*0.5","v":{"$error":"#REF!"}},{"$f":"#REF!+#REF!+#REF!+#REF!+#REF!+#REF!+#REF!","v":{"$error":"#REF!"}},{"$f":"#REF!+#REF!+#REF!+#REF!+#REF!+#REF!+#REF!","v":{"$error":"#REF!"}},null,null,{"$error":"#REF!"},{"$error":"#REF!"},{"$error":"#REF!"},{"$error":"#REF!"}]
[36,"Orleans",{"$f":"#REF!+#REF!+#REF!+#REF!+#REF!+#REF!+#REF!","v":{"$error":"#REF!"}},{"$f":"#REF!+#REF!+#REF!+#REF!+#REF!+#REF!+#REF!","v":{"$error":"#REF!"}},{"$f":"#REF!+#REF!+#REF!+#REF!+#REF!+#REF!+#REF!","v":{"$error":"#REF!"}},{"$f":"#REF!*0.5","v":{"$error":"#REF!"}},{"$f":"#REF!+#REF!+#REF!+#REF!+#REF!+#REF!+#REF!","v":{"$error":"#REF!"}},null,{"$f":"#REF!+#REF!+#REF!+#REF!+#REF!+#REF!+#REF!","v":{"$error":"#REF!"}},{"$f":"#REF!+#REF!+#REF!+#REF!+#REF!+#REF!+#REF!","v":{"$error":"#REF!"}},{"$f":"#REF!+#REF!+#REF!+#REF!+#REF!+#REF!+#REF!","v":{"$error":"#REF!"}},{"$f":"#REF!+#REF!+#REF!+#REF!+#REF!+#REF!+#REF!","v":{"$error":"#REF!"}},{"$f":"#REF!*0.5","v":{"$error":"#REF!"}},{"$f":"#REF!+#REF!+#REF!+#REF!+#REF!+#REF!+#REF!","v":{"$error":"#REF!"}},{"$f":"#REF!+#REF!+#REF!+#REF!+#REF!+#REF!+#REF!","v":{"$error":"#REF!"}},{"$f":"#REF!+#REF!+#REF!+#REF!+#REF!+#REF!+#REF!","v":{"$error":"#REF!"}},{"$f":"#REF!+#REF!+#REF!+#REF!+#REF!+#REF!+#REF!","v":{"$error":"#REF!"}},{"$f":"#REF!*0.5","v":{"$error":"#REF!"}},{"$f":"#REF!+#REF!+#REF!+#REF!+#REF!+#REF!+#REF!","v":{"$error":"#REF!"}},{"$f":"#REF!+#REF!+#REF!+#REF!+#REF!+#REF!+#REF!","v":{"$error":"#REF!"}},{"$f":"#REF!+#REF!+#REF!+#REF!+#REF!+#REF!+#REF!","v":{"$error":"#REF!"}},{"$f":"#REF!+#REF!+#REF!+#REF!+#REF!+#REF!+#REF!","v":{"$error":"#REF!"}},{"$f":"#REF!*0.5","v":{"$error":"#REF!"}},{"$f":"#REF!+#REF!+#REF!+#REF!+#REF!+#REF!+#REF!","v":{"$error":"#REF!"}},{"$f":"#REF!+#REF!+#REF!+#REF!+#REF!+#REF!+#REF!","v":{"$error":"#REF!"}},null,null,{"$error":"#REF!"},{"$error":"#REF!"},{"$error":"#REF!"},{"$error":"#REF!"}]
[37,"Ouachita",{"$f":"#REF!+#REF!+#REF!+#REF!+#REF!+#REF!+#REF!","v":{"$error":"#REF!"}},{"$f":"#REF!+#REF!+#REF!+#REF!+#REF!+#REF!+#REF!","v":{"$error":"#REF!"}},{"$f":"#REF!+#REF!+#REF!+#REF!+#REF!+#REF!+#REF!","v":{"$error":"#REF!"}},{"$f":"#REF!*0.5","v":{"$error":"#REF!"}},{"$f":"#REF!+#REF!+#REF!+#REF!+#REF!+#REF!+#REF!","v":{"$error":"#REF!"}},null,{"$f":"#REF!+#REF!+#REF!+#REF!+#REF!+#REF!+#REF!","v":{"$error":"#REF!"}},{"$f":"#REF!+#REF!+#REF!+#REF!+#REF!+#REF!+#REF!","v":{"$error":"#REF!"}},{"$f":"#REF!+#REF!+#REF!+#REF!+#REF!+#REF!+#REF!","v":{"$error":"#REF!"}},{"$f":"#REF!+#REF!+#REF!+#REF!+#REF!+#REF!+#REF!","v":{"$error":"#REF!"}},{"$f":"#REF!*0.5","v":{"$error":"#REF!"}},{"$f":"#REF!+#REF!+#REF!+#REF!+#REF!+#REF!+#REF!","v":{"$error":"#REF!"}},{"$f":"#REF!+#REF!+#REF!+#REF!+#REF!+#REF!+#REF!","v":{"$error":"#REF!"}},{"$f":"#REF!+#REF!+#REF!+#REF!+#REF!+#REF!+#REF!","v":{"$error":"#REF!"}},{"$f":"#REF!+#REF!+#REF!+#REF!+#REF!+#REF!+#REF!","v":{"$error":"#REF!"}},{"$f":"#REF!*0.5","v":{"$error":"#REF!"}},{"$f":"#REF!+#REF!+#REF!+#REF!+#REF!+#REF!+#REF!","v":{"$error":"#REF!"}},{"$f":"#REF!+#REF!+#REF!+#REF!+#REF!+#REF!+#REF!","v":{"$error":"#REF!"}},{"$f":"#REF!+#REF!+#REF!+#REF!+#REF!+#REF!+#REF!","v":{"$error":"#REF!"}},{"$f":"#REF!+#REF!+#REF!+#REF!+#REF!+#REF!+#REF!","v":{"$error":"#REF!"}},{"$f":"#REF!*0.5","v":{"$error":"#REF!"}},{"$f":"#REF!+#REF!+#REF!+#REF!+#REF!+#REF!+#REF!","v":{"$error":"#REF!"}},{"$f":"#REF!+#REF!+#REF!+#REF!+#REF!+#REF!+#REF!","v":{"$error":"#REF!"}},null,null,{"$error":"#REF!"},{"$error":"#REF!"},{"$error":"#REF!"},{"$error":"#REF!"}]
[38,"Plaquemines",{"$f":"#REF!+#REF!+#REF!+#REF!+#REF!+#REF!+#REF!","v":{"$error":"#REF!"}},{"$f":"#REF!+#REF!+#REF!+#REF!+#REF!+#REF!+#REF!","v":{"$error":"#REF!"}},{"$f":"#REF!+#REF!+#REF!+#REF!+#REF!+#REF!+#REF!","v":{"$error":"#REF!"}},{"$f":"#REF!*0.5","v":{"$error":"#REF!"}},{"$f":"#REF!+#REF!+#REF!+#REF!+#REF!+#REF!+#REF!","v":{"$error":"#REF!"}},null,{"$f":"#REF!+#REF!+#REF!+#REF!+#REF!+#REF!+#REF!","v":{"$error":"#REF!"}},{"$f":"#REF!+#REF!+#REF!+#REF!+#REF!+#REF!+#REF!","v":{"$error":"#REF!"}},{"$f":"#REF!+#REF!+#REF!+#REF!+#REF!+#REF!+#REF!","v":{"$error":"#REF!"}},{"$f":"#REF!+#REF!+#REF!+#REF!+#REF!+#REF!+#REF!","v":{"$error":"#REF!"}},{"$f":"#REF!*0.5","v":{"$error":"#REF!"}},{"$f":"#REF!+#REF!+#REF!+#REF!+#REF!+#REF!+#REF!","v":{"$error":"#REF!"}},{"$f":"#REF!+#REF!+#REF!+#REF!+#REF!+#REF!+#REF!","v":{"$error":"#REF!"}},{"$f":"#REF!+#REF!+#REF!+#REF!+#REF!+#REF!+#REF!","v":{"$error":"#REF!"}},{"$f":"#REF!+#REF!+#REF!+#REF!+#REF!+#REF!+#REF!","v":{"$error":"#REF!"}},{"$f":"#REF!*0.5","v":{"$error":"#REF!"}},{"$f":"#REF!+#REF!+#REF!+#REF!+#REF!+#REF!+#REF!","v":{"$error":"#REF!"}},{"$f":"#REF!+#REF!+#REF!+#REF!+#REF!+#REF!+#REF!","v":{"$error":"#REF!"}},{"$f":"#REF!+#REF!+#REF!+#REF!+#REF!+#REF!+#REF!","v":{"$error":"#REF!"}},{"$f":"#REF!+#REF!+#REF!+#REF!+#REF!+#REF!+#REF!","v":{"$error":"#REF!"}},{"$f":"#REF!*0.5","v":{"$error":"#REF!"}},{"$f":"#REF!+#REF!+#REF!+#REF!+#REF!+#REF!+#REF!","v":{"$error":"#REF!"}},{"$f":"#REF!+#REF!+#REF!+#REF!+#REF!+#REF!+#REF!","v":{"$error":"#REF!"}},null,null,{"$error":"#REF!"},{"$error":"#REF!"},{"$error":"#REF!"},{"$error":"#REF!"}]
[39,"Pointe Coupee",{"$f":"#REF!+#REF!+#REF!+#REF!+#REF!+#REF!+#REF!","v":{"$error":"#REF!"}},{"$f":"#REF!+#REF!+#REF!+#REF!+#REF!+#REF!+#REF!","v":{"$error":"#REF!"}},{"$f":"#REF!+#REF!+#REF!+#REF!+#REF!+#REF!+#REF!","v":{"$error":"#REF!"}},{"$f":"#REF!*0.5","v":{"$error":"#REF!"}},{"$f":"#REF!+#REF!+#REF!+#REF!+#REF!+#REF!+#REF!","v":{"$error":"#REF!"}},null,{"$f":"#REF!+#REF!+#REF!+#REF!+#REF!+#REF!+#REF!","v":{"$error":"#REF!"}},{"$f":"#REF!+#REF!+#REF!+#REF!+#REF!+#REF!+#REF!","v":{"$error":"#REF!"}},{"$f":"#REF!+#REF!+#REF!+#REF!+#REF!+#REF!+#REF!","v":{"$error":"#REF!"}},{"$f":"#REF!+#REF!+#REF!+#REF!+#REF!+#REF!+#REF!","v":{"$error":"#REF!"}},{"$f":"#REF!*0.5","v":{"$error":"#REF!"}},{"$f":"#REF!+#REF!+#REF!+#REF!+#REF!+#REF!+#REF!","v":{"$error":"#REF!"}},{"$f":"#REF!+#REF!+#REF!+#REF!+#REF!+#REF!+#REF!","v":{"$error":"#REF!"}},{"$f":"#REF!+#REF!+#REF!+#REF!+#REF!+#REF!+#REF!","v":{"$error":"#REF!"}},{"$f":"#REF!+#REF!+#REF!+#REF!+#REF!+#REF!+#REF!","v":{"$error":"#REF!"}},{"$f":"#REF!*0.5","v":{"$error":"#REF!"}},{"$f":"#REF!+#REF!+#REF!+#REF!+#REF!+#REF!+#REF!","v":{"$error":"#REF!"}},{"$f":"#REF!+#REF!+#REF!+#REF!+#REF!+#REF!+#REF!","v":{"$error":"#REF!"}},{"$f":"#REF!+#REF!+#REF!+#REF!+#REF!+#REF!+#REF!","v":{"$error":"#REF!"}},{"$f":"#REF!+#REF!+#REF!+#REF!+#REF!+#REF!+#REF!","v":{"$error":"#REF!"}},{"$f":"#REF!*0.5","v":{"$error":"#REF!"}},{"$f":"#REF!+#REF!+#REF!+#REF!+#REF!+#REF!+#REF!","v":{"$error":"#REF!"}},{"$f":"#REF!+#REF!+#REF!+#REF!+#REF!+#REF!+#REF!","v":{"$error":"#REF!"}},null,null,{"$error":"#REF!"},{"$error":"#REF!"},{"$error":"#REF!"},{"$error":"#REF!"}]
[40,"Rapides",{"$f":"#REF!+#REF!+#REF!+#REF!+#REF!+#REF!+#REF!","v":{"$error":"#REF!"}},{"$f":"#REF!+#REF!+#REF!+#REF!+#REF!+#REF!+#REF!","v":{"$error":"#REF!"}},{"$f":"#REF!+#REF!+#REF!+#REF!+#REF!+#REF!+#REF!","v":{"$error":"#REF!"}},{"$f":"#REF!*0.5","v":{"$error":"#REF!"}},{"$f":"#REF!+#REF!+#REF!+#REF!+#REF!+#REF!+#REF!","v":{"$error":"#REF!"}},null,{"$f":"#REF!+#REF!+#REF!+#REF!+#REF!+#REF!+#REF!","v":{"$error":"#REF!"}},{"$f":"#REF!+#REF!+#REF!+#REF!+#REF!+#REF!+#REF!","v":{"$error":"#REF!"}},{"$f":"#REF!+#REF!+#REF!+#REF!+#REF!+#REF!+#REF!","v":{"$error":"#REF!"}},{"$f":"#REF!+#REF!+#REF!+#REF!+#REF!+#REF!+#REF!","v":{"$error":"#REF!"}},{"$f":"#REF!*0.5","v":{"$error":"#REF!"}},{"$f":"#REF!+#REF!+#REF!+#REF!+#REF!+#REF!+#REF!","v":{"$error":"#REF!"}},{"$f":"#REF!+#REF!+#REF!+#REF!+#REF!+#REF!+#REF!","v":{"$error":"#REF!"}},{"$f":"#REF!+#REF!+#REF!+#REF!+#REF!+#REF!+#REF!","v":{"$error":"#REF!"}},{"$f":"#REF!+#REF!+#REF!+#REF!+#REF!+#REF!+#REF!","v":{"$error":"#REF!"}},{"$f":"#REF!*0.5","v":{"$error":"#REF!"}},{"$f":"#REF!+#REF!+#REF!+#REF!+#REF!+#REF!+#REF!","v":{"$error":"#REF!"}},{"$f":"#REF!+#REF!+#REF!+#REF!+#REF!+#REF!+#REF!","v":{"$error":"#REF!"}},{"$f":"#REF!+#REF!+#REF!+#REF!+#REF!+#REF!+#REF!","v":{"$error":"#REF!"}},{"$f":"#REF!+#REF!+#REF!+#REF!+#REF!+#REF!+#REF!","v":{"$error":"#REF!"}},{"$f":"#REF!*0.5","v":{"$error":"#REF!"}},{"$f":"#REF!+#REF!+#REF!+#REF!+#REF!+#REF!+#REF!","v":{"$error":"#REF!"}},{"$f":"#REF!+#REF!+#REF!+#REF!+#REF!+#REF!+#REF!","v":{"$error":"#REF!"}},null,null,{"$error":"#REF!"},{"$error":"#REF!"},{"$error":"#REF!"},{"$error":"#REF!"}]
[41,"Red River",{"$f":"#REF!+#REF!+#REF!+#REF!+#REF!+#REF!+#REF!","v":{"$error":"#REF!"}},{"$f":"#REF!+#REF!+#REF!+#REF!+#REF!+#REF!+#REF!","v":{"$error":"#REF!"}},{"$f":"#REF!+#REF!+#REF!+#REF!+#REF!+#REF!+#REF!","v":{"$error":"#REF!"}},{"$f":"#REF!*0.5","v":{"$error":"#REF!"}},{"$f":"#REF!+#REF!+#REF!+#REF!+#REF!+#REF!+#REF!","v":{"$error":"#REF!"}},null,{"$f":"#REF!+#REF!+#REF!+#REF!+#REF!+#REF!+#REF!","v":{"$error":"#REF!"}},{"$f":"#REF!+#REF!+#REF!+#REF!+#REF!+#REF!+#REF!","v":{"$error":"#REF!"}},{"$f":"#REF!+#REF!+#REF!+#REF!+#REF!+#REF!+#REF!","v":{"$error":"#REF!"}},{"$f":"#REF!+#REF!+#REF!+#REF!+#REF!+#REF!+#REF!","v":{"$error":"#REF!"}},{"$f":"#REF!*0.5","v":{"$error":"#REF!"}},{"$f":"#REF!+#REF!+#REF!+#REF!+#REF!+#REF!+#REF!","v":{"$error":"#REF!"}},{"$f":"#REF!+#REF!+#REF!+#REF!+#REF!+#REF!+#REF!","v":{"$error":"#REF!"}},{"$f":"#REF!+#REF!+#REF!+#REF!+#REF!+#REF!+#REF!","v":{"$error":"#REF!"}},{"$f":"#REF!+#REF!+#REF!+#REF!+#REF!+#REF!+#REF!","v":{"$error":"#REF!"}},{"$f":"#REF!*0.5","v":{"$error":"#REF!"}},{"$f":"#REF!+#REF!+#REF!+#REF!+#REF!+#REF!+#REF!","v":{"$error":"#REF!"}},{"$f":"#REF!+#REF!+#REF!+#REF!+#REF!+#REF!+#REF!","v":{"$error":"#REF!"}},{"$f":"#REF!+#REF!+#REF!+#REF!+#REF!+#REF!+#REF!","v":{"$error":"#REF!"}},{"$f":"#REF!+#REF!+#REF!+#REF!+#REF!+#REF!+#REF!","v":{"$error":"#REF!"}},{"$f":"#REF!*0.5","v":{"$error":"#REF!"}},{"$f":"#REF!+#REF!+#REF!+#REF!+#REF!+#REF!+#REF!","v":{"$error":"#REF!"}},{"$f":"#REF!+#REF!+#REF!+#REF!+#REF!+#REF!+#REF!","v":{"$error":"#REF!"}},null,null,{"$error":"#REF!"},{"$error":"#REF!"},{"$error":"#REF!"},{"$error":"#REF!"}]
[42,"Richland",{"$f":"#REF!+#REF!+#REF!+#REF!+#REF!+#REF!+#REF!","v":{"$error":"#REF!"}},{"$f":"#REF!+#REF!+#REF!+#REF!+#REF!+#REF!+#REF!","v":{"$error":"#REF!"}},{"$f":"#REF!+#REF!+#REF!+#REF!+#REF!+#REF!+#REF!","v":{"$error":"#REF!"}},{"$f":"#REF!*0.5","v":{"$error":"#REF!"}},{"$f":"#REF!+#REF!+#REF!+#REF!+#REF!+#REF!+#REF!","v":{"$error":"#REF!"}},null,{"$f":"#REF!+#REF!+#REF!+#REF!+#REF!+#REF!+#REF!","v":{"$error":"#REF!"}},{"$f":"#REF!+#REF!+#REF!+#REF!+#REF!+#REF!+#REF!","v":{"$error":"#REF!"}},{"$f":"#REF!+#REF!+#REF!+#REF!+#REF!+#REF!+#REF!","v":{"$error":"#REF!"}},{"$f":"#REF!+#REF!+#REF!+#REF!+#REF!+#REF!+#REF!","v":{"$error":"#REF!"}},{"$f":"#REF!*0.5","v":{"$error":"#REF!"}},{"$f":"#REF!+#REF!+#REF!+#REF!+#REF!+#REF!+#REF!","v":{"$error":"#REF!"}},{"$f":"#REF!+#REF!+#REF!+#REF!+#REF!+#REF!+#REF!","v":{"$error":"#REF!"}},{"$f":"#REF!+#REF!+#REF!+#REF!+#REF!+#REF!+#REF!","v":{"$error":"#REF!"}},{"$f":"#REF!+#REF!+#REF!+#REF!+#REF!+#REF!+#REF!","v":{"$error":"#REF!"}},{"$f":"#REF!*0.5","v":{"$error":"#REF!"}},{"$f":"#REF!+#REF!+#REF!+#REF!+#REF!+#REF!+#REF!","v":{"$error":"#REF!"}},{"$f":"#REF!+#REF!+#REF!+#REF!+#REF!+#REF!+#REF!","v":{"$error":"#REF!"}},{"$f":"#REF!+#REF!+#REF!+#REF!+#REF!+#REF!+#REF!","v":{"$error":"#REF!"}},{"$f":"#REF!+#REF!+#REF!+#REF!+#REF!+#REF!+#REF!","v":{"$error":"#REF!"}},{"$f":"#REF!*0.5","v":{"$error":"#REF!"}},{"$f":"#REF!+#REF!+#REF!+#REF!+#REF!+#REF!+#REF!","v":{"$error":"#REF!"}},{"$f":"#REF!+#REF!+#REF!+#REF!+#REF!+#REF!+#REF!","v":{"$error":"#REF!"}},null,null,{"$error":"#REF!"},{"$error":"#REF!"},{"$error":"#REF!"},{"$error":"#REF!"}]
[43,"Sabine",{"$f":"#REF!+#REF!+#REF!+#REF!+#REF!+#REF!+#REF!","v":{"$error":"#REF!"}},{"$f":"#REF!+#REF!+#REF!+#REF!+#REF!+#REF!+#REF!","v":{"$error":"#REF!"}},{"$f":"#REF!+#REF!+#REF!+#REF!+#REF!+#REF!+#REF!","v":{"$error":"#REF!"}},{"$f":"#REF!*0.5","v":{"$error":"#REF!"}},{"$f":"#REF!+#REF!+#REF!+#REF!+#REF!+#REF!+#REF!","v":{"$error":"#REF!"}},null,{"$f":"#REF!+#REF!+#REF!+#REF!+#REF!+#REF!+#REF!","v":{"$error":"#REF!"}},{"$f":"#REF!+#REF!+#REF!+#REF!+#REF!+#REF!+#REF!","v":{"$error":"#REF!"}},{"$f":"#REF!+#REF!+#REF!+#REF!+#REF!+#REF!+#REF!","v":{"$error":"#REF!"}},{"$f":"#REF!+#REF!+#REF!+#REF!+#REF!+#REF!+#REF!","v":{"$error":"#REF!"}},{"$f":"#REF!*0.5","v":{"$error":"#REF!"}},{"$f":"#REF!+#REF!+#REF!+#REF!+#REF!+#REF!+#REF!","v":{"$error":"#REF!"}},{"$f":"#REF!+#REF!+#REF!+#REF!+#REF!+#REF!+#REF!","v":{"$error":"#REF!"}},{"$f":"#REF!+#REF!+#REF!+#REF!+#REF!+#REF!+#REF!","v":{"$error":"#REF!"}},{"$f":"#REF!+#REF!+#REF!+#REF!+#REF!+#REF!+#REF!","v":{"$error":"#REF!"}},{"$f":"#REF!*0.5","v":{"$error":"#REF!"}},{"$f":"#REF!+#REF!+#REF!+#REF!+#REF!+#REF!+#REF!","v":{"$error":"#REF!"}},{"$f":"#REF!+#REF!+#REF!+#REF!+#REF!+#REF!+#REF!","v":{"$error":"#REF!"}},{"$f":"#REF!+#REF!+#REF!+#REF!+#REF!+#REF!+#REF!","v":{"$error":"#REF!"}},{"$f":"#REF!+#REF!+#REF!+#REF!+#REF!+#REF!+#REF!","v":{"$error":"#REF!"}},{"$f":"#REF!*0.5","v":{"$error":"#REF!"}},{"$f":"#REF!+#REF!+#REF!+#REF!+#REF!+#REF!+#REF!","v":{"$error":"#REF!"}},{"$f":"#REF!+#REF!+#REF!+#REF!+#REF!+#REF!+#REF!","v":{"$error":"#REF!"}},null,null,{"$error":"#REF!"},{"$error":"#REF!"},{"$error":"#REF!"},{"$error":"#REF!"}]
[44,"St. Bernard",{"$f":"#REF!+#REF!+#REF!+#REF!+#REF!+#REF!+#REF!","v":{"$error":"#REF!"}},{"$f":"#REF!+#REF!+#REF!+#REF!+#REF!+#REF!+#REF!","v":{"$error":"#REF!"}},{"$f":"#REF!+#REF!+#REF!+#REF!+#REF!+#REF!+#REF!","v":{"$error":"#REF!"}},{"$f":"#REF!*0.5","v":{"$error":"#REF!"}},{"$f":"#REF!+#REF!+#REF!+#REF!+#REF!+#REF!+#REF!","v":{"$error":"#REF!"}},null,{"$f":"#REF!+#REF!+#REF!+#REF!+#REF!+#REF!+#REF!","v":{"$error":"#REF!"}},{"$f":"#REF!+#REF!+#REF!+#REF!+#REF!+#REF!+#REF!","v":{"$error":"#REF!"}},{"$f":"#REF!+#REF!+#REF!+#REF!+#REF!+#REF!+#REF!","v":{"$error":"#REF!"}},{"$f":"#REF!+#REF!+#REF!+#REF!+#REF!+#REF!+#REF!","v":{"$error":"#REF!"}},{"$f":"#REF!*0.5","v":{"$error":"#REF!"}},{"$f":"#REF!+#REF!+#REF!+#REF!+#REF!+#REF!+#REF!","v":{"$error":"#REF!"}},{"$f":"#REF!+#REF!+#REF!+#REF!+#REF!+#REF!+#REF!","v":{"$error":"#REF!"}},{"$f":"#REF!+#REF!+#REF!+#REF!+#REF!+#REF!+#REF!","v":{"$error":"#REF!"}},{"$f":"#REF!+#REF!+#REF!+#REF!+#REF!+#REF!+#REF!","v":{"$error":"#REF!"}},{"$f":"#REF!*0.5","v":{"$error":"#REF!"}},{"$f":"#REF!+#REF!+#REF!+#REF!+#REF!+#REF!+#REF!","v":{"$error":"#REF!"}},{"$f":"#REF!+#REF!+#REF!+#REF!+#REF!+#REF!+#REF!","v":{"$error":"#REF!"}},{"$f":"#REF!+#REF!+#REF!+#REF!+#REF!+#REF!+#REF!","v":{"$error":"#REF!"}},{"$f":"#REF!+#REF!+#REF!+#REF!+#REF!+#REF!+#REF!","v":{"$error":"#REF!"}},{"$f":"#REF!*0.5","v":{"$error":"#REF!"}},{"$f":"#REF!+#REF!+#REF!+#REF!+#REF!+#REF!+#REF!","v":{"$error":"#REF!"}},{"$f":"#REF!+#REF!+#REF!+#REF!+#REF!+#REF!+#REF!","v":{"$error":"#REF!"}},null,null,{"$error":"#REF!"},{"$error":"#REF!"},{"$error":"#REF!"},{"$error":"#REF!"}]
[45,"St. Charles",{"$f":"#REF!+#REF!+#REF!+#REF!+#REF!+#REF!+#REF!","v":{"$error":"#REF!"}},{"$f":"#REF!+#REF!+#REF!+#REF!+#REF!+#REF!+#REF!","v":{"$error":"#REF!"}},{"$f":"#REF!+#REF!+#REF!+#REF!+#REF!+#REF!+#REF!","v":{"$error":"#REF!"}},{"$f":"#REF!*0.5","v":{"$error":"#REF!"}},{"$f":"#REF!+#REF!+#REF!+#REF!+#REF!+#REF!+#REF!","v":{"$error":"#REF!"}},null,{"$f":"#REF!+#REF!+#REF!+#REF!+#REF!+#REF!+#REF!","v":{"$error":"#REF!"}},{"$f":"#REF!+#REF!+#REF!+#REF!+#REF!+#REF!+#REF!","v":{"$error":"#REF!"}},{"$f":"#REF!+#REF!+#REF!+#REF!+#REF!+#REF!+#REF!","v":{"$error":"#REF!"}},{"$f":"#REF!+#REF!+#REF!+#REF!+#REF!+#REF!+#REF!","v":{"$error":"#REF!"}},{"$f":"#REF!*0.5","v":{"$error":"#REF!"}},{"$f":"#REF!+#REF!+#REF!+#REF!+#REF!+#REF!+#REF!","v":{"$error":"#REF!"}},{"$f":"#REF!+#REF!+#REF!+#REF!+#REF!+#REF!+#REF!","v":{"$error":"#REF!"}},{"$f":"#REF!+#REF!+#REF!+#REF!+#REF!+#REF!+#REF!","v":{"$error":"#REF!"}},{"$f":"#REF!+#REF!+#REF!+#REF!+#REF!+#REF!+#REF!","v":{"$error":"#REF!"}},{"$f":"#REF!*0.5","v":{"$error":"#REF!"}},{"$f":"#REF!+#REF!+#REF!+#REF!+#REF!+#REF!+#REF!","v":{"$error":"#REF!"}},{"$f":"#REF!+#REF!+#REF!+#REF!+#REF!+#REF!+#REF!","v":{"$error":"#REF!"}},{"$f":"#REF!+#REF!+#REF!+#REF!+#REF!+#REF!+#REF!","v":{"$error":"#REF!"}},{"$f":"#REF!+#REF!+#REF!+#REF!+#REF!+#REF!+#REF!","v":{"$error":"#REF!"}},{"$f":"#REF!*0.5","v":{"$error":"#REF!"}},{"$f":"#REF!+#REF!+#REF!+#REF!+#REF!+#REF!+#REF!","v":{"$error":"#REF!"}},{"$f":"#REF!+#REF!+#REF!+#REF!+#REF!+#REF!+#REF!","v":{"$error":"#REF!"}},null,null,{"$error":"#REF!"},{"$error":"#REF!"},{"$error":"#REF!"},{"$error":"#REF!"}]
[46,"St. Helena",{"$f":"#REF!+#REF!+#REF!+#REF!+#REF!+#REF!+#REF!","v":{"$error":"#REF!"}},{"$f":"#REF!+#REF!+#REF!+#REF!+#REF!+#REF!+#REF!","v":{"$error":"#REF!"}},{"$f":"#REF!+#REF!+#REF!+#REF!+#REF!+#REF!+#REF!","v":{"$error":"#REF!"}},{"$f":"#REF!*0.5","v":{"$error":"#REF!"}},{"$f":"#REF!+#REF!+#REF!+#REF!+#REF!+#REF!+#REF!","v":{"$error":"#REF!"}},null,{"$f":"#REF!+#REF!+#REF!+#REF!+#REF!+#REF!+#REF!","v":{"$error":"#REF!"}},{"$f":"#REF!+#REF!+#REF!+#REF!+#REF!+#REF!+#REF!","v":{"$error":"#REF!"}},{"$f":"#REF!+#REF!+#REF!+#REF!+#REF!+#REF!+#REF!","v":{"$error":"#REF!"}},{"$f":"#REF!+#REF!+#REF!+#REF!+#REF!+#REF!+#REF!","v":{"$error":"#REF!"}},{"$f":"#REF!*0.5","v":{"$error":"#REF!"}},{"$f":"#REF!+#REF!+#REF!+#REF!+#REF!+#REF!+#REF!","v":{"$error":"#REF!"}},{"$f":"#REF!+#REF!+#REF!+#REF!+#REF!+#REF!+#REF!","v":{"$error":"#REF!"}},{"$f":"#REF!+#REF!+#REF!+#REF!+#REF!+#REF!+#REF!","v":{"$error":"#REF!"}},{"$f":"#REF!+#REF!+#REF!+#REF!+#REF!+#REF!+#REF!","v":{"$error":"#REF!"}},{"$f":"#REF!*0.5","v":{"$error":"#REF!"}},{"$f":"#REF!+#REF!+#REF!+#REF!+#REF!+#REF!+#REF!","v":{"$error":"#REF!"}},{"$f":"#REF!+#REF!+#REF!+#REF!+#REF!+#REF!+#REF!","v":{"$error":"#REF!"}},{"$f":"#REF!+#REF!+#REF!+#REF!+#REF!+#REF!+#REF!","v":{"$error":"#REF!"}},{"$f":"#REF!+#REF!+#REF!+#REF!+#REF!+#REF!+#REF!","v":{"$error":"#REF!"}},{"$f":"#REF!*0.5","v":{"$error":"#REF!"}},{"$f":"#REF!+#REF!+#REF!+#REF!+#REF!+#REF!+#REF!","v":{"$error":"#REF!"}},{"$f":"#REF!+#REF!+#REF!+#REF!+#REF!+#REF!+#REF!","v":{"$error":"#REF!"}},null,null,{"$error":"#REF!"},{"$error":"#REF!"},{"$error":"#REF!"},{"$error":"#REF!"}]
[47,"St. James",{"$f":"#REF!+#REF!+#REF!+#REF!+#REF!+#REF!+#REF!","v":{"$error":"#REF!"}},{"$f":"#REF!+#REF!+#REF!+#REF!+#REF!+#REF!+#REF!","v":{"$error":"#REF!"}},{"$f":"#REF!+#REF!+#REF!+#REF!+#REF!+#REF!+#REF!","v":{"$error":"#REF!"}},{"$f":"#REF!*0.5","v":{"$error":"#REF!"}},{"$f":"#REF!+#REF!+#REF!+#REF!+#REF!+#REF!+#REF!","v":{"$error":"#REF!"}},null,{"$f":"#REF!+#REF!+#REF!+#REF!+#REF!+#REF!+#REF!","v":{"$error":"#REF!"}},{"$f":"#REF!+#REF!+#REF!+#REF!+#REF!+#REF!+#REF!","v":{"$error":"#REF!"}},{"$f":"#REF!+#REF!+#REF!+#REF!+#REF!+#REF!+#REF!","v":{"$error":"#REF!"}},{"$f":"#REF!+#REF!+#REF!+#REF!+#REF!+#REF!+#REF!","v":{"$error":"#REF!"}},{"$f":"#REF!*0.5","v":{"$error":"#REF!"}},{"$f":"#REF!+#REF!+#REF!+#REF!+#REF!+#REF!+#REF!","v":{"$error":"#REF!"}},{"$f":"#REF!+#REF!+#REF!+#REF!+#REF!+#REF!+#REF!","v":{"$error":"#REF!"}},{"$f":"#REF!+#REF!+#REF!+#REF!+#REF!+#REF!+#REF!","v":{"$error":"#REF!"}},{"$f":"#REF!+#REF!+#REF!+#REF!+#REF!+#REF!+#REF!","v":{"$error":"#REF!"}},{"$f":"#REF!*0.5","v":{"$error":"#REF!"}},{"$f":"#REF!+#REF!+#REF!+#REF!+#REF!+#REF!+#REF!","v":{"$error":"#REF!"}},{"$f":"#REF!+#REF!+#REF!+#REF!+#REF!+#REF!+#REF!","v":{"$error":"#REF!"}},{"$f":"#REF!+#REF!+#REF!+#REF!+#REF!+#REF!+#REF!","v":{"$error":"#REF!"}},{"$f":"#REF!+#REF!+#REF!+#REF!+#REF!+#REF!+#REF!","v":{"$error":"#REF!"}},{"$f":"#REF!*0.5","v":{"$error":"#REF!"}},{"$f":"#REF!+#REF!+#REF!+#REF!+#REF!+#REF!+#REF!","v":{"$error":"#REF!"}},{"$f":"#REF!+#REF!+#REF!+#REF!+#REF!+#REF!+#REF!","v":{"$error":"#REF!"}},null,null,{"$error":"#REF!"},{"$error":"#REF!"},{"$error":"#REF!"},{"$error":"#REF!"}]
[48,"St. John the Baptist",{"$f":"#REF!+#REF!+#REF!+#REF!+#REF!+#REF!+#REF!","v":{"$error":"#REF!"}},{"$f":"#REF!+#REF!+#REF!+#REF!+#REF!+#REF!+#REF!","v":{"$error":"#REF!"}},{"$f":"#REF!+#REF!+#REF!+#REF!+#REF!+#REF!+#REF!","v":{"$error":"#REF!"}},{"$f":"#REF!*0.5","v":{"$error":"#REF!"}},{"$f":"#REF!+#REF!+#REF!+#REF!+#REF!+#REF!+#REF!","v":{"$error":"#REF!"}},null,{"$f":"#REF!+#REF!+#REF!+#REF!+#REF!+#REF!+#REF!","v":{"$error":"#REF!"}},{"$f":"#REF!+#REF!+#REF!+#REF!+#REF!+#REF!+#REF!","v":{"$error":"#REF!"}},{"$f":"#REF!+#REF!+#REF!+#REF!+#REF!+#REF!+#REF!","v":{"$error":"#REF!"}},{"$f":"#REF!+#REF!+#REF!+#REF!+#REF!+#REF!+#REF!","v":{"$error":"#REF!"}},{"$f":"#REF!*0.5","v":{"$error":"#REF!"}},{"$f":"#REF!+#REF!+#REF!+#REF!+#REF!+#REF!+#REF!","v":{"$error":"#REF!"}},{"$f":"#REF!+#REF!+#REF!+#REF!+#REF!+#REF!+#REF!","v":{"$error":"#REF!"}},{"$f":"#REF!+#REF!+#REF!+#REF!+#REF!+#REF!+#REF!","v":{"$error":"#REF!"}},{"$f":"#REF!+#REF!+#REF!+#REF!+#REF!+#REF!+#REF!","v":{"$error":"#REF!"}},{"$f":"#REF!*0.5","v":{"$error":"#REF!"}},{"$f":"#REF!+#REF!+#REF!+#REF!+#REF!+#REF!+#REF!","v":{"$error":"#REF!"}},{"$f":"#REF!+#REF!+#REF!+#REF!+#REF!+#REF!+#REF!","v":{"$error":"#REF!"}},{"$f":"#REF!+#REF!+#REF!+#REF!+#REF!+#REF!+#REF!","v":{"$error":"#REF!"}},{"$f":"#REF!+#REF!+#REF!+#REF!+#REF!+#REF!+#REF!","v":{"$error":"#REF!"}},{"$f":"#REF!*0.5","v":{"$error":"#REF!"}},{"$f":"#REF!+#REF!+#REF!+#REF!+#REF!+#REF!+#REF!","v":{"$error":"#REF!"}},{"$f":"#REF!+#REF!+#REF!+#REF!+#REF!+#REF!+#REF!","v":{"$error":"#REF!"}},null,null,{"$error":"#REF!"},{"$error":"#REF!"},{"$error":"#REF!"},{"$error":"#REF!"}]
[49,"St. Landry",{"$f":"#REF!+#REF!+#REF!+#REF!+#REF!+#REF!+#REF!","v":{"$error":"#REF!"}},{"$f":"#REF!+#REF!+#REF!+#REF!+#REF!+#REF!+#REF!","v":{"$error":"#REF!"}},{"$f":"#REF!+#REF!+#REF!+#REF!+#REF!+#REF!+#REF!","v":{"$error":"#REF!"}},{"$f":"#REF!*0.5","v":{"$error":"#REF!"}},{"$f":"#REF!+#REF!+#REF!+#REF!+#REF!+#REF!+#REF!","v":{"$error":"#REF!"}},null,{"$f":"#REF!+#REF!+#REF!+#REF!+#REF!+#REF!+#REF!","v":{"$error":"#REF!"}},{"$f":"#REF!+#REF!+#REF!+#REF!+#REF!+#REF!+#REF!","v":{"$error":"#REF!"}},{"$f":"#REF!+#REF!+#REF!+#REF!+#REF!+#REF!+#REF!","v":{"$error":"#REF!"}},{"$f":"#REF!+#REF!+#REF!+#REF!+#REF!+#REF!+#REF!","v":{"$error":"#REF!"}},{"$f":"#REF!*0.5","v":{"$error":"#REF!"}},{"$f":"#REF!+#REF!+#REF!+#REF!+#REF!+#REF!+#REF!","v":{"$error":"#REF!"}},{"$f":"#REF!+#REF!+#REF!+#REF!+#REF!+#REF!+#REF!","v":{"$error":"#REF!"}},{"$f":"#REF!+#REF!+#REF!+#REF!+#REF!+#REF!+#REF!","v":{"$error":"#REF!"}},{"$f":"#REF!+#REF!+#REF!+#REF!+#REF!+#REF!+#REF!","v":{"$error":"#REF!"}},{"$f":"#REF!*0.5","v":{"$error":"#REF!"}},{"$f":"#REF!+#REF!+#REF!+#REF!+#REF!+#REF!+#REF!","v":{"$error":"#REF!"}},{"$f":"#REF!+#REF!+#REF!+#REF!+#REF!+#REF!+#REF!","v":{"$error":"#REF!"}},{"$f":"#REF!+#REF!+#REF!+#REF!+#REF!+#REF!+#REF!","v":{"$error":"#REF!"}},{"$f":"#REF!+#REF!+#REF!+#REF!+#REF!+#REF!+#REF!","v":{"$error":"#REF!"}},{"$f":"#REF!*0.5","v":{"$error":"#REF!"}},{"$f":"#REF!+#REF!+#REF!+#REF!+#REF!+#REF!+#REF!","v":{"$error":"#REF!"}},{"$f":"#REF!+#REF!+#REF!+#REF!+#REF!+#REF!+#REF!","v":{"$error":"#REF!"}},null,null,{"$error":"#REF!"},{"$error":"#REF!"},{"$error":"#REF!"},{"$error":"#REF!"}]
[50,"St. Martin",{"$f":"#REF!+#REF!+#REF!+#REF!+#REF!+#REF!+#REF!","v":{"$error":"#REF!"}},{"$f":"#REF!+#REF!+#REF!+#REF!+#REF!+#REF!+#REF!","v":{"$error":"#REF!"}},{"$f":"#REF!+#REF!+#REF!+#REF!+#REF!+#REF!+#REF!","v":{"$error":"#REF!"}},{"$f":"#REF!*0.5","v":{"$error":"#REF!"}},{"$f":"#REF!+#REF!+#REF!+#REF!+#REF!+#REF!+#REF!","v":{"$error":"#REF!"}},null,{"$f":"#REF!+#REF!+#REF!+#REF!+#REF!+#REF!+#REF!","v":{"$error":"#REF!"}},{"$f":"#REF!+#REF!+#REF!+#REF!+#REF!+#REF!+#REF!","v":{"$error":"#REF!"}},{"$f":"#REF!+#REF!+#REF!+#REF!+#REF!+#REF!+#REF!","v":{"$error":"#REF!"}},{"$f":"#REF!+#REF!+#REF!+#REF!+#REF!+#REF!+#REF!","v":{"$error":"#REF!"}},{"$f":"#REF!*0.5","v":{"$error":"#REF!"}},{"$f":"#REF!+#REF!+#REF!+#REF!+#REF!+#REF!+#REF!","v":{"$error":"#REF!"}},{"$f":"#REF!+#REF!+#REF!+#REF!+#REF!+#REF!+#REF!","v":{"$error":"#REF!"}},{"$f":"#REF!+#REF!+#REF!+#REF!+#REF!+#REF!+#REF!","v":{"$error":"#REF!"}},{"$f":"#REF!+#REF!+#REF!+#REF!+#REF!+#REF!+#REF!","v":{"$error":"#REF!"}},{"$f":"#REF!*0.5","v":{"$error":"#REF!"}},{"$f":"#REF!+#REF!+#REF!+#REF!+#REF!+#REF!+#REF!","v":{"$error":"#REF!"}},{"$f":"#REF!+#REF!+#REF!+#REF!+#REF!+#REF!+#REF!","v":{"$error":"#REF!"}},{"$f":"#REF!+#REF!+#REF!+#REF!+#REF!+#REF!+#REF!","v":{"$error":"#REF!"}},{"$f":"#REF!+#REF!+#REF!+#REF!+#REF!+#REF!+#REF!","v":{"$error":"#REF!"}},{"$f":"#REF!*0.5","v":{"$error":"#REF!"}},{"$f":"#REF!+#REF!+#REF!+#REF!+#REF!+#REF!+#REF!","v":{"$error":"#REF!"}},{"$f":"#REF!+#REF!+#REF!+#REF!+#REF!+#REF!+#REF!","v":{"$error":"#REF!"}},null,null,{"$error":"#REF!"},{"$error":"#REF!"},{"$error":"#REF!"},{"$error":"#REF!"}]
[51,"St. Mary",{"$f":"#REF!+#REF!+#REF!+#REF!+#REF!+#REF!+#REF!","v":{"$error":"#REF!"}},{"$f":"#REF!+#REF!+#REF!+#REF!+#REF!+#REF!+#REF!","v":{"$error":"#REF!"}},{"$f":"#REF!+#REF!+#REF!+#REF!+#REF!+#REF!+#REF!","v":{"$error":"#REF!"}},{"$f":"#REF!*0.5","v":{"$error":"#REF!"}},{"$f":"#REF!+#REF!+#REF!+#REF!+#REF!+#REF!+#REF!","v":{"$error":"#REF!"}},null,{"$f":"#REF!+#REF!+#REF!+#REF!+#REF!+#REF!+#REF!","v":{"$error":"#REF!"}},{"$f":"#REF!+#REF!+#REF!+#REF!+#REF!+#REF!+#REF!","v":{"$error":"#REF!"}},{"$f":"#REF!+#REF!+#REF!+#REF!+#REF!+#REF!+#REF!","v":{"$error":"#REF!"}},{"$f":"#REF!+#REF!+#REF!+#REF!+#REF!+#REF!+#REF!","v":{"$error":"#REF!"}},{"$f":"#REF!*0.5","v":{"$error":"#REF!"}},{"$f":"#REF!+#REF!+#REF!+#REF!+#REF!+#REF!+#REF!","v":{"$error":"#REF!"}},{"$f":"#REF!+#REF!+#REF!+#REF!+#REF!+#REF!+#REF!","v":{"$error":"#REF!"}},{"$f":"#REF!+#REF!+#REF!+#REF!+#REF!+#REF!+#REF!","v":{"$error":"#REF!"}},{"$f":"#REF!+#REF!+#REF!+#REF!+#REF!+#REF!+#REF!","v":{"$error":"#REF!"}},{"$f":"#REF!*0.5","v":{"$error":"#REF!"}},{"$f":"#REF!+#REF!+#REF!+#REF!+#REF!+#REF!+#REF!","v":{"$error":"#REF!"}},{"$f":"#REF!+#REF!+#REF!+#REF!+#REF!+#REF!+#REF!","v":{"$error":"#REF!"}},{"$f":"#REF!+#REF!+#REF!+#REF!+#REF!+#REF!+#REF!","v":{"$error":"#REF!"}},{"$f":"#REF!+#REF!+#REF!+#REF!+#REF!+#REF!+#REF!","v":{"$error":"#REF!"}},{"$f":"#REF!*0.5","v":{"$error":"#REF!"}},{"$f":"#REF!+#REF!+#REF!+#REF!+#REF!+#REF!+#REF!","v":{"$error":"#REF!"}},{"$f":"#REF!+#REF!+#REF!+#REF!+#REF!+#REF!+#REF!","v":{"$error":"#REF!"}},null,null,{"$error":"#REF!"},{"$error":"#REF!"},{"$error":"#REF!"},{"$error":"#REF!"}]
[52,"St. Tammany",{"$f":"#REF!+#REF!+#REF!+#REF!+#REF!+#REF!+#REF!","v":{"$error":"#REF!"}},{"$f":"#REF!+#REF!+#REF!+#REF!+#REF!+#REF!+#REF!","v":{"$error":"#REF!"}},{"$f":"#REF!+#REF!+#REF!+#REF!+#REF!+#REF!+#REF!","v":{"$error":"#REF!"}},{"$f":"#REF!*0.5","v":{"$error":"#REF!"}},{"$f":"#REF!+#REF!+#REF!+#REF!+#REF!+#REF!+#REF!","v":{"$error":"#REF!"}},null,{"$f":"#REF!+#REF!+#REF!+#REF!+#REF!+#REF!+#REF!","v":{"$error":"#REF!"}},{"$f":"#REF!+#REF!+#REF!+#REF!+#REF!+#REF!+#REF!","v":{"$error":"#REF!"}},{"$f":"#REF!+#REF!+#REF!+#REF!+#REF!+#REF!+#REF!","v":{"$error":"#REF!"}},{"$f":"#REF!+#REF!+#REF!+#REF!+#REF!+#REF!+#REF!","v":{"$error":"#REF!"}},{"$f":"#REF!*0.5","v":{"$error":"#REF!"}},{"$f":"#REF!+#REF!+#REF!+#REF!+#REF!+#REF!+#REF!","v":{"$error":"#REF!"}},{"$f":"#REF!+#REF!+#REF!+#REF!+#REF!+#REF!+#REF!","v":{"$error":"#REF!"}},{"$f":"#REF!+#REF!+#REF!+#REF!+#REF!+#REF!+#REF!","v":{"$error":"#REF!"}},{"$f":"#REF!+#REF!+#REF!+#REF!+#REF!+#REF!+#REF!","v":{"$error":"#REF!"}},{"$f":"#REF!*0.5","v":{"$error":"#REF!"}},{"$f":"#REF!+#REF!+#REF!+#REF!+#REF!+#REF!+#REF!","v":{"$error":"#REF!"}},{"$f":"#REF!+#REF!+#REF!+#REF!+#REF!+#REF!+#REF!","v":{"$error":"#REF!"}},{"$f":"#REF!+#REF!+#REF!+#REF!+#REF!+#REF!+#REF!","v":{"$error":"#REF!"}},{"$f":"#REF!+#REF!+#REF!+#REF!+#REF!+#REF!+#REF!","v":{"$error":"#REF!"}},{"$f":"#REF!*0.5","v":{"$error":"#REF!"}},{"$f":"#REF!+#REF!+#REF!+#REF!+#REF!+#REF!+#REF!","v":{"$error":"#REF!"}},{"$f":"#REF!+#REF!+#REF!+#REF!+#REF!+#REF!+#REF!","v":{"$error":"#REF!"}},null,null,{"$error":"#REF!"},{"$error":"#REF!"},{"$error":"#REF!"},{"$error":"#REF!"}]
[53,"Tangipahoa",{"$f":"#REF!+#REF!+#REF!+#REF!+#REF!+#REF!+#REF!","v":{"$error":"#REF!"}},{"$f":"#REF!+#REF!+#REF!+#REF!+#REF!+#REF!+#REF!","v":{"$error":"#REF!"}},{"$f":"#REF!+#REF!+#REF!+#REF!+#REF!+#REF!+#REF!","v":{"$error":"#REF!"}},{"$f":"#REF!*0.5","v":{"$error":"#REF!"}},{"$f":"#REF!+#REF!+#REF!+#REF!+#REF!+#REF!+#REF!","v":{"$error":"#REF!"}},null,{"$f":"#REF!+#REF!+#REF!+#REF!+#REF!+#REF!+#REF!","v":{"$error":"#REF!"}},{"$f":"#REF!+#REF!+#REF!+#REF!+#REF!+#REF!+#REF!","v":{"$error":"#REF!"}},{"$f":"#REF!+#REF!+#REF!+#REF!+#REF!+#REF!+#REF!","v":{"$error":"#REF!"}},{"$f":"#REF!+#REF!+#REF!+#REF!+#REF!+#REF!+#REF!","v":{"$error":"#REF!"}},{"$f":"#REF!*0.5","v":{"$error":"#REF!"}},{"$f":"#REF!+#REF!+#REF!+#REF!+#REF!+#REF!+#REF!","v":{"$error":"#REF!"}},{"$f":"#REF!+#REF!+#REF!+#REF!+#REF!+#REF!+#REF!","v":{"$error":"#REF!"}},{"$f":"#REF!+#REF!+#REF!+#REF!+#REF!+#REF!+#REF!","v":{"$error":"#REF!"}},{"$f":"#REF!+#REF!+#REF!+#REF!+#REF!+#REF!+#REF!","v":{"$error":"#REF!"}},{"$f":"#REF!*0.5","v":{"$error":"#REF!"}},{"$f":"#REF!+#REF!+#REF!+#REF!+#REF!+#REF!+#REF!","v":{"$error":"#REF!"}},{"$f":"#REF!+#REF!+#REF!+#REF!+#REF!+#REF!+#REF!","v":{"$error":"#REF!"}},{"$f":"#REF!+#REF!+#REF!+#REF!+#REF!+#REF!+#REF!","v":{"$error":"#REF!"}},{"$f":"#REF!+#REF!+#REF!+#REF!+#REF!+#REF!+#REF!","v":{"$error":"#REF!"}},{"$f":"#REF!*0.5","v":{"$error":"#REF!"}},{"$f":"#REF!+#REF!+#REF!+#REF!+#REF!+#REF!+#REF!","v":{"$error":"#REF!"}},{"$f":"#REF!+#REF!+#REF!+#REF!+#REF!+#REF!+#REF!","v":{"$error":"#REF!"}},null,null,{"$error":"#REF!"},{"$error":"#REF!"},{"$error":"#REF!"},{"$error":"#REF!"}]
[54,"Tensas",{"$f":"#REF!+#REF!+#REF!+#REF!+#REF!+#REF!+#REF!","v":{"$error":"#REF!"}},{"$f":"#REF!+#REF!+#REF!+#REF!+#REF!+#REF!+#REF!","v":{"$error":"#REF!"}},{"$f":"#REF!+#REF!+#REF!+#REF!+#REF!+#REF!+#REF!","v":{"$error":"#REF!"}},{"$f":"#REF!*0.5","v":{"$error":"#REF!"}},{"$f":"#REF!+#REF!+#REF!+#REF!+#REF!+#REF!+#REF!","v":{"$error":"#REF!"}},null,{"$f":"#REF!+#REF!+#REF!+#REF!+#REF!+#REF!+#REF!","v":{"$error":"#REF!"}},{"$f":"#REF!+#REF!+#REF!+#REF!+#REF!+#REF!+#REF!","v":{"$error":"#REF!"}},{"$f":"#REF!+#REF!+#REF!+#REF!+#REF!+#REF!+#REF!","v":{"$error":"#REF!"}},{"$f":"#REF!+#REF!+#REF!+#REF!+#REF!+#REF!+#REF!","v":{"$error":"#REF!"}},{"$f":"#REF!*0.5","v":{"$error":"#REF!"}},{"$f":"#REF!+#REF!+#REF!+#REF!+#REF!+#REF!+#REF!","v":{"$error":"#REF!"}},{"$f":"#REF!+#REF!+#REF!+#REF!+#REF!+#REF!+#REF!","v":{"$error":"#REF!"}},{"$f":"#REF!+#REF!+#REF!+#REF!+#REF!+#REF!+#REF!","v":{"$error":"#REF!"}},{"$f":"#REF!+#REF!+#REF!+#REF!+#REF!+#REF!+#REF!","v":{"$error":"#REF!"}},{"$f":"#REF!*0.5","v":{"$error":"#REF!"}},{"$f":"#REF!+#REF!+#REF!+#REF!+#REF!+#REF!+#REF!","v":{"$error":"#REF!"}},{"$f":"#REF!+#REF!+#REF!+#REF!+#REF!+#REF!+#REF!","v":{"$error":"#REF!"}},{"$f":"#REF!+#REF!+#REF!+#REF!+#REF!+#REF!+#REF!","v":{"$error":"#REF!"}},{"$f":"#REF!+#REF!+#REF!+#REF!+#REF!+#REF!+#REF!","v":{"$error":"#REF!"}},{"$f":"#REF!*0.5","v":{"$error":"#REF!"}},{"$f":"#REF!+#REF!+#REF!+#REF!+#REF!+#REF!+#REF!","v":{"$error":"#REF!"}},{"$f":"#REF!+#REF!+#REF!+#REF!+#REF!+#REF!+#REF!","v":{"$error":"#REF!"}},null,null,{"$error":"#REF!"},{"$error":"#REF!"},{"$error":"#REF!"},{"$error":"#REF!"}]
[55,"Terrebonne",{"$f":"#REF!+#REF!+#REF!+#REF!+#REF!+#REF!+#REF!","v":{"$error":"#REF!"}},{"$f":"#REF!+#REF!+#REF!+#REF!+#REF!+#REF!+#REF!","v":{"$error":"#REF!"}},{"$f":"#REF!+#REF!+#REF!+#REF!+#REF!+#REF!+#REF!","v":{"$error":"#REF!"}},{"$f":"#REF!*0.5","v":{"$error":"#REF!"}},{"$f":"#REF!+#REF!+#REF!+#REF!+#REF!+#REF!+#REF!","v":{"$error":"#REF!"}},null,{"$f":"#REF!+#REF!+#REF!+#REF!+#REF!+#REF!+#REF!","v":{"$error":"#REF!"}},{"$f":"#REF!+#REF!+#REF!+#REF!+#REF!+#REF!+#REF!","v":{"$error":"#REF!"}},{"$f":"#REF!+#REF!+#REF!+#REF!+#REF!+#REF!+#REF!","v":{"$error":"#REF!"}},{"$f":"#REF!+#REF!+#REF!+#REF!+#REF!+#REF!+#REF!","v":{"$error":"#REF!"}},{"$f":"#REF!*0.5","v":{"$error":"#REF!"}},{"$f":"#REF!+#REF!+#REF!+#REF!+#REF!+#REF!+#REF!","v":{"$error":"#REF!"}},{"$f":"#REF!+#REF!+#REF!+#REF!+#REF!+#REF!+#REF!","v":{"$error":"#REF!"}},{"$f":"#REF!+#REF!+#REF!+#REF!+#REF!+#REF!+#REF!","v":{"$error":"#REF!"}},{"$f":"#REF!+#REF!+#REF!+#REF!+#REF!+#REF!+#REF!","v":{"$error":"#REF!"}},{"$f":"#REF!*0.5","v":{"$error":"#REF!"}},{"$f":"#REF!+#REF!+#REF!+#REF!+#REF!+#REF!+#REF!","v":{"$error":"#REF!"}},{"$f":"#REF!+#REF!+#REF!+#REF!+#REF!+#REF!+#REF!","v":{"$error":"#REF!"}},{"$f":"#REF!+#REF!+#REF!+#REF!+#REF!+#REF!+#REF!","v":{"$error":"#REF!"}},{"$f":"#REF!+#REF!+#REF!+#REF!+#REF!+#REF!+#REF!","v":{"$error":"#REF!"}},{"$f":"#REF!*0.5","v":{"$error":"#REF!"}},{"$f":"#REF!+#REF!+#REF!+#REF!+#REF!+#REF!+#REF!","v":{"$error":"#REF!"}},{"$f":"#REF!+#REF!+#REF!+#REF!+#REF!+#REF!+#REF!","v":{"$error":"#REF!"}},null,null,{"$error":"#REF!"},{"$error":"#REF!"},{"$error":"#REF!"},{"$error":"#REF!"}]
[56,"Union",{"$f":"#REF!+#REF!+#REF!+#REF!+#REF!+#REF!+#REF!","v":{"$error":"#REF!"}},{"$f":"#REF!+#REF!+#REF!+#REF!+#REF!+#REF!+#REF!","v":{"$error":"#REF!"}},{"$f":"#REF!+#REF!+#REF!+#REF!+#REF!+#REF!+#REF!","v":{"$error":"#REF!"}},{"$f":"#REF!*0.5","v":{"$error":"#REF!"}},{"$f":"#REF!+#REF!+#REF!+#REF!+#REF!+#REF!+#REF!","v":{"$error":"#REF!"}},null,{"$f":"#REF!+#REF!+#REF!+#REF!+#REF!+#REF!+#REF!","v":{"$error":"#REF!"}},{"$f":"#REF!+#REF!+#REF!+#REF!+#REF!+#REF!+#REF!","v":{"$error":"#REF!"}},{"$f":"#REF!+#REF!+#REF!+#REF!+#REF!+#REF!+#REF!","v":{"$error":"#REF!"}},{"$f":"#REF!+#REF!+#REF!+#REF!+#REF!+#REF!+#REF!","v":{"$error":"#REF!"}},{"$f":"#REF!*0.5","v":{"$error":"#REF!"}},{"$f":"#REF!+#REF!+#REF!+#REF!+#REF!+#REF!+#REF!","v":{"$error":"#REF!"}},{"$f":"#REF!+#REF!+#REF!+#REF!+#REF!+#REF!+#REF!","v":{"$error":"#REF!"}},{"$f":"#REF!+#REF!+#REF!+#REF!+#REF!+#REF!+#REF!","v":{"$error":"#REF!"}},{"$f":"#REF!+#REF!+#REF!+#REF!+#REF!+#REF!+#REF!","v":{"$error":"#REF!"}},{"$f":"#REF!*0.5","v":{"$error":"#REF!"}},{"$f":"#REF!+#REF!+#REF!+#REF!+#REF!+#REF!+#REF!","v":{"$error":"#REF!"}},{"$f":"#REF!+#REF!+#REF!+#REF!+#REF!+#REF!+#REF!","v":{"$error":"#REF!"}},{"$f":"#REF!+#REF!+#REF!+#REF!+#REF!+#REF!+#REF!","v":{"$error":"#REF!"}},{"$f":"#REF!+#REF!+#REF!+#REF!+#REF!+#REF!+#REF!","v":{"$error":"#REF!"}},{"$f":"#REF!*0.5","v":{"$error":"#REF!"}},{"$f":"#REF!+#REF!+#REF!+#REF!+#REF!+#REF!+#REF!","v":{"$error":"#REF!"}},{"$f":"#REF!+#REF!+#REF!+#REF!+#REF!+#REF!+#REF!","v":{"$error":"#REF!"}},null,null,{"$error":"#REF!"},{"$error":"#REF!"},{"$error":"#REF!"},{"$error":"#REF!"}]
[57,"Vermilion",{"$f":"#REF!+#REF!+#REF!+#REF!+#REF!+#REF!+#REF!","v":{"$error":"#REF!"}},{"$f":"#REF!+#REF!+#REF!+#REF!+#REF!+#REF!+#REF!","v":{"$error":"#REF!"}},{"$f":"#REF!+#REF!+#REF!+#REF!+#REF!+#REF!+#REF!","v":{"$error":"#REF!"}},{"$f":"#REF!*0.5","v":{"$error":"#REF!"}},{"$f":"#REF!+#REF!+#REF!+#REF!+#REF!+#REF!+#REF!","v":{"$error":"#REF!"}},null,{"$f":"#REF!+#REF!+#REF!+#REF!+#REF!+#REF!+#REF!","v":{"$error":"#REF!"}},{"$f":"#REF!+#REF!+#REF!+#REF!+#REF!+#REF!+#REF!","v":{"$error":"#REF!"}},{"$f":"#REF!+#REF!+#REF!+#REF!+#REF!+#REF!+#REF!","v":{"$error":"#REF!"}},{"$f":"#REF!+#REF!+#REF!+#REF!+#REF!+#REF!+#REF!","v":{"$error":"#REF!"}},{"$f":"#REF!*0.5","v":{"$error":"#REF!"}},{"$f":"#REF!+#REF!+#REF!+#REF!+#REF!+#REF!+#REF!","v":{"$error":"#REF!"}},{"$f":"#REF!+#REF!+#REF!+#REF!+#REF!+#REF!+#REF!","v":{"$error":"#REF!"}},{"$f":"#REF!+#REF!+#REF!+#REF!+#REF!+#REF!+#REF!","v":{"$error":"#REF!"}},{"$f":"#REF!+#REF!+#REF!+#REF!+#REF!+#REF!+#REF!","v":{"$error":"#REF!"}},{"$f":"#REF!*0.5","v":{"$error":"#REF!"}},{"$f":"#REF!+#REF!+#REF!+#REF!+#REF!+#REF!+#REF!","v":{"$error":"#REF!"}},{"$f":"#REF!+#REF!+#REF!+#REF!+#REF!+#REF!+#REF!","v":{"$error":"#REF!"}},{"$f":"#REF!+#REF!+#REF!+#REF!+#REF!+#REF!+#REF!","v":{"$error":"#REF!"}},{"$f":"#REF!+#REF!+#REF!+#REF!+#REF!+#REF!+#REF!","v":{"$error":"#REF!"}},{"$f":"#REF!*0.5","v":{"$error":"#REF!"}},{"$f":"#REF!+#REF!+#REF!+#REF!+#REF!+#REF!+#REF!","v":{"$error":"#REF!"}},{"$f":"#REF!+#REF!+#REF!+#REF!+#REF!+#REF!+#REF!","v":{"$error":"#REF!"}},null,null,{"$error":"#REF!"},{"$error":"#REF!"},{"$error":"#REF!"},{"$error":"#REF!"}]
[58,"Vernon",{"$f":"#REF!+#REF!+#REF!+#REF!+#REF!+#REF!+#REF!","v":{"$error":"#REF!"}},{"$f":"#REF!+#REF!+#REF!+#REF!+#REF!+#REF!+#REF!","v":{"$error":"#REF!"}},{"$f":"#REF!+#REF!+#REF!+#REF!+#REF!+#REF!+#REF!","v":{"$error":"#REF!"}},{"$f":"#REF!*0.5","v":{"$error":"#REF!"}},{"$f":"#REF!+#REF!+#REF!+#REF!+#REF!+#REF!+#REF!","v":{"$error":"#REF!"}},null,{"$f":"#REF!+#REF!+#REF!+#REF!+#REF!+#REF!+#REF!","v":{"$error":"#REF!"}},{"$f":"#REF!+#REF!+#REF!+#REF!+#REF!+#REF!+#REF!","v":{"$error":"#REF!"}},{"$f":"#REF!+#REF!+#REF!+#REF!+#REF!+#REF!+#REF!","v":{"$error":"#REF!"}},{"$f":"#REF!+#REF!+#REF!+#REF!+#REF!+#REF!+#REF!","v":{"$error":"#REF!"}},{"$f":"#REF!*0.5","v":{"$error":"#REF!"}},{"$f":"#REF!+#REF!+#REF!+#REF!+#REF!+#REF!+#REF!","v":{"$error":"#REF!"}},{"$f":"#REF!+#REF!+#REF!+#REF!+#REF!+#REF!+#REF!","v":{"$error":"#REF!"}},{"$f":"#REF!+#REF!+#REF!+#REF!+#REF!+#REF!+#REF!","v":{"$error":"#REF!"}},{"$f":"#REF!+#REF!+#REF!+#REF!+#REF!+#REF!+#REF!","v":{"$error":"#REF!"}},{"$f":"#REF!*0.5","v":{"$error":"#REF!"}},{"$f":"#REF!+#REF!+#REF!+#REF!+#REF!+#REF!+#REF!","v":{"$error":"#REF!"}},{"$f":"#REF!+#REF!+#REF!+#REF!+#REF!+#REF!+#REF!","v":{"$error":"#REF!"}},{"$f":"#REF!+#REF!+#REF!+#REF!+#REF!+#REF!+#REF!","v":{"$error":"#REF!"}},{"$f":"#REF!+#REF!+#REF!+#REF!+#REF!+#REF!+#REF!","v":{"$error":"#REF!"}},{"$f":"#REF!*0.5","v":{"$error":"#REF!"}},{"$f":"#REF!+#REF!+#REF!+#REF!+#REF!+#REF!+#REF!","v":{"$error":"#REF!"}},{"$f":"#REF!+#REF!+#REF!+#REF!+#REF!+#REF!+#REF!","v":{"$error":"#REF!"}},null,null,{"$error":"#REF!"},{"$error":"#REF!"},{"$error":"#REF!"},{"$error":"#REF!"}]
[59,"Washington",{"$f":"#REF!+#REF!+#REF!+#REF!+#REF!+#REF!+#REF!","v":{"$error":"#REF!"}},{"$f":"#REF!+#REF!+#REF!+#REF!+#REF!+#REF!+#REF!","v":{"$error":"#REF!"}},{"$f":"#REF!+#REF!+#REF!+#REF!+#REF!+#REF!+#REF!","v":{"$error":"#REF!"}},{"$f":"#REF!*0.5","v":{"$error":"#REF!"}},{"$f":"#REF!+#REF!+#REF!+#REF!+#REF!+#REF!+#REF!","v":{"$error":"#REF!"}},null,{"$f":"#REF!+#REF!+#REF!+#REF!+#REF!+#REF!+#REF!","v":{"$error":"#REF!"}},{"$f":"#REF!+#REF!+#REF!+#REF!+#REF!+#REF!+#REF!","v":{"$error":"#REF!"}},{"$f":"#REF!+#REF!+#REF!+#REF!+#REF!+#REF!+#REF!","v":{"$error":"#REF!"}},{"$f":"#REF!+#REF!+#REF!+#REF!+#REF!+#REF!+#REF!","v":{"$error":"#REF!"}},{"$f":"#REF!*0.5","v":{"$error":"#REF!"}},{"$f":"#REF!+#REF!+#REF!+#REF!+#REF!+#REF!+#REF!","v":{"$error":"#REF!"}},{"$f":"#REF!+#REF!+#REF!+#REF!+#REF!+#REF!+#REF!","v":{"$error":"#REF!"}},{"$f":"#REF!+#REF!+#REF!+#REF!+#REF!+#REF!+#REF!","v":{"$error":"#REF!"}},{"$f":"#REF!+#REF!+#REF!+#REF!+#REF!+#REF!+#REF!","v":{"$error":"#REF!"}},{"$f":"#REF!*0.5","v":{"$error":"#REF!"}},{"$f":"#REF!+#REF!+#REF!+#REF!+#REF!+#REF!+#REF!","v":{"$error":"#REF!"}},{"$f":"#REF!+#REF!+#REF!+#REF!+#REF!+#REF!+#REF!","v":{"$error":"#REF!"}},{"$f":"#REF!+#REF!+#REF!+#REF!+#REF!+#REF!+#REF!","v":{"$error":"#REF!"}},{"$f":"#REF!+#REF!+#REF!+#REF!+#REF!+#REF!+#REF!","v":{"$error":"#REF!"}},{"$f":"#REF!*0.5","v":{"$error":"#REF!"}},{"$f":"#REF!+#REF!+#REF!+#REF!+#REF!+#REF!+#REF!","v":{"$error":"#REF!"}},{"$f":"#REF!+#REF!+#REF!+#REF!+#REF!+#REF!+#REF!","v":{"$error":"#REF!"}},null,null,{"$error":"#REF!"},{"$error":"#REF!"},{"$error":"#REF!"},{"$error":"#REF!"}]
[60,"Webster",{"$f":"#REF!+#REF!+#REF!+#REF!+#REF!+#REF!+#REF!","v":{"$error":"#REF!"}},{"$f":"#REF!+#REF!+#REF!+#REF!+#REF!+#REF!+#REF!","v":{"$error":"#REF!"}},{"$f":"#REF!+#REF!+#REF!+#REF!+#REF!+#REF!+#REF!","v":{"$error":"#REF!"}},{"$f":"#REF!*0.5","v":{"$error":"#REF!"}},{"$f":"#REF!+#REF!+#REF!+#REF!+#REF!+#REF!+#REF!","v":{"$error":"#REF!"}},null,{"$f":"#REF!+#REF!+#REF!+#REF!+#REF!+#REF!+#REF!","v":{"$error":"#REF!"}},{"$f":"#REF!+#REF!+#REF!+#REF!+#REF!+#REF!+#REF!","v":{"$error":"#REF!"}},{"$f":"#REF!+#REF!+#REF!+#REF!+#REF!+#REF!+#REF!","v":{"$error":"#REF!"}},{"$f":"#REF!+#REF!+#REF!+#REF!+#REF!+#REF!+#REF!","v":{"$error":"#REF!"}},{"$f":"#REF!*0.5","v":{"$error":"#REF!"}},{"$f":"#REF!+#REF!+#REF!+#REF!+#REF!+#REF!+#REF!","v":{"$error":"#REF!"}},{"$f":"#REF!+#REF!+#REF!+#REF!+#REF!+#REF!+#REF!","v":{"$error":"#REF!"}},{"$f":"#REF!+#REF!+#REF!+#REF!+#REF!+#REF!+#REF!","v":{"$error":"#REF!"}},{"$f":"#REF!+#REF!+#REF!+#REF!+#REF!+#REF!+#REF!","v":{"$error":"#REF!"}},{"$f":"#REF!*0.5","v":{"$error":"#REF!"}},{"$f":"#REF!+#REF!+#REF!+#REF!+#REF!+#REF!+#REF!","v":{"$error":"#REF!"}},{"$f":"#REF!+#REF!+#REF!+#REF!+#REF!+#REF!+#REF!","v":{"$error":"#REF!"}},{"$f":"#REF!+#REF!+#REF!+#REF!+#REF!+#REF!+#REF!","v":{"$error":"#REF!"}},{"$f":"#REF!+#REF!+#REF!+#REF!+#REF!+#REF!+#REF!","v":{"$error":"#REF!"}},{"$f":"#REF!*0.5","v":{"$error":"#REF!"}},{"$f":"#REF!+#REF!+#REF!+#REF!+#REF!+#REF!+#REF!","v":{"$error":"#REF!"}},{"$f":"#REF!+#REF!+#REF!+#REF!+#REF!+#REF!+#REF!","v":{"$error":"#REF!"}},null,null,{"$error":"#REF!"},{"$error":"#REF!"},{"$error":"#REF!"},{"$error":"#REF!"}]
[61,"West Baton Rouge",{"$f":"#REF!+#REF!+#REF!+#REF!+#REF!+#REF!+#REF!","v":{"$error":"#REF!"}},{"$f":"#REF!+#REF!+#REF!+#REF!+#REF!+#REF!+#REF!","v":{"$error":"#REF!"}},{"$f":"#REF!+#REF!+#REF!+#REF!+#REF!+#REF!+#REF!","v":{"$error":"#REF!"}},{"$f":"#REF!*0.5","v":{"$error":"#REF!"}},{"$f":"#REF!+#REF!+#REF!+#REF!+#REF!+#REF!+#REF!","v":{"$error":"#REF!"}},null,{"$f":"#REF!+#REF!+#REF!+#REF!+#REF!+#REF!+#REF!","v":{"$error":"#REF!"}},{"$f":"#REF!+#REF!+#REF!+#REF!+#REF!+#REF!+#REF!","v":{"$error":"#REF!"}},{"$f":"#REF!+#REF!+#REF!+#REF!+#REF!+#REF!+#REF!","v":{"$error":"#REF!"}},{"$f":"#REF!+#REF!+#REF!+#REF!+#REF!+#REF!+#REF!","v":{"$error":"#REF!"}},{"$f":"#REF!*0.5","v":{"$error":"#REF!"}},{"$f":"#REF!+#REF!+#REF!+#REF!+#REF!+#REF!+#REF!","v":{"$error":"#REF!"}},{"$f":"#REF!+#REF!+#REF!+#REF!+#REF!+#REF!+#REF!","v":{"$error":"#REF!"}},{"$f":"#REF!+#REF!+#REF!+#REF!+#REF!+#REF!+#REF!","v":{"$error":"#REF!"}},{"$f":"#REF!+#REF!+#REF!+#REF!+#REF!+#REF!+#REF!","v":{"$error":"#REF!"}},{"$f":"#REF!*0.5","v":{"$error":"#REF!"}},{"$f":"#REF!+#REF!+#REF!+#REF!+#REF!+#REF!+#REF!","v":{"$error":"#REF!"}},{"$f":"#REF!+#REF!+#REF!+#REF!+#REF!+#REF!+#REF!","v":{"$error":"#REF!"}},{"$f":"#REF!+#REF!+#REF!+#REF!+#REF!+#REF!+#REF!","v":{"$error":"#REF!"}},{"$f":"#REF!+#REF!+#REF!+#REF!+#REF!+#REF!+#REF!","v":{"$error":"#REF!"}},{"$f":"#REF!*0.5","v":{"$error":"#REF!"}},{"$f":"#REF!+#REF!+#REF!+#REF!+#REF!+#REF!+#REF!","v":{"$error":"#REF!"}},{"$f":"#REF!+#REF!+#REF!+#REF!+#REF!+#REF!+#REF!","v":{"$error":"#REF!"}},null,null,{"$error":"#REF!"},{"$error":"#REF!"},{"$error":"#REF!"},{"$error":"#REF!"}]
[62,"West Carroll",{"$f":"#REF!+#REF!+#REF!+#REF!+#REF!+#REF!+#REF!","v":{"$error":"#REF!"}},{"$f":"#REF!+#REF!+#REF!+#REF!+#REF!+#REF!+#REF!","v":{"$error":"#REF!"}},{"$f":"#REF!+#REF!+#REF!+#REF!+#REF!+#REF!+#REF!","v":{"$error":"#REF!"}},{"$f":"#REF!*0.5","v":{"$error":"#REF!"}},{"$f":"#REF!+#REF!+#REF!+#REF!+#REF!+#REF!+#REF!","v":{"$error":"#REF!"}},null,{"$f":"#REF!+#REF!+#REF!+#REF!+#REF!+#REF!+#REF!","v":{"$error":"#REF!"}},{"$f":"#REF!+#REF!+#REF!+#REF!+#REF!+#REF!+#REF!","v":{"$error":"#REF!"}},{"$f":"#REF!+#REF!+#REF!+#REF!+#REF!+#REF!+#REF!","v":{"$error":"#REF!"}},{"$f":"#REF!+#REF!+#REF!+#REF!+#REF!+#REF!+#REF!","v":{"$error":"#REF!"}},{"$f":"#REF!*0.5","v":{"$error":"#REF!"}},{"$f":"#REF!+#REF!+#REF!+#REF!+#REF!+#REF!+#REF!","v":{"$error":"#REF!"}},{"$f":"#REF!+#REF!+#REF!+#REF!+#REF!+#REF!+#REF!","v":{"$error":"#REF!"}},{"$f":"#REF!+#REF!+#REF!+#REF!+#REF!+#REF!+#REF!","v":{"$error":"#REF!"}},{"$f":"#REF!+#REF!+#REF!+#REF!+#REF!+#REF!+#REF!","v":{"$error":"#REF!"}},{"$f":"#REF!*0.5","v":{"$error":"#REF!"}},{"$f":"#REF!+#REF!+#REF!+#REF!+#REF!+#REF!+#REF!","v":{"$error":"#REF!"}},{"$f":"#REF!+#REF!+#REF!+#REF!+#REF!+#REF!+#REF!","v":{"$error":"#REF!"}},{"$f":"#REF!+#REF!+#REF!+#REF!+#REF!+#REF!+#REF!","v":{"$error":"#REF!"}},{"$f":"#REF!+#REF!+#REF!+#REF!+#REF!+#REF!+#REF!","v":{"$error":"#REF!"}},{"$f":"#REF!*0.5","v":{"$error":"#REF!"}},{"$f":"#REF!+#REF!+#REF!+#REF!+#REF!+#REF!+#REF!","v":{"$error":"#REF!"}},{"$f":"#REF!+#REF!+#REF!+#REF!+#REF!+#REF!+#REF!","v":{"$error":"#REF!"}},null,null,{"$error":"#REF!"},{"$error":"#REF!"},{"$error":"#REF!"},{"$error":"#REF!"}]
[63,"West Feliciana",{"$f":"#REF!+#REF!+#REF!+#REF!+#REF!+#REF!+#REF!","v":{"$error":"#REF!"}},{"$f":"#REF!+#REF!+#REF!+#REF!+#REF!+#REF!+#REF!","v":{"$error":"#REF!"}},{"$f":"#REF!+#REF!+#REF!+#REF!+#REF!+#REF!+#REF!","v":{"$error":"#REF!"}},{"$f":"#REF!*0.5","v":{"$error":"#REF!"}},{"$f":"#REF!+#REF!+#REF!+#REF!+#REF!+#REF!+#REF!","v":{"$error":"#REF!"}},null,{"$f":"#REF!+#REF!+#REF!+#REF!+#REF!+#REF!+#REF!","v":{"$error":"#REF!"}},{"$f":"#REF!+#REF!+#REF!+#REF!+#REF!+#REF!+#REF!","v":{"$error":"#REF!"}},{"$f":"#REF!+#REF!+#REF!+#REF!+#REF!+#REF!+#REF!","v":{"$error":"#REF!"}},{"$f":"#REF!+#REF!+#REF!+#REF!+#REF!+#REF!+#REF!","v":{"$error":"#REF!"}},{"$f":"#REF!*0.5","v":{"$error":"#REF!"}},{"$f":"#REF!+#REF!+#REF!+#REF!+#REF!+#REF!+#REF!","v":{"$error":"#REF!"}},{"$f":"#REF!+#REF!+#REF!+#REF!+#REF!+#REF!+#REF!","v":{"$error":"#REF!"}},{"$f":"#REF!+#REF!+#REF!+#REF!+#REF!+#REF!+#REF!","v":{"$error":"#REF!"}},{"$f":"#REF!+#REF!+#REF!+#REF!+#REF!+#REF!+#REF!","v":{"$error":"#REF!"}},{"$f":"#REF!*0.5","v":{"$error":"#REF!"}},{"$f":"#REF!+#REF!+#REF!+#REF!+#REF!+#REF!+#REF!","v":{"$error":"#REF!"}},{"$f":"#REF!+#REF!+#REF!+#REF!+#REF!+#REF!+#REF!","v":{"$error":"#REF!"}},{"$f":"#REF!+#REF!+#REF!+#REF!+#REF!+#REF!+#REF!","v":{"$error":"#REF!"}},{"$f":"#REF!+#REF!+#REF!+#REF!+#REF!+#REF!+#REF!","v":{"$error":"#REF!"}},{"$f":"#REF!*0.5","v":{"$error":"#REF!"}},{"$f":"#REF!+#REF!+#REF!+#REF!+#REF!+#REF!+#REF!","v":{"$error":"#REF!"}},{"$f":"#REF!+#REF!+#REF!+#REF!+#REF!+#REF!+#REF!","v":{"$error":"#REF!"}},null,null,{"$error":"#REF!"},{"$error":"#REF!"},{"$error":"#REF!"},{"$error":"#REF!"}]
[64,"Winn",{"$f":"#REF!+#REF!+#REF!+#REF!+#REF!+#REF!+#REF!","v":{"$error":"#REF!"}},{"$f":"#REF!+#REF!+#REF!+#REF!+#REF!+#REF!+#REF!","v":{"$error":"#REF!"}},{"$f":"#REF!+#REF!+#REF!+#REF!+#REF!+#REF!+#REF!","v":{"$error":"#REF!"}},{"$f":"#REF!*0.5","v":{"$error":"#REF!"}},{"$f":"#REF!+#REF!+#REF!+#REF!+#REF!+#REF!+#REF!","v":{"$error":"#REF!"}},null,{"$f":"#REF!+#REF!+#REF!+#REF!+#REF!+#REF!+#REF!","v":{"$error":"#REF!"}},{"$f":"#REF!+#REF!+#REF!+#REF!+#REF!+#REF!+#REF!","v":{"$error":"#REF!"}},{"$f":"#REF!+#REF!+#REF!+#REF!+#REF!+#REF!+#REF!","v":{"$error":"#REF!"}},{"$f":"#REF!+#REF!+#REF!+#REF!+#REF!+#REF!+#REF!","v":{"$error":"#REF!"}},{"$f":"#REF!*0.5","v":{"$error":"#REF!"}},{"$f":"#REF!+#REF!+#REF!+#REF!+#REF!+#REF!+#REF!","v":{"$error":"#REF!"}},{"$f":"#REF!+#REF!+#REF!+#REF!+#REF!+#REF!+#REF!","v":{"$error":"#REF!"}},{"$f":"#REF!+#REF!+#REF!+#REF!+#REF!+#REF!+#REF!","v":{"$error":"#REF!"}},{"$f":"#REF!+#REF!+#REF!+#REF!+#REF!+#REF!+#REF!","v":{"$error":"#REF!"}},{"$f":"#REF!*0.5","v":{"$error":"#REF!"}},{"$f":"#REF!+#REF!+#REF!+#REF!+#REF!+#REF!+#REF!","v":{"$error":"#REF!"}},{"$f":"#REF!+#REF!+#REF!+#REF!+#REF!+#REF!+#REF!","v":{"$error":"#REF!"}},{"$f":"#REF!+#REF!+#REF!+#REF!+#REF!+#REF!+#REF!","v":{"$error":"#REF!"}},{"$f":"#REF!+#REF!+#REF!+#REF!+#REF!+#REF!+#REF!","v":{"$error":"#REF!"}},{"$f":"#REF!*0.5","v":{"$error":"#REF!"}},{"$f":"#REF!+#REF!+#REF!+#REF!+#REF!+#REF!+#REF!","v":{"$error":"#REF!"}},{"$f":"#REF!+#REF!+#REF!+#REF!+#REF!+#REF!+#REF!","v":{"$error":"#REF!"}},null,null,{"$error":"#REF!"},{"$error":"#REF!"},{"$error":"#REF!"},{"$error":"#REF!"}]
[65,"City of Monroe",{"$f":"#REF!+#REF!+#REF!+#REF!+#REF!+#REF!+#REF!","v":{"$error":"#REF!"}},{"$f":"#REF!+#REF!+#REF!+#REF!+#REF!+#REF!+#REF!","v":{"$error":"#REF!"}},{"$f":"#REF!+#REF!+#REF!+#REF!+#REF!+#REF!+#REF!","v":{"$error":"#REF!"}},{"$f":"#REF!*0.5","v":{"$error":"#REF!"}},{"$f":"#REF!+#REF!+#REF!+#REF!+#REF!+#REF!+#REF!","v":{"$error":"#REF!"}},null,{"$f":"#REF!+#REF!+#REF!+#REF!+#REF!+#REF!+#REF!","v":{"$error":"#REF!"}},{"$f":"#REF!+#REF!+#REF!+#REF!+#REF!+#REF!+#REF!","v":{"$error":"#REF!"}},{"$f":"#REF!+#REF!+#REF!+#REF!+#REF!+#REF!+#REF!","v":{"$error":"#REF!"}},{"$f":"#REF!+#REF!+#REF!+#REF!+#REF!+#REF!+#REF!","v":{"$error":"#REF!"}},{"$f":"#REF!*0.5","v":{"$error":"#REF!"}},{"$f":"#REF!+#REF!+#REF!+#REF!+#REF!+#REF!+#REF!","v":{"$error":"#REF!"}},{"$f":"#REF!+#REF!+#REF!+#REF!+#REF!+#REF!+#REF!","v":{"$error":"#REF!"}},{"$f":"#REF!+#REF!+#REF!+#REF!+#REF!+#REF!+#REF!","v":{"$error":"#REF!"}},{"$f":"#REF!+#REF!+#REF!+#REF!+#REF!+#REF!+#REF!","v":{"$error":"#REF!"}},{"$f":"#REF!*0.5","v":{"$error":"#REF!"}},{"$f":"#REF!+#REF!+#REF!+#REF!+#REF!+#REF!+#REF!","v":{"$error":"#REF!"}},{"$f":"#REF!+#REF!+#REF!+#REF!+#REF!+#REF!+#REF!","v":{"$error":"#REF!"}},{"$f":"#REF!+#REF!+#REF!+#REF!+#REF!+#REF!+#REF!","v":{"$error":"#REF!"}},{"$f":"#REF!+#REF!+#REF!+#REF!+#REF!+#REF!+#REF!","v":{"$error":"#REF!"}},{"$f":"#REF!*0.5","v":{"$error":"#REF!"}},{"$f":"#REF!+#REF!+#REF!+#REF!+#REF!+#REF!+#REF!","v":{"$error":"#REF!"}},{"$f":"#REF!+#REF!+#REF!+#REF!+#REF!+#REF!+#REF!","v":{"$error":"#REF!"}},null,null,{"$error":"#REF!"},{"$error":"#REF!"},{"$error":"#REF!"},{"$error":"#REF!"}]
[66,"City of Bogalusa",{"$f":"#REF!+#REF!+#REF!+#REF!+#REF!+#REF!+#REF!","v":{"$error":"#REF!"}},{"$f":"#REF!+#REF!+#REF!+#REF!+#REF!+#REF!+#REF!","v":{"$error":"#REF!"}},{"$f":"#REF!+#REF!+#REF!+#REF!+#REF!+#REF!+#REF!","v":{"$error":"#REF!"}},{"$f":"#REF!*0.5","v":{"$error":"#REF!"}},{"$f":"#REF!+#REF!+#REF!+#REF!+#REF!+#REF!+#REF!","v":{"$error":"#REF!"}},null,{"$f":"#REF!+#REF!+#REF!+#REF!+#REF!+#REF!+#REF!","v":{"$error":"#REF!"}},{"$f":"#REF!+#REF!+#REF!+#REF!+#REF!+#REF!+#REF!","v":{"$error":"#REF!"}},{"$f":"#REF!+#REF!+#REF!+#REF!+#REF!+#REF!+#REF!","v":{"$error":"#REF!"}},{"$f":"#REF!+#REF!+#REF!+#REF!+#REF!+#REF!+#REF!","v":{"$error":"#REF!"}},{"$f":"#REF!*0.5","v":{"$error":"#REF!"}},{"$f":"#REF!+#REF!+#REF!+#REF!+#REF!+#REF!+#REF!","v":{"$error":"#REF!"}},{"$f":"#REF!+#REF!+#REF!+#REF!+#REF!+#REF!+#REF!","v":{"$error":"#REF!"}},{"$f":"#REF!+#REF!+#REF!+#REF!+#REF!+#REF!+#REF!","v":{"$error":"#REF!"}},{"$f":"#REF!+#REF!+#REF!+#REF!+#REF!+#REF!+#REF!","v":{"$error":"#REF!"}},{"$f":"#REF!*0.5","v":{"$error":"#REF!"}},{"$f":"#REF!+#REF!+#REF!+#REF!+#REF!+#REF!+#REF!","v":{"$error":"#REF!"}},{"$f":"#REF!+#REF!+#REF!+#REF!+#REF!+#REF!+#REF!","v":{"$error":"#REF!"}},{"$f":"#REF!+#REF!+#REF!+#REF!+#REF!+#REF!+#REF!","v":{"$error":"#REF!"}},{"$f":"#REF!+#REF!+#REF!+#REF!+#REF!+#REF!+#REF!","v":{"$error":"#REF!"}},{"$f":"#REF!*0.5","v":{"$error":"#REF!"}},{"$f":"#REF!+#REF!+#REF!+#REF!+#REF!+#REF!+#REF!","v":{"$error":"#REF!"}},{"$f":"#REF!+#REF!+#REF!+#REF!+#REF!+#REF!+#REF!","v":{"$error":"#REF!"}},null,null,{"$f":"E72=(D72-C72)","v":{"$error":"#REF!"}},{"$f":"L72=(K72-J72)","v":{"$error":"#REF!"}},{"$f":"Q72=(P72-O72)","v":{"$error":"#REF!"}},{"$f":"V72=(U72-T72)","v":{"$error":"#REF!"}}]
[67,"Zachary Community",{"$f":"#REF!+#REF!+#REF!+#REF!+#REF!+#REF!+#REF!","v":{"$error":"#REF!"}},{"$f":"#REF!+#REF!+#REF!+#REF!+#REF!+#REF!+#REF!","v":{"$error":"#REF!"}},{"$f":"#REF!+#REF!+#REF!+#REF!+#REF!+#REF!+#REF!","v":{"$error":"#REF!"}},{"$f":"#REF!*0.5","v":{"$error":"#REF!"}},{"$f":"#REF!+#REF!+#REF!+#REF!+#REF!+#REF!+#REF!","v":{"$error":"#REF!"}},null,{"$f":"#REF!+#REF!+#REF!+#REF!+#REF!+#REF!+#REF!","v":{"$error":"#REF!"}},{"$f":"#REF!+#REF!+#REF!+#REF!+#REF!+#REF!+#REF!","v":{"$error":"#REF!"}},{"$f":"#REF!+#REF!+#REF!+#REF!+#REF!+#REF!+#REF!","v":{"$error":"#REF!"}},{"$f":"#REF!+#REF!+#REF!+#REF!+#REF!+#REF!+#REF!","v":{"$error":"#REF!"}},{"$f":"#REF!*0.5","v":{"$error":"#REF!"}},{"$f":"#REF!+#REF!+#REF!+#REF!+#REF!+#REF!+#REF!","v":{"$error":"#REF!"}},{"$f":"#REF!+#REF!+#REF!+#REF!+#REF!+#REF!+#REF!","v":{"$error":"#REF!"}},{"$f":"#REF!+#REF!+#REF!+#REF!+#REF!+#REF!+#REF!","v":{"$error":"#REF!"}},{"$f":"#REF!+#REF!+#REF!+#REF!+#REF!+#REF!+#REF!","v":{"$error":"#REF!"}},{"$f":"#REF!*0.5","v":{"$error":"#REF!"}},{"$f":"#REF!+#REF!+#REF!+#REF!+#REF!+#REF!+#REF!","v":{"$error":"#REF!"}},{"$f":"#REF!+#REF!+#REF!+#REF!+#REF!+#REF!+#REF!","v":{"$error":"#REF!"}},{"$f":"#REF!+#REF!+#REF!+#REF!+#REF!+#REF!+#REF!","v":{"$error":"#REF!"}},{"$f":"#REF!+#REF!+#REF!+#REF!+#REF!+#REF!+#REF!","v":{"$error":"#REF!"}},{"$f":"#REF!*0.5","v":{"$error":"#REF!"}},{"$f":"#REF!+#REF!+#REF!+#REF!+#REF!+#REF!+#REF!","v":{"$error":"#REF!"}},{"$f":"#REF!+#REF!+#REF!+#REF!+#REF!+#REF!+#REF!","v":{"$error":"#REF!"}},null,null,{"$error":"#REF!"},{"$error":"#REF!"},{"$error":"#REF!"},{"$error":"#REF!"}]
[68,"City of Baker",{"$f":"#REF!+#REF!+#REF!+#REF!+#REF!+#REF!+#REF!","v":{"$error":"#REF!"}},{"$f":"#REF!+#REF!+#REF!+#REF!+#REF!+#REF!+#REF!","v":{"$error":"#REF!"}},{"$f":"#REF!+#REF!+#REF!+#REF!+#REF!+#REF!+#REF!","v":{"$error":"#REF!"}},{"$f":"#REF!*0.5","v":{"$error":"#REF!"}},{"$f":"#REF!+#REF!+#REF!+#REF!+#REF!+#REF!+#REF!","v":{"$error":"#REF!"}},null,{"$f":"#REF!+#REF!+#REF!+#REF!+#REF!+#REF!+#REF!","v":{"$error":"#REF!"}},{"$f":"#REF!+#REF!+#REF!+#REF!+#REF!+#REF!+#REF!","v":{"$error":"#REF!"}},{"$f":"#REF!+#REF!+#REF!+#REF!+#REF!+#REF!+#REF!","v":{"$error":"#REF!"}},{"$f":"#REF!+#REF!+#REF!+#REF!+#REF!+#REF!+#REF!","v":{"$error":"#REF!"}},{"$f":"#REF!*0.5","v":{"$error":"#REF!"}},{"$f":"#REF!+#REF!+#REF!+#REF!+#REF!+#REF!+#REF!","v":{"$error":"#REF!"}},{"$f":"#REF!+#REF!+#REF!+#REF!+#REF!+#REF!+#REF!","v":{"$error":"#REF!"}},{"$f":"#REF!+#REF!+#REF!+#REF!+#REF!+#REF!+#REF!","v":{"$error":"#REF!"}},{"$f":"#REF!+#REF!+#REF!+#REF!+#REF!+#REF!+#REF!","v":{"$error":"#REF!"}},{"$f":"#REF!*0.5","v":{"$error":"#REF!"}},{"$f":"#REF!+#REF!+#REF!+#REF!+#REF!+#REF!+#REF!","v":{"$error":"#REF!"}},{"$f":"#REF!+#REF!+#REF!+#REF!+#REF!+#REF!+#REF!","v":{"$error":"#REF!"}},{"$f":"#REF!+#REF!+#REF!+#REF!+#REF!+#REF!+#REF!","v":{"$error":"#REF!"}},{"$f":"#REF!+#REF!+#REF!+#REF!+#REF!+#REF!+#REF!","v":{"$error":"#REF!"}},{"$f":"#REF!*0.5","v":{"$error":"#REF!"}},{"$f":"#REF!+#REF!+#REF!+#REF!+#REF!+#REF!+#REF!","v":{"$error":"#REF!"}},{"$f":"#REF!+#REF!+#REF!+#REF!+#REF!+#REF!+#REF!","v":{"$error":"#REF!"}},null,null,{"$error":"#REF!"},{"$error":"#REF!"},{"$error":"#REF!"},{"$error":"#REF!"}]
[69,"Central Community",{"$f":"#REF!+#REF!+#REF!+#REF!+#REF!+#REF!+#REF!","v":{"$error":"#REF!"}},{"$f":"#REF!+#REF!+#REF!+#REF!+#REF!+#REF!+#REF!","v":{"$error":"#REF!"}},{"$f":"#REF!+#REF!+#REF!+#REF!+#REF!+#REF!+#REF!","v":{"$error":"#REF!"}},{"$f":"#REF!*0.5","v":{"$error":"#REF!"}},{"$f":"#REF!+#REF!+#REF!+#REF!+#REF!+#REF!+#REF!","v":{"$error":"#REF!"}},null,{"$f":"#REF!+#REF!+#REF!+#REF!+#REF!+#REF!+#REF!","v":{"$error":"#REF!"}},{"$f":"#REF!+#REF!+#REF!+#REF!+#REF!+#REF!+#REF!","v":{"$error":"#REF!"}},{"$f":"#REF!+#REF!+#REF!+#REF!+#REF!+#REF!+#REF!","v":{"$error":"#REF!"}},{"$f":"#REF!+#REF!+#REF!+#REF!+#REF!+#REF!+#REF!","v":{"$error":"#REF!"}},{"$f":"#REF!*0.5","v":{"$error":"#REF!"}},{"$f":"#REF!+#REF!+#REF!+#REF!+#REF!+#REF!+#REF!","v":{"$error":"#REF!"}},{"$f":"#REF!+#REF!+#REF!+#REF!+#REF!+#REF!+#REF!","v":{"$error":"#REF!"}},{"$f":"#REF!+#REF!+#REF!+#REF!+#REF!+#REF!+#REF!","v":{"$error":"#REF!"}},{"$f":"#REF!+#REF!+#REF!+#REF!+#REF!+#REF!+#REF!","v":{"$error":"#REF!"}},{"$f":"#REF!*0.5","v":{"$error":"#REF!"}},{"$f":"#REF!+#REF!+#REF!+#REF!+#REF!+#REF!+#REF!","v":{"$error":"#REF!"}},{"$f":"#REF!+#REF!+#REF!+#REF!+#REF!+#REF!+#REF!","v":{"$error":"#REF!"}},{"$f":"#REF!+#REF!+#REF!+#REF!+#REF!+#REF!+#REF!","v":{"$error":"#REF!"}},{"$f":"#REF!+#REF!+#REF!+#REF!+#REF!+#REF!+#REF!","v":{"$error":"#REF!"}},{"$f":"#REF!*0.5","v":{"$error":"#REF!"}},{"$f":"#REF!+#REF!+#REF!+#REF!+#REF!+#REF!+#REF!","v":{"$error":"#REF!"}},{"$f":"#REF!+#REF!+#REF!+#REF!+#REF!+#REF!+#REF!","v":{"$error":"#REF!"}},null,null,{"$error":"#REF!"},{"$error":"#REF!"},{"$error":"#REF!"},{"$error":"#REF!"}]
["State Subtotal",null,{"$f":"SUM(C7:C75)","v":{"$error":"#REF!"}},{"$f":"SUM(D7:D75)","v":{"$error":"#REF!"}},{"$f":"SUM(E7:E75)","v":{"$error":"#REF!"}},null,{"$f":"SUM(G7:G75)","v":{"$error":"#REF!"}},null,{"$f":"SUM(I7:I75)","v":{"$error":"#REF!"}},{"$f":"SUM(J7:J75)","v":{"$error":"#REF!"}},{"$f":"SUM(K7:K75)","v":{"$error":"#REF!"}},{"$f":"SUM(L7:L75)","v":{"$error":"#REF!"}},null,{"$f":"SUM(N7:N75)","v":{"$error":"#REF!"}},{"$f":"SUM(O7:O75)","v":{"$error":"#REF!"}},{"$f":"SUM(P7:P75)","v":{"$error":"#REF!"}},{"$f":"SUM(Q7:Q75)","v":{"$error":"#REF!"}},null,{"$f":"SUM(S7:S75)","v":{"$error":"#REF!"}},{"$f":"SUM(T7:T75)","v":{"$error":"#REF!"}},{"$f":"SUM(U7:U75)","v":{"$error":"#REF!"}},{"$f":"SUM(V7:V75)","v":{"$error":"#REF!"}},null,{"$f":"SUM(X7:X75)","v":{"$error":"#REF!"}},{"$f":"SUM(Y7:Y75)","v":{"$error":"#REF!"}},null,null,{"$f":"E76=(D76-C76)","v":{"$error":"#REF!"}},{"$f":"L76=(K76-J76)","v":{"$error":"#REF!"}},{"$f":"Q76=(P76-O76)","v":{"$error":"#REF!"}},{"$f":"V76=(U76-T76)","v":{"$error":"#REF!"}}]
["FY2022-23 Feb MYA (3/4/23)",null,4008,3984,-24,null,-93371.620508172491,null,-6805.19,2374,2425,51,null,14853.38473115906,0,0,0,null,0,0,0,0,null,0,-85322]
[null,null,{"$f":"C76-C77","v":{"$error":"#REF!"}},{"$f":"D76-D77","v":{"$error":"#REF!"}},{"$error":"#REF!"},0,{"$error":"#REF!"},0,{"$error":"#REF!"},{"$error":"#REF!"},{"$error":"#REF!"},{"$error":"#REF!"},0,{"$error":"#REF!"},{"$error":"#REF!"},{"$error":"#REF!"},{"$error":"#REF!"},0,{"$error":"#REF!"},{"$error":"#REF!"},{"$error":"#REF!"},{"$error":"#REF!"},0,{"$error":"#REF!"},{"$error":"#REF!"}]
[null,null,"N/A","N/A","N/A"]
[null,null,"N/A","N/A","N/A"]
[null,null,"N/A","N/A","N/A"]
[]
[]
[]
[]
[]
[]
[]
[]
[null,"checks to SIS file (mlb) 3/4/23",{"$f":"C76=[3]Base!$AW$76+[3]Base!$AX$76+[3]Base!$AY$76+[3]Base!$AZ$76+[3]Base!$BA$76+[3]Base!$BB$76+[3]Base!$BC$76","v":{"$error":"#REF!"}},{"$f":"D76=[4]Base!$AW$76+[4]Base!$AX$76+[4]Base!$AY$76+[4]Base!$AZ$76+[4]Base!$BA$76+[4]Base!$BB$76+[4]Base!$BC$76","v":{"$error":"#REF!"}}]
[null,"checks to tabs in this file (mlb) 3/4/23",{"$f":"C76=#REF!+#REF!+#REF!+#REF!+#REF!+#REF!+#REF!","v":{"$error":"#REF!"}},{"$f":"D76=#REF!+#REF!+#REF!+#REF!+#REF!+#REF!+#REF!","v":{"$error":"#REF!"}},"checks to tabs in this file (mlb) 3/4/23",null,{"$f":"G76=(#REF!+#REF!+#REF!+#REF!+#REF!+#REF!+#REF!)","v":{"$error":"#REF!"}},null,{"$f":"+I76=((#REF!*#REF!)+(#REF!*#REF!)+(#REF!*#REF!)+(#REF!*#REF!)+(#REF!*#REF!)+(#REF!*#REF!)+(#REF!*#REF!))","v":{"$error":"#REF!"}},{"$f":"J76=(#REF!+#REF!+#REF!+#REF!+#REF!+#REF!+#REF!)","v":{"$error":"#REF!"}},{"$f":"K76=(#REF!+#REF!+#REF!+#REF!+#REF!+#REF!+#REF!)","v":{"$error":"#REF!"}},null,null,null,{"$f":"O76=(#REF!+#REF!+#REF!+#REF!+#REF!+#REF!+#REF!)","v":{"$error":"#REF!"}},{"$f":"P76=(#REF!+#REF!+#REF!+#REF!+#REF!+#REF!+#REF!)","v":{"$error":"#REF!"}},null,null,null,{"$f":"T76=(#REF!+#REF!+#REF!+#REF!+#REF!+#REF!+#REF!)","v":{"$error":"#REF!"}},{"$f":"U76=(#REF!+#REF!+#REF!+#REF!+#REF!+#REF!+#REF!)","v":{"$error":"#REF!"}}]
[null,"checks to feB_MidYear Adj (mlb) 3/4/23",{"$f":"C76='Feb_MidYear Adj'!D93","v":{"$error":"#REF!"}},{"$f":"D76='Feb_MidYear Adj'!E93","v":{"$error":"#REF!"}}]

{"sheet":"Feb_New Type 2_Res","index":1,"n_rows":92,"n_cols":31,"rows_kept":92,"cut":false,"hidden":true,"merged":[[1,27,3,27],[1,28,3,28],[1,29,3,29],[1,30,3,30],[78,9,79,9],[78,12,79,12],[78,15,79,15],[0,24,1,24],[0,7,0,11],[0,12,0,16],[76,0,76,1],[77,0,77,1],[0,23,1,23],[0,22,1,22],[75,0,75,1],[0,17,0,21],[0,0,1,1],[0,2,1,2],[0,3,1,3],[0,4,1,4],[0,5,0,6]]}
["Table 5C1\nNew Type 2\nCharter Schools",null,"Oct. 1, 2022\nMFP Funded\nMembership\n\n(Per SIS)","Feb. 1, 2023\nMFP Funded\nMembership\n\n(Per SIS)","Change in\nMFP Funded\nMembership","Unweighted",null,"Economically Disadvantaged",null,null,null,null,"Students with Disabilities",null,null,null,null,"Gifted & Talented",null,null,null,null,"Change in\nTotal MFP\nState Cost\nAllocation\n\n(Levels 1,\n2, & 3)","Half Final\nFY2021-22\nLocal Revenue\nRepresentation\nPer Pupil\n(per charter law)","Change in\nLocal Revenue\nRepresentation"]
[null,null,null,null,null,"Half the\nUnweighted\nPer Pupil\nWith\nContinuation\nof Prior Year\nPay Raises","Change in\nState Cost\nAllocation","10/1/22\nStudent\nCount","2/1/23\nStudent\nCount","Change\nin\nStudent\nCount","Half\nPer\nPupil","Change in\nState Cost\nAllocation","10/1/22\nStudent\nCount\n(pending)","2/1/23\nStudent\nCount\n(pending)","Change\nin\nStudent\nCount","Half\nPer\nPupil","Change in\nState Cost\nAllocation","10/1/22\nStudent\nCount\n(pending)","2/1/23\nStudent\nCount\n(pending)","Change\nin\nStudent\nCount","Half\nPer\nPupil","Change in\nState Cost\nAllocation",null,null,null,null,null,"column E math ck - mlb 3/4/23","column J math ck - mlb 3/4/24","column O math ck - mlb 3/4/25","column T math ck - mlb 3/4/26"]
[]
[null,null,1,{"$f":"C4+1","v":2},3,4,5,6,7,8,9,10,11,12,13,14,15,16,17,18,19,20,21]
[]
[null,null,"Link in File","Link in File","Formula","Link to \"Counts in Budget Letter\"","Link in File","Formula","Link to \"Counts in Budget Letter\"","Link in File","Formula","Link to \"Counts in Budget Letter\"","Link in File","Formula","Link to \"Counts in Budget Letter\"","Link in File","Formula","Formula","Link to Mid-Year File","Link to Mid-Year File","Formula","Formula","Formula"]
[1,"Acadia",{"$f":"#REF!+#REF!+#REF!+#REF!+#REF!+#REF!+#REF!+#REF!+#REF!+#REF!+#REF!+#REF!+#REF!+#REF!+#REF!+#REF!+#REF!+#REF!+#REF!+#REF!+#REF!+#REF!+#REF!+#REF!+#REF!+#REF!+#REF!+#REF!+#REF!+#REF!+#REF!+Feb_Williams!C7+#REF!+#REF!+#REF!","v":{"$error":"#REF!"}},{"$f":"#REF!+#REF!+#REF!+#REF!+#REF!+#REF!+#REF!+#REF!+#REF!+#REF!+#REF!+#REF!+#REF!+#REF!+#REF!+#REF!+#REF!+#REF!+#REF!+#REF!+#REF!+#REF!+#REF!+#REF!+#REF!+#REF!+#REF!+#REF!+#REF!+#REF!+#REF!+Feb_Williams!D7+#REF!+#REF!+#REF!","v":{"$error":"#REF!"}},{"$f":"#REF!+#REF!+#REF!+#REF!+#REF!+#REF!+#REF!+#REF!+#REF!+#REF!+#REF!+#REF!+#REF!+#REF!+#REF!+#REF!+#REF!+#REF!+#REF!+#REF!+#REF!+#REF!+#REF!+#REF!+#REF!+#REF!+#REF!+#REF!+#REF!+#REF!+#REF!+Feb_Williams!E7+#REF!+#REF!+#REF!","v":{"$error":"#REF!"}},{"$f":"#REF!*0.5","v":{"$error":"#REF!"}},{"$f":"#REF!+#REF!+#REF!+#REF!+#REF!+#REF!+#REF!+#REF!+#REF!+#REF!+#REF!+#REF!+#REF!+#REF!+#REF!+#REF!+#REF!+#REF!+#REF!+#REF!+#REF!+#REF!+#REF!+#REF!+#REF!+#REF!+#REF!+#REF!+#REF!+#REF!+#REF!+Feb_Williams!G7+#REF!","v":{"$error":"#REF!"}},{"$f":"#REF!+#REF!+#REF!+#REF!+#REF!+#REF!+#REF!+#REF!+#REF!+#REF!+#REF!+#REF!+#REF!+#REF!+#REF!+#REF!+#REF!+#REF!+#REF!+#REF!+#REF!+#REF!+#REF!+#REF!+#REF!+#REF!+#REF!+#REF!+#REF!+#REF!+#REF!+Feb_Williams!H7+#REF!+#REF!+#REF!","v":{"$error":"#REF!"}},{"$f":"#REF!+#REF!+#REF!+#REF!+#REF!+#REF!+#REF!+#REF!+#REF!+#REF!+#REF!+#REF!+#REF!+#REF!+#REF!+#REF!+#REF!+#REF!+#REF!+#REF!+#REF!+#REF!+#REF!+#REF!+#REF!+#REF!+#REF!+#REF!+#REF!+#REF!+#REF!+Feb_Williams!I7+#REF!+#REF!+#REF!","v":{"$error":"#REF!"}},{"$f":"#REF!+#REF!+#REF!+#REF!+#REF!+#REF!+#REF!+#REF!+#REF!+#REF!+#REF!+#REF!+#REF!+#REF!+#REF!+#REF!+#REF!+#REF!+#REF!+#REF!+#REF!+#REF!+#REF!+#REF!+#REF!+#REF!+#REF!+#REF!+#REF!+#REF!+#REF!+Feb_Williams!J7+#REF!+#REF!+#REF!","v":{"$error":"#REF!"}},{"$f":"#REF!*0.5","v":{"$error":"#REF!"}},{"$f":"#REF!+#REF!+#REF!+#REF!+#REF!+#REF!+#REF!+#REF!+#REF!+#REF!+#REF!+#REF!+#REF!+#REF!+#REF!+#REF!+#REF!+#REF!+#REF!+#REF!+#REF!+#REF!+#REF!+#REF!+#REF!+#REF!+#REF!+#REF!+#REF!+#REF!+#REF!+Feb_Williams!L7+#REF!","v":{"$error":"#REF!"}},null,null,{"$f":"#REF!+#REF!+#REF!+#REF!+#REF!+#REF!+#REF!+#REF!+#REF!+#REF!+#REF!+#REF!+#REF!+#REF!+#REF!+#REF!+#REF!+#REF!+#REF!+#REF!+#REF!+#REF!+#REF!+#REF!+#REF!+#REF!+#REF!+#REF!+#REF!+#REF!+#REF!+Feb_Williams!O7+#REF!","v":{"$error":"#REF!"}},{"$f":"#REF!*0.5","v":{"$error":"#REF!"}},{"$f":"#REF!+#REF!+#REF!+#REF!+#REF!+#REF!+#REF!+#REF!+#REF!+#REF!+#REF!+#REF!+#REF!+#REF!+#REF!+#REF!+#REF!+#REF!+#REF!+#REF!+#REF!+#REF!+#REF!+#REF!+#REF!+#REF!+#REF!+#REF!+#REF!+#REF!+#REF!+Feb_Williams!Q7+#REF!","v":{"$error":"#REF!"}},null,null,{"$f":"#REF!+#REF!+#REF!+#REF!+#REF!+#REF!+#REF!+#REF!+#REF!+#REF!+#REF!+#REF!+#REF!+#REF!+#REF!+#REF!+#REF!+#REF!+#REF!+#REF!+#REF!+#REF!+#REF!+#REF!+#REF!+#REF!+#REF!+#REF!+#REF!+#REF!+#REF!+Feb_Williams!T7+#REF!","v":{"$error":"#REF!"}},{"$f":"#REF!*0.5","v":{"$error":"#REF!"}},{"$f":"#REF!+#REF!+#REF!+#REF!+#REF!+#REF!+#REF!+#REF!+#REF!+#REF!+#REF!+#REF!+#REF!+#REF!+#REF!+#REF!+#REF!+#REF!+#REF!+#REF!+#REF!+#REF!+#REF!+#REF!+#REF!+#REF!+#REF!+#REF!+#REF!+#REF!+#REF!+Feb_Williams!V7+#REF!","v":{"$error":"#REF!"}},{"$f":"#REF!+#REF!+#REF!+#REF!+#REF!+#REF!+#REF!+#REF!+#REF!+#REF!+#REF!+#REF!+#REF!+#REF!+#REF!+#REF!+#REF!+#REF!+#REF!+#REF!+#REF!+#REF!+#REF!+#REF!+#REF!+#REF!+#REF!+#REF!+#REF!+#REF!+#REF!+Feb_Williams!W7+#REF!","v":{"$error":"#REF!"}},{"$f":"#REF!*0.5","v":{"$error":"#REF!"}},{"$f":"#REF!+#REF!+#REF!+#REF!+#REF!+#REF!+#REF!+#REF!+#REF!+#REF!+#REF!+#REF!+#REF!+#REF!+#REF!+#REF!+#REF!+#REF!+#REF!+#REF!+#REF!+#REF!+#REF!+#REF!+#REF!+#REF!+#REF!+#REF!+#REF!+#REF!+#REF!+Feb_Williams!Y7+#REF!","v":{"$error":"#REF!"}},null,null,{"$f":"E7=(D7-C7)","v":{"$error":"#REF!"}},{"$f":"J7=(I7-H7)","v":{"$error":"#REF!"}},{"$f":"O7=(N7-M7)","v":{"$error":"#REF!"}},{"$f":"T7=(S7-R7)","v":{"$error":"#REF!"}}]
[2,"Allen",{"$f":"#REF!+#REF!+#REF!+#REF!+#REF!+#REF!+#REF!+#REF!+#REF!+#REF!+#REF!+#REF!+#REF!+#REF!+#REF!+#REF!+#REF!+#REF!+#REF!+#REF!+#REF!+#REF!+#REF!+#REF!+#REF!+#REF!+#REF!+#REF!+#REF!+#REF!+#REF!+Feb_Williams!C8+#REF!+#REF!+#REF!","v":{"$error":"#REF!"}},{"$f":"#REF!+#REF!+#REF!+#REF!+#REF!+#REF!+#REF!+#REF!+#REF!+#REF!+#REF!+#REF!+#REF!+#REF!+#REF!+#REF!+#REF!+#REF!+#REF!+#REF!+#REF!+#REF!+#REF!+#REF!+#REF!+#REF!+#REF!+#REF!+#REF!+#REF!+#REF!+Feb_Williams!D8+#REF!+#REF!+#REF!","v":{"$error":"#REF!"}},{"$f":"#REF!+#REF!+#REF!+#REF!+#REF!+#REF!+#REF!+#REF!+#REF!+#REF!+#REF!+#REF!+#REF!+#REF!+#REF!+#REF!+#REF!+#REF!+#REF!+#REF!+#REF!+#REF!+#REF!+#REF!+#REF!+#REF!+#REF!+#REF!+#REF!+#REF!+#REF!+Feb_Williams!E8+#REF!+#REF!+#REF!","v":{"$error":"#REF!"}},{"$f":"#REF!*0.5","v":{"$error":"#REF!"}},{"$f":"#REF!+#REF!+#REF!+#REF!+#REF!+#REF!+#REF!+#REF!+#REF!+#REF!+#REF!+#REF!+#REF!+#REF!+#REF!+#REF!+#REF!+#REF!+#REF!+#REF!+#REF!+#REF!+#REF!+#REF!+#REF!+#REF!+#REF!+#REF!+#REF!+#REF!+#REF!+Feb_Williams!G8+#REF!","v":{"$error":"#REF!"}},{"$f":"#REF!+#REF!+#REF!+#REF!+#REF!+#REF!+#REF!+#REF!+#REF!+#REF!+#REF!+#REF!+#REF!+#REF!+#REF!+#REF!+#REF!+#REF!+#REF!+#REF!+#REF!+#REF!+#REF!+#REF!+#REF!+#REF!+#REF!+#REF!+#REF!+#REF!+#REF!+Feb_Williams!H8+#REF!+#REF!+#REF!","v":{"$error":"#REF!"}},{"$f":"#REF!+#REF!+#REF!+#REF!+#REF!+#REF!+#REF!+#REF!+#REF!+#REF!+#REF!+#REF!+#REF!+#REF!+#REF!+#REF!+#REF!+#REF!+#REF!+#REF!+#REF!+#REF!+#REF!+#REF!+#REF!+#REF!+#REF!+#REF!+#REF!+#REF!+#REF!+Feb_Williams!I8+#REF!+#REF!+#REF!","v":{"$error":"#REF!"}},{"$f":"#REF!+#REF!+#REF!+#REF!+#REF!+#REF!+#REF!+#REF!+#REF!+#REF!+#REF!+#REF!+#REF!+#REF!+#REF!+#REF!+#REF!+#REF!+#REF!+#REF!+#REF!+#REF!+#REF!+#REF!+#REF!+#REF!+#REF!+#REF!+#REF!+#REF!+#REF!+Feb_Williams!J8+#REF!+#REF!+#REF!","v":{"$error":"#REF!"}},{"$f":"#REF!*0.5","v":{"$error":"#REF!"}},{"$f":"#REF!+#REF!+#REF!+#REF!+#REF!+#REF!+#REF!+#REF!+#REF!+#REF!+#REF!+#REF!+#REF!+#REF!+#REF!+#REF!+#REF!+#REF!+#REF!+#REF!+#REF!+#REF!+#REF!+#REF!+#REF!+#REF!+#REF!+#REF!+#REF!+#REF!+#REF!+Feb_Williams!L8+#REF!","v":{"$error":"#REF!"}},null,null,{"$f":"#REF!+#REF!+#REF!+#REF!+#REF!+#REF!+#REF!+#REF!+#REF!+#REF!+#REF!+#REF!+#REF!+#REF!+#REF!+#REF!+#REF!+#REF!+#REF!+#REF!+#REF!+#REF!+#REF!+#REF!+#REF!+#REF!+#REF!+#REF!+#REF!+#REF!+#REF!+Feb_Williams!O8+#REF!","v":{"$error":"#REF!"}},{"$f":"#REF!*0.5","v":{"$error":"#REF!"}},{"$f":"#REF!+#REF!+#REF!+#REF!+#REF!+#REF!+#REF!+#REF!+#REF!+#REF!+#REF!+#REF!+#REF!+#REF!+#REF!+#REF!+#REF!+#REF!+#REF!+#REF!+#REF!+#REF!+#REF!+#REF!+#REF!+#REF!+#REF!+#REF!+#REF!+#REF!+#REF!+Feb_Williams!Q8+#REF!","v":{"$error":"#REF!"}},null,null,{"$f":"#REF!+#REF!+#REF!+#REF!+#REF!+#REF!+#REF!+#REF!+#REF!+#REF!+#REF!+#REF!+#REF!+#REF!+#REF!+#REF!+#REF!+#REF!+#REF!+#REF!+#REF!+#REF!+#REF!+#REF!+#REF!+#REF!+#REF!+#REF!+#REF!+#REF!+#REF!+Feb_Williams!T8+#REF!","v":{"$error":"#REF!"}},{"$f":"#REF!*0.5","v":{"$error":"#REF!"}},{"$f":"#REF!+#REF!+#REF!+#REF!+#REF!+#REF!+#REF!+#REF!+#REF!+#REF!+#REF!+#REF!+#REF!+#REF!+#REF!+#REF!+#REF!+#REF!+#REF!+#REF!+#REF!+#REF!+#REF!+#REF!+#REF!+#REF!+#REF!+#REF!+#REF!+#REF!+#REF!+Feb_Williams!V8+#REF!","v":{"$error":"#REF!"}},{"$f":"#REF!+#REF!+#REF!+#REF!+#REF!+#REF!+#REF!+#REF!+#REF!+#REF!+#REF!+#REF!+#REF!+#REF!+#REF!+#REF!+#REF!+#REF!+#REF!+#REF!+#REF!+#REF!+#REF!+#REF!+#REF!+#REF!+#REF!+#REF!+#REF!+#REF!+#REF!+Feb_Williams!W8+#REF!","v":{"$error":"#REF!"}},{"$f":"#REF!*0.5","v":{"$error":"#REF!"}},{"$f":"#REF!+#REF!+#REF!+#REF!+#REF!+#REF!+#REF!+#REF!+#REF!+#REF!+#REF!+#REF!+#REF!+#REF!+#REF!+#REF!+#REF!+#REF!+#REF!+#REF!+#REF!+#REF!+#REF!+#REF!+#REF!+#REF!+#REF!+#REF!+#REF!+#REF!+#REF!+Feb_Williams!Y8+#REF!","v":{"$error":"#REF!"}},null,null,{"$f":"E8=(D8-C8)","v":{"$error":"#REF!"}},{"$f":"J8=(I8-H8)","v":{"$error":"#REF!"}},{"$f":"O8=(N8-M8)","v":{"$error":"#REF!"}},{"$f":"T8=(S8-R8)","v":{"$error":"#REF!"}}]
[3,"Ascension",{"$f":"#REF!+#REF!+#REF!+#REF!+#REF!+#REF!+#REF!+#REF!+#REF!+#REF!+#REF!+#REF!+#REF!+#REF!+#REF!+#REF!+#REF!+#REF!+#REF!+#REF!+#REF!+#REF!+#REF!+#REF!+#REF!+#REF!+#REF!+#REF!+#REF!+#REF!+#REF!+Feb_Williams!C9+#REF!+#REF!+#REF!","v":{"$error":"#REF!"}},{"$f":"#REF!+#REF!+#REF!+#REF!+#REF!+#REF!+#REF!+#REF!+#REF!+#REF!+#REF!+#REF!+#REF!+#REF!+#REF!+#REF!+#REF!+#REF!+#REF!+#REF!+#REF!+#REF!+#REF!+#REF!+#REF!+#REF!+#REF!+#REF!+#REF!+#REF!+#REF!+Feb_Williams!D9+#REF!+#REF!+#REF!","v":{"$error":"#REF!"}},{"$f":"#REF!+#REF!+#REF!+#REF!+#REF!+#REF!+#REF!+#REF!+#REF!+#REF!+#REF!+#REF!+#REF!+#REF!+#REF!+#REF!+#REF!+#REF!+#REF!+#REF!+#REF!+#REF!+#REF!+#REF!+#REF!+#REF!+#REF!+#REF!+#REF!+#REF!+#REF!+Feb_Williams!E9+#REF!+#REF!+#REF!","v":{"$error":"#REF!"}},{"$f":"#REF!*0.5","v":{"$error":"#REF!"}},{"$f":"#REF!+#REF!+#REF!+#REF!+#REF!+#REF!+#REF!+#REF!+#REF!+#REF!+#REF!+#REF!+#REF!+#REF!+#REF!+#REF!+#REF!+#REF!+#REF!+#REF!+#REF!+#REF!+#REF!+#REF!+#REF!+#REF!+#REF!+#REF!+#REF!+#REF!+#REF!+Feb_Williams!G9+#REF!","v":{"$error":"#REF!"}},{"$f":"#REF!+#REF!+#REF!+#REF!+#REF!+#REF!+#REF!+#REF!+#REF!+#REF!+#REF!+#REF!+#REF!+#REF!+#REF!+#REF!+#REF!+#REF!+#REF!+#REF!+#REF!+#REF!+#REF!+#REF!+#REF!+#REF!+#REF!+#REF!+#REF!+#REF!+#REF!+Feb_Williams!H9+#REF!+#REF!+#REF!","v":{"$error":"#REF!"}},{"$f":"#REF!+#REF!+#REF!+#REF!+#REF!+#REF!+#REF!+#REF!+#REF!+#REF!+#REF!+#REF!+#REF!+#REF!+#REF!+#REF!+#REF!+#REF!+#REF!+#REF!+#REF!+#REF!+#REF!+#REF!+#REF!+#REF!+#REF!+#REF!+#REF!+#REF!+#REF!+Feb_Williams!I9+#REF!+#REF!+#REF!","v":{"$error":"#REF!"}},{"$f":"#REF!+#REF!+#REF!+#REF!+#REF!+#REF!+#REF!+#REF!+#REF!+#REF!+#REF!+#REF!+#REF!+#REF!+#REF!+#REF!+#REF!+#REF!+#REF!+#REF!+#REF!+#REF!+#REF!+#REF!+#REF!+#REF!+#REF!+#REF!+#REF!+#REF!+#REF!+Feb_Williams!J9+#REF!+#REF!+#REF!","v":{"$error":"#REF!"}},{"$f":"#REF!*0.5","v":{"$error":"#REF!"}},{"$f":"#REF!+#REF!+#REF!+#REF!+#REF!+#REF!+#REF!+#REF!+#REF!+#REF!+#REF!+#REF!+#REF!+#REF!+#REF!+#REF!+#REF!+#REF!+#REF!+#REF!+#REF!+#REF!+#REF!+#REF!+#REF!+#REF!+#REF!+#REF!+#REF!+#REF!+#REF!+Feb_Williams!L9+#REF!","v":{"$error":"#REF!"}},null,null,{"$f":"#REF!+#REF!+#REF!+#REF!+#REF!+#REF!+#REF!+#REF!+#REF!+#REF!+#REF!+#REF!+#REF!+#REF!+#REF!+#REF!+#REF!+#REF!+#REF!+#REF!+#REF!+#REF!+#REF!+#REF!+#REF!+#REF!+#REF!+#REF!+#REF!+#REF!+#REF!+Feb_Williams!O9+#REF!","v":{"$error":"#REF!"}},{"$f":"#REF!*0.5","v":{"$error":"#REF!"}},{"$f":"#REF!+#REF!+#REF!+#REF!+#REF!+#REF!+#REF!+#REF!+#REF!+#REF!+#REF!+#REF!+#REF!+#REF!+#REF!+#REF!+#REF!+#REF!+#REF!+#REF!+#REF!+#REF!+#REF!+#REF!+#REF!+#REF!+#REF!+#REF!+#REF!+#REF!+#REF!+Feb_Williams!Q9+#REF!","v":{"$error":"#REF!"}},null,null,{"$f":"#REF!+#REF!+#REF!+#REF!+#REF!+#REF!+#REF!+#REF!+#REF!+#REF!+#REF!+#REF!+#REF!+#REF!+#REF!+#REF!+#REF!+#REF!+#REF!+#REF!+#REF!+#REF!+#REF!+#REF!+#REF!+#REF!+#REF!+#REF!+#REF!+#REF!+#REF!+Feb_Williams!T9+#REF!","v":{"$error":"#REF!"}},{"$f":"#REF!*0.5","v":{"$error":"#REF!"}},{"$f":"#REF!+#REF!+#REF!+#REF!+#REF!+#REF!+#REF!+#REF!+#REF!+#REF!+#REF!+#REF!+#REF!+#REF!+#REF!+#REF!+#REF!+#REF!+#REF!+#REF!+#REF!+#REF!+#REF!+#REF!+#REF!+#REF!+#REF!+#REF!+#REF!+#REF!+#REF!+Feb_Williams!V9+#REF!","v":{"$error":"#REF!"}},{"$f":"#REF!+#REF!+#REF!+#REF!+#REF!+#REF!+#REF!+#REF!+#REF!+#REF!+#REF!+#REF!+#REF!+#REF!+#REF!+#REF!+#REF!+#REF!+#REF!+#REF!+#REF!+#REF!+#REF!+#REF!+#REF!+#REF!+#REF!+#REF!+#REF!+#REF!+#REF!+Feb_Williams!W9+#REF!","v":{"$error":"#REF!"}},{"$f":"#REF!*0.5","v":{"$error":"#REF!"}},{"$f":"#REF!+#REF!+#REF!+#REF!+#REF!+#REF!+#REF!+#REF!+#REF!+#REF!+#REF!+#REF!+#REF!+#REF!+#REF!+#REF!+#REF!+#REF!+#REF!+#REF!+#REF!+#REF!+#REF!+#REF!+#REF!+#REF!+#REF!+#REF!+#REF!+#REF!+#REF!+Feb_Williams!Y9+#REF!","v":{"$error":"#REF!"}},null,null,{"$error":"#REF!"},{"$error":"#REF!"},{"$error":"#REF!"},{"$error":"#REF!"}]
[4,"Assumption",{"$f":"#REF!+#REF!+#REF!+#REF!+#REF!+#REF!+#REF!+#REF!+#REF!+#REF!+#REF!+#REF!+#REF!+#REF!+#REF!+#REF!+#REF!+#REF!+#REF!+#REF!+#REF!+#REF!+#REF!+#REF!+#REF!+#REF!+#REF!+#REF!+#REF!+#REF!+#REF!+Feb_Williams!C10+#REF!+#REF!+#REF!","v":{"$error":"#REF!"}},{"$f":"#REF!+#REF!+#REF!+#REF!+#REF!+#REF!+#REF!+#REF!+#REF!+#REF!+#REF!+#REF!+#REF!+#REF!+#REF!+#REF!+#REF!+#REF!+#REF!+#REF!+#REF!+#REF!+#REF!+#REF!+#REF!+#REF!+#REF!+#REF!+#REF!+#REF!+#REF!+Feb_Williams!D10+#REF!+#REF!+#REF!","v":{"$error":"#REF!"}},{"$f":"#REF!+#REF!+#REF!+#REF!+#REF!+#REF!+#REF!+#REF!+#REF!+#REF!+#REF!+#REF!+#REF!+#REF!+#REF!+#REF!+#REF!+#REF!+#REF!+#REF!+#REF!+#REF!+#REF!+#REF!+#REF!+#REF!+#REF!+#REF!+#REF!+#REF!+#REF!+Feb_Williams!E10+#REF!+#REF!+#REF!","v":{"$error":"#REF!"}},{"$f":"#REF!*0.5","v":{"$error":"#REF!"}},{"$f":"#REF!+#REF!+#REF!+#REF!+#REF!+#REF!+#REF!+#REF!+#REF!+#REF!+#REF!+#REF!+#REF!+#REF!+#REF!+#REF!+#REF!+#REF!+#REF!+#REF!+#REF!+#REF!+#REF!+#REF!+#REF!+#REF!+#REF!+#REF!+#REF!+#REF!+#REF!+Feb_Williams!G10+#REF!","v":{"$error":"#REF!"}},{"$f":"#REF!+#REF!+#REF!+#REF!+#REF!+#REF!+#REF!+#REF!+#REF!+#REF!+#REF!+#REF!+#REF!+#REF!+#REF!+#REF!+#REF!+#REF!+#REF!+#REF!+#REF!+#REF!+#REF!+#REF!+#REF!+#REF!+#REF!+#REF!+#REF!+#REF!+#REF!+Feb_Williams!H10+#REF!+#REF!+#REF!","v":{"$error":"#REF!"}},{"$f":"#REF!+#REF!+#REF!+#REF!+#REF!+#REF!+#REF!+#REF!+#REF!+#REF!+#REF!+#REF!+#REF!+#REF!+#REF!+#REF!+#REF!+#REF!+#REF!+#REF!+#REF!+#REF!+#REF!+#REF!+#REF!+#REF!+#REF!+#REF!+#REF!+#REF!+#REF!+Feb_Williams!I10+#REF!+#REF!+#REF!","v":{"$error":"#REF!"}},{"$f":"#REF!+#REF!+#REF!+#REF!+#REF!+#REF!+#REF!+#REF!+#REF!+#REF!+#REF!+#REF!+#REF!+#REF!+#REF!+#REF!+#REF!+#REF!+#REF!+#REF!+#REF!+#REF!+#REF!+#REF!+#REF!+#REF!+#REF!+#REF!+#REF!+#REF!+#REF!+Feb_Williams!J10+#REF!+#REF!+#REF!","v":{"$error":"#REF!"}},{"$f":"#REF!*0.5","v":{"$error":"#REF!"}},{"$f":"#REF!+#REF!+#REF!+#REF!+#REF!+#REF!+#REF!+#REF!+#REF!+#REF!+#REF!+#REF!+#REF!+#REF!+#REF!+#REF!+#REF!+#REF!+#REF!+#REF!+#REF!+#REF!+#REF!+#REF!+#REF!+#REF!+#REF!+#REF!+#REF!+#REF!+#REF!+Feb_Williams!L10+#REF!","v":{"$error":"#REF!"}},null,null,{"$f":"#REF!+#REF!+#REF!+#REF!+#REF!+#REF!+#REF!+#REF!+#REF!+#REF!+#REF!+#REF!+#REF!+#REF!+#REF!+#REF!+#REF!+#REF!+#REF!+#REF!+#REF!+#REF!+#REF!+#REF!+#REF!+#REF!+#REF!+#REF!+#REF!+#REF!+#REF!+Feb_Williams!O10+#REF!","v":{"$error":"#REF!"}},{"$f":"#REF!*0.5","v":{"$error":"#REF!"}},{"$f":"#REF!+#REF!+#REF!+#REF!+#REF!+#REF!+#REF!+#REF!+#REF!+#REF!+#REF!+#REF!+#REF!+#REF!+#REF!+#REF!+#REF!+#REF!+#REF!+#REF!+#REF!+#REF!+#REF!+#REF!+#REF!+#REF!+#REF!+#REF!+#REF!+#REF!+#REF!+Feb_Williams!Q10+#REF!","v":{"$error":"#REF!"}},null,null,{"$f":"#REF!+#REF!+#REF!+#REF!+#REF!+#REF!+#REF!+#REF!+#REF!+#REF!+#REF!+#REF!+#REF!+#REF!+#REF!+#REF!+#REF!+#REF!+#REF!+#REF!+#REF!+#REF!+#REF!+#REF!+#REF!+#REF!+#REF!+#REF!+#REF!+#REF!+#REF!+Feb_Williams!T10+#REF!","v":{"$error":"#REF!"}},{"$f":"#REF!*0.5","v":{"$error":"#REF!"}},{"$f":"#REF!+#REF!+#REF!+#REF!+#REF!+#REF!+#REF!+#REF!+#REF!+#REF!+#REF!+#REF!+#REF!+#REF!+#REF!+#REF!+#REF!+#REF!+#REF!+#REF!+#REF!+#REF!+#REF!+#REF!+#REF!+#REF!+#REF!+#REF!+#REF!+#REF!+#REF!+Feb_Williams!V10+#REF!","v":{"$error":"#REF!"}},{"$f":"#REF!+#REF!+#REF!+#REF!+#REF!+#REF!+#REF!+#REF!+#REF!+#REF!+#REF!+#REF!+#REF!+#REF!+#REF!+#REF!+#REF!+#REF!+#REF!+#REF!+#REF!+#REF!+#REF!+#REF!+#REF!+#REF!+#REF!+#REF!+#REF!+#REF!+#REF!+Feb_Williams!W10+#REF!","v":{"$error":"#REF!"}},{"$f":"#REF!*0.5","v":{"$error":"#REF!"}},{"$f":"#REF!+#REF!+#REF!+#REF!+#REF!+#REF!+#REF!+#REF!+#REF!+#REF!+#REF!+#REF!+#REF!+#REF!+#REF!+#REF!+#REF!+#REF!+#REF!+#REF!+#REF!+#REF!+#REF!+#REF!+#REF!+#REF!+#REF!+#REF!+#REF!+#REF!+#REF!+Feb_Williams!Y10+#REF!","v":{"$error":"#REF!"}},null,null,{"$error":"#REF!"},{"$error":"#REF!"},{"$error":"#REF!"},{"$error":"#REF!"}]
[5,"Avoyelles",{"$f":"#REF!+#REF!+#REF!+#REF!+#REF!+#REF!+#REF!+#REF!+#REF!+#REF!+#REF!+#REF!+#REF!+#REF!+#REF!+#REF!+#REF!+#REF!+#REF!+#REF!+#REF!+#REF!+#REF!+#REF!+#REF!+#REF!+#REF!+#REF!+#REF!+#REF!+#REF!+Feb_Williams!C11+#REF!+#REF!+#REF!","v":{"$error":"#REF!"}},{"$f":"#REF!+#REF!+#REF!+#REF!+#REF!+#REF!+#REF!+#REF!+#REF!+#REF!+#REF!+#REF!+#REF!+#REF!+#REF!+#REF!+#REF!+#REF!+#REF!+#REF!+#REF!+#REF!+#REF!+#REF!+#REF!+#REF!+#REF!+#REF!+#REF!+#REF!+#REF!+Feb_Williams!D11+#REF!+#REF!+#REF!","v":{"$error":"#REF!"}},{"$f":"#REF!+#REF!+#REF!+#REF!+#REF!+#REF!+#REF!+#REF!+#REF!+#REF!+#REF!+#REF!+#REF!+#REF!+#REF!+#REF!+#REF!+#REF!+#REF!+#REF!+#REF!+#REF!+#REF!+#REF!+#REF!+#REF!+#REF!+#REF!+#REF!+#REF!+#REF!+Feb_Williams!E11+#REF!+#REF!+#REF!","v":{"$error":"#REF!"}},{"$f":"#REF!*0.5","v":{"$error":"#REF!"}},{"$f":"#REF!+#REF!+#REF!+#REF!+#REF!+#REF!+#REF!+#REF!+#REF!+#REF!+#REF!+#REF!+#REF!+#REF!+#REF!+#REF!+#REF!+#REF!+#REF!+#REF!+#REF!+#REF!+#REF!+#REF!+#REF!+#REF!+#REF!+#REF!+#REF!+#REF!+#REF!+Feb_Williams!G11+#REF!","v":{"$error":"#REF!"}},{"$f":"#REF!+#REF!+#REF!+#REF!+#REF!+#REF!+#REF!+#REF!+#REF!+#REF!+#REF!+#REF!+#REF!+#REF!+#REF!+#REF!+#REF!+#REF!+#REF!+#REF!+#REF!+#REF!+#REF!+#REF!+#REF!+#REF!+#REF!+#REF!+#REF!+#REF!+#REF!+Feb_Williams!H11+#REF!+#REF!+#REF!","v":{"$error":"#REF!"}},{"$f":"#REF!+#REF!+#REF!+#REF!+#REF!+#REF!+#REF!+#REF!+#REF!+#REF!+#REF!+#REF!+#REF!+#REF!+#REF!+#REF!+#REF!+#REF!+#REF!+#REF!+#REF!+#REF!+#REF!+#REF!+#REF!+#REF!+#REF!+#REF!+#REF!+#REF!+#REF!+Feb_Williams!I11+#REF!+#REF!+#REF!","v":{"$error":"#REF!"}},{"$f":"#REF!+#REF!+#REF!+#REF!+#REF!+#REF!+#REF!+#REF!+#REF!+#REF!+#REF!+#REF!+#REF!+#REF!+#REF!+#REF!+#REF!+#REF!+#REF!+#REF!+#REF!+#REF!+#REF!+#REF!+#REF!+#REF!+#REF!+#REF!+#REF!+#REF!+#REF!+Feb_Williams!J11+#REF!+#REF!+#REF!","v":{"$error":"#REF!"}},{"$f":"#REF!*0.5","v":{"$error":"#REF!"}},{"$f":"#REF!+#REF!+#REF!+#REF!+#REF!+#REF!+#REF!+#REF!+#REF!+#REF!+#REF!+#REF!+#REF!+#REF!+#REF!+#REF!+#REF!+#REF!+#REF!+#REF!+#REF!+#REF!+#REF!+#REF!+#REF!+#REF!+#REF!+#REF!+#REF!+#REF!+#REF!+Feb_Williams!L11+#REF!","v":{"$error":"#REF!"}},null,null,{"$f":"#REF!+#REF!+#REF!+#REF!+#REF!+#REF!+#REF!+#REF!+#REF!+#REF!+#REF!+#REF!+#REF!+#REF!+#REF!+#REF!+#REF!+#REF!+#REF!+#REF!+#REF!+#REF!+#REF!+#REF!+#REF!+#REF!+#REF!+#REF!+#REF!+#REF!+#REF!+Feb_Williams!O11+#REF!","v":{"$error":"#REF!"}},{"$f":"#REF!*0.5","v":{"$error":"#REF!"}},{"$f":"#REF!+#REF!+#REF!+#REF!+#REF!+#REF!+#REF!+#REF!+#REF!+#REF!+#REF!+#REF!+#REF!+#REF!+#REF!+#REF!+#REF!+#REF!+#REF!+#REF!+#REF!+#REF!+#REF!+#REF!+#REF!+#REF!+#REF!+#REF!+#REF!+#REF!+#REF!+Feb_Williams!Q11+#REF!","v":{"$error":"#REF!"}},null,null,{"$f":"#REF!+#REF!+#REF!+#REF!+#REF!+#REF!+#REF!+#REF!+#REF!+#REF!+#REF!+#REF!+#REF!+#REF!+#REF!+#REF!+#REF!+#REF!+#REF!+#REF!+#REF!+#REF!+#REF!+#REF!+#REF!+#REF!+#REF!+#REF!+#REF!+#REF!+#REF!+Feb_Williams!T11+#REF!","v":{"$error":"#REF!"}},{"$f":"#REF!*0.5","v":{"$error":"#REF!"}},{"$f":"#REF!+#REF!+#REF!+#REF!+#REF!+#REF!+#REF!+#REF!+#REF!+#REF!+#REF!+#REF!+#REF!+#REF!+#REF!+#REF!+#REF!+#REF!+#REF!+#REF!+#REF!+#REF!+#REF!+#REF!+#REF!+#REF!+#REF!+#REF!+#REF!+#REF!+#REF!+Feb_Williams!V11+#REF!","v":{"$error":"#REF!"}},{"$f":"#REF!+#REF!+#REF!+#REF!+#REF!+#REF!+#REF!+#REF!+#REF!+#REF!+#REF!+#REF!+#REF!+#REF!+#REF!+#REF!+#REF!+#REF!+#REF!+#REF!+#REF!+#REF!+#REF!+#REF!+#REF!+#REF!+#REF!+#REF!+#REF!+#REF!+#REF!+Feb_Williams!W11+#REF!","v":{"$error":"#REF!"}},{"$f":"#REF!*0.5","v":{"$error":"#REF!"}},{"$f":"#REF!+#REF!+#REF!+#REF!+#REF!+#REF!+#REF!+#REF!+#REF!+#REF!+#REF!+#REF!+#REF!+#REF!+#REF!+#REF!+#REF!+#REF!+#REF!+#REF!+#REF!+#REF!+#REF!+#REF!+#REF!+#REF!+#REF!+#REF!+#REF!+#REF!+#REF!+Feb_Williams!Y11+#REF!","v":{"$error":"#REF!"}},null,null,{"$error":"#REF!"},{"$error":"#REF!"},{"$error":"#REF!"},{"$error":"#REF!"}]
[6,"Beauregard",{"$f":"#REF!+#REF!+#REF!+#REF!+#REF!+#REF!+#REF!+#REF!+#REF!+#REF!+#REF!+#REF!+#REF!+#REF!+#REF!+#REF!+#REF!+#REF!+#REF!+#REF!+#REF!+#REF!+#REF!+#REF!+#REF!+#REF!+#REF!+#REF!+#REF!+#REF!+#REF!+Feb_Williams!C12+#REF!+#REF!+#REF!","v":{"$error":"#REF!"}},{"$f":"#REF!+#REF!+#REF!+#REF!+#REF!+#REF!+#REF!+#REF!+#REF!+#REF!+#REF!+#REF!+#REF!+#REF!+#REF!+#REF!+#REF!+#REF!+#REF!+#REF!+#REF!+#REF!+#REF!+#REF!+#REF!+#REF!+#REF!+#REF!+#REF!+#REF!+#REF!+Feb_Williams!D12+#REF!+#REF!+#REF!","v":{"$error":"#REF!"}},{"$f":"#REF!+#REF!+#REF!+#REF!+#REF!+#REF!+#REF!+#REF!+#REF!+#REF!+#REF!+#REF!+#REF!+#REF!+#REF!+#REF!+#REF!+#REF!+#REF!+#REF!+#REF!+#REF!+#REF!+#REF!+#REF!+#REF!+#REF!+#REF!+#REF!+#REF!+#REF!+Feb_Williams!E12+#REF!+#REF!+#REF!","v":{"$error":"#REF!"}},{"$f":"#REF!*0.5","v":{"$error":"#REF!"}},{"$f":"#REF!+#REF!+#REF!+#REF!+#REF!+#REF!+#REF!+#REF!+#REF!+#REF!+#REF!+#REF!+#REF!+#REF!+#REF!+#REF!+#REF!+#REF!+#REF!+#REF!+#REF!+#REF!+#REF!+#REF!+#REF!+#REF!+#REF!+#REF!+#REF!+#REF!+#REF!+Feb_Williams!G12+#REF!","v":{"$error":"#REF!"}},{"$f":"#REF!+#REF!+#REF!+#REF!+#REF!+#REF!+#REF!+#REF!+#REF!+#REF!+#REF!+#REF!+#REF!+#REF!+#REF!+#REF!+#REF!+#REF!+#REF!+#REF!+#REF!+#REF!+#REF!+#REF!+#REF!+#REF!+#REF!+#REF!+#REF!+#REF!+#REF!+Feb_Williams!H12+#REF!+#REF!+#REF!","v":{"$error":"#REF!"}},{"$f":"#REF!+#REF!+#REF!+#REF!+#REF!+#REF!+#REF!+#REF!+#REF!+#REF!+#REF!+#REF!+#REF!+#REF!+#REF!+#REF!+#REF!+#REF!+#REF!+#REF!+#REF!+#REF!+#REF!+#REF!+#REF!+#REF!+#REF!+#REF!+#REF!+#REF!+#REF!+Feb_Williams!I12+#REF!+#REF!+#REF!","v":{"$error":"#REF!"}},{"$f":"#REF!+#REF!+#REF!+#REF!+#REF!+#REF!+#REF!+#REF!+#REF!+#REF!+#REF!+#REF!+#REF!+#REF!+#REF!+#REF!+#REF!+#REF!+#REF!+#REF!+#REF!+#REF!+#REF!+#REF!+#REF!+#REF!+#REF!+#REF!+#REF!+#REF!+#REF!+Feb_Williams!J12+#REF!+#REF!+#REF!","v":{"$error":"#REF!"}},{"$f":"#REF!*0.5","v":{"$error":"#REF!"}},{"$f":"#REF!+#REF!+#REF!+#REF!+#REF!+#REF!+#REF!+#REF!+#REF!+#REF!+#REF!+#REF!+#REF!+#REF!+#REF!+#REF!+#REF!+#REF!+#REF!+#REF!+#REF!+#REF!+#REF!+#REF!+#REF!+#REF!+#REF!+#REF!+#REF!+#REF!+#REF!+Feb_Williams!L12+#REF!","v":{"$error":"#REF!"}},null,null,{"$f":"#REF!+#REF!+#REF!+#REF!+#REF!+#REF!+#REF!+#REF!+#REF!+#REF!+#REF!+#REF!+#REF!+#REF!+#REF!+#REF!+#REF!+#REF!+#REF!+#REF!+#REF!+#REF!+#REF!+#REF!+#REF!+#REF!+#REF!+#REF!+#REF!+#REF!+#REF!+Feb_Williams!O12+#REF!","v":{"$error":"#REF!"}},{"$f":"#REF!*0.5","v":{"$error":"#REF!"}},{"$f":"#REF!+#REF!+#REF!+#REF!+#REF!+#REF!+#REF!+#REF!+#REF!+#REF!+#REF!+#REF!+#REF!+#REF!+#REF!+#REF!+#REF!+#REF!+#REF!+#REF!+#REF!+#REF!+#REF!+#REF!+#REF!+#REF!+#REF!+#REF!+#REF!+#REF!+#REF!+Feb_Williams!Q12+#REF!","v":{"$error":"#REF!"}},null,null,{"$f":"#REF!+#REF!+#REF!+#REF!+#REF!+#REF!+#REF!+#REF!+#REF!+#REF!+#REF!+#REF!+#REF!+#REF!+#REF!+#REF!+#REF!+#REF!+#REF!+#REF!+#REF!+#REF!+#REF!+#REF!+#REF!+#REF!+#REF!+#REF!+#REF!+#REF!+#REF!+Feb_Williams!T12+#REF!","v":{"$error":"#REF!"}},{"$f":"#REF!*0.5","v":{"$error":"#REF!"}},{"$f":"#REF!+#REF!+#REF!+#REF!+#REF!+#REF!+#REF!+#REF!+#REF!+#REF!+#REF!+#REF!+#REF!+#REF!+#REF!+#REF!+#REF!+#REF!+#REF!+#REF!+#REF!+#REF!+#REF!+#REF!+#REF!+#REF!+#REF!+#REF!+#REF!+#REF!+#REF!+Feb_Williams!V12+#REF!","v":{"$error":"#REF!"}},{"$f":"#REF!+#REF!+#REF!+#REF!+#REF!+#REF!+#REF!+#REF!+#REF!+#REF!+#REF!+#REF!+#REF!+#REF!+#REF!+#REF!+#REF!+#REF!+#REF!+#REF!+#REF!+#REF!+#REF!+#REF!+#REF!+#REF!+#REF!+#REF!+#REF!+#REF!+#REF!+Feb_Williams!W12+#REF!","v":{"$error":"#REF!"}},{"$f":"#REF!*0.5","v":{"$error":"#REF!"}},{"$f":"#REF!+#REF!+#REF!+#REF!+#REF!+#REF!+#REF!+#REF!+#REF!+#REF!+#REF!+#REF!+#REF!+#REF!+#REF!+#REF!+#REF!+#REF!+#REF!+#REF!+#REF!+#REF!+#REF!+#REF!+#REF!+#REF!+#REF!+#REF!+#REF!+#REF!+#REF!+Feb_Williams!Y12+#REF!","v":{"$error":"#REF!"}},null,null,{"$error":"#REF!"},{"$error":"#REF!"},{"$error":"#REF!"},{"$error":"#REF!"}]
[7,"Bienville",{"$f":"#REF!+#REF!+#REF!+#REF!+#REF!+#REF!+#REF!+#REF!+#REF!+#REF!+#REF!+#REF!+#REF!+#REF!+#REF!+#REF!+#REF!+#REF!+#REF!+#REF!+#REF!+#REF!+#REF!+#REF!+#REF!+#REF!+#REF!+#REF!+#REF!+#REF!+#REF!+Feb_Williams!C13+#REF!+#REF!+#REF!","v":{"$error":"#REF!"}},{"$f":"#REF!+#REF!+#REF!+#REF!+#REF!+#REF!+#REF!+#REF!+#REF!+#REF!+#REF!+#REF!+#REF!+#REF!+#REF!+#REF!+#REF!+#REF!+#REF!+#REF!+#REF!+#REF!+#REF!+#REF!+#REF!+#REF!+#REF!+#REF!+#REF!+#REF!+#REF!+Feb_Williams!D13+#REF!+#REF!+#REF!","v":{"$error":"#REF!"}},{"$f":"#REF!+#REF!+#REF!+#REF!+#REF!+#REF!+#REF!+#REF!+#REF!+#REF!+#REF!+#REF!+#REF!+#REF!+#REF!+#REF!+#REF!+#REF!+#REF!+#REF!+#REF!+#REF!+#REF!+#REF!+#REF!+#REF!+#REF!+#REF!+#REF!+#REF!+#REF!+Feb_Williams!E13+#REF!+#REF!+#REF!","v":{"$error":"#REF!"}},{"$f":"#REF!*0.5","v":{"$error":"#REF!"}},{"$f":"#REF!+#REF!+#REF!+#REF!+#REF!+#REF!+#REF!+#REF!+#REF!+#REF!+#REF!+#REF!+#REF!+#REF!+#REF!+#REF!+#REF!+#REF!+#REF!+#REF!+#REF!+#REF!+#REF!+#REF!+#REF!+#REF!+#REF!+#REF!+#REF!+#REF!+#REF!+Feb_Williams!G13+#REF!","v":{"$error":"#REF!"}},{"$f":"#REF!+#REF!+#REF!+#REF!+#REF!+#REF!+#REF!+#REF!+#REF!+#REF!+#REF!+#REF!+#REF!+#REF!+#REF!+#REF!+#REF!+#REF!+#REF!+#REF!+#REF!+#REF!+#REF!+#REF!+#REF!+#REF!+#REF!+#REF!+#REF!+#REF!+#REF!+Feb_Williams!H13+#REF!+#REF!+#REF!","v":{"$error":"#REF!"}},{"$f":"#REF!+#REF!+#REF!+#REF!+#REF!+#REF!+#REF!+#REF!+#REF!+#REF!+#REF!+#REF!+#REF!+#REF!+#REF!+#REF!+#REF!+#REF!+#REF!+#REF!+#REF!+#REF!+#REF!+#REF!+#REF!+#REF!+#REF!+#REF!+#REF!+#REF!+#REF!+Feb_Williams!I13+#REF!+#REF!+#REF!","v":{"$error":"#REF!"}},{"$f":"#REF!+#REF!+#REF!+#REF!+#REF!+#REF!+#REF!+#REF!+#REF!+#REF!+#REF!+#REF!+#REF!+#REF!+#REF!+#REF!+#REF!+#REF!+#REF!+#REF!+#REF!+#REF!+#REF!+#REF!+#REF!+#REF!+#REF!+#REF!+#REF!+#REF!+#REF!+Feb_Williams!J13+#REF!+#REF!+#REF!","v":{"$error":"#REF!"}},{"$f":"#REF!*0.5","v":{"$error":"#REF!"}},{"$f":"#REF!+#REF!+#REF!+#REF!+#REF!+#REF!+#REF!+#REF!+#REF!+#REF!+#REF!+#REF!+#REF!+#REF!+#REF!+#REF!+#REF!+#REF!+#REF!+#REF!+#REF!+#REF!+#REF!+#REF!+#REF!+#REF!+#REF!+#REF!+#REF!+#REF!+#REF!+Feb_Williams!L13+#REF!","v":{"$error":"#REF!"}},null,null,{"$f":"#REF!+#REF!+#REF!+#REF!+#REF!+#REF!+#REF!+#REF!+#REF!+#REF!+#REF!+#REF!+#REF!+#REF!+#REF!+#REF!+#REF!+#REF!+#REF!+#REF!+#REF!+#REF!+#REF!+#REF!+#REF!+#REF!+#REF!+#REF!+#REF!+#REF!+#REF!+Feb_Williams!O13+#REF!","v":{"$error":"#REF!"}},{"$f":"#REF!*0.5","v":{"$error":"#REF!"}},{"$f":"#REF!+#REF!+#REF!+#REF!+#REF!+#REF!+#REF!+#REF!+#REF!+#REF!+#REF!+#REF!+#REF!+#REF!+#REF!+#REF!+#REF!+#REF!+#REF!+#REF!+#REF!+#REF!+#REF!+#REF!+#REF!+#REF!+#REF!+#REF!+#REF!+#REF!+#REF!+Feb_Williams!Q13+#REF!","v":{"$error":"#REF!"}},null,null,{"$f":"#REF!+#REF!+#REF!+#REF!+#REF!+#REF!+#REF!+#REF!+#REF!+#REF!+#REF!+#REF!+#REF!+#REF!+#REF!+#REF!+#REF!+#REF!+#REF!+#REF!+#REF!+#REF!+#REF!+#REF!+#REF!+#REF!+#REF!+#REF!+#REF!+#REF!+#REF!+Feb_Williams!T13+#REF!","v":{"$error":"#REF!"}},{"$f":"#REF!*0.5","v":{"$error":"#REF!"}},{"$f":"#REF!+#REF!+#REF!+#REF!+#REF!+#REF!+#REF!+#REF!+#REF!+#REF!+#REF!+#REF!+#REF!+#REF!+#REF!+#REF!+#REF!+#REF!+#REF!+#REF!+#REF!+#REF!+#REF!+#REF!+#REF!+#REF!+#REF!+#REF!+#REF!+#REF!+#REF!+Feb_Williams!V13+#REF!","v":{"$error":"#REF!"}},{"$f":"#REF!+#REF!+#REF!+#REF!+#REF!+#REF!+#REF!+#REF!+#REF!+#REF!+#REF!+#REF!+#REF!+#REF!+#REF!+#REF!+#REF!+#REF!+#REF!+#REF!+#REF!+#REF!+#REF!+#REF!+#REF!+#REF!+#REF!+#REF!+#REF!+#REF!+#REF!+Feb_Williams!W13+#REF!","v":{"$error":"#REF!"}},{"$f":"#REF!*0.5","v":{"$error":"#REF!"}},{"$f":"#REF!+#REF!+#REF!+#REF!+#REF!+#REF!+#REF!+#REF!+#REF!+#REF!+#REF!+#REF!+#REF!+#REF!+#REF!+#REF!+#REF!+#REF!+#REF!+#REF!+#REF!+#REF!+#REF!+#REF!+#REF!+#REF!+#REF!+#REF!+#REF!+#REF!+#REF!+Feb_Williams!Y13+#REF!","v":{"$error":"#REF!"}},null,null,{"$error":"#REF!"},{"$error":"#REF!"},{"$error":"#REF!"},{"$error":"#REF!"}]
[8,"Bossier",{"$f":"#REF!+#REF!+#REF!+#REF!+#REF!+#REF!+#REF!+#REF!+#REF!+#REF!+#REF!+#REF!+#REF!+#REF!+#REF!+#REF!+#REF!+#REF!+#REF!+#REF!+#REF!+#REF!+#REF!+#REF!+#REF!+#REF!+#REF!+#REF!+#REF!+#REF!+#REF!+Feb_Williams!C14+#REF!+#REF!+#REF!","v":{"$error":"#REF!"}},{"$f":"#REF!+#REF!+#REF!+#REF!+#REF!+#REF!+#REF!+#REF!+#REF!+#REF!+#REF!+#REF!+#REF!+#REF!+#REF!+#REF!+#REF!+#REF!+#REF!+#REF!+#REF!+#REF!+#REF!+#REF!+#REF!+#REF!+#REF!+#REF!+#REF!+#REF!+#REF!+Feb_Williams!D14+#REF!+#REF!+#REF!","v":{"$error":"#REF!"}},{"$f":"#REF!+#REF!+#REF!+#REF!+#REF!+#REF!+#REF!+#REF!+#REF!+#REF!+#REF!+#REF!+#REF!+#REF!+#REF!+#REF!+#REF!+#REF!+#REF!+#REF!+#REF!+#REF!+#REF!+#REF!+#REF!+#REF!+#REF!+#REF!+#REF!+#REF!+#REF!+Feb_Williams!E14+#REF!+#REF!+#REF!","v":{"$error":"#REF!"}},{"$f":"#REF!*0.5","v":{"$error":"#REF!"}},{"$f":"#REF!+#REF!+#REF!+#REF!+#REF!+#REF!+#REF!+#REF!+#REF!+#REF!+#REF!+#REF!+#REF!+#REF!+#REF!+#REF!+#REF!+#REF!+#REF!+#REF!+#REF!+#REF!+#REF!+#REF!+#REF!+#REF!+#REF!+#REF!+#REF!+#REF!+#REF!+Feb_Williams!G14+#REF!","v":{"$error":"#REF!"}},{"$f":"#REF!+#REF!+#REF!+#REF!+#REF!+#REF!+#REF!+#REF!+#REF!+#REF!+#REF!+#REF!+#REF!+#REF!+#REF!+#REF!+#REF!+#REF!+#REF!+#REF!+#REF!+#REF!+#REF!+#REF!+#REF!+#REF!+#REF!+#REF!+#REF!+#REF!+#REF!+Feb_Williams!H14+#REF!+#REF!+#REF!","v":{"$error":"#REF!"}},{"$f":"#REF!+#REF!+#REF!+#REF!+#REF!+#REF!+#REF!+#REF!+#REF!+#REF!+#REF!+#REF!+#REF!+#REF!+#REF!+#REF!+#REF!+#REF!+#REF!+#REF!+#REF!+#REF!+#REF!+#REF!+#REF!+#REF!+#REF!+#REF!+#REF!+#REF!+#REF!+Feb_Williams!I14+#REF!+#REF!+#REF!","v":{"$error":"#REF!"}},{"$f":"#REF!+#REF!+#REF!+#REF!+#REF!+#REF!+#REF!+#REF!+#REF!+#REF!+#REF!+#REF!+#REF!+#REF!+#REF!+#REF!+#REF!+#REF!+#REF!+#REF!+#REF!+#REF!+#REF!+#REF!+#REF!+#REF!+#REF!+#REF!+#REF!+#REF!+#REF!+Feb_Williams!J14+#REF!+#REF!+#REF!","v":{"$error":"#REF!"}},{"$f":"#REF!*0.5","v":{"$error":"#REF!"}},{"$f":"#REF!+#REF!+#REF!+#REF!+#REF!+#REF!+#REF!+#REF!+#REF!+#REF!+#REF!+#REF!+#REF!+#REF!+#REF!+#REF!+#REF!+#REF!+#REF!+#REF!+#REF!+#REF!+#REF!+#REF!+#REF!+#REF!+#REF!+#REF!+#REF!+#REF!+#REF!+Feb_Williams!L14+#REF!","v":{"$error":"#REF!"}},null,null,{"$f":"#REF!+#REF!+#REF!+#REF!+#REF!+#REF!+#REF!+#REF!+#REF!+#REF!+#REF!+#REF!+#REF!+#REF!+#REF!+#REF!+#REF!+#REF!+#REF!+#REF!+#REF!+#REF!+#REF!+#REF!+#REF!+#REF!+#REF!+#REF!+#REF!+#REF!+#REF!+Feb_Williams!O14+#REF!","v":{"$error":"#REF!"}},{"$f":"#REF!*0.5","v":{"$error":"#REF!"}},{"$f":"#REF!+#REF!+#REF!+#REF!+#REF!+#REF!+#REF!+#REF!+#REF!+#REF!+#REF!+#REF!+#REF!+#REF!+#REF!+#REF!+#REF!+#REF!+#REF!+#REF!+#REF!+#REF!+#REF!+#REF!+#REF!+#REF!+#REF!+#REF!+#REF!+#REF!+#REF!+Feb_Williams!Q14+#REF!","v":{"$error":"#REF!"}},null,null,{"$f":"#REF!+#REF!+#REF!+#REF!+#REF!+#REF!+#REF!+#REF!+#REF!+#REF!+#REF!+#REF!+#REF!+#REF!+#REF!+#REF!+#REF!+#REF!+#REF!+#REF!+#REF!+#REF!+#REF!+#REF!+#REF!+#REF!+#REF!+#REF!+#REF!+#REF!+#REF!+Feb_Williams!T14+#REF!","v":{"$error":"#REF!"}},{"$f":"#REF!*0.5","v":{"$error":"#REF!"}},{"$f":"#REF!+#REF!+#REF!+#REF!+#REF!+#REF!+#REF!+#REF!+#REF!+#REF!+#REF!+#REF!+#REF!+#REF!+#REF!+#REF!+#REF!+#REF!+#REF!+#REF!+#REF!+#REF!+#REF!+#REF!+#REF!+#REF!+#REF!+#REF!+#REF!+#REF!+#REF!+Feb_Williams!V14+#REF!","v":{"$error":"#REF!"}},{"$f":"#REF!+#REF!+#REF!+#REF!+#REF!+#REF!+#REF!+#REF!+#REF!+#REF!+#REF!+#REF!+#REF!+#REF!+#REF!+#REF!+#REF!+#REF!+#REF!+#REF!+#REF!+#REF!+#REF!+#REF!+#REF!+#REF!+#REF!+#REF!+#REF!+#REF!+#REF!+Feb_Williams!W14+#REF!","v":{"$error":"#REF!"}},{"$f":"#REF!*0.5","v":{"$error":"#REF!"}},{"$f":"#REF!+#REF!+#REF!+#REF!+#REF!+#REF!+#REF!+#REF!+#REF!+#REF!+#REF!+#REF!+#REF!+#REF!+#REF!+#REF!+#REF!+#REF!+#REF!+#REF!+#REF!+#REF!+#REF!+#REF!+#REF!+#REF!+#REF!+#REF!+#REF!+#REF!+#REF!+Feb_Williams!Y14+#REF!","v":{"$error":"#REF!"}},null,null,{"$error":"#REF!"},{"$error":"#REF!"},{"$error":"#REF!"},{"$error":"#REF!"}]
[9,"Caddo",{"$f":"#REF!+#REF!+#REF!+#REF!+#REF!+#REF!+#REF!+#REF!+#REF!+#REF!+#REF!+#REF!+#REF!+#REF!+#REF!+#REF!+#REF!+#REF!+#REF!+#REF!+#REF!+#REF!+#REF!+#REF!+#REF!+#REF!+#REF!+#REF!+#REF!+#REF!+#REF!+Feb_Williams!C15+#REF!+#REF!+#REF!","v":{"$error":"#REF!"}},{"$f":"#REF!+#REF!+#REF!+#REF!+#REF!+#REF!+#REF!+#REF!+#REF!+#REF!+#REF!+#REF!+#REF!+#REF!+#REF!+#REF!+#REF!+#REF!+#REF!+#REF!+#REF!+#REF!+#REF!+#REF!+#REF!+#REF!+#REF!+#REF!+#REF!+#REF!+#REF!+Feb_Williams!D15+#REF!+#REF!+#REF!","v":{"$error":"#REF!"}},{"$f":"#REF!+#REF!+#REF!+#REF!+#REF!+#REF!+#REF!+#REF!+#REF!+#REF!+#REF!+#REF!+#REF!+#REF!+#REF!+#REF!+#REF!+#REF!+#REF!+#REF!+#REF!+#REF!+#REF!+#REF!+#REF!+#REF!+#REF!+#REF!+#REF!+#REF!+#REF!+Feb_Williams!E15+#REF!+#REF!+#REF!","v":{"$error":"#REF!"}},{"$f":"#REF!*0.5","v":{"$error":"#REF!"}},{"$f":"#REF!+#REF!+#REF!+#REF!+#REF!+#REF!+#REF!+#REF!+#REF!+#REF!+#REF!+#REF!+#REF!+#REF!+#REF!+#REF!+#REF!+#REF!+#REF!+#REF!+#REF!+#REF!+#REF!+#REF!+#REF!+#REF!+#REF!+#REF!+#REF!+#REF!+#REF!+Feb_Williams!G15+#REF!","v":{"$error":"#REF!"}},{"$f":"#REF!+#REF!+#REF!+#REF!+#REF!+#REF!+#REF!+#REF!+#REF!+#REF!+#REF!+#REF!+#REF!+#REF!+#REF!+#REF!+#REF!+#REF!+#REF!+#REF!+#REF!+#REF!+#REF!+#REF!+#REF!+#REF!+#REF!+#REF!+#REF!+#REF!+#REF!+Feb_Williams!H15+#REF!+#REF!+#REF!","v":{"$error":"#REF!"}},{"$f":"#REF!+#REF!+#REF!+#REF!+#REF!+#REF!+#REF!+#REF!+#REF!+#REF!+#REF!+#REF!+#REF!+#REF!+#REF!+#REF!+#REF!+#REF!+#REF!+#REF!+#REF!+#REF!+#REF!+#REF!+#REF!+#REF!+#REF!+#REF!+#REF!+#REF!+#REF!+Feb_Williams!I15+#REF!+#REF!+#REF!","v":{"$error":"#REF!"}},{"$f":"#REF!+#REF!+#REF!+#REF!+#REF!+#REF!+#REF!+#REF!+#REF!+#REF!+#REF!+#REF!+#REF!+#REF!+#REF!+#REF!+#REF!+#REF!+#REF!+#REF!+#REF!+#REF!+#REF!+#REF!+#REF!+#REF!+#REF!+#REF!+#REF!+#REF!+#REF!+Feb_Williams!J15+#REF!+#REF!+#REF!","v":{"$error":"#REF!"}},{"$f":"#REF!*0.5","v":{"$error":"#REF!"}},{"$f":"#REF!+#REF!+#REF!+#REF!+#REF!+#REF!+#REF!+#REF!+#REF!+#REF!+#REF!+#REF!+#REF!+#REF!+#REF!+#REF!+#REF!+#REF!+#REF!+#REF!+#REF!+#REF!+#REF!+#REF!+#REF!+#REF!+#REF!+#REF!+#REF!+#REF!+#REF!+Feb_Williams!L15+#REF!","v":{"$error":"#REF!"}},null,null,{"$f":"#REF!+#REF!+#REF!+#REF!+#REF!+#REF!+#REF!+#REF!+#REF!+#REF!+#REF!+#REF!+#REF!+#REF!+#REF!+#REF!+#REF!+#REF!+#REF!+#REF!+#REF!+#REF!+#REF!+#REF!+#REF!+#REF!+#REF!+#REF!+#REF!+#REF!+#REF!+Feb_Williams!O15+#REF!","v":{"$error":"#REF!"}},{"$f":"#REF!*0.5","v":{"$error":"#REF!"}},{"$f":"#REF!+#REF!+#REF!+#REF!+#REF!+#REF!+#REF!+#REF!+#REF!+#REF!+#REF!+#REF!+#REF!+#REF!+#REF!+#REF!+#REF!+#REF!+#REF!+#REF!+#REF!+#REF!+#REF!+#REF!+#REF!+#REF!+#REF!+#REF!+#REF!+#REF!+#REF!+Feb_Williams!Q15+#REF!","v":{"$error":"#REF!"}},null,null,{"$f":"#REF!+#REF!+#REF!+#REF!+#REF!+#REF!+#REF!+#REF!+#REF!+#REF!+#REF!+#REF!+#REF!+#REF!+#REF!+#REF!+#REF!+#REF!+#REF!+#REF!+#REF!+#REF!+#REF!+#REF!+#REF!+#REF!+#REF!+#REF!+#REF!+#REF!+#REF!+Feb_Williams!T15+#REF!","v":{"$error":"#REF!"}},{"$f":"#REF!*0.5","v":{"$error":"#REF!"}},{"$f":"#REF!+#REF!+#REF!+#REF!+#REF!+#REF!+#REF!+#REF!+#REF!+#REF!+#REF!+#REF!+#REF!+#REF!+#REF!+#REF!+#REF!+#REF!+#REF!+#REF!+#REF!+#REF!+#REF!+#REF!+#REF!+#REF!+#REF!+#REF!+#REF!+#REF!+#REF!+Feb_Williams!V15+#REF!","v":{"$error":"#REF!"}},{"$f":"#REF!+#REF!+#REF!+#REF!+#REF!+#REF!+#REF!+#REF!+#REF!+#REF!+#REF!+#REF!+#REF!+#REF!+#REF!+#REF!+#REF!+#REF!+#REF!+#REF!+#REF!+#REF!+#REF!+#REF!+#REF!+#REF!+#REF!+#REF!+#REF!+#REF!+#REF!+Feb_Williams!W15+#REF!","v":{"$error":"#REF!"}},{"$f":"#REF!*0.5","v":{"$error":"#REF!"}},{"$f":"#REF!+#REF!+#REF!+#REF!+#REF!+#REF!+#REF!+#REF!+#REF!+#REF!+#REF!+#REF!+#REF!+#REF!+#REF!+#REF!+#REF!+#REF!+#REF!+#REF!+#REF!+#REF!+#REF!+#REF!+#REF!+#REF!+#REF!+#REF!+#REF!+#REF!+#REF!+Feb_Williams!Y15+#REF!","v":{"$error":"#REF!"}},null,null,{"$error":"#REF!"},{"$error":"#REF!"},{"$error":"#REF!"},{"$error":"#REF!"}]
[10,"Calcasieu",{"$f":"#REF!+#REF!+#REF!+#REF!+#REF!+#REF!+#REF!+#REF!+#REF!+#REF!+#REF!+#REF!+#REF!+#REF!+#REF!+#REF!+#REF!+#REF!+#REF!+#REF!+#REF!+#REF!+#REF!+#REF!+#REF!+#REF!+#REF!+#REF!+#REF!+#REF!+#REF!+Feb_Williams!C16+#REF!+#REF!+#REF!","v":{"$error":"#REF!"}},{"$f":"#REF!+#REF!+#REF!+#REF!+#REF!+#REF!+#REF!+#REF!+#REF!+#REF!+#REF!+#REF!+#REF!+#REF!+#REF!+#REF!+#REF!+#REF!+#REF!+#REF!+#REF!+#REF!+#REF!+#REF!+#REF!+#REF!+#REF!+#REF!+#REF!+#REF!+#REF!+Feb_Williams!D16+#REF!+#REF!+#REF!","v":{"$error":"#REF!"}},{"$f":"#REF!+#REF!+#REF!+#REF!+#REF!+#REF!+#REF!+#REF!+#REF!+#REF!+#REF!+#REF!+#REF!+#REF!+#REF!+#REF!+#REF!+#REF!+#REF!+#REF!+#REF!+#REF!+#REF!+#REF!+#REF!+#REF!+#REF!+#REF!+#REF!+#REF!+#REF!+Feb_Williams!E16+#REF!+#REF!+#REF!","v":{"$error":"#REF!"}},{"$f":"#REF!*0.5","v":{"$error":"#REF!"}},{"$f":"#REF!+#REF!+#REF!+#REF!+#REF!+#REF!+#REF!+#REF!+#REF!+#REF!+#REF!+#REF!+#REF!+#REF!+#REF!+#REF!+#REF!+#REF!+#REF!+#REF!+#REF!+#REF!+#REF!+#REF!+#REF!+#REF!+#REF!+#REF!+#REF!+#REF!+#REF!+Feb_Williams!G16+#REF!","v":{"$error":"#REF!"}},{"$f":"#REF!+#REF!+#REF!+#REF!+#REF!+#REF!+#REF!+#REF!+#REF!+#REF!+#REF!+#REF!+#REF!+#REF!+#REF!+#REF!+#REF!+#REF!+#REF!+#REF!+#REF!+#REF!+#REF!+#REF!+#REF!+#REF!+#REF!+#REF!+#REF!+#REF!+#REF!+Feb_Williams!H16+#REF!+#REF!+#REF!","v":{"$error":"#REF!"}},{"$f":"#REF!+#REF!+#REF!+#REF!+#REF!+#REF!+#REF!+#REF!+#REF!+#REF!+#REF!+#REF!+#REF!+#REF!+#REF!+#REF!+#REF!+#REF!+#REF!+#REF!+#REF!+#REF!+#REF!+#REF!+#REF!+#REF!+#REF!+#REF!+#REF!+#REF!+#REF!+Feb_Williams!I16+#REF!+#REF!+#REF!","v":{"$error":"#REF!"}},{"$f":"#REF!+#REF!+#REF!+#REF!+#REF!+#REF!+#REF!+#REF!+#REF!+#REF!+#REF!+#REF!+#REF!+#REF!+#REF!+#REF!+#REF!+#REF!+#REF!+#REF!+#REF!+#REF!+#REF!+#REF!+#REF!+#REF!+#REF!+#REF!+#REF!+#REF!+#REF!+Feb_Williams!J16+#REF!+#REF!+#REF!","v":{"$error":"#REF!"}},{"$f":"#REF!*0.5","v":{"$error":"#REF!"}},{"$f":"#REF!+#REF!+#REF!+#REF!+#REF!+#REF!+#REF!+#REF!+#REF!+#REF!+#REF!+#REF!+#REF!+#REF!+#REF!+#REF!+#REF!+#REF!+#REF!+#REF!+#REF!+#REF!+#REF!+#REF!+#REF!+#REF!+#REF!+#REF!+#REF!+#REF!+#REF!+Feb_Williams!L16+#REF!","v":{"$error":"#REF!"}},null,null,{"$f":"#REF!+#REF!+#REF!+#REF!+#REF!+#REF!+#REF!+#REF!+#REF!+#REF!+#REF!+#REF!+#REF!+#REF!+#REF!+#REF!+#REF!+#REF!+#REF!+#REF!+#REF!+#REF!+#REF!+#REF!+#REF!+#REF!+#REF!+#REF!+#REF!+#REF!+#REF!+Feb_Williams!O16+#REF!","v":{"$error":"#REF!"}},{"$f":"#REF!*0.5","v":{"$error":"#REF!"}},{"$f":"#REF!+#REF!+#REF!+#REF!+#REF!+#REF!+#REF!+#REF!+#REF!+#REF!+#REF!+#REF!+#REF!+#REF!+#REF!+#REF!+#REF!+#REF!+#REF!+#REF!+#REF!+#REF!+#REF!+#REF!+#REF!+#REF!+#REF!+#REF!+#REF!+#REF!+#REF!+Feb_Williams!Q16+#REF!","v":{"$error":"#REF!"}},null,null,{"$f":"#REF!+#REF!+#REF!+#REF!+#REF!+#REF!+#REF!+#REF!+#REF!+#REF!+#REF!+#REF!+#REF!+#REF!+#REF!+#REF!+#REF!+#REF!+#REF!+#REF!+#REF!+#REF!+#REF!+#REF!+#REF!+#REF!+#REF!+#REF!+#REF!+#REF!+#REF!+Feb_Williams!T16+#REF!","v":{"$error":"#REF!"}},{"$f":"#REF!*0.5","v":{"$error":"#REF!"}},{"$f":"#REF!+#REF!+#REF!+#REF!+#REF!+#REF!+#REF!+#REF!+#REF!+#REF!+#REF!+#REF!+#REF!+#REF!+#REF!+#REF!+#REF!+#REF!+#REF!+#REF!+#REF!+#REF!+#REF!+#REF!+#REF!+#REF!+#REF!+#REF!+#REF!+#REF!+#REF!+Feb_Williams!V16+#REF!","v":{"$error":"#REF!"}},{"$f":"#REF!+#REF!+#REF!+#REF!+#REF!+#REF!+#REF!+#REF!+#REF!+#REF!+#REF!+#REF!+#REF!+#REF!+#REF!+#REF!+#REF!+#REF!+#REF!+#REF!+#REF!+#REF!+#REF!+#REF!+#REF!+#REF!+#REF!+#REF!+#REF!+#REF!+#REF!+Feb_Williams!W16+#REF!","v":{"$error":"#REF!"}},{"$f":"#REF!*0.5","v":{"$error":"#REF!"}},{"$f":"#REF!+#REF!+#REF!+#REF!+#REF!+#REF!+#REF!+#REF!+#REF!+#REF!+#REF!+#REF!+#REF!+#REF!+#REF!+#REF!+#REF!+#REF!+#REF!+#REF!+#REF!+#REF!+#REF!+#REF!+#REF!+#REF!+#REF!+#REF!+#REF!+#REF!+#REF!+Feb_Williams!Y16+#REF!","v":{"$error":"#REF!"}},null,null,{"$error":"#REF!"},{"$error":"#REF!"},{"$error":"#REF!"},{"$error":"#REF!"}]
[11,"Caldwell",{"$f":"#REF!+#REF!+#REF!+#REF!+#REF!+#REF!+#REF!+#REF!+#REF!+#REF!+#REF!+#REF!+#REF!+#REF!+#REF!+#REF!+#REF!+#REF!+#REF!+#REF!+#REF!+#REF!+#REF!+#REF!+#REF!+#REF!+#REF!+#REF!+#REF!+#REF!+#REF!+Feb_Williams!C17+#REF!+#REF!+#REF!","v":{"$error":"#REF!"}},{"$f":"#REF!+#REF!+#REF!+#REF!+#REF!+#REF!+#REF!+#REF!+#REF!+#REF!+#REF!+#REF!+#REF!+#REF!+#REF!+#REF!+#REF!+#REF!+#REF!+#REF!+#REF!+#REF!+#REF!+#REF!+#REF!+#REF!+#REF!+#REF!+#REF!+#REF!+#REF!+Feb_Williams!D17+#REF!+#REF!+#REF!","v":{"$error":"#REF!"}},{"$f":"#REF!+#REF!+#REF!+#REF!+#REF!+#REF!+#REF!+#REF!+#REF!+#REF!+#REF!+#REF!+#REF!+#REF!+#REF!+#REF!+#REF!+#REF!+#REF!+#REF!+#REF!+#REF!+#REF!+#REF!+#REF!+#REF!+#REF!+#REF!+#REF!+#REF!+#REF!+Feb_Williams!E17+#REF!+#REF!+#REF!","v":{"$error":"#REF!"}},{"$f":"#REF!*0.5","v":{"$error":"#REF!"}},{"$f":"#REF!+#REF!+#REF!+#REF!+#REF!+#REF!+#REF!+#REF!+#REF!+#REF!+#REF!+#REF!+#REF!+#REF!+#REF!+#REF!+#REF!+#REF!+#REF!+#REF!+#REF!+#REF!+#REF!+#REF!+#REF!+#REF!+#REF!+#REF!+#REF!+#REF!+#REF!+Feb_Williams!G17+#REF!","v":{"$error":"#REF!"}},{"$f":"#REF!+#REF!+#REF!+#REF!+#REF!+#REF!+#REF!+#REF!+#REF!+#REF!+#REF!+#REF!+#REF!+#REF!+#REF!+#REF!+#REF!+#REF!+#REF!+#REF!+#REF!+#REF!+#REF!+#REF!+#REF!+#REF!+#REF!+#REF!+#REF!+#REF!+#REF!+Feb_Williams!H17+#REF!+#REF!+#REF!","v":{"$error":"#REF!"}},{"$f":"#REF!+#REF!+#REF!+#REF!+#REF!+#REF!+#REF!+#REF!+#REF!+#REF!+#REF!+#REF!+#REF!+#REF!+#REF!+#REF!+#REF!+#REF!+#REF!+#REF!+#REF!+#REF!+#REF!+#REF!+#REF!+#REF!+#REF!+#REF!+#REF!+#REF!+#REF!+Feb_Williams!I17+#REF!+#REF!+#REF!","v":{"$error":"#REF!"}},{"$f":"#REF!+#REF!+#REF!+#REF!+#REF!+#REF!+#REF!+#REF!+#REF!+#REF!+#REF!+#REF!+#REF!+#REF!+#REF!+#REF!+#REF!+#REF!+#REF!+#REF!+#REF!+#REF!+#REF!+#REF!+#REF!+#REF!+#REF!+#REF!+#REF!+#REF!+#REF!+Feb_Williams!J17+#REF!+#REF!+#REF!","v":{"$error":"#REF!"}},{"$f":"#REF!*0.5","v":{"$error":"#REF!"}},{"$f":"#REF!+#REF!+#REF!+#REF!+#REF!+#REF!+#REF!+#REF!+#REF!+#REF!+#REF!+#REF!+#REF!+#REF!+#REF!+#REF!+#REF!+#REF!+#REF!+#REF!+#REF!+#REF!+#REF!+#REF!+#REF!+#REF!+#REF!+#REF!+#REF!+#REF!+#REF!+Feb_Williams!L17+#REF!","v":{"$error":"#REF!"}},null,null,{"$f":"#REF!+#REF!+#REF!+#REF!+#REF!+#REF!+#REF!+#REF!+#REF!+#REF!+#REF!+#REF!+#REF!+#REF!+#REF!+#REF!+#REF!+#REF!+#REF!+#REF!+#REF!+#REF!+#REF!+#REF!+#REF!+#REF!+#REF!+#REF!+#REF!+#REF!+#REF!+Feb_Williams!O17+#REF!","v":{"$error":"#REF!"}},{"$f":"#REF!*0.5","v":{"$error":"#REF!"}},{"$f":"#REF!+#REF!+#REF!+#REF!+#REF!+#REF!+#REF!+#REF!+#REF!+#REF!+#REF!+#REF!+#REF!+#REF!+#REF!+#REF!+#REF!+#REF!+#REF!+#REF!+#REF!+#REF!+#REF!+#REF!+#REF!+#REF!+#REF!+#REF!+#REF!+#REF!+#REF!+Feb_Williams!Q17+#REF!","v":{"$error":"#REF!"}},null,null,{"$f":"#REF!+#REF!+#REF!+#REF!+#REF!+#REF!+#REF!+#REF!+#REF!+#REF!+#REF!+#REF!+#REF!+#REF!+#REF!+#REF!+#REF!+#REF!+#REF!+#REF!+#REF!+#REF!+#REF!+#REF!+#REF!+#REF!+#REF!+#REF!+#REF!+#REF!+#REF!+Feb_Williams!T17+#REF!","v":{"$error":"#REF!"}},{"$f":"#REF!*0.5","v":{"$error":"#REF!"}},{"$f":"#REF!+#REF!+#REF!+#REF!+#REF!+#REF!+#REF!+#REF!+#REF!+#REF!+#REF!+#REF!+#REF!+#REF!+#REF!+#REF!+#REF!+#REF!+#REF!+#REF!+#REF!+#REF!+#REF!+#REF!+#REF!+#REF!+#REF!+#REF!+#REF!+#REF!+#REF!+Feb_Williams!V17+#REF!","v":{"$error":"#REF!"}},{"$f":"#REF!+#REF!+#REF!+#REF!+#REF!+#REF!+#REF!+#REF!+#REF!+#REF!+#REF!+#REF!+#REF!+#REF!+#REF!+#REF!+#REF!+#REF!+#REF!+#REF!+#REF!+#REF!+#REF!+#REF!+#REF!+#REF!+#REF!+#REF!+#REF!+#REF!+#REF!+Feb_Williams!W17+#REF!","v":{"$error":"#REF!"}},{"$f":"#REF!*0.5","v":{"$error":"#REF!"}},{"$f":"#REF!+#REF!+#REF!+#REF!+#REF!+#REF!+#REF!+#REF!+#REF!+#REF!+#REF!+#REF!+#REF!+#REF!+#REF!+#REF!+#REF!+#REF!+#REF!+#REF!+#REF!+#REF!+#REF!+#REF!+#REF!+#REF!+#REF!+#REF!+#REF!+#REF!+#REF!+Feb_Williams!Y17+#REF!","v":{"$error":"#REF!"}},null,null,{"$error":"#REF!"},{"$error":"#REF!"},{"$error":"#REF!"},{"$error":"#REF!"}]
[12,"Cameron",{"$f":"#REF!+#REF!+#REF!+#REF!+#REF!+#REF!+#REF!+#REF!+#REF!+#REF!+#REF!+#REF!+#REF!+#REF!+#REF!+#REF!+#REF!+#REF!+#REF!+#REF!+#REF!+#REF!+#REF!+#REF!+#REF!+#REF!+#REF!+#REF!+#REF!+#REF!+#REF!+Feb_Williams!C18+#REF!+#REF!+#REF!","v":{"$error":"#REF!"}},{"$f":"#REF!+#REF!+#REF!+#REF!+#REF!+#REF!+#REF!+#REF!+#REF!+#REF!+#REF!+#REF!+#REF!+#REF!+#REF!+#REF!+#REF!+#REF!+#REF!+#REF!+#REF!+#REF!+#REF!+#REF!+#REF!+#REF!+#REF!+#REF!+#REF!+#REF!+#REF!+Feb_Williams!D18+#REF!+#REF!+#REF!","v":{"$error":"#REF!"}},{"$f":"#REF!+#REF!+#REF!+#REF!+#REF!+#REF!+#REF!+#REF!+#REF!+#REF!+#REF!+#REF!+#REF!+#REF!+#REF!+#REF!+#REF!+#REF!+#REF!+#REF!+#REF!+#REF!+#REF!+#REF!+#REF!+#REF!+#REF!+#REF!+#REF!+#REF!+#REF!+Feb_Williams!E18+#REF!+#REF!+#REF!","v":{"$error":"#REF!"}},{"$f":"#REF!*0.5","v":{"$error":"#REF!"}},{"$f":"#REF!+#REF!+#REF!+#REF!+#REF!+#REF!+#REF!+#REF!+#REF!+#REF!+#REF!+#REF!+#REF!+#REF!+#REF!+#REF!+#REF!+#REF!+#REF!+#REF!+#REF!+#REF!+#REF!+#REF!+#REF!+#REF!+#REF!+#REF!+#REF!+#REF!+#REF!+Feb_Williams!G18+#REF!","v":{"$error":"#REF!"}},{"$f":"#REF!+#REF!+#REF!+#REF!+#REF!+#REF!+#REF!+#REF!+#REF!+#REF!+#REF!+#REF!+#REF!+#REF!+#REF!+#REF!+#REF!+#REF!+#REF!+#REF!+#REF!+#REF!+#REF!+#REF!+#REF!+#REF!+#REF!+#REF!+#REF!+#REF!+#REF!+Feb_Williams!H18+#REF!+#REF!+#REF!","v":{"$error":"#REF!"}},{"$f":"#REF!+#REF!+#REF!+#REF!+#REF!+#REF!+#REF!+#REF!+#REF!+#REF!+#REF!+#REF!+#REF!+#REF!+#REF!+#REF!+#REF!+#REF!+#REF!+#REF!+#REF!+#REF!+#REF!+#REF!+#REF!+#REF!+#REF!+#REF!+#REF!+#REF!+#REF!+Feb_Williams!I18+#REF!+#REF!+#REF!","v":{"$error":"#REF!"}},{"$f":"#REF!+#REF!+#REF!+#REF!+#REF!+#REF!+#REF!+#REF!+#REF!+#REF!+#REF!+#REF!+#REF!+#REF!+#REF!+#REF!+#REF!+#REF!+#REF!+#REF!+#REF!+#REF!+#REF!+#REF!+#REF!+#REF!+#REF!+#REF!+#REF!+#REF!+#REF!+Feb_Williams!J18+#REF!+#REF!+#REF!","v":{"$error":"#REF!"}},{"$f":"#REF!*0.5","v":{"$error":"#REF!"}},{"$f":"#REF!+#REF!+#REF!+#REF!+#REF!+#REF!+#REF!+#REF!+#REF!+#REF!+#REF!+#REF!+#REF!+#REF!+#REF!+#REF!+#REF!+#REF!+#REF!+#REF!+#REF!+#REF!+#REF!+#REF!+#REF!+#REF!+#REF!+#REF!+#REF!+#REF!+#REF!+Feb_Williams!L18+#REF!","v":{"$error":"#REF!"}},null,null,{"$f":"#REF!+#REF!+#REF!+#REF!+#REF!+#REF!+#REF!+#REF!+#REF!+#REF!+#REF!+#REF!+#REF!+#REF!+#REF!+#REF!+#REF!+#REF!+#REF!+#REF!+#REF!+#REF!+#REF!+#REF!+#REF!+#REF!+#REF!+#REF!+#REF!+#REF!+#REF!+Feb_Williams!O18+#REF!","v":{"$error":"#REF!"}},{"$f":"#REF!*0.5","v":{"$error":"#REF!"}},{"$f":"#REF!+#REF!+#REF!+#REF!+#REF!+#REF!+#REF!+#REF!+#REF!+#REF!+#REF!+#REF!+#REF!+#REF!+#REF!+#REF!+#REF!+#REF!+#REF!+#REF!+#REF!+#REF!+#REF!+#REF!+#REF!+#REF!+#REF!+#REF!+#REF!+#REF!+#REF!+Feb_Williams!Q18+#REF!","v":{"$error":"#REF!"}},null,null,{"$f":"#REF!+#REF!+#REF!+#REF!+#REF!+#REF!+#REF!+#REF!+#REF!+#REF!+#REF!+#REF!+#REF!+#REF!+#REF!+#REF!+#REF!+#REF!+#REF!+#REF!+#REF!+#REF!+#REF!+#REF!+#REF!+#REF!+#REF!+#REF!+#REF!+#REF!+#REF!+Feb_Williams!T18+#REF!","v":{"$error":"#REF!"}},{"$f":"#REF!*0.5","v":{"$error":"#REF!"}},{"$f":"#REF!+#REF!+#REF!+#REF!+#REF!+#REF!+#REF!+#REF!+#REF!+#REF!+#REF!+#REF!+#REF!+#REF!+#REF!+#REF!+#REF!+#REF!+#REF!+#REF!+#REF!+#REF!+#REF!+#REF!+#REF!+#REF!+#REF!+#REF!+#REF!+#REF!+#REF!+Feb_Williams!V18+#REF!","v":{"$error":"#REF!"}},{"$f":"#REF!+#REF!+#REF!+#REF!+#REF!+#REF!+#REF!+#REF!+#REF!+#REF!+#REF!+#REF!+#REF!+#REF!+#REF!+#REF!+#REF!+#REF!+#REF!+#REF!+#REF!+#REF!+#REF!+#REF!+#REF!+#REF!+#REF!+#REF!+#REF!+#REF!+#REF!+Feb_Williams!W18+#REF!","v":{"$error":"#REF!"}},{"$f":"#REF!*0.5","v":{"$error":"#REF!"}},{"$f":"#REF!+#REF!+#REF!+#REF!+#REF!+#REF!+#REF!+#REF!+#REF!+#REF!+#REF!+#REF!+#REF!+#REF!+#REF!+#REF!+#REF!+#REF!+#REF!+#REF!+#REF!+#REF!+#REF!+#REF!+#REF!+#REF!+#REF!+#REF!+#REF!+#REF!+#REF!+Feb_Williams!Y18+#REF!","v":{"$error":"#REF!"}},null,null,{"$error":"#REF!"},{"$error":"#REF!"},{"$error":"#REF!"},{"$error":"#REF!"}]
[13,"Catahoula",{"$f":"#REF!+#REF!+#REF!+#REF!+#REF!+#REF!+#REF!+#REF!+#REF!+#REF!+#REF!+#REF!+#REF!+#REF!+#REF!+#REF!+#REF!+#REF!+#REF!+#REF!+#REF!+#REF!+#REF!+#REF!+#REF!+#REF!+#REF!+#REF!+#REF!+#REF!+#REF!+Feb_Williams!C19+#REF!+#REF!+#REF!","v":{"$error":"#REF!"}},{"$f":"#REF!+#REF!+#REF!+#REF!+#REF!+#REF!+#REF!+#REF!+#REF!+#REF!+#REF!+#REF!+#REF!+#REF!+#REF!+#REF!+#REF!+#REF!+#REF!+#REF!+#REF!+#REF!+#REF!+#REF!+#REF!+#REF!+#REF!+#REF!+#REF!+#REF!+#REF!+Feb_Williams!D19+#REF!+#REF!+#REF!","v":{"$error":"#REF!"}},{"$f":"#REF!+#REF!+#REF!+#REF!+#REF!+#REF!+#REF!+#REF!+#REF!+#REF!+#REF!+#REF!+#REF!+#REF!+#REF!+#REF!+#REF!+#REF!+#REF!+#REF!+#REF!+#REF!+#REF!+#REF!+#REF!+#REF!+#REF!+#REF!+#REF!+#REF!+#REF!+Feb_Williams!E19+#REF!+#REF!+#REF!","v":{"$error":"#REF!"}},{"$f":"#REF!*0.5","v":{"$error":"#REF!"}},{"$f":"#REF!+#REF!+#REF!+#REF!+#REF!+#REF!+#REF!+#REF!+#REF!+#REF!+#REF!+#REF!+#REF!+#REF!+#REF!+#REF!+#REF!+#REF!+#REF!+#REF!+#REF!+#REF!+#REF!+#REF!+#REF!+#REF!+#REF!+#REF!+#REF!+#REF!+#REF!+Feb_Williams!G19+#REF!","v":{"$error":"#REF!"}},{"$f":"#REF!+#REF!+#REF!+#REF!+#REF!+#REF!+#REF!+#REF!+#REF!+#REF!+#REF!+#REF!+#REF!+#REF!+#REF!+#REF!+#REF!+#REF!+#REF!+#REF!+#REF!+#REF!+#REF!+#REF!+#REF!+#REF!+#REF!+#REF!+#REF!+#REF!+#REF!+Feb_Williams!H19+#REF!+#REF!+#REF!","v":{"$error":"#REF!"}},{"$f":"#REF!+#REF!+#REF!+#REF!+#REF!+#REF!+#REF!+#REF!+#REF!+#REF!+#REF!+#REF!+#REF!+#REF!+#REF!+#REF!+#REF!+#REF!+#REF!+#REF!+#REF!+#REF!+#REF!+#REF!+#REF!+#REF!+#REF!+#REF!+#REF!+#REF!+#REF!+Feb_Williams!I19+#REF!+#REF!+#REF!","v":{"$error":"#REF!"}},{"$f":"#REF!+#REF!+#REF!+#REF!+#REF!+#REF!+#REF!+#REF!+#REF!+#REF!+#REF!+#REF!+#REF!+#REF!+#REF!+#REF!+#REF!+#REF!+#REF!+#REF!+#REF!+#REF!+#REF!+#REF!+#REF!+#REF!+#REF!+#REF!+#REF!+#REF!+#REF!+Feb_Williams!J19+#REF!+#REF!+#REF!","v":{"$error":"#REF!"}},{"$f":"#REF!*0.5","v":{"$error":"#REF!"}},{"$f":"#REF!+#REF!+#REF!+#REF!+#REF!+#REF!+#REF!+#REF!+#REF!+#REF!+#REF!+#REF!+#REF!+#REF!+#REF!+#REF!+#REF!+#REF!+#REF!+#REF!+#REF!+#REF!+#REF!+#REF!+#REF!+#REF!+#REF!+#REF!+#REF!+#REF!+#REF!+Feb_Williams!L19+#REF!","v":{"$error":"#REF!"}},null,null,{"$f":"#REF!+#REF!+#REF!+#REF!+#REF!+#REF!+#REF!+#REF!+#REF!+#REF!+#REF!+#REF!+#REF!+#REF!+#REF!+#REF!+#REF!+#REF!+#REF!+#REF!+#REF!+#REF!+#REF!+#REF!+#REF!+#REF!+#REF!+#REF!+#REF!+#REF!+#REF!+Feb_Williams!O19+#REF!","v":{"$error":"#REF!"}},{"$f":"#REF!*0.5","v":{"$error":"#REF!"}},{"$f":"#REF!+#REF!+#REF!+#REF!+#REF!+#REF!+#REF!+#REF!+#REF!+#REF!+#REF!+#REF!+#REF!+#REF!+#REF!+#REF!+#REF!+#REF!+#REF!+#REF!+#REF!+#REF!+#REF!+#REF!+#REF!+#REF!+#REF!+#REF!+#REF!+#REF!+#REF!+Feb_Williams!Q19+#REF!","v":{"$error":"#REF!"}},null,null,{"$f":"#REF!+#REF!+#REF!+#REF!+#REF!+#REF!+#REF!+#REF!+#REF!+#REF!+#REF!+#REF!+#REF!+#REF!+#REF!+#REF!+#REF!+#REF!+#REF!+#REF!+#REF!+#REF!+#REF!+#REF!+#REF!+#REF!+#REF!+#REF!+#REF!+#REF!+#REF!+Feb_Williams!T19+#REF!","v":{"$error":"#REF!"}},{"$f":"#REF!*0.5","v":{"$error":"#REF!"}},{"$f":"#REF!+#REF!+#REF!+#REF!+#REF!+#REF!+#REF!+#REF!+#REF!+#REF!+#REF!+#REF!+#REF!+#REF!+#REF!+#REF!+#REF!+#REF!+#REF!+#REF!+#REF!+#REF!+#REF!+#REF!+#REF!+#REF!+#REF!+#REF!+#REF!+#REF!+#REF!+Feb_Williams!V19+#REF!","v":{"$error":"#REF!"}},{"$f":"#REF!+#REF!+#REF!+#REF!+#REF!+#REF!+#REF!+#REF!+#REF!+#REF!+#REF!+#REF!+#REF!+#REF!+#REF!+#REF!+#REF!+#REF!+#REF!+#REF!+#REF!+#REF!+#REF!+#REF!+#REF!+#REF!+#REF!+#REF!+#REF!+#REF!+#REF!+Feb_Williams!W19+#REF!","v":{"$error":"#REF!"}},{"$f":"#REF!*0.5","v":{"$error":"#REF!"}},{"$f":"#REF!+#REF!+#REF!+#REF!+#REF!+#REF!+#REF!+#REF!+#REF!+#REF!+#REF!+#REF!+#REF!+#REF!+#REF!+#REF!+#REF!+#REF!+#REF!+#REF!+#REF!+#REF!+#REF!+#REF!+#REF!+#REF!+#REF!+#REF!+#REF!+#REF!+#REF!+Feb_Williams!Y19+#REF!","v":{"$error":"#REF!"}},null,null,{"$error":"#REF!"},{"$error":"#REF!"},{"$error":"#REF!"},{"$error":"#REF!"}]
[14,"Claiborne",{"$f":"#REF!+#REF!+#REF!+#REF!+#REF!+#REF!+#REF!+#REF!+#REF!+#REF!+#REF!+#REF!+#REF!+#REF!+#REF!+#REF!+#REF!+#REF!+#REF!+#REF!+#REF!+#REF!+#REF!+#REF!+#REF!+#REF!+#REF!+#REF!+#REF!+#REF!+#REF!+Feb_Williams!C20+#REF!+#REF!+#REF!","v":{"$error":"#REF!"}},{"$f":"#REF!+#REF!+#REF!+#REF!+#REF!+#REF!+#REF!+#REF!+#REF!+#REF!+#REF!+#REF!+#REF!+#REF!+#REF!+#REF!+#REF!+#REF!+#REF!+#REF!+#REF!+#REF!+#REF!+#REF!+#REF!+#REF!+#REF!+#REF!+#REF!+#REF!+#REF!+Feb_Williams!D20+#REF!+#REF!+#REF!","v":{"$error":"#REF!"}},{"$f":"#REF!+#REF!+#REF!+#REF!+#REF!+#REF!+#REF!+#REF!+#REF!+#REF!+#REF!+#REF!+#REF!+#REF!+#REF!+#REF!+#REF!+#REF!+#REF!+#REF!+#REF!+#REF!+#REF!+#REF!+#REF!+#REF!+#REF!+#REF!+#REF!+#REF!+#REF!+Feb_Williams!E20+#REF!+#REF!+#REF!","v":{"$error":"#REF!"}},{"$f":"#REF!*0.5","v":{"$error":"#REF!"}},{"$f":"#REF!+#REF!+#REF!+#REF!+#REF!+#REF!+#REF!+#REF!+#REF!+#REF!+#REF!+#REF!+#REF!+#REF!+#REF!+#REF!+#REF!+#REF!+#REF!+#REF!+#REF!+#REF!+#REF!+#REF!+#REF!+#REF!+#REF!+#REF!+#REF!+#REF!+#REF!+Feb_Williams!G20+#REF!","v":{"$error":"#REF!"}},{"$f":"#REF!+#REF!+#REF!+#REF!+#REF!+#REF!+#REF!+#REF!+#REF!+#REF!+#REF!+#REF!+#REF!+#REF!+#REF!+#REF!+#REF!+#REF!+#REF!+#REF!+#REF!+#REF!+#REF!+#REF!+#REF!+#REF!+#REF!+#REF!+#REF!+#REF!+#REF!+Feb_Williams!H20+#REF!+#REF!+#REF!","v":{"$error":"#REF!"}},{"$f":"#REF!+#REF!+#REF!+#REF!+#REF!+#REF!+#REF!+#REF!+#REF!+#REF!+#REF!+#REF!+#REF!+#REF!+#REF!+#REF!+#REF!+#REF!+#REF!+#REF!+#REF!+#REF!+#REF!+#REF!+#REF!+#REF!+#REF!+#REF!+#REF!+#REF!+#REF!+Feb_Williams!I20+#REF!+#REF!+#REF!","v":{"$error":"#REF!"}},{"$f":"#REF!+#REF!+#REF!+#REF!+#REF!+#REF!+#REF!+#REF!+#REF!+#REF!+#REF!+#REF!+#REF!+#REF!+#REF!+#REF!+#REF!+#REF!+#REF!+#REF!+#REF!+#REF!+#REF!+#REF!+#REF!+#REF!+#REF!+#REF!+#REF!+#REF!+#REF!+Feb_Williams!J20+#REF!+#REF!+#REF!","v":{"$error":"#REF!"}},{"$f":"#REF!*0.5","v":{"$error":"#REF!"}},{"$f":"#REF!+#REF!+#REF!+#REF!+#REF!+#REF!+#REF!+#REF!+#REF!+#REF!+#REF!+#REF!+#REF!+#REF!+#REF!+#REF!+#REF!+#REF!+#REF!+#REF!+#REF!+#REF!+#REF!+#REF!+#REF!+#REF!+#REF!+#REF!+#REF!+#REF!+#REF!+Feb_Williams!L20+#REF!","v":{"$error":"#REF!"}},null,null,{"$f":"#REF!+#REF!+#REF!+#REF!+#REF!+#REF!+#REF!+#REF!+#REF!+#REF!+#REF!+#REF!+#REF!+#REF!+#REF!+#REF!+#REF!+#REF!+#REF!+#REF!+#REF!+#REF!+#REF!+#REF!+#REF!+#REF!+#REF!+#REF!+#REF!+#REF!+#REF!+Feb_Williams!O20+#REF!","v":{"$error":"#REF!"}},{"$f":"#REF!*0.5","v":{"$error":"#REF!"}},{"$f":"#REF!+#REF!+#REF!+#REF!+#REF!+#REF!+#REF!+#REF!+#REF!+#REF!+#REF!+#REF!+#REF!+#REF!+#REF!+#REF!+#REF!+#REF!+#REF!+#REF!+#REF!+#REF!+#REF!+#REF!+#REF!+#REF!+#REF!+#REF!+#REF!+#REF!+#REF!+Feb_Williams!Q20+#REF!","v":{"$error":"#REF!"}},null,null,{"$f":"#REF!+#REF!+#REF!+#REF!+#REF!+#REF!+#REF!+#REF!+#REF!+#REF!+#REF!+#REF!+#REF!+#REF!+#REF!+#REF!+#REF!+#REF!+#REF!+#REF!+#REF!+#REF!+#REF!+#REF!+#REF!+#REF!+#REF!+#REF!+#REF!+#REF!+#REF!+Feb_Williams!T20+#REF!","v":{"$error":"#REF!"}},{"$f":"#REF!*0.5","v":{"$error":"#REF!"}},{"$f":"#REF!+#REF!+#REF!+#REF!+#REF!+#REF!+#REF!+#REF!+#REF!+#REF!+#REF!+#REF!+#REF!+#REF!+#REF!+#REF!+#REF!+#REF!+#REF!+#REF!+#REF!+#REF!+#REF!+#REF!+#REF!+#REF!+#REF!+#REF!+#REF!+#REF!+#REF!+Feb_Williams!V20+#REF!","v":{"$error":"#REF!"}},{"$f":"#REF!+#REF!+#REF!+#REF!+#REF!+#REF!+#REF!+#REF!+#REF!+#REF!+#REF!+#REF!+#REF!+#REF!+#REF!+#REF!+#REF!+#REF!+#REF!+#REF!+#REF!+#REF!+#REF!+#REF!+#REF!+#REF!+#REF!+#REF!+#REF!+#REF!+#REF!+Feb_Williams!W20+#REF!","v":{"$error":"#REF!"}},{"$f":"#REF!*0.5","v":{"$error":"#REF!"}},{"$f":"#REF!+#REF!+#REF!+#REF!+#REF!+#REF!+#REF!+#REF!+#REF!+#REF!+#REF!+#REF!+#REF!+#REF!+#REF!+#REF!+#REF!+#REF!+#REF!+#REF!+#REF!+#REF!+#REF!+#REF!+#REF!+#REF!+#REF!+#REF!+#REF!+#REF!+#REF!+Feb_Williams!Y20+#REF!","v":{"$error":"#REF!"}},null,null,{"$error":"#REF!"},{"$error":"#REF!"},{"$error":"#REF!"},{"$error":"#REF!"}]
[15,"Concordia",{"$f":"#REF!+#REF!+#REF!+#REF!+#REF!+#REF!+#REF!+#REF!+#REF!+#REF!+#REF!+#REF!+#REF!+#REF!+#REF!+#REF!+#REF!+#REF!+#REF!+#REF!+#REF!+#REF!+#REF!+#REF!+#REF!+#REF!+#REF!+#REF!+#REF!+#REF!+#REF!+Feb_Williams!C21+#REF!+#REF!+#REF!","v":{"$error":"#REF!"}},{"$f":"#REF!+#REF!+#REF!+#REF!+#REF!+#REF!+#REF!+#REF!+#REF!+#REF!+#REF!+#REF!+#REF!+#REF!+#REF!+#REF!+#REF!+#REF!+#REF!+#REF!+#REF!+#REF!+#REF!+#REF!+#REF!+#REF!+#REF!+#REF!+#REF!+#REF!+#REF!+Feb_Williams!D21+#REF!+#REF!+#REF!","v":{"$error":"#REF!"}},{"$f":"#REF!+#REF!+#REF!+#REF!+#REF!+#REF!+#REF!+#REF!+#REF!+#REF!+#REF!+#REF!+#REF!+#REF!+#REF!+#REF!+#REF!+#REF!+#REF!+#REF!+#REF!+#REF!+#REF!+#REF!+#REF!+#REF!+#REF!+#REF!+#REF!+#REF!+#REF!+Feb_Williams!E21+#REF!+#REF!+#REF!","v":{"$error":"#REF!"}},{"$f":"#REF!*0.5","v":{"$error":"#REF!"}},{"$f":"#REF!+#REF!+#REF!+#REF!+#REF!+#REF!+#REF!+#REF!+#REF!+#REF!+#REF!+#REF!+#REF!+#REF!+#REF!+#REF!+#REF!+#REF!+#REF!+#REF!+#REF!+#REF!+#REF!+#REF!+#REF!+#REF!+#REF!+#REF!+#REF!+#REF!+#REF!+Feb_Williams!G21+#REF!","v":{"$error":"#REF!"}},{"$f":"#REF!+#REF!+#REF!+#REF!+#REF!+#REF!+#REF!+#REF!+#REF!+#REF!+#REF!+#REF!+#REF!+#REF!+#REF!+#REF!+#REF!+#REF!+#REF!+#REF!+#REF!+#REF!+#REF!+#REF!+#REF!+#REF!+#REF!+#REF!+#REF!+#REF!+#REF!+Feb_Williams!H21+#REF!+#REF!+#REF!","v":{"$error":"#REF!"}},{"$f":"#REF!+#REF!+#REF!+#REF!+#REF!+#REF!+#REF!+#REF!+#REF!+#REF!+#REF!+#REF!+#REF!+#REF!+#REF!+#REF!+#REF!+#REF!+#REF!+#REF!+#REF!+#REF!+#REF!+#REF!+#REF!+#REF!+#REF!+#REF!+#REF!+#REF!+#REF!+Feb_Williams!I21+#REF!+#REF!+#REF!","v":{"$error":"#REF!"}},{"$f":"#REF!+#REF!+#REF!+#REF!+#REF!+#REF!+#REF!+#REF!+#REF!+#REF!+#REF!+#REF!+#REF!+#REF!+#REF!+#REF!+#REF!+#REF!+#REF!+#REF!+#REF!+#REF!+#REF!+#REF!+#REF!+#REF!+#REF!+#REF!+#REF!+#REF!+#REF!+Feb_Williams!J21+#REF!+#REF!+#REF!","v":{"$error":"#REF!"}},{"$f":"#REF!*0.5","v":{"$error":"#REF!"}},{"$f":"#REF!+#REF!+#REF!+#REF!+#REF!+#REF!+#REF!+#REF!+#REF!+#REF!+#REF!+#REF!+#REF!+#REF!+#REF!+#REF!+#REF!+#REF!+#REF!+#REF!+#REF!+#REF!+#REF!+#REF!+#REF!+#REF!+#REF!+#REF!+#REF!+#REF!+#REF!+Feb_Williams!L21+#REF!","v":{"$error":"#REF!"}},null,null,{"$f":"#REF!+#REF!+#REF!+#REF!+#REF!+#REF!+#REF!+#REF!+#REF!+#REF!+#REF!+#REF!+#REF!+#REF!+#REF!+#REF!+#REF!+#REF!+#REF!+#REF!+#REF!+#REF!+#REF!+#REF!+#REF!+#REF!+#REF!+#REF!+#REF!+#REF!+#REF!+Feb_Williams!O21+#REF!","v":{"$error":"#REF!"}},{"$f":"#REF!*0.5","v":{"$error":"#REF!"}},{"$f":"#REF!+#REF!+#REF!+#REF!+#REF!+#REF!+#REF!+#REF!+#REF!+#REF!+#REF!+#REF!+#REF!+#REF!+#REF!+#REF!+#REF!+#REF!+#REF!+#REF!+#REF!+#REF!+#REF!+#REF!+#REF!+#REF!+#REF!+#REF!+#REF!+#REF!+#REF!+Feb_Williams!Q21+#REF!","v":{"$error":"#REF!"}},null,null,{"$f":"#REF!+#REF!+#REF!+#REF!+#REF!+#REF!+#REF!+#REF!+#REF!+#REF!+#REF!+#REF!+#REF!+#REF!+#REF!+#REF!+#REF!+#REF!+#REF!+#REF!+#REF!+#REF!+#REF!+#REF!+#REF!+#REF!+#REF!+#REF!+#REF!+#REF!+#REF!+Feb_Williams!T21+#REF!","v":{"$error":"#REF!"}},{"$f":"#REF!*0.5","v":{"$error":"#REF!"}},{"$f":"#REF!+#REF!+#REF!+#REF!+#REF!+#REF!+#REF!+#REF!+#REF!+#REF!+#REF!+#REF!+#REF!+#REF!+#REF!+#REF!+#REF!+#REF!+#REF!+#REF!+#REF!+#REF!+#REF!+#REF!+#REF!+#REF!+#REF!+#REF!+#REF!+#REF!+#REF!+Feb_Williams!V21+#REF!","v":{"$error":"#REF!"}},{"$f":"#REF!+#REF!+#REF!+#REF!+#REF!+#REF!+#REF!+#REF!+#REF!+#REF!+#REF!+#REF!+#REF!+#REF!+#REF!+#REF!+#REF!+#REF!+#REF!+#REF!+#REF!+#REF!+#REF!+#REF!+#REF!+#REF!+#REF!+#REF!+#REF!+#REF!+#REF!+Feb_Williams!W21+#REF!","v":{"$error":"#REF!"}},{"$f":"#REF!*0.5","v":{"$error":"#REF!"}},{"$f":"#REF!+#REF!+#REF!+#REF!+#REF!+#REF!+#REF!+#REF!+#REF!+#REF!+#REF!+#REF!+#REF!+#REF!+#REF!+#REF!+#REF!+#REF!+#REF!+#REF!+#REF!+#REF!+#REF!+#REF!+#REF!+#REF!+#REF!+#REF!+#REF!+#REF!+#REF!+Feb_Williams!Y21+#REF!","v":{"$error":"#REF!"}},null,null,{"$error":"#REF!"},{"$error":"#REF!"},{"$error":"#REF!"},{"$error":"#REF!"}]
[16,"DeSoto",{"$f":"#REF!+#REF!+#REF!+#REF!+#REF!+#REF!+#REF!+#REF!+#REF!+#REF!+#REF!+#REF!+#REF!+#REF!+#REF!+#REF!+#REF!+#REF!+#REF!+#REF!+#REF!+#REF!+#REF!+#REF!+#REF!+#REF!+#REF!+#REF!+#REF!+#REF!+#REF!+Feb_Williams!C22+#REF!+#REF!+#REF!","v":{"$error":"#REF!"}},{"$f":"#REF!+#REF!+#REF!+#REF!+#REF!+#REF!+#REF!+#REF!+#REF!+#REF!+#REF!+#REF!+#REF!+#REF!+#REF!+#REF!+#REF!+#REF!+#REF!+#REF!+#REF!+#REF!+#REF!+#REF!+#REF!+#REF!+#REF!+#REF!+#REF!+#REF!+#REF!+Feb_Williams!D22+#REF!+#REF!+#REF!","v":{"$error":"#REF!"}},{"$f":"#REF!+#REF!+#REF!+#REF!+#REF!+#REF!+#REF!+#REF!+#REF!+#REF!+#REF!+#REF!+#REF!+#REF!+#REF!+#REF!+#REF!+#REF!+#REF!+#REF!+#REF!+#REF!+#REF!+#REF!+#REF!+#REF!+#REF!+#REF!+#REF!+#REF!+#REF!+Feb_Williams!E22+#REF!+#REF!+#REF!","v":{"$error":"#REF!"}},{"$f":"#REF!*0.5","v":{"$error":"#REF!"}},{"$f":"#REF!+#REF!+#REF!+#REF!+#REF!+#REF!+#REF!+#REF!+#REF!+#REF!+#REF!+#REF!+#REF!+#REF!+#REF!+#REF!+#REF!+#REF!+#REF!+#REF!+#REF!+#REF!+#REF!+#REF!+#REF!+#REF!+#REF!+#REF!+#REF!+#REF!+#REF!+Feb_Williams!G22+#REF!","v":{"$error":"#REF!"}},{"$f":"#REF!+#REF!+#REF!+#REF!+#REF!+#REF!+#REF!+#REF!+#REF!+#REF!+#REF!+#REF!+#REF!+#REF!+#REF!+#REF!+#REF!+#REF!+#REF!+#REF!+#REF!+#REF!+#REF!+#REF!+#REF!+#REF!+#REF!+#REF!+#REF!+#REF!+#REF!+Feb_Williams!H22+#REF!+#REF!+#REF!","v":{"$error":"#REF!"}},{"$f":"#REF!+#REF!+#REF!+#REF!+#REF!+#REF!+#REF!+#REF!+#REF!+#REF!+#REF!+#REF!+#REF!+#REF!+#REF!+#REF!+#REF!+#REF!+#REF!+#REF!+#REF!+#REF!+#REF!+#REF!+#REF!+#REF!+#REF!+#REF!+#REF!+#REF!+#REF!+Feb_Williams!I22+#REF!+#REF!+#REF!","v":{"$error":"#REF!"}},{"$f":"#REF!+#REF!+#REF!+#REF!+#REF!+#REF!+#REF!+#REF!+#REF!+#REF!+#REF!+#REF!+#REF!+#REF!+#REF!+#REF!+#REF!+#REF!+#REF!+#REF!+#REF!+#REF!+#REF!+#REF!+#REF!+#REF!+#REF!+#REF!+#REF!+#REF!+#REF!+Feb_Williams!J22+#REF!+#REF!+#REF!","v":{"$error":"#REF!"}},{"$f":"#REF!*0.5","v":{"$error":"#REF!"}},{"$f":"#REF!+#REF!+#REF!+#REF!+#REF!+#REF!+#REF!+#REF!+#REF!+#REF!+#REF!+#REF!+#REF!+#REF!+#REF!+#REF!+#REF!+#REF!+#REF!+#REF!+#REF!+#REF!+#REF!+#REF!+#REF!+#REF!+#REF!+#REF!+#REF!+#REF!+#REF!+Feb_Williams!L22+#REF!","v":{"$error":"#REF!"}},null,null,{"$f":"#REF!+#REF!+#REF!+#REF!+#REF!+#REF!+#REF!+#REF!+#REF!+#REF!+#REF!+#REF!+#REF!+#REF!+#REF!+#REF!+#REF!+#REF!+#REF!+#REF!+#REF!+#REF!+#REF!+#REF!+#REF!+#REF!+#REF!+#REF!+#REF!+#REF!+#REF!+Feb_Williams!O22+#REF!","v":{"$error":"#REF!"}},{"$f":"#REF!*0.5","v":{"$error":"#REF!"}},{"$f":"#REF!+#REF!+#REF!+#REF!+#REF!+#REF!+#REF!+#REF!+#REF!+#REF!+#REF!+#REF!+#REF!+#REF!+#REF!+#REF!+#REF!+#REF!+#REF!+#REF!+#REF!+#REF!+#REF!+#REF!+#REF!+#REF!+#REF!+#REF!+#REF!+#REF!+#REF!+Feb_Williams!Q22+#REF!","v":{"$error":"#REF!"}},null,null,{"$f":"#REF!+#REF!+#REF!+#REF!+#REF!+#REF!+#REF!+#REF!+#REF!+#REF!+#REF!+#REF!+#REF!+#REF!+#REF!+#REF!+#REF!+#REF!+#REF!+#REF!+#REF!+#REF!+#REF!+#REF!+#REF!+#REF!+#REF!+#REF!+#REF!+#REF!+#REF!+Feb_Williams!T22+#REF!","v":{"$error":"#REF!"}},{"$f":"#REF!*0.5","v":{"$error":"#REF!"}},{"$f":"#REF!+#REF!+#REF!+#REF!+#REF!+#REF!+#REF!+#REF!+#REF!+#REF!+#REF!+#REF!+#REF!+#REF!+#REF!+#REF!+#REF!+#REF!+#REF!+#REF!+#REF!+#REF!+#REF!+#REF!+#REF!+#REF!+#REF!+#REF!+#REF!+#REF!+#REF!+Feb_Williams!V22+#REF!","v":{"$error":"#REF!"}},{"$f":"#REF!+#REF!+#REF!+#REF!+#REF!+#REF!+#REF!+#REF!+#REF!+#REF!+#REF!+#REF!+#REF!+#REF!+#REF!+#REF!+#REF!+#REF!+#REF!+#REF!+#REF!+#REF!+#REF!+#REF!+#REF!+#REF!+#REF!+#REF!+#REF!+#REF!+#REF!+Feb_Williams!W22+#REF!","v":{"$error":"#REF!"}},{"$f":"#REF!*0.5","v":{"$error":"#REF!"}},{"$f":"#REF!+#REF!+#REF!+#REF!+#REF!+#REF!+#REF!+#REF!+#REF!+#REF!+#REF!+#REF!+#REF!+#REF!+#REF!+#REF!+#REF!+#REF!+#REF!+#REF!+#REF!+#REF!+#REF!+#REF!+#REF!+#REF!+#REF!+#REF!+#REF!+#REF!+#REF!+Feb_Williams!Y22+#REF!","v":{"$error":"#REF!"}},null,null,{"$error":"#REF!"},{"$error":"#REF!"},{"$error":"#REF!"},{"$error":"#REF!"}]
[17,"East Baton Rouge",{"$f":"#REF!+#REF!+#REF!+#REF!+#REF!+#REF!+#REF!+#REF!+#REF!+#REF!+#REF!+#REF!+#REF!+#REF!+#REF!+#REF!+#REF!+#REF!+#REF!+#REF!+#REF!+#REF!+#REF!+#REF!+#REF!+#REF!+#REF!+#REF!+#REF!+#REF!+#REF!+Feb_Williams!C23+#REF!+#REF!+#REF!","v":{"$error":"#REF!"}},{"$f":"#REF!+#REF!+#REF!+#REF!+#REF!+#REF!+#REF!+#REF!+#REF!+#REF!+#REF!+#REF!+#REF!+#REF!+#REF!+#REF!+#REF!+#REF!+#REF!+#REF!+#REF!+#REF!+#REF!+#REF!+#REF!+#REF!+#REF!+#REF!+#REF!+#REF!+#REF!+Feb_Williams!D23+#REF!+#REF!+#REF!","v":{"$error":"#REF!"}},{"$f":"#REF!+#REF!+#REF!+#REF!+#REF!+#REF!+#REF!+#REF!+#REF!+#REF!+#REF!+#REF!+#REF!+#REF!+#REF!+#REF!+#REF!+#REF!+#REF!+#REF!+#REF!+#REF!+#REF!+#REF!+#REF!+#REF!+#REF!+#REF!+#REF!+#REF!+#REF!+Feb_Williams!E23+#REF!+#REF!+#REF!","v":{"$error":"#REF!"}},{"$f":"#REF!*0.5","v":{"$error":"#REF!"}},{"$f":"#REF!+#REF!+#REF!+#REF!+#REF!+#REF!+#REF!+#REF!+#REF!+#REF!+#REF!+#REF!+#REF!+#REF!+#REF!+#REF!+#REF!+#REF!+#REF!+#REF!+#REF!+#REF!+#REF!+#REF!+#REF!+#REF!+#REF!+#REF!+#REF!+#REF!+#REF!+Feb_Williams!G23+#REF!","v":{"$error":"#REF!"}},{"$f":"#REF!+#REF!+#REF!+#REF!+#REF!+#REF!+#REF!+#REF!+#REF!+#REF!+#REF!+#REF!+#REF!+#REF!+#REF!+#REF!+#REF!+#REF!+#REF!+#REF!+#REF!+#REF!+#REF!+#REF!+#REF!+#REF!+#REF!+#REF!+#REF!+#REF!+#REF!+Feb_Williams!H23+#REF!+#REF!+#REF!","v":{"$error":"#REF!"}},{"$f":"#REF!+#REF!+#REF!+#REF!+#REF!+#REF!+#REF!+#REF!+#REF!+#REF!+#REF!+#REF!+#REF!+#REF!+#REF!+#REF!+#REF!+#REF!+#REF!+#REF!+#REF!+#REF!+#REF!+#REF!+#REF!+#REF!+#REF!+#REF!+#REF!+#REF!+#REF!+Feb_Williams!I23+#REF!+#REF!+#REF!","v":{"$error":"#REF!"}},{"$f":"#REF!+#REF!+#REF!+#REF!+#REF!+#REF!+#REF!+#REF!+#REF!+#REF!+#REF!+#REF!+#REF!+#REF!+#REF!+#REF!+#REF!+#REF!+#REF!+#REF!+#REF!+#REF!+#REF!+#REF!+#REF!+#REF!+#REF!+#REF!+#REF!+#REF!+#REF!+Feb_Williams!J23+#REF!+#REF!+#REF!","v":{"$error":"#REF!"}},{"$f":"#REF!*0.5","v":{"$error":"#REF!"}},{"$f":"#REF!+#REF!+#REF!+#REF!+#REF!+#REF!+#REF!+#REF!+#REF!+#REF!+#REF!+#REF!+#REF!+#REF!+#REF!+#REF!+#REF!+#REF!+#REF!+#REF!+#REF!+#REF!+#REF!+#REF!+#REF!+#REF!+#REF!+#REF!+#REF!+#REF!+#REF!+Feb_Williams!L23+#REF!","v":{"$error":"#REF!"}},null,null,{"$f":"#REF!+#REF!+#REF!+#REF!+#REF!+#REF!+#REF!+#REF!+#REF!+#REF!+#REF!+#REF!+#REF!+#REF!+#REF!+#REF!+#REF!+#REF!+#REF!+#REF!+#REF!+#REF!+#REF!+#REF!+#REF!+#REF!+#REF!+#REF!+#REF!+#REF!+#REF!+Feb_Williams!O23+#REF!","v":{"$error":"#REF!"}},{"$f":"#REF!*0.5","v":{"$error":"#REF!"}},{"$f":"#REF!+#REF!+#REF!+#REF!+#REF!+#REF!+#REF!+#REF!+#REF!+#REF!+#REF!+#REF!+#REF!+#REF!+#REF!+#REF!+#REF!+#REF!+#REF!+#REF!+#REF!+#REF!+#REF!+#REF!+#REF!+#REF!+#REF!+#REF!+#REF!+#REF!+#REF!+Feb_Williams!Q23+#REF!","v":{"$error":"#REF!"}},null,null,{"$f":"#REF!+#REF!+#REF!+#REF!+#REF!+#REF!+#REF!+#REF!+#REF!+#REF!+#REF!+#REF!+#REF!+#REF!+#REF!+#REF!+#REF!+#REF!+#REF!+#REF!+#REF!+#REF!+#REF!+#REF!+#REF!+#REF!+#REF!+#REF!+#REF!+#REF!+#REF!+Feb_Williams!T23+#REF!","v":{"$error":"#REF!"}},{"$f":"#REF!*0.5","v":{"$error":"#REF!"}},{"$f":"#REF!+#REF!+#REF!+#REF!+#REF!+#REF!+#REF!+#REF!+#REF!+#REF!+#REF!+#REF!+#REF!+#REF!+#REF!+#REF!+#REF!+#REF!+#REF!+#REF!+#REF!+#REF!+#REF!+#REF!+#REF!+#REF!+#REF!+#REF!+#REF!+#REF!+#REF!+Feb_Williams!V23+#REF!","v":{"$error":"#REF!"}},{"$f":"#REF!+#REF!+#REF!+#REF!+#REF!+#REF!+#REF!+#REF!+#REF!+#REF!+#REF!+#REF!+#REF!+#REF!+#REF!+#REF!+#REF!+#REF!+#REF!+#REF!+#REF!+#REF!+#REF!+#REF!+#REF!+#REF!+#REF!+#REF!+#REF!+#REF!+#REF!+Feb_Williams!W23+#REF!","v":{"$error":"#REF!"}},{"$f":"#REF!*0.5","v":{"$error":"#REF!"}},{"$f":"#REF!+#REF!+#REF!+#REF!+#REF!+#REF!+#REF!+#REF!+#REF!+#REF!+#REF!+#REF!+#REF!+#REF!+#REF!+#REF!+#REF!+#REF!+#REF!+#REF!+#REF!+#REF!+#REF!+#REF!+#REF!+#REF!+#REF!+#REF!+#REF!+#REF!+#REF!+Feb_Williams!Y23+#REF!","v":{"$error":"#REF!"}},null,null,{"$error":"#REF!"},{"$error":"#REF!"},{"$error":"#REF!"},{"$error":"#REF!"}]
[18,"East Carroll",{"$f":"#REF!+#REF!+#REF!+#REF!+#REF!+#REF!+#REF!+#REF!+#REF!+#REF!+#REF!+#REF!+#REF!+#REF!+#REF!+#REF!+#REF!+#REF!+#REF!+#REF!+#REF!+#REF!+#REF!+#REF!+#REF!+#REF!+#REF!+#REF!+#REF!+#REF!+#REF!+Feb_Williams!C24+#REF!+#REF!+#REF!","v":{"$error":"#REF!"}},{"$f":"#REF!+#REF!+#REF!+#REF!+#REF!+#REF!+#REF!+#REF!+#REF!+#REF!+#REF!+#REF!+#REF!+#REF!+#REF!+#REF!+#REF!+#REF!+#REF!+#REF!+#REF!+#REF!+#REF!+#REF!+#REF!+#REF!+#REF!+#REF!+#REF!+#REF!+#REF!+Feb_Williams!D24+#REF!+#REF!+#REF!","v":{"$error":"#REF!"}},{"$f":"#REF!+#REF!+#REF!+#REF!+#REF!+#REF!+#REF!+#REF!+#REF!+#REF!+#REF!+#REF!+#REF!+#REF!+#REF!+#REF!+#REF!+#REF!+#REF!+#REF!+#REF!+#REF!+#REF!+#REF!+#REF!+#REF!+#REF!+#REF!+#REF!+#REF!+#REF!+Feb_Williams!E24+#REF!+#REF!+#REF!","v":{"$error":"#REF!"}},{"$f":"#REF!*0.5","v":{"$error":"#REF!"}},{"$f":"#REF!+#REF!+#REF!+#REF!+#REF!+#REF!+#REF!+#REF!+#REF!+#REF!+#REF!+#REF!+#REF!+#REF!+#REF!+#REF!+#REF!+#REF!+#REF!+#REF!+#REF!+#REF!+#REF!+#REF!+#REF!+#REF!+#REF!+#REF!+#REF!+#REF!+#REF!+Feb_Williams!G24+#REF!","v":{"$error":"#REF!"}},{"$f":"#REF!+#REF!+#REF!+#REF!+#REF!+#REF!+#REF!+#REF!+#REF!+#REF!+#REF!+#REF!+#REF!+#REF!+#REF!+#REF!+#REF!+#REF!+#REF!+#REF!+#REF!+#REF!+#REF!+#REF!+#REF!+#REF!+#REF!+#REF!+#REF!+#REF!+#REF!+Feb_Williams!H24+#REF!+#REF!+#REF!","v":{"$error":"#REF!"}},{"$f":"#REF!+#REF!+#REF!+#REF!+#REF!+#REF!+#REF!+#REF!+#REF!+#REF!+#REF!+#REF!+#REF!+#REF!+#REF!+#REF!+#REF!+#REF!+#REF!+#REF!+#REF!+#REF!+#REF!+#REF!+#REF!+#REF!+#REF!+#REF!+#REF!+#REF!+#REF!+Feb_Williams!I24+#REF!+#REF!+#REF!","v":{"$error":"#REF!"}},{"$f":"#REF!+#REF!+#REF!+#REF!+#REF!+#REF!+#REF!+#REF!+#REF!+#REF!+#REF!+#REF!+#REF!+#REF!+#REF!+#REF!+#REF!+#REF!+#REF!+#REF!+#REF!+#REF!+#REF!+#REF!+#REF!+#REF!+#REF!+#REF!+#REF!+#REF!+#REF!+Feb_Williams!J24+#REF!+#REF!+#REF!","v":{"$error":"#REF!"}},{"$f":"#REF!*0.5","v":{"$error":"#REF!"}},{"$f":"#REF!+#REF!+#REF!+#REF!+#REF!+#REF!+#REF!+#REF!+#REF!+#REF!+#REF!+#REF!+#REF!+#REF!+#REF!+#REF!+#REF!+#REF!+#REF!+#REF!+#REF!+#REF!+#REF!+#REF!+#REF!+#REF!+#REF!+#REF!+#REF!+#REF!+#REF!+Feb_Williams!L24+#REF!","v":{"$error":"#REF!"}},null,null,{"$f":"#REF!+#REF!+#REF!+#REF!+#REF!+#REF!+#REF!+#REF!+#REF!+#REF!+#REF!+#REF!+#REF!+#REF!+#REF!+#REF!+#REF!+#REF!+#REF!+#REF!+#REF!+#REF!+#REF!+#REF!+#REF!+#REF!+#REF!+#REF!+#REF!+#REF!+#REF!+Feb_Williams!O24+#REF!","v":{"$error":"#REF!"}},{"$f":"#REF!*0.5","v":{"$error":"#REF!"}},{"$f":"#REF!+#REF!+#REF!+#REF!+#REF!+#REF!+#REF!+#REF!+#REF!+#REF!+#REF!+#REF!+#REF!+#REF!+#REF!+#REF!+#REF!+#REF!+#REF!+#REF!+#REF!+#REF!+#REF!+#REF!+#REF!+#REF!+#REF!+#REF!+#REF!+#REF!+#REF!+Feb_Williams!Q24+#REF!","v":{"$error":"#REF!"}},null,null,{"$f":"#REF!+#REF!+#REF!+#REF!+#REF!+#REF!+#REF!+#REF!+#REF!+#REF!+#REF!+#REF!+#REF!+#REF!+#REF!+#REF!+#REF!+#REF!+#REF!+#REF!+#REF!+#REF!+#REF!+#REF!+#REF!+#REF!+#REF!+#REF!+#REF!+#REF!+#REF!+Feb_Williams!T24+#REF!","v":{"$error":"#REF!"}},{"$f":"#REF!*0.5","v":{"$error":"#REF!"}},{"$f":"#REF!+#REF!+#REF!+#REF!+#REF!+#REF!+#REF!+#REF!+#REF!+#REF!+#REF!+#REF!+#REF!+#REF!+#REF!+#REF!+#REF!+#REF!+#REF!+#REF!+#REF!+#REF!+#REF!+#REF!+#REF!+#REF!+#REF!+#REF!+#REF!+#REF!+#REF!+Feb_Williams!V24+#REF!","v":{"$error":"#REF!"}},{"$f":"#REF!+#REF!+#REF!+#REF!+#REF!+#REF!+#REF!+#REF!+#REF!+#REF!+#REF!+#REF!+#REF!+#REF!+#REF!+#REF!+#REF!+#REF!+#REF!+#REF!+#REF!+#REF!+#REF!+#REF!+#REF!+#REF!+#REF!+#REF!+#REF!+#REF!+#REF!+Feb_Williams!W24+#REF!","v":{"$error":"#REF!"}},{"$f":"#REF!*0.5","v":{"$error":"#REF!"}},{"$f":"#REF!+#REF!+#REF!+#REF!+#REF!+#REF!+#REF!+#REF!+#REF!+#REF!+#REF!+#REF!+#REF!+#REF!+#REF!+#REF!+#REF!+#REF!+#REF!+#REF!+#REF!+#REF!+#REF!+#REF!+#REF!+#REF!+#REF!+#REF!+#REF!+#REF!+#REF!+Feb_Williams!Y24+#REF!","v":{"$error":"#REF!"}},null,null,{"$error":"#REF!"},{"$error":"#REF!"},{"$error":"#REF!"},{"$error":"#REF!"}]
[19,"East Feliciana",{"$f":"#REF!+#REF!+#REF!+#REF!+#REF!+#REF!+#REF!+#REF!+#REF!+#REF!+#REF!+#REF!+#REF!+#REF!+#REF!+#REF!+#REF!+#REF!+#REF!+#REF!+#REF!+#REF!+#REF!+#REF!+#REF!+#REF!+#REF!+#REF!+#REF!+#REF!+#REF!+Feb_Williams!C25+#REF!+#REF!+#REF!","v":{"$error":"#REF!"}},{"$f":"#REF!+#REF!+#REF!+#REF!+#REF!+#REF!+#REF!+#REF!+#REF!+#REF!+#REF!+#REF!+#REF!+#REF!+#REF!+#REF!+#REF!+#REF!+#REF!+#REF!+#REF!+#REF!+#REF!+#REF!+#REF!+#REF!+#REF!+#REF!+#REF!+#REF!+#REF!+Feb_Williams!D25+#REF!+#REF!+#REF!","v":{"$error":"#REF!"}},{"$f":"#REF!+#REF!+#REF!+#REF!+#REF!+#REF!+#REF!+#REF!+#REF!+#REF!+#REF!+#REF!+#REF!+#REF!+#REF!+#REF!+#REF!+#REF!+#REF!+#REF!+#REF!+#REF!+#REF!+#REF!+#REF!+#REF!+#REF!+#REF!+#REF!+#REF!+#REF!+Feb_Williams!E25+#REF!+#REF!+#REF!","v":{"$error":"#REF!"}},{"$f":"#REF!*0.5","v":{"$error":"#REF!"}},{"$f":"#REF!+#REF!+#REF!+#REF!+#REF!+#REF!+#REF!+#REF!+#REF!+#REF!+#REF!+#REF!+#REF!+#REF!+#REF!+#REF!+#REF!+#REF!+#REF!+#REF!+#REF!+#REF!+#REF!+#REF!+#REF!+#REF!+#REF!+#REF!+#REF!+#REF!+#REF!+Feb_Williams!G25+#REF!","v":{"$error":"#REF!"}},{"$f":"#REF!+#REF!+#REF!+#REF!+#REF!+#REF!+#REF!+#REF!+#REF!+#REF!+#REF!+#REF!+#REF!+#REF!+#REF!+#REF!+#REF!+#REF!+#REF!+#REF!+#REF!+#REF!+#REF!+#REF!+#REF!+#REF!+#REF!+#REF!+#REF!+#REF!+#REF!+Feb_Williams!H25+#REF!+#REF!+#REF!","v":{"$error":"#REF!"}},{"$f":"#REF!+#REF!+#REF!+#REF!+#REF!+#REF!+#REF!+#REF!+#REF!+#REF!+#REF!+#REF!+#REF!+#REF!+#REF!+#REF!+#REF!+#REF!+#REF!+#REF!+#REF!+#REF!+#REF!+#REF!+#REF!+#REF!+#REF!+#REF!+#REF!+#REF!+#REF!+Feb_Williams!I25+#REF!+#REF!+#REF!","v":{"$error":"#REF!"}},{"$f":"#REF!+#REF!+#REF!+#REF!+#REF!+#REF!+#REF!+#REF!+#REF!+#REF!+#REF!+#REF!+#REF!+#REF!+#REF!+#REF!+#REF!+#REF!+#REF!+#REF!+#REF!+#REF!+#REF!+#REF!+#REF!+#REF!+#REF!+#REF!+#REF!+#REF!+#REF!+Feb_Williams!J25+#REF!+#REF!+#REF!","v":{"$error":"#REF!"}},{"$f":"#REF!*0.5","v":{"$error":"#REF!"}},{"$f":"#REF!+#REF!+#REF!+#REF!+#REF!+#REF!+#REF!+#REF!+#REF!+#REF!+#REF!+#REF!+#REF!+#REF!+#REF!+#REF!+#REF!+#REF!+#REF!+#REF!+#REF!+#REF!+#REF!+#REF!+#REF!+#REF!+#REF!+#REF!+#REF!+#REF!+#REF!+Feb_Williams!L25+#REF!","v":{"$error":"#REF!"}},null,null,{"$f":"#REF!+#REF!+#REF!+#REF!+#REF!+#REF!+#REF!+#REF!+#REF!+#REF!+#REF!+#REF!+#REF!+#REF!+#REF!+#REF!+#REF!+#REF!+#REF!+#REF!+#REF!+#REF!+#REF!+#REF!+#REF!+#REF!+#REF!+#REF!+#REF!+#REF!+#REF!+Feb_Williams!O25+#REF!","v":{"$error":"#REF!"}},{"$f":"#REF!*0.5","v":{"$error":"#REF!"}},{"$f":"#REF!+#REF!+#REF!+#REF!+#REF!+#REF!+#REF!+#REF!+#REF!+#REF!+#REF!+#REF!+#REF!+#REF!+#REF!+#REF!+#REF!+#REF!+#REF!+#REF!+#REF!+#REF!+#REF!+#REF!+#REF!+#REF!+#REF!+#REF!+#REF!+#REF!+#REF!+Feb_Williams!Q25+#REF!","v":{"$error":"#REF!"}},null,null,{"$f":"#REF!+#REF!+#REF!+#REF!+#REF!+#REF!+#REF!+#REF!+#REF!+#REF!+#REF!+#REF!+#REF!+#REF!+#REF!+#REF!+#REF!+#REF!+#REF!+#REF!+#REF!+#REF!+#REF!+#REF!+#REF!+#REF!+#REF!+#REF!+#REF!+#REF!+#REF!+Feb_Williams!T25+#REF!","v":{"$error":"#REF!"}},{"$f":"#REF!*0.5","v":{"$error":"#REF!"}},{"$f":"#REF!+#REF!+#REF!+#REF!+#REF!+#REF!+#REF!+#REF!+#REF!+#REF!+#REF!+#REF!+#REF!+#REF!+#REF!+#REF!+#REF!+#REF!+#REF!+#REF!+#REF!+#REF!+#REF!+#REF!+#REF!+#REF!+#REF!+#REF!+#REF!+#REF!+#REF!+Feb_Williams!V25+#REF!","v":{"$error":"#REF!"}},{"$f":"#REF!+#REF!+#REF!+#REF!+#REF!+#REF!+#REF!+#REF!+#REF!+#REF!+#REF!+#REF!+#REF!+#REF!+#REF!+#REF!+#REF!+#REF!+#REF!+#REF!+#REF!+#REF!+#REF!+#REF!+#REF!+#REF!+#REF!+#REF!+#REF!+#REF!+#REF!+Feb_Williams!W25+#REF!","v":{"$error":"#REF!"}},{"$f":"#REF!*0.5","v":{"$error":"#REF!"}},{"$f":"#REF!+#REF!+#REF!+#REF!+#REF!+#REF!+#REF!+#REF!+#REF!+#REF!+#REF!+#REF!+#REF!+#REF!+#REF!+#REF!+#REF!+#REF!+#REF!+#REF!+#REF!+#REF!+#REF!+#REF!+#REF!+#REF!+#REF!+#REF!+#REF!+#REF!+#REF!+Feb_Williams!Y25+#REF!","v":{"$error":"#REF!"}},null,null,{"$error":"#REF!"},{"$error":"#REF!"},{"$error":"#REF!"},{"$error":"#REF!"}]
[20,"Evangeline",{"$f":"#REF!+#REF!+#REF!+#REF!+#REF!+#REF!+#REF!+#REF!+#REF!+#REF!+#REF!+#REF!+#REF!+#REF!+#REF!+#REF!+#REF!+#REF!+#REF!+#REF!+#REF!+#REF!+#REF!+#REF!+#REF!+#REF!+#REF!+#REF!+#REF!+#REF!+#REF!+Feb_Williams!C26+#REF!+#REF!+#REF!","v":{"$error":"#REF!"}},{"$f":"#REF!+#REF!+#REF!+#REF!+#REF!+#REF!+#REF!+#REF!+#REF!+#REF!+#REF!+#REF!+#REF!+#REF!+#REF!+#REF!+#REF!+#REF!+#REF!+#REF!+#REF!+#REF!+#REF!+#REF!+#REF!+#REF!+#REF!+#REF!+#REF!+#REF!+#REF!+Feb_Williams!D26+#REF!+#REF!+#REF!","v":{"$error":"#REF!"}},{"$f":"#REF!+#REF!+#REF!+#REF!+#REF!+#REF!+#REF!+#REF!+#REF!+#REF!+#REF!+#REF!+#REF!+#REF!+#REF!+#REF!+#REF!+#REF!+#REF!+#REF!+#REF!+#REF!+#REF!+#REF!+#REF!+#REF!+#REF!+#REF!+#REF!+#REF!+#REF!+Feb_Williams!E26+#REF!+#REF!+#REF!","v":{"$error":"#REF!"}},{"$f":"#REF!*0.5","v":{"$error":"#REF!"}},{"$f":"#REF!+#REF!+#REF!+#REF!+#REF!+#REF!+#REF!+#REF!+#REF!+#REF!+#REF!+#REF!+#REF!+#REF!+#REF!+#REF!+#REF!+#REF!+#REF!+#REF!+#REF!+#REF!+#REF!+#REF!+#REF!+#REF!+#REF!+#REF!+#REF!+#REF!+#REF!+Feb_Williams!G26+#REF!","v":{"$error":"#REF!"}},{"$f":"#REF!+#REF!+#REF!+#REF!+#REF!+#REF!+#REF!+#REF!+#REF!+#REF!+#REF!+#REF!+#REF!+#REF!+#REF!+#REF!+#REF!+#REF!+#REF!+#REF!+#REF!+#REF!+#REF!+#REF!+#REF!+#REF!+#REF!+#REF!+#REF!+#REF!+#REF!+Feb_Williams!H26+#REF!+#REF!+#REF!","v":{"$error":"#REF!"}},{"$f":"#REF!+#REF!+#REF!+#REF!+#REF!+#REF!+#REF!+#REF!+#REF!+#REF!+#REF!+#REF!+#REF!+#REF!+#REF!+#REF!+#REF!+#REF!+#REF!+#REF!+#REF!+#REF!+#REF!+#REF!+#REF!+#REF!+#REF!+#REF!+#REF!+#REF!+#REF!+Feb_Williams!I26+#REF!+#REF!+#REF!","v":{"$error":"#REF!"}},{"$f":"#REF!+#REF!+#REF!+#REF!+#REF!+#REF!+#REF!+#REF!+#REF!+#REF!+#REF!+#REF!+#REF!+#REF!+#REF!+#REF!+#REF!+#REF!+#REF!+#REF!+#REF!+#REF!+#REF!+#REF!+#REF!+#REF!+#REF!+#REF!+#REF!+#REF!+#REF!+Feb_Williams!J26+#REF!+#REF!+#REF!","v":{"$error":"#REF!"}},{"$f":"#REF!*0.5","v":{"$error":"#REF!"}},{"$f":"#REF!+#REF!+#REF!+#REF!+#REF!+#REF!+#REF!+#REF!+#REF!+#REF!+#REF!+#REF!+#REF!+#REF!+#REF!+#REF!+#REF!+#REF!+#REF!+#REF!+#REF!+#REF!+#REF!+#REF!+#REF!+#REF!+#REF!+#REF!+#REF!+#REF!+#REF!+Feb_Williams!L26+#REF!","v":{"$error":"#REF!"}},null,null,{"$f":"#REF!+#REF!+#REF!+#REF!+#REF!+#REF!+#REF!+#REF!+#REF!+#REF!+#REF!+#REF!+#REF!+#REF!+#REF!+#REF!+#REF!+#REF!+#REF!+#REF!+#REF!+#REF!+#REF!+#REF!+#REF!+#REF!+#REF!+#REF!+#REF!+#REF!+#REF!+Feb_Williams!O26+#REF!","v":{"$error":"#REF!"}},{"$f":"#REF!*0.5","v":{"$error":"#REF!"}},{"$f":"#REF!+#REF!+#REF!+#REF!+#REF!+#REF!+#REF!+#REF!+#REF!+#REF!+#REF!+#REF!+#REF!+#REF!+#REF!+#REF!+#REF!+#REF!+#REF!+#REF!+#REF!+#REF!+#REF!+#REF!+#REF!+#REF!+#REF!+#REF!+#REF!+#REF!+#REF!+Feb_Williams!Q26+#REF!","v":{"$error":"#REF!"}},null,null,{"$f":"#REF!+#REF!+#REF!+#REF!+#REF!+#REF!+#REF!+#REF!+#REF!+#REF!+#REF!+#REF!+#REF!+#REF!+#REF!+#REF!+#REF!+#REF!+#REF!+#REF!+#REF!+#REF!+#REF!+#REF!+#REF!+#REF!+#REF!+#REF!+#REF!+#REF!+#REF!+Feb_Williams!T26+#REF!","v":{"$error":"#REF!"}},{"$f":"#REF!*0.5","v":{"$error":"#REF!"}},{"$f":"#REF!+#REF!+#REF!+#REF!+#REF!+#REF!+#REF!+#REF!+#REF!+#REF!+#REF!+#REF!+#REF!+#REF!+#REF!+#REF!+#REF!+#REF!+#REF!+#REF!+#REF!+#REF!+#REF!+#REF!+#REF!+#REF!+#REF!+#REF!+#REF!+#REF!+#REF!+Feb_Williams!V26+#REF!","v":{"$error":"#REF!"}},{"$f":"#REF!+#REF!+#REF!+#REF!+#REF!+#REF!+#REF!+#REF!+#REF!+#REF!+#REF!+#REF!+#REF!+#REF!+#REF!+#REF!+#REF!+#REF!+#REF!+#REF!+#REF!+#REF!+#REF!+#REF!+#REF!+#REF!+#REF!+#REF!+#REF!+#REF!+#REF!+Feb_Williams!W26+#REF!","v":{"$error":"#REF!"}},{"$f":"#REF!*0.5","v":{"$error":"#REF!"}},{"$f":"#REF!+#REF!+#REF!+#REF!+#REF!+#REF!+#REF!+#REF!+#REF!+#REF!+#REF!+#REF!+#REF!+#REF!+#REF!+#REF!+#REF!+#REF!+#REF!+#REF!+#REF!+#REF!+#REF!+#REF!+#REF!+#REF!+#REF!+#REF!+#REF!+#REF!+#REF!+Feb_Williams!Y26+#REF!","v":{"$error":"#REF!"}},null,null,{"$error":"#REF!"},{"$error":"#REF!"},{"$error":"#REF!"},{"$error":"#REF!"}]
[21,"Franklin",{"$f":"#REF!+#REF!+#REF!+#REF!+#REF!+#REF!+#REF!+#REF!+#REF!+#REF!+#REF!+#REF!+#REF!+#REF!+#REF!+#REF!+#REF!+#REF!+#REF!+#REF!+#REF!+#REF!+#REF!+#REF!+#REF!+#REF!+#REF!+#REF!+#REF!+#REF!+#REF!+Feb_Williams!C27+#REF!+#REF!+#REF!","v":{"$error":"#REF!"}},{"$f":"#REF!+#REF!+#REF!+#REF!+#REF!+#REF!+#REF!+#REF!+#REF!+#REF!+#REF!+#REF!+#REF!+#REF!+#REF!+#REF!+#REF!+#REF!+#REF!+#REF!+#REF!+#REF!+#REF!+#REF!+#REF!+#REF!+#REF!+#REF!+#REF!+#REF!+#REF!+Feb_Williams!D27+#REF!+#REF!+#REF!","v":{"$error":"#REF!"}},{"$f":"#REF!+#REF!+#REF!+#REF!+#REF!+#REF!+#REF!+#REF!+#REF!+#REF!+#REF!+#REF!+#REF!+#REF!+#REF!+#REF!+#REF!+#REF!+#REF!+#REF!+#REF!+#REF!+#REF!+#REF!+#REF!+#REF!+#REF!+#REF!+#REF!+#REF!+#REF!+Feb_Williams!E27+#REF!+#REF!+#REF!","v":{"$error":"#REF!"}},{"$f":"#REF!*0.5","v":{"$error":"#REF!"}},{"$f":"#REF!+#REF!+#REF!+#REF!+#REF!+#REF!+#REF!+#REF!+#REF!+#REF!+#REF!+#REF!+#REF!+#REF!+#REF!+#REF!+#REF!+#REF!+#REF!+#REF!+#REF!+#REF!+#REF!+#REF!+#REF!+#REF!+#REF!+#REF!+#REF!+#REF!+#REF!+Feb_Williams!G27+#REF!","v":{"$error":"#REF!"}},{"$f":"#REF!+#REF!+#REF!+#REF!+#REF!+#REF!+#REF!+#REF!+#REF!+#REF!+#REF!+#REF!+#REF!+#REF!+#REF!+#REF!+#REF!+#REF!+#REF!+#REF!+#REF!+#REF!+#REF!+#REF!+#REF!+#REF!+#REF!+#REF!+#REF!+#REF!+#REF!+Feb_Williams!H27+#REF!+#REF!+#REF!","v":{"$error":"#REF!"}},{"$f":"#REF!+#REF!+#REF!+#REF!+#REF!+#REF!+#REF!+#REF!+#REF!+#REF!+#REF!+#REF!+#REF!+#REF!+#REF!+#REF!+#REF!+#REF!+#REF!+#REF!+#REF!+#REF!+#REF!+#REF!+#REF!+#REF!+#REF!+#REF!+#REF!+#REF!+#REF!+Feb_Williams!I27+#REF!+#REF!+#REF!","v":{"$error":"#REF!"}},{"$f":"#REF!+#REF!+#REF!+#REF!+#REF!+#REF!+#REF!+#REF!+#REF!+#REF!+#REF!+#REF!+#REF!+#REF!+#REF!+#REF!+#REF!+#REF!+#REF!+#REF!+#REF!+#REF!+#REF!+#REF!+#REF!+#REF!+#REF!+#REF!+#REF!+#REF!+#REF!+Feb_Williams!J27+#REF!+#REF!+#REF!","v":{"$error":"#REF!"}},{"$f":"#REF!*0.5","v":{"$error":"#REF!"}},{"$f":"#REF!+#REF!+#REF!+#REF!+#REF!+#REF!+#REF!+#REF!+#REF!+#REF!+#REF!+#REF!+#REF!+#REF!+#REF!+#REF!+#REF!+#REF!+#REF!+#REF!+#REF!+#REF!+#REF!+#REF!+#REF!+#REF!+#REF!+#REF!+#REF!+#REF!+#REF!+Feb_Williams!L27+#REF!","v":{"$error":"#REF!"}},null,null,{"$f":"#REF!+#REF!+#REF!+#REF!+#REF!+#REF!+#REF!+#REF!+#REF!+#REF!+#REF!+#REF!+#REF!+#REF!+#REF!+#REF!+#REF!+#REF!+#REF!+#REF!+#REF!+#REF!+#REF!+#REF!+#REF!+#REF!+#REF!+#REF!+#REF!+#REF!+#REF!+Feb_Williams!O27+#REF!","v":{"$error":"#REF!"}},{"$f":"#REF!*0.5","v":{"$error":"#REF!"}},{"$f":"#REF!+#REF!+#REF!+#REF!+#REF!+#REF!+#REF!+#REF!+#REF!+#REF!+#REF!+#REF!+#REF!+#REF!+#REF!+#REF!+#REF!+#REF!+#REF!+#REF!+#REF!+#REF!+#REF!+#REF!+#REF!+#REF!+#REF!+#REF!+#REF!+#REF!+#REF!+Feb_Williams!Q27+#REF!","v":{"$error":"#REF!"}},null,null,{"$f":"#REF!+#REF!+#REF!+#REF!+#REF!+#REF!+#REF!+#REF!+#REF!+#REF!+#REF!+#REF!+#REF!+#REF!+#REF!+#REF!+#REF!+#REF!+#REF!+#REF!+#REF!+#REF!+#REF!+#REF!+#REF!+#REF!+#REF!+#REF!+#REF!+#REF!+#REF!+Feb_Williams!T27+#REF!","v":{"$error":"#REF!"}},{"$f":"#REF!*0.5","v":{"$error":"#REF!"}},{"$f":"#REF!+#REF!+#REF!+#REF!+#REF!+#REF!+#REF!+#REF!+#REF!+#REF!+#REF!+#REF!+#REF!+#REF!+#REF!+#REF!+#REF!+#REF!+#REF!+#REF!+#REF!+#REF!+#REF!+#REF!+#REF!+#REF!+#REF!+#REF!+#REF!+#REF!+#REF!+Feb_Williams!V27+#REF!","v":{"$error":"#REF!"}},{"$f":"#REF!+#REF!+#REF!+#REF!+#REF!+#REF!+#REF!+#REF!+#REF!+#REF!+#REF!+#REF!+#REF!+#REF!+#REF!+#REF!+#REF!+#REF!+#REF!+#REF!+#REF!+#REF!+#REF!+#REF!+#REF!+#REF!+#REF!+#REF!+#REF!+#REF!+#REF!+Feb_Williams!W27+#REF!","v":{"$error":"#REF!"}},{"$f":"#REF!*0.5","v":{"$error":"#REF!"}},{"$f":"#REF!+#REF!+#REF!+#REF!+#REF!+#REF!+#REF!+#REF!+#REF!+#REF!+#REF!+#REF!+#REF!+#REF!+#REF!+#REF!+#REF!+#REF!+#REF!+#REF!+#REF!+#REF!+#REF!+#REF!+#REF!+#REF!+#REF!+#REF!+#REF!+#REF!+#REF!+Feb_Williams!Y27+#REF!","v":{"$error":"#REF!"}},null,null,{"$error":"#REF!"},{"$error":"#REF!"},{"$error":"#REF!"},{"$error":"#REF!"}]
[22,"Grant",{"$f":"#REF!+#REF!+#REF!+#REF!+#REF!+#REF!+#REF!+#REF!+#REF!+#REF!+#REF!+#REF!+#REF!+#REF!+#REF!+#REF!+#REF!+#REF!+#REF!+#REF!+#REF!+#REF!+#REF!+#REF!+#REF!+#REF!+#REF!+#REF!+#REF!+#REF!+#REF!+Feb_Williams!C28+#REF!+#REF!+#REF!","v":{"$error":"#REF!"}},{"$f":"#REF!+#REF!+#REF!+#REF!+#REF!+#REF!+#REF!+#REF!+#REF!+#REF!+#REF!+#REF!+#REF!+#REF!+#REF!+#REF!+#REF!+#REF!+#REF!+#REF!+#REF!+#REF!+#REF!+#REF!+#REF!+#REF!+#REF!+#REF!+#REF!+#REF!+#REF!+Feb_Williams!D28+#REF!+#REF!+#REF!","v":{"$error":"#REF!"}},{"$f":"#REF!+#REF!+#REF!+#REF!+#REF!+#REF!+#REF!+#REF!+#REF!+#REF!+#REF!+#REF!+#REF!+#REF!+#REF!+#REF!+#REF!+#REF!+#REF!+#REF!+#REF!+#REF!+#REF!+#REF!+#REF!+#REF!+#REF!+#REF!+#REF!+#REF!+#REF!+Feb_Williams!E28+#REF!+#REF!+#REF!","v":{"$error":"#REF!"}},{"$f":"#REF!*0.5","v":{"$error":"#REF!"}},{"$f":"#REF!+#REF!+#REF!+#REF!+#REF!+#REF!+#REF!+#REF!+#REF!+#REF!+#REF!+#REF!+#REF!+#REF!+#REF!+#REF!+#REF!+#REF!+#REF!+#REF!+#REF!+#REF!+#REF!+#REF!+#REF!+#REF!+#REF!+#REF!+#REF!+#REF!+#REF!+Feb_Williams!G28+#REF!","v":{"$error":"#REF!"}},{"$f":"#REF!+#REF!+#REF!+#REF!+#REF!+#REF!+#REF!+#REF!+#REF!+#REF!+#REF!+#REF!+#REF!+#REF!+#REF!+#REF!+#REF!+#REF!+#REF!+#REF!+#REF!+#REF!+#REF!+#REF!+#REF!+#REF!+#REF!+#REF!+#REF!+#REF!+#REF!+Feb_Williams!H28+#REF!+#REF!+#REF!","v":{"$error":"#REF!"}},{"$f":"#REF!+#REF!+#REF!+#REF!+#REF!+#REF!+#REF!+#REF!+#REF!+#REF!+#REF!+#REF!+#REF!+#REF!+#REF!+#REF!+#REF!+#REF!+#REF!+#REF!+#REF!+#REF!+#REF!+#REF!+#REF!+#REF!+#REF!+#REF!+#REF!+#REF!+#REF!+Feb_Williams!I28+#REF!+#REF!+#REF!","v":{"$error":"#REF!"}},{"$f":"#REF!+#REF!+#REF!+#REF!+#REF!+#REF!+#REF!+#REF!+#REF!+#REF!+#REF!+#REF!+#REF!+#REF!+#REF!+#REF!+#REF!+#REF!+#REF!+#REF!+#REF!+#REF!+#REF!+#REF!+#REF!+#REF!+#REF!+#REF!+#REF!+#REF!+#REF!+Feb_Williams!J28+#REF!+#REF!+#REF!","v":{"$error":"#REF!"}},{"$f":"#REF!*0.5","v":{"$error":"#REF!"}},{"$f":"#REF!+#REF!+#REF!+#REF!+#REF!+#REF!+#REF!+#REF!+#REF!+#REF!+#REF!+#REF!+#REF!+#REF!+#REF!+#REF!+#REF!+#REF!+#REF!+#REF!+#REF!+#REF!+#REF!+#REF!+#REF!+#REF!+#REF!+#REF!+#REF!+#REF!+#REF!+Feb_Williams!L28+#REF!","v":{"$error":"#REF!"}},null,null,{"$f":"#REF!+#REF!+#REF!+#REF!+#REF!+#REF!+#REF!+#REF!+#REF!+#REF!+#REF!+#REF!+#REF!+#REF!+#REF!+#REF!+#REF!+#REF!+#REF!+#REF!+#REF!+#REF!+#REF!+#REF!+#REF!+#REF!+#REF!+#REF!+#REF!+#REF!+#REF!+Feb_Williams!O28+#REF!","v":{"$error":"#REF!"}},{"$f":"#REF!*0.5","v":{"$error":"#REF!"}},{"$f":"#REF!+#REF!+#REF!+#REF!+#REF!+#REF!+#REF!+#REF!+#REF!+#REF!+#REF!+#REF!+#REF!+#REF!+#REF!+#REF!+#REF!+#REF!+#REF!+#REF!+#REF!+#REF!+#REF!+#REF!+#REF!+#REF!+#REF!+#REF!+#REF!+#REF!+#REF!+Feb_Williams!Q28+#REF!","v":{"$error":"#REF!"}},null,null,{"$f":"#REF!+#REF!+#REF!+#REF!+#REF!+#REF!+#REF!+#REF!+#REF!+#REF!+#REF!+#REF!+#REF!+#REF!+#REF!+#REF!+#REF!+#REF!+#REF!+#REF!+#REF!+#REF!+#REF!+#REF!+#REF!+#REF!+#REF!+#REF!+#REF!+#REF!+#REF!+Feb_Williams!T28+#REF!","v":{"$error":"#REF!"}},{"$f":"#REF!*0.5","v":{"$error":"#REF!"}},{"$f":"#REF!+#REF!+#REF!+#REF!+#REF!+#REF!+#REF!+#REF!+#REF!+#REF!+#REF!+#REF!+#REF!+#REF!+#REF!+#REF!+#REF!+#REF!+#REF!+#REF!+#REF!+#REF!+#REF!+#REF!+#REF!+#REF!+#REF!+#REF!+#REF!+#REF!+#REF!+Feb_Williams!V28+#REF!","v":{"$error":"#REF!"}},{"$f":"#REF!+#REF!+#REF!+#REF!+#REF!+#REF!+#REF!+#REF!+#REF!+#REF!+#REF!+#REF!+#REF!+#REF!+#REF!+#REF!+#REF!+#REF!+#REF!+#REF!+#REF!+#REF!+#REF!+#REF!+#REF!+#REF!+#REF!+#REF!+#REF!+#REF!+#REF!+Feb_Williams!W28+#REF!","v":{"$error":"#REF!"}},{"$f":"#REF!*0.5","v":{"$error":"#REF!"}},{"$f":"#REF!+#REF!+#REF!+#REF!+#REF!+#REF!+#REF!+#REF!+#REF!+#REF!+#REF!+#REF!+#REF!+#REF!+#REF!+#REF!+#REF!+#REF!+#REF!+#REF!+#REF!+#REF!+#REF!+#REF!+#REF!+#REF!+#REF!+#REF!+#REF!+#REF!+#REF!+Feb_Williams!Y28+#REF!","v":{"$error":"#REF!"}},null,null,{"$error":"#REF!"},{"$error":"#REF!"},{"$error":"#REF!"},{"$error":"#REF!"}]
[23,"Iberia",{"$f":"#REF!+#REF!+#REF!+#REF!+#REF!+#REF!+#REF!+#REF!+#REF!+#REF!+#REF!+#REF!+#REF!+#REF!+#REF!+#REF!+#REF!+#REF!+#REF!+#REF!+#REF!+#REF!+#REF!+#REF!+#REF!+#REF!+#REF!+#REF!+#REF!+#REF!+#REF!+Feb_Williams!C29+#REF!+#REF!+#REF!","v":{"$error":"#REF!"}},{"$f":"#REF!+#REF!+#REF!+#REF!+#REF!+#REF!+#REF!+#REF!+#REF!+#REF!+#REF!+#REF!+#REF!+#REF!+#REF!+#REF!+#REF!+#REF!+#REF!+#REF!+#REF!+#REF!+#REF!+#REF!+#REF!+#REF!+#REF!+#REF!+#REF!+#REF!+#REF!+Feb_Williams!D29+#REF!+#REF!+#REF!","v":{"$error":"#REF!"}},{"$f":"#REF!+#REF!+#REF!+#REF!+#REF!+#REF!+#REF!+#REF!+#REF!+#REF!+#REF!+#REF!+#REF!+#REF!+#REF!+#REF!+#REF!+#REF!+#REF!+#REF!+#REF!+#REF!+#REF!+#REF!+#REF!+#REF!+#REF!+#REF!+#REF!+#REF!+#REF!+Feb_Williams!E29+#REF!+#REF!+#REF!","v":{"$error":"#REF!"}},{"$f":"#REF!*0.5","v":{"$error":"#REF!"}},{"$f":"#REF!+#REF!+#REF!+#REF!+#REF!+#REF!+#REF!+#REF!+#REF!+#REF!+#REF!+#REF!+#REF!+#REF!+#REF!+#REF!+#REF!+#REF!+#REF!+#REF!+#REF!+#REF!+#REF!+#REF!+#REF!+#REF!+#REF!+#REF!+#REF!+#REF!+#REF!+Feb_Williams!G29+#REF!","v":{"$error":"#REF!"}},{"$f":"#REF!+#REF!+#REF!+#REF!+#REF!+#REF!+#REF!+#REF!+#REF!+#REF!+#REF!+#REF!+#REF!+#REF!+#REF!+#REF!+#REF!+#REF!+#REF!+#REF!+#REF!+#REF!+#REF!+#REF!+#REF!+#REF!+#REF!+#REF!+#REF!+#REF!+#REF!+Feb_Williams!H29+#REF!+#REF!+#REF!","v":{"$error":"#REF!"}},{"$f":"#REF!+#REF!+#REF!+#REF!+#REF!+#REF!+#REF!+#REF!+#REF!+#REF!+#REF!+#REF!+#REF!+#REF!+#REF!+#REF!+#REF!+#REF!+#REF!+#REF!+#REF!+#REF!+#REF!+#REF!+#REF!+#REF!+#REF!+#REF!+#REF!+#REF!+#REF!+Feb_Williams!I29+#REF!+#REF!+#REF!","v":{"$error":"#REF!"}},{"$f":"#REF!+#REF!+#REF!+#REF!+#REF!+#REF!+#REF!+#REF!+#REF!+#REF!+#REF!+#REF!+#REF!+#REF!+#REF!+#REF!+#REF!+#REF!+#REF!+#REF!+#REF!+#REF!+#REF!+#REF!+#REF!+#REF!+#REF!+#REF!+#REF!+#REF!+#REF!+Feb_Williams!J29+#REF!+#REF!+#REF!","v":{"$error":"#REF!"}},{"$f":"#REF!*0.5","v":{"$error":"#REF!"}},{"$f":"#REF!+#REF!+#REF!+#REF!+#REF!+#REF!+#REF!+#REF!+#REF!+#REF!+#REF!+#REF!+#REF!+#REF!+#REF!+#REF!+#REF!+#REF!+#REF!+#REF!+#REF!+#REF!+#REF!+#REF!+#REF!+#REF!+#REF!+#REF!+#REF!+#REF!+#REF!+Feb_Williams!L29+#REF!","v":{"$error":"#REF!"}},null,null,{"$f":"#REF!+#REF!+#REF!+#REF!+#REF!+#REF!+#REF!+#REF!+#REF!+#REF!+#REF!+#REF!+#REF!+#REF!+#REF!+#REF!+#REF!+#REF!+#REF!+#REF!+#REF!+#REF!+#REF!+#REF!+#REF!+#REF!+#REF!+#REF!+#REF!+#REF!+#REF!+Feb_Williams!O29+#REF!","v":{"$error":"#REF!"}},{"$f":"#REF!*0.5","v":{"$error":"#REF!"}},{"$f":"#REF!+#REF!+#REF!+#REF!+#REF!+#REF!+#REF!+#REF!+#REF!+#REF!+#REF!+#REF!+#REF!+#REF!+#REF!+#REF!+#REF!+#REF!+#REF!+#REF!+#REF!+#REF!+#REF!+#REF!+#REF!+#REF!+#REF!+#REF!+#REF!+#REF!+#REF!+Feb_Williams!Q29+#REF!","v":{"$error":"#REF!"}},null,null,{"$f":"#REF!+#REF!+#REF!+#REF!+#REF!+#REF!+#REF!+#REF!+#REF!+#REF!+#REF!+#REF!+#REF!+#REF!+#REF!+#REF!+#REF!+#REF!+#REF!+#REF!+#REF!+#REF!+#REF!+#REF!+#REF!+#REF!+#REF!+#REF!+#REF!+#REF!+#REF!+Feb_Williams!T29+#REF!","v":{"$error":"#REF!"}},{"$f":"#REF!*0.5","v":{"$error":"#REF!"}},{"$f":"#REF!+#REF!+#REF!+#REF!+#REF!+#REF!+#REF!+#REF!+#REF!+#REF!+#REF!+#REF!+#REF!+#REF!+#REF!+#REF!+#REF!+#REF!+#REF!+#REF!+#REF!+#REF!+#REF!+#REF!+#REF!+#REF!+#REF!+#REF!+#REF!+#REF!+#REF!+Feb_Williams!V29+#REF!","v":{"$error":"#REF!"}},{"$f":"#REF!+#REF!+#REF!+#REF!+#REF!+#REF!+#REF!+#REF!+#REF!+#REF!+#REF!+#REF!+#REF!+#REF!+#REF!+#REF!+#REF!+#REF!+#REF!+#REF!+#REF!+#REF!+#REF!+#REF!+#REF!+#REF!+#REF!+#REF!+#REF!+#REF!+#REF!+Feb_Williams!W29+#REF!","v":{"$error":"#REF!"}},{"$f":"#REF!*0.5","v":{"$error":"#REF!"}},{"$f":"#REF!+#REF!+#REF!+#REF!+#REF!+#REF!+#REF!+#REF!+#REF!+#REF!+#REF!+#REF!+#REF!+#REF!+#REF!+#REF!+#REF!+#REF!+#REF!+#REF!+#REF!+#REF!+#REF!+#REF!+#REF!+#REF!+#REF!+#REF!+#REF!+#REF!+#REF!+Feb_Williams!Y29+#REF!","v":{"$error":"#REF!"}},null,null,{"$error":"#REF!"},{"$error":"#REF!"},{"$error":"#REF!"},{"$error":"#REF!"}]
[24,"Iberville",{"$f":"#REF!+#REF!+#REF!+#REF!+#REF!+#REF!+#REF!+#REF!+#REF!+#REF!+#REF!+#REF!+#REF!+#REF!+#REF!+#REF!+#REF!+#REF!+#REF!+#REF!+#REF!+#REF!+#REF!+#REF!+#REF!+#REF!+#REF!+#REF!+#REF!+#REF!+#REF!+Feb_Williams!C30+#REF!+#REF!+#REF!","v":{"$error":"#REF!"}},{"$f":"#REF!+#REF!+#REF!+#REF!+#REF!+#REF!+#REF!+#REF!+#REF!+#REF!+#REF!+#REF!+#REF!+#REF!+#REF!+#REF!+#REF!+#REF!+#REF!+#REF!+#REF!+#REF!+#REF!+#REF!+#REF!+#REF!+#REF!+#REF!+#REF!+#REF!+#REF!+Feb_Williams!D30+#REF!+#REF!+#REF!","v":{"$error":"#REF!"}},{"$f":"#REF!+#REF!+#REF!+#REF!+#REF!+#REF!+#REF!+#REF!+#REF!+#REF!+#REF!+#REF!+#REF!+#REF!+#REF!+#REF!+#REF!+#REF!+#REF!+#REF!+#REF!+#REF!+#REF!+#REF!+#REF!+#REF!+#REF!+#REF!+#REF!+#REF!+#REF!+Feb_Williams!E30+#REF!+#REF!+#REF!","v":{"$error":"#REF!"}},{"$f":"#REF!*0.5","v":{"$error":"#REF!"}},{"$f":"#REF!+#REF!+#REF!+#REF!+#REF!+#REF!+#REF!+#REF!+#REF!+#REF!+#REF!+#REF!+#REF!+#REF!+#REF!+#REF!+#REF!+#REF!+#REF!+#REF!+#REF!+#REF!+#REF!+#REF!+#REF!+#REF!+#REF!+#REF!+#REF!+#REF!+#REF!+Feb_Williams!G30+#REF!","v":{"$error":"#REF!"}},{"$f":"#REF!+#REF!+#REF!+#REF!+#REF!+#REF!+#REF!+#REF!+#REF!+#REF!+#REF!+#REF!+#REF!+#REF!+#REF!+#REF!+#REF!+#REF!+#REF!+#REF!+#REF!+#REF!+#REF!+#REF!+#REF!+#REF!+#REF!+#REF!+#REF!+#REF!+#REF!+Feb_Williams!H30+#REF!+#REF!+#REF!","v":{"$error":"#REF!"}},{"$f":"#REF!+#REF!+#REF!+#REF!+#REF!+#REF!+#REF!+#REF!+#REF!+#REF!+#REF!+#REF!+#REF!+#REF!+#REF!+#REF!+#REF!+#REF!+#REF!+#REF!+#REF!+#REF!+#REF!+#REF!+#REF!+#REF!+#REF!+#REF!+#REF!+#REF!+#REF!+Feb_Williams!I30+#REF!+#REF!+#REF!","v":{"$error":"#REF!"}},{"$f":"#REF!+#REF!+#REF!+#REF!+#REF!+#REF!+#REF!+#REF!+#REF!+#REF!+#REF!+#REF!+#REF!+#REF!+#REF!+#REF!+#REF!+#REF!+#REF!+#REF!+#REF!+#REF!+#REF!+#REF!+#REF!+#REF!+#REF!+#REF!+#REF!+#REF!+#REF!+Feb_Williams!J30+#REF!+#REF!+#REF!","v":{"$error":"#REF!"}},{"$f":"#REF!*0.5","v":{"$error":"#REF!"}},{"$f":"#REF!+#REF!+#REF!+#REF!+#REF!+#REF!+#REF!+#REF!+#REF!+#REF!+#REF!+#REF!+#REF!+#REF!+#REF!+#REF!+#REF!+#REF!+#REF!+#REF!+#REF!+#REF!+#REF!+#REF!+#REF!+#REF!+#REF!+#REF!+#REF!+#REF!+#REF!+Feb_Williams!L30+#REF!","v":{"$error":"#REF!"}},null,null,{"$f":"#REF!+#REF!+#REF!+#REF!+#REF!+#REF!+#REF!+#REF!+#REF!+#REF!+#REF!+#REF!+#REF!+#REF!+#REF!+#REF!+#REF!+#REF!+#REF!+#REF!+#REF!+#REF!+#REF!+#REF!+#REF!+#REF!+#REF!+#REF!+#REF!+#REF!+#REF!+Feb_Williams!O30+#REF!","v":{"$error":"#REF!"}},{"$f":"#REF!*0.5","v":{"$error":"#REF!"}},{"$f":"#REF!+#REF!+#REF!+#REF!+#REF!+#REF!+#REF!+#REF!+#REF!+#REF!+#REF!+#REF!+#REF!+#REF!+#REF!+#REF!+#REF!+#REF!+#REF!+#REF!+#REF!+#REF!+#REF!+#REF!+#REF!+#REF!+#REF!+#REF!+#REF!+#REF!+#REF!+Feb_Williams!Q30+#REF!","v":{"$error":"#REF!"}},null,null,{"$f":"#REF!+#REF!+#REF!+#REF!+#REF!+#REF!+#REF!+#REF!+#REF!+#REF!+#REF!+#REF!+#REF!+#REF!+#REF!+#REF!+#REF!+#REF!+#REF!+#REF!+#REF!+#REF!+#REF!+#REF!+#REF!+#REF!+#REF!+#REF!+#REF!+#REF!+#REF!+Feb_Williams!T30+#REF!","v":{"$error":"#REF!"}},{"$f":"#REF!*0.5","v":{"$error":"#REF!"}},{"$f":"#REF!+#REF!+#REF!+#REF!+#REF!+#REF!+#REF!+#REF!+#REF!+#REF!+#REF!+#REF!+#REF!+#REF!+#REF!+#REF!+#REF!+#REF!+#REF!+#REF!+#REF!+#REF!+#REF!+#REF!+#REF!+#REF!+#REF!+#REF!+#REF!+#REF!+#REF!+Feb_Williams!V30+#REF!","v":{"$error":"#REF!"}},{"$f":"#REF!+#REF!+#REF!+#REF!+#REF!+#REF!+#REF!+#REF!+#REF!+#REF!+#REF!+#REF!+#REF!+#REF!+#REF!+#REF!+#REF!+#REF!+#REF!+#REF!+#REF!+#REF!+#REF!+#REF!+#REF!+#REF!+#REF!+#REF!+#REF!+#REF!+#REF!+Feb_Williams!W30+#REF!","v":{"$error":"#REF!"}},{"$f":"#REF!*0.5","v":{"$error":"#REF!"}},{"$f":"#REF!+#REF!+#REF!+#REF!+#REF!+#REF!+#REF!+#REF!+#REF!+#REF!+#REF!+#REF!+#REF!+#REF!+#REF!+#REF!+#REF!+#REF!+#REF!+#REF!+#REF!+#REF!+#REF!+#REF!+#REF!+#REF!+#REF!+#REF!+#REF!+#REF!+#REF!+Feb_Williams!Y30+#REF!","v":{"$error":"#REF!"}},null,null,{"$error":"#REF!"},{"$error":"#REF!"},{"$error":"#REF!"},{"$error":"#REF!"}]
[25,"Jackson",{"$f":"#REF!+#REF!+#REF!+#REF!+#REF!+#REF!+#REF!+#REF!+#REF!+#REF!+#REF!+#REF!+#REF!+#REF!+#REF!+#REF!+#REF!+#REF!+#REF!+#REF!+#REF!+#REF!+#REF!+#REF!+#REF!+#REF!+#REF!+#REF!+#REF!+#REF!+#REF!+Feb_Williams!C31+#REF!+#REF!+#REF!","v":{"$error":"#REF!"}},{"$f":"#REF!+#REF!+#REF!+#REF!+#REF!+#REF!+#REF!+#REF!+#REF!+#REF!+#REF!+#REF!+#REF!+#REF!+#REF!+#REF!+#REF!+#REF!+#REF!+#REF!+#REF!+#REF!+#REF!+#REF!+#REF!+#REF!+#REF!+#REF!+#REF!+#REF!+#REF!+Feb_Williams!D31+#REF!+#REF!+#REF!","v":{"$error":"#REF!"}},{"$f":"#REF!+#REF!+#REF!+#REF!+#REF!+#REF!+#REF!+#REF!+#REF!+#REF!+#REF!+#REF!+#REF!+#REF!+#REF!+#REF!+#REF!+#REF!+#REF!+#REF!+#REF!+#REF!+#REF!+#REF!+#REF!+#REF!+#REF!+#REF!+#REF!+#REF!+#REF!+Feb_Williams!E31+#REF!+#REF!+#REF!","v":{"$error":"#REF!"}},{"$f":"#REF!*0.5","v":{"$error":"#REF!"}},{"$f":"#REF!+#REF!+#REF!+#REF!+#REF!+#REF!+#REF!+#REF!+#REF!+#REF!+#REF!+#REF!+#REF!+#REF!+#REF!+#REF!+#REF!+#REF!+#REF!+#REF!+#REF!+#REF!+#REF!+#REF!+#REF!+#REF!+#REF!+#REF!+#REF!+#REF!+#REF!+Feb_Williams!G31+#REF!","v":{"$error":"#REF!"}},{"$f":"#REF!+#REF!+#REF!+#REF!+#REF!+#REF!+#REF!+#REF!+#REF!+#REF!+#REF!+#REF!+#REF!+#REF!+#REF!+#REF!+#REF!+#REF!+#REF!+#REF!+#REF!+#REF!+#REF!+#REF!+#REF!+#REF!+#REF!+#REF!+#REF!+#REF!+#REF!+Feb_Williams!H31+#REF!+#REF!+#REF!","v":{"$error":"#REF!"}},{"$f":"#REF!+#REF!+#REF!+#REF!+#REF!+#REF!+#REF!+#REF!+#REF!+#REF!+#REF!+#REF!+#REF!+#REF!+#REF!+#REF!+#REF!+#REF!+#REF!+#REF!+#REF!+#REF!+#REF!+#REF!+#REF!+#REF!+#REF!+#REF!+#REF!+#REF!+#REF!+Feb_Williams!I31+#REF!+#REF!+#REF!","v":{"$error":"#REF!"}},{"$f":"#REF!+#REF!+#REF!+#REF!+#REF!+#REF!+#REF!+#REF!+#REF!+#REF!+#REF!+#REF!+#REF!+#REF!+#REF!+#REF!+#REF!+#REF!+#REF!+#REF!+#REF!+#REF!+#REF!+#REF!+#REF!+#REF!+#REF!+#REF!+#REF!+#REF!+#REF!+Feb_Williams!J31+#REF!+#REF!+#REF!","v":{"$error":"#REF!"}},{"$f":"#REF!*0.5","v":{"$error":"#REF!"}},{"$f":"#REF!+#REF!+#REF!+#REF!+#REF!+#REF!+#REF!+#REF!+#REF!+#REF!+#REF!+#REF!+#REF!+#REF!+#REF!+#REF!+#REF!+#REF!+#REF!+#REF!+#REF!+#REF!+#REF!+#REF!+#REF!+#REF!+#REF!+#REF!+#REF!+#REF!+#REF!+Feb_Williams!L31+#REF!","v":{"$error":"#REF!"}},null,null,{"$f":"#REF!+#REF!+#REF!+#REF!+#REF!+#REF!+#REF!+#REF!+#REF!+#REF!+#REF!+#REF!+#REF!+#REF!+#REF!+#REF!+#REF!+#REF!+#REF!+#REF!+#REF!+#REF!+#REF!+#REF!+#REF!+#REF!+#REF!+#REF!+#REF!+#REF!+#REF!+Feb_Williams!O31+#REF!","v":{"$error":"#REF!"}},{"$f":"#REF!*0.5","v":{"$error":"#REF!"}},{"$f":"#REF!+#REF!+#REF!+#REF!+#REF!+#REF!+#REF!+#REF!+#REF!+#REF!+#REF!+#REF!+#REF!+#REF!+#REF!+#REF!+#REF!+#REF!+#REF!+#REF!+#REF!+#REF!+#REF!+#REF!+#REF!+#REF!+#REF!+#REF!+#REF!+#REF!+#REF!+Feb_Williams!Q31+#REF!","v":{"$error":"#REF!"}},null,null,{"$f":"#REF!+#REF!+#REF!+#REF!+#REF!+#REF!+#REF!+#REF!+#REF!+#REF!+#REF!+#REF!+#REF!+#REF!+#REF!+#REF!+#REF!+#REF!+#REF!+#REF!+#REF!+#REF!+#REF!+#REF!+#REF!+#REF!+#REF!+#REF!+#REF!+#REF!+#REF!+Feb_Williams!T31+#REF!","v":{"$error":"#REF!"}},{"$f":"#REF!*0.5","v":{"$error":"#REF!"}},{"$f":"#REF!+#REF!+#REF!+#REF!+#REF!+#REF!+#REF!+#REF!+#REF!+#REF!+#REF!+#REF!+#REF!+#REF!+#REF!+#REF!+#REF!+#REF!+#REF!+#REF!+#REF!+#REF!+#REF!+#REF!+#REF!+#REF!+#REF!+#REF!+#REF!+#REF!+#REF!+Feb_Williams!V31+#REF!","v":{"$error":"#REF!"}},{"$f":"#REF!+#REF!+#REF!+#REF!+#REF!+#REF!+#REF!+#REF!+#REF!+#REF!+#REF!+#REF!+#REF!+#REF!+#REF!+#REF!+#REF!+#REF!+#REF!+#REF!+#REF!+#REF!+#REF!+#REF!+#REF!+#REF!+#REF!+#REF!+#REF!+#REF!+#REF!+Feb_Williams!W31+#REF!","v":{"$error":"#REF!"}},{"$f":"#REF!*0.5","v":{"$error":"#REF!"}},{"$f":"#REF!+#REF!+#REF!+#REF!+#REF!+#REF!+#REF!+#REF!+#REF!+#REF!+#REF!+#REF!+#REF!+#REF!+#REF!+#REF!+#REF!+#REF!+#REF!+#REF!+#REF!+#REF!+#REF!+#REF!+#REF!+#REF!+#REF!+#REF!+#REF!+#REF!+#REF!+Feb_Williams!Y31+#REF!","v":{"$error":"#REF!"}},null,null,{"$error":"#REF!"},{"$error":"#REF!"},{"$error":"#REF!"},{"$error":"#REF!"}]
[26,"Jefferson",{"$f":"#REF!+#REF!+#REF!+#REF!+#REF!+#REF!+#REF!+#REF!+#REF!+#REF!+#REF!+#REF!+#REF!+#REF!+#REF!+#REF!+#REF!+#REF!+#REF!+#REF!+#REF!+#REF!+#REF!+#REF!+#REF!+#REF!+#REF!+#REF!+#REF!+#REF!+#REF!+Feb_Williams!C32+#REF!+#REF!+#REF!","v":{"$error":"#REF!"}},{"$f":"#REF!+#REF!+#REF!+#REF!+#REF!+#REF!+#REF!+#REF!+#REF!+#REF!+#REF!+#REF!+#REF!+#REF!+#REF!+#REF!+#REF!+#REF!+#REF!+#REF!+#REF!+#REF!+#REF!+#REF!+#REF!+#REF!+#REF!+#REF!+#REF!+#REF!+#REF!+Feb_Williams!D32+#REF!+#REF!+#REF!","v":{"$error":"#REF!"}},{"$f":"#REF!+#REF!+#REF!+#REF!+#REF!+#REF!+#REF!+#REF!+#REF!+#REF!+#REF!+#REF!+#REF!+#REF!+#REF!+#REF!+#REF!+#REF!+#REF!+#REF!+#REF!+#REF!+#REF!+#REF!+#REF!+#REF!+#REF!+#REF!+#REF!+#REF!+#REF!+Feb_Williams!E32+#REF!+#REF!+#REF!","v":{"$error":"#REF!"}},{"$f":"#REF!*0.5","v":{"$error":"#REF!"}},{"$f":"#REF!+#REF!+#REF!+#REF!+#REF!+#REF!+#REF!+#REF!+#REF!+#REF!+#REF!+#REF!+#REF!+#REF!+#REF!+#REF!+#REF!+#REF!+#REF!+#REF!+#REF!+#REF!+#REF!+#REF!+#REF!+#REF!+#REF!+#REF!+#REF!+#REF!+#REF!+Feb_Williams!G32+#REF!","v":{"$error":"#REF!"}},{"$f":"#REF!+#REF!+#REF!+#REF!+#REF!+#REF!+#REF!+#REF!+#REF!+#REF!+#REF!+#REF!+#REF!+#REF!+#REF!+#REF!+#REF!+#REF!+#REF!+#REF!+#REF!+#REF!+#REF!+#REF!+#REF!+#REF!+#REF!+#REF!+#REF!+#REF!+#REF!+Feb_Williams!H32+#REF!+#REF!+#REF!","v":{"$error":"#REF!"}},{"$f":"#REF!+#REF!+#REF!+#REF!+#REF!+#REF!+#REF!+#REF!+#REF!+#REF!+#REF!+#REF!+#REF!+#REF!+#REF!+#REF!+#REF!+#REF!+#REF!+#REF!+#REF!+#REF!+#REF!+#REF!+#REF!+#REF!+#REF!+#REF!+#REF!+#REF!+#REF!+Feb_Williams!I32+#REF!+#REF!+#REF!","v":{"$error":"#REF!"}},{"$f":"#REF!+#REF!+#REF!+#REF!+#REF!+#REF!+#REF!+#REF!+#REF!+#REF!+#REF!+#REF!+#REF!+#REF!+#REF!+#REF!+#REF!+#REF!+#REF!+#REF!+#REF!+#REF!+#REF!+#REF!+#REF!+#REF!+#REF!+#REF!+#REF!+#REF!+#REF!+Feb_Williams!J32+#REF!+#REF!+#REF!","v":{"$error":"#REF!"}},{"$f":"#REF!*0.5","v":{"$error":"#REF!"}},{"$f":"#REF!+#REF!+#REF!+#REF!+#REF!+#REF!+#REF!+#REF!+#REF!+#REF!+#REF!+#REF!+#REF!+#REF!+#REF!+#REF!+#REF!+#REF!+#REF!+#REF!+#REF!+#REF!+#REF!+#REF!+#REF!+#REF!+#REF!+#REF!+#REF!+#REF!+#REF!+Feb_Williams!L32+#REF!","v":{"$error":"#REF!"}},null,null,{"$f":"#REF!+#REF!+#REF!+#REF!+#REF!+#REF!+#REF!+#REF!+#REF!+#REF!+#REF!+#REF!+#REF!+#REF!+#REF!+#REF!+#REF!+#REF!+#REF!+#REF!+#REF!+#REF!+#REF!+#REF!+#REF!+#REF!+#REF!+#REF!+#REF!+#REF!+#REF!+Feb_Williams!O32+#REF!","v":{"$error":"#REF!"}},{"$f":"#REF!*0.5","v":{"$error":"#REF!"}},{"$f":"#REF!+#REF!+#REF!+#REF!+#REF!+#REF!+#REF!+#REF!+#REF!+#REF!+#REF!+#REF!+#REF!+#REF!+#REF!+#REF!+#REF!+#REF!+#REF!+#REF!+#REF!+#REF!+#REF!+#REF!+#REF!+#REF!+#REF!+#REF!+#REF!+#REF!+#REF!+Feb_Williams!Q32+#REF!","v":{"$error":"#REF!"}},null,null,{"$f":"#REF!+#REF!+#REF!+#REF!+#REF!+#REF!+#REF!+#REF!+#REF!+#REF!+#REF!+#REF!+#REF!+#REF!+#REF!+#REF!+#REF!+#REF!+#REF!+#REF!+#REF!+#REF!+#REF!+#REF!+#REF!+#REF!+#REF!+#REF!+#REF!+#REF!+#REF!+Feb_Williams!T32+#REF!","v":{"$error":"#REF!"}},{"$f":"#REF!*0.5","v":{"$error":"#REF!"}},{"$f":"#REF!+#REF!+#REF!+#REF!+#REF!+#REF!+#REF!+#REF!+#REF!+#REF!+#REF!+#REF!+#REF!+#REF!+#REF!+#REF!+#REF!+#REF!+#REF!+#REF!+#REF!+#REF!+#REF!+#REF!+#REF!+#REF!+#REF!+#REF!+#REF!+#REF!+#REF!+Feb_Williams!V32+#REF!","v":{"$error":"#REF!"}},{"$f":"#REF!+#REF!+#REF!+#REF!+#REF!+#REF!+#REF!+#REF!+#REF!+#REF!+#REF!+#REF!+#REF!+#REF!+#REF!+#REF!+#REF!+#REF!+#REF!+#REF!+#REF!+#REF!+#REF!+#REF!+#REF!+#REF!+#REF!+#REF!+#REF!+#REF!+#REF!+Feb_Williams!W32+#REF!","v":{"$error":"#REF!"}},{"$f":"#REF!*0.5","v":{"$error":"#REF!"}},{"$f":"#REF!+#REF!+#REF!+#REF!+#REF!+#REF!+#REF!+#REF!+#REF!+#REF!+#REF!+#REF!+#REF!+#REF!+#REF!+#REF!+#REF!+#REF!+#REF!+#REF!+#REF!+#REF!+#REF!+#REF!+#REF!+#REF!+#REF!+#REF!+#REF!+#REF!+#REF!+Feb_Williams!Y32+#REF!","v":{"$error":"#REF!"}},null,null,{"$error":"#REF!"},{"$error":"#REF!"},{"$error":"#REF!"},{"$error":"#REF!"}]
[27,"Jefferson Davis",{"$f":"#REF!+#REF!+#REF!+#REF!+#REF!+#REF!+#REF!+#REF!+#REF!+#REF!+#REF!+#REF!+#REF!+#REF!+#REF!+#REF!+#REF!+#REF!+#REF!+#REF!+#REF!+#REF!+#REF!+#REF!+#REF!+#REF!+#REF!+#REF!+#REF!+#REF!+#REF!+Feb_Williams!C33+#REF!+#REF!+#REF!","v":{"$error":"#REF!"}},{"$f":"#REF!+#REF!+#REF!+#REF!+#REF!+#REF!+#REF!+#REF!+#REF!+#REF!+#REF!+#REF!+#REF!+#REF!+#REF!+#REF!+#REF!+#REF!+#REF!+#REF!+#REF!+#REF!+#REF!+#REF!+#REF!+#REF!+#REF!+#REF!+#REF!+#REF!+#REF!+Feb_Williams!D33+#REF!+#REF!+#REF!","v":{"$error":"#REF!"}},{"$f":"#REF!+#REF!+#REF!+#REF!+#REF!+#REF!+#REF!+#REF!+#REF!+#REF!+#REF!+#REF!+#REF!+#REF!+#REF!+#REF!+#REF!+#REF!+#REF!+#REF!+#REF!+#REF!+#REF!+#REF!+#REF!+#REF!+#REF!+#REF!+#REF!+#REF!+#REF!+Feb_Williams!E33+#REF!+#REF!+#REF!","v":{"$error":"#REF!"}},{"$f":"#REF!*0.5","v":{"$error":"#REF!"}},{"$f":"#REF!+#REF!+#REF!+#REF!+#REF!+#REF!+#REF!+#REF!+#REF!+#REF!+#REF!+#REF!+#REF!+#REF!+#REF!+#REF!+#REF!+#REF!+#REF!+#REF!+#REF!+#REF!+#REF!+#REF!+#REF!+#REF!+#REF!+#REF!+#REF!+#REF!+#REF!+Feb_Williams!G33+#REF!","v":{"$error":"#REF!"}},{"$f":"#REF!+#REF!+#REF!+#REF!+#REF!+#REF!+#REF!+#REF!+#REF!+#REF!+#REF!+#REF!+#REF!+#REF!+#REF!+#REF!+#REF!+#REF!+#REF!+#REF!+#REF!+#REF!+#REF!+#REF!+#REF!+#REF!+#REF!+#REF!+#REF!+#REF!+#REF!+Feb_Williams!H33+#REF!+#REF!+#REF!","v":{"$error":"#REF!"}},{"$f":"#REF!+#REF!+#REF!+#REF!+#REF!+#REF!+#REF!+#REF!+#REF!+#REF!+#REF!+#REF!+#REF!+#REF!+#REF!+#REF!+#REF!+#REF!+#REF!+#REF!+#REF!+#REF!+#REF!+#REF!+#REF!+#REF!+#REF!+#REF!+#REF!+#REF!+#REF!+Feb_Williams!I33+#REF!+#REF!+#REF!","v":{"$error":"#REF!"}},{"$f":"#REF!+#REF!+#REF!+#REF!+#REF!+#REF!+#REF!+#REF!+#REF!+#REF!+#REF!+#REF!+#REF!+#REF!+#REF!+#REF!+#REF!+#REF!+#REF!+#REF!+#REF!+#REF!+#REF!+#REF!+#REF!+#REF!+#REF!+#REF!+#REF!+#REF!+#REF!+Feb_Williams!J33+#REF!+#REF!+#REF!","v":{"$error":"#REF!"}},{"$f":"#REF!*0.5","v":{"$error":"#REF!"}},{"$f":"#REF!+#REF!+#REF!+#REF!+#REF!+#REF!+#REF!+#REF!+#REF!+#REF!+#REF!+#REF!+#REF!+#REF!+#REF!+#REF!+#REF!+#REF!+#REF!+#REF!+#REF!+#REF!+#REF!+#REF!+#REF!+#REF!+#REF!+#REF!+#REF!+#REF!+#REF!+Feb_Williams!L33+#REF!","v":{"$error":"#REF!"}},null,null,{"$f":"#REF!+#REF!+#REF!+#REF!+#REF!+#REF!+#REF!+#REF!+#REF!+#REF!+#REF!+#REF!+#REF!+#REF!+#REF!+#REF!+#REF!+#REF!+#REF!+#REF!+#REF!+#REF!+#REF!+#REF!+#REF!+#REF!+#REF!+#REF!+#REF!+#REF!+#REF!+Feb_Williams!O33+#REF!","v":{"$error":"#REF!"}},{"$f":"#REF!*0.5","v":{"$error":"#REF!"}},{"$f":"#REF!+#REF!+#REF!+#REF!+#REF!+#REF!+#REF!+#REF!+#REF!+#REF!+#REF!+#REF!+#REF!+#REF!+#REF!+#REF!+#REF!+#REF!+#REF!+#REF!+#REF!+#REF!+#REF!+#REF!+#REF!+#REF!+#REF!+#REF!+#REF!+#REF!+#REF!+Feb_Williams!Q33+#REF!","v":{"$error":"#REF!"}},null,null,{"$f":"#REF!+#REF!+#REF!+#REF!+#REF!+#REF!+#REF!+#REF!+#REF!+#REF!+#REF!+#REF!+#REF!+#REF!+#REF!+#REF!+#REF!+#REF!+#REF!+#REF!+#REF!+#REF!+#REF!+#REF!+#REF!+#REF!+#REF!+#REF!+#REF!+#REF!+#REF!+Feb_Williams!T33+#REF!","v":{"$error":"#REF!"}},{"$f":"#REF!*0.5","v":{"$error":"#REF!"}},{"$f":"#REF!+#REF!+#REF!+#REF!+#REF!+#REF!+#REF!+#REF!+#REF!+#REF!+#REF!+#REF!+#REF!+#REF!+#REF!+#REF!+#REF!+#REF!+#REF!+#REF!+#REF!+#REF!+#REF!+#REF!+#REF!+#REF!+#REF!+#REF!+#REF!+#REF!+#REF!+Feb_Williams!V33+#REF!","v":{"$error":"#REF!"}},{"$f":"#REF!+#REF!+#REF!+#REF!+#REF!+#REF!+#REF!+#REF!+#REF!+#REF!+#REF!+#REF!+#REF!+#REF!+#REF!+#REF!+#REF!+#REF!+#REF!+#REF!+#REF!+#REF!+#REF!+#REF!+#REF!+#REF!+#REF!+#REF!+#REF!+#REF!+#REF!+Feb_Williams!W33+#REF!","v":{"$error":"#REF!"}},{"$f":"#REF!*0.5","v":{"$error":"#REF!"}},{"$f":"#REF!+#REF!+#REF!+#REF!+#REF!+#REF!+#REF!+#REF!+#REF!+#REF!+#REF!+#REF!+#REF!+#REF!+#REF!+#REF!+#REF!+#REF!+#REF!+#REF!+#REF!+#REF!+#REF!+#REF!+#REF!+#REF!+#REF!+#REF!+#REF!+#REF!+#REF!+Feb_Williams!Y33+#REF!","v":{"$error":"#REF!"}},null,null,{"$error":"#REF!"},{"$error":"#REF!"},{"$error":"#REF!"},{"$error":"#REF!"}]
[28,"Lafayette",{"$f":"#REF!+#REF!+#REF!+#REF!+#REF!+#REF!+#REF!+#REF!+#REF!+#REF!+#REF!+#REF!+#REF!+#REF!+#REF!+#REF!+#REF!+#REF!+#REF!+#REF!+#REF!+#REF!+#REF!+#REF!+#REF!+#REF!+#REF!+#REF!+#REF!+#REF!+#REF!+Feb_Williams!C34+#REF!+#REF!+#REF!","v":{"$error":"#REF!"}},{"$f":"#REF!+#REF!+#REF!+#REF!+#REF!+#REF!+#REF!+#REF!+#REF!+#REF!+#REF!+#REF!+#REF!+#REF!+#REF!+#REF!+#REF!+#REF!+#REF!+#REF!+#REF!+#REF!+#REF!+#REF!+#REF!+#REF!+#REF!+#REF!+#REF!+#REF!+#REF!+Feb_Williams!D34+#REF!+#REF!+#REF!","v":{"$error":"#REF!"}},{"$f":"#REF!+#REF!+#REF!+#REF!+#REF!+#REF!+#REF!+#REF!+#REF!+#REF!+#REF!+#REF!+#REF!+#REF!+#REF!+#REF!+#REF!+#REF!+#REF!+#REF!+#REF!+#REF!+#REF!+#REF!+#REF!+#REF!+#REF!+#REF!+#REF!+#REF!+#REF!+Feb_Williams!E34+#REF!+#REF!+#REF!","v":{"$error":"#REF!"}},{"$f":"#REF!*0.5","v":{"$error":"#REF!"}},{"$f":"#REF!+#REF!+#REF!+#REF!+#REF!+#REF!+#REF!+#REF!+#REF!+#REF!+#REF!+#REF!+#REF!+#REF!+#REF!+#REF!+#REF!+#REF!+#REF!+#REF!+#REF!+#REF!+#REF!+#REF!+#REF!+#REF!+#REF!+#REF!+#REF!+#REF!+#REF!+Feb_Williams!G34+#REF!","v":{"$error":"#REF!"}},{"$f":"#REF!+#REF!+#REF!+#REF!+#REF!+#REF!+#REF!+#REF!+#REF!+#REF!+#REF!+#REF!+#REF!+#REF!+#REF!+#REF!+#REF!+#REF!+#REF!+#REF!+#REF!+#REF!+#REF!+#REF!+#REF!+#REF!+#REF!+#REF!+#REF!+#REF!+#REF!+Feb_Williams!H34+#REF!+#REF!+#REF!","v":{"$error":"#REF!"}},{"$f":"#REF!+#REF!+#REF!+#REF!+#REF!+#REF!+#REF!+#REF!+#REF!+#REF!+#REF!+#REF!+#REF!+#REF!+#REF!+#REF!+#REF!+#REF!+#REF!+#REF!+#REF!+#REF!+#REF!+#REF!+#REF!+#REF!+#REF!+#REF!+#REF!+#REF!+#REF!+Feb_Williams!I34+#REF!+#REF!+#REF!","v":{"$error":"#REF!"}},{"$f":"#REF!+#REF!+#REF!+#REF!+#REF!+#REF!+#REF!+#REF!+#REF!+#REF!+#REF!+#REF!+#REF!+#REF!+#REF!+#REF!+#REF!+#REF!+#REF!+#REF!+#REF!+#REF!+#REF!+#REF!+#REF!+#REF!+#REF!+#REF!+#REF!+#REF!+#REF!+Feb_Williams!J34+#REF!+#REF!+#REF!","v":{"$error":"#REF!"}},{"$f":"#REF!*0.5","v":{"$error":"#REF!"}},{"$f":"#REF!+#REF!+#REF!+#REF!+#REF!+#REF!+#REF!+#REF!+#REF!+#REF!+#REF!+#REF!+#REF!+#REF!+#REF!+#REF!+#REF!+#REF!+#REF!+#REF!+#REF!+#REF!+#REF!+#REF!+#REF!+#REF!+#REF!+#REF!+#REF!+#REF!+#REF!+Feb_Williams!L34+#REF!","v":{"$error":"#REF!"}},null,null,{"$f":"#REF!+#REF!+#REF!+#REF!+#REF!+#REF!+#REF!+#REF!+#REF!+#REF!+#REF!+#REF!+#REF!+#REF!+#REF!+#REF!+#REF!+#REF!+#REF!+#REF!+#REF!+#REF!+#REF!+#REF!+#REF!+#REF!+#REF!+#REF!+#REF!+#REF!+#REF!+Feb_Williams!O34+#REF!","v":{"$error":"#REF!"}},{"$f":"#REF!*0.5","v":{"$error":"#REF!"}},{"$f":"#REF!+#REF!+#REF!+#REF!+#REF!+#REF!+#REF!+#REF!+#REF!+#REF!+#REF!+#REF!+#REF!+#REF!+#REF!+#REF!+#REF!+#REF!+#REF!+#REF!+#REF!+#REF!+#REF!+#REF!+#REF!+#REF!+#REF!+#REF!+#REF!+#REF!+#REF!+Feb_Williams!Q34+#REF!","v":{"$error":"#REF!"}},null,null,{"$f":"#REF!+#REF!+#REF!+#REF!+#REF!+#REF!+#REF!+#REF!+#REF!+#REF!+#REF!+#REF!+#REF!+#REF!+#REF!+#REF!+#REF!+#REF!+#REF!+#REF!+#REF!+#REF!+#REF!+#REF!+#REF!+#REF!+#REF!+#REF!+#REF!+#REF!+#REF!+Feb_Williams!T34+#REF!","v":{"$error":"#REF!"}},{"$f":"#REF!*0.5","v":{"$error":"#REF!"}},{"$f":"#REF!+#REF!+#REF!+#REF!+#REF!+#REF!+#REF!+#REF!+#REF!+#REF!+#REF!+#REF!+#REF!+#REF!+#REF!+#REF!+#REF!+#REF!+#REF!+#REF!+#REF!+#REF!+#REF!+#REF!+#REF!+#REF!+#REF!+#REF!+#REF!+#REF!+#REF!+Feb_Williams!V34+#REF!","v":{"$error":"#REF!"}},{"$f":"#REF!+#REF!+#REF!+#REF!+#REF!+#REF!+#REF!+#REF!+#REF!+#REF!+#REF!+#REF!+#REF!+#REF!+#REF!+#REF!+#REF!+#REF!+#REF!+#REF!+#REF!+#REF!+#REF!+#REF!+#REF!+#REF!+#REF!+#REF!+#REF!+#REF!+#REF!+Feb_Williams!W34+#REF!","v":{"$error":"#REF!"}},{"$f":"#REF!*0.5","v":{"$error":"#REF!"}},{"$f":"#REF!+#REF!+#REF!+#REF!+#REF!+#REF!+#REF!+#REF!+#REF!+#REF!+#REF!+#REF!+#REF!+#REF!+#REF!+#REF!+#REF!+#REF!+#REF!+#REF!+#REF!+#REF!+#REF!+#REF!+#REF!+#REF!+#REF!+#REF!+#REF!+#REF!+#REF!+Feb_Williams!Y34+#REF!","v":{"$error":"#REF!"}},null,null,{"$error":"#REF!"},{"$error":"#REF!"},{"$error":"#REF!"},{"$error":"#REF!"}]
[29,"Lafourche",{"$f":"#REF!+#REF!+#REF!+#REF!+#REF!+#REF!+#REF!+#REF!+#REF!+#REF!+#REF!+#REF!+#REF!+#REF!+#REF!+#REF!+#REF!+#REF!+#REF!+#REF!+#REF!+#REF!+#REF!+#REF!+#REF!+#REF!+#REF!+#REF!+#REF!+#REF!+#REF!+Feb_Williams!C35+#REF!+#REF!+#REF!","v":{"$error":"#REF!"}},{"$f":"#REF!+#REF!+#REF!+#REF!+#REF!+#REF!+#REF!+#REF!+#REF!+#REF!+#REF!+#REF!+#REF!+#REF!+#REF!+#REF!+#REF!+#REF!+#REF!+#REF!+#REF!+#REF!+#REF!+#REF!+#REF!+#REF!+#REF!+#REF!+#REF!+#REF!+#REF!+Feb_Williams!D35+#REF!+#REF!+#REF!","v":{"$error":"#REF!"}},{"$f":"#REF!+#REF!+#REF!+#REF!+#REF!+#REF!+#REF!+#REF!+#REF!+#REF!+#REF!+#REF!+#REF!+#REF!+#REF!+#REF!+#REF!+#REF!+#REF!+#REF!+#REF!+#REF!+#REF!+#REF!+#REF!+#REF!+#REF!+#REF!+#REF!+#REF!+#REF!+Feb_Williams!E35+#REF!+#REF!+#REF!","v":{"$error":"#REF!"}},{"$f":"#REF!*0.5","v":{"$error":"#REF!"}},{"$f":"#REF!+#REF!+#REF!+#REF!+#REF!+#REF!+#REF!+#REF!+#REF!+#REF!+#REF!+#REF!+#REF!+#REF!+#REF!+#REF!+#REF!+#REF!+#REF!+#REF!+#REF!+#REF!+#REF!+#REF!+#REF!+#REF!+#REF!+#REF!+#REF!+#REF!+#REF!+Feb_Williams!G35+#REF!","v":{"$error":"#REF!"}},{"$f":"#REF!+#REF!+#REF!+#REF!+#REF!+#REF!+#REF!+#REF!+#REF!+#REF!+#REF!+#REF!+#REF!+#REF!+#REF!+#REF!+#REF!+#REF!+#REF!+#REF!+#REF!+#REF!+#REF!+#REF!+#REF!+#REF!+#REF!+#REF!+#REF!+#REF!+#REF!+Feb_Williams!H35+#REF!+#REF!+#REF!","v":{"$error":"#REF!"}},{"$f":"#REF!+#REF!+#REF!+#REF!+#REF!+#REF!+#REF!+#REF!+#REF!+#REF!+#REF!+#REF!+#REF!+#REF!+#REF!+#REF!+#REF!+#REF!+#REF!+#REF!+#REF!+#REF!+#REF!+#REF!+#REF!+#REF!+#REF!+#REF!+#REF!+#REF!+#REF!+Feb_Williams!I35+#REF!+#REF!+#REF!","v":{"$error":"#REF!"}},{"$f":"#REF!+#REF!+#REF!+#REF!+#REF!+#REF!+#REF!+#REF!+#REF!+#REF!+#REF!+#REF!+#REF!+#REF!+#REF!+#REF!+#REF!+#REF!+#REF!+#REF!+#REF!+#REF!+#REF!+#REF!+#REF!+#REF!+#REF!+#REF!+#REF!+#REF!+#REF!+Feb_Williams!J35+#REF!+#REF!+#REF!","v":{"$error":"#REF!"}},{"$f":"#REF!*0.5","v":{"$error":"#REF!"}},{"$f":"#REF!+#REF!+#REF!+#REF!+#REF!+#REF!+#REF!+#REF!+#REF!+#REF!+#REF!+#REF!+#REF!+#REF!+#REF!+#REF!+#REF!+#REF!+#REF!+#REF!+#REF!+#REF!+#REF!+#REF!+#REF!+#REF!+#REF!+#REF!+#REF!+#REF!+#REF!+Feb_Williams!L35+#REF!","v":{"$error":"#REF!"}},null,null,{"$f":"#REF!+#REF!+#REF!+#REF!+#REF!+#REF!+#REF!+#REF!+#REF!+#REF!+#REF!+#REF!+#REF!+#REF!+#REF!+#REF!+#REF!+#REF!+#REF!+#REF!+#REF!+#REF!+#REF!+#REF!+#REF!+#REF!+#REF!+#REF!+#REF!+#REF!+#REF!+Feb_Williams!O35+#REF!","v":{"$error":"#REF!"}},{"$f":"#REF!*0.5","v":{"$error":"#REF!"}},{"$f":"#REF!+#REF!+#REF!+#REF!+#REF!+#REF!+#REF!+#REF!+#REF!+#REF!+#REF!+#REF!+#REF!+#REF!+#REF!+#REF!+#REF!+#REF!+#REF!+#REF!+#REF!+#REF!+#REF!+#REF!+#REF!+#REF!+#REF!+#REF!+#REF!+#REF!+#REF!+Feb_Williams!Q35+#REF!","v":{"$error":"#REF!"}},null,null,{"$f":"#REF!+#REF!+#REF!+#REF!+#REF!+#REF!+#REF!+#REF!+#REF!+#REF!+#REF!+#REF!+#REF!+#REF!+#REF!+#REF!+#REF!+#REF!+#REF!+#REF!+#REF!+#REF!+#REF!+#REF!+#REF!+#REF!+#REF!+#REF!+#REF!+#REF!+#REF!+Feb_Williams!T35+#REF!","v":{"$error":"#REF!"}},{"$f":"#REF!*0.5","v":{"$error":"#REF!"}},{"$f":"#REF!+#REF!+#REF!+#REF!+#REF!+#REF!+#REF!+#REF!+#REF!+#REF!+#REF!+#REF!+#REF!+#REF!+#REF!+#REF!+#REF!+#REF!+#REF!+#REF!+#REF!+#REF!+#REF!+#REF!+#REF!+#REF!+#REF!+#REF!+#REF!+#REF!+#REF!+Feb_Williams!V35+#REF!","v":{"$error":"#REF!"}},{"$f":"#REF!+#REF!+#REF!+#REF!+#REF!+#REF!+#REF!+#REF!+#REF!+#REF!+#REF!+#REF!+#REF!+#REF!+#REF!+#REF!+#REF!+#REF!+#REF!+#REF!+#REF!+#REF!+#REF!+#REF!+#REF!+#REF!+#REF!+#REF!+#REF!+#REF!+#REF!+Feb_Williams!W35+#REF!","v":{"$error":"#REF!"}},{"$f":"#REF!*0.5","v":{"$error":"#REF!"}},{"$f":"#REF!+#REF!+#REF!+#REF!+#REF!+#REF!+#REF!+#REF!+#REF!+#REF!+#REF!+#REF!+#REF!+#REF!+#REF!+#REF!+#REF!+#REF!+#REF!+#REF!+#REF!+#REF!+#REF!+#REF!+#REF!+#REF!+#REF!+#REF!+#REF!+#REF!+#REF!+Feb_Williams!Y35+#REF!","v":{"$error":"#REF!"}},null,null,{"$error":"#REF!"},{"$error":"#REF!"},{"$error":"#REF!"},{"$error":"#REF!"}]
[30,"LaSalle",{"$f":"#REF!+#REF!+#REF!+#REF!+#REF!+#REF!+#REF!+#REF!+#REF!+#REF!+#REF!+#REF!+#REF!+#REF!+#REF!+#REF!+#REF!+#REF!+#REF!+#REF!+#REF!+#REF!+#REF!+#REF!+#REF!+#REF!+#REF!+#REF!+#REF!+#REF!+#REF!+Feb_Williams!C36+#REF!+#REF!+#REF!","v":{"$error":"#REF!"}},{"$f":"#REF!+#REF!+#REF!+#REF!+#REF!+#REF!+#REF!+#REF!+#REF!+#REF!+#REF!+#REF!+#REF!+#REF!+#REF!+#REF!+#REF!+#REF!+#REF!+#REF!+#REF!+#REF!+#REF!+#REF!+#REF!+#REF!+#REF!+#REF!+#REF!+#REF!+#REF!+Feb_Williams!D36+#REF!+#REF!+#REF!","v":{"$error":"#REF!"}},{"$f":"#REF!+#REF!+#REF!+#REF!+#REF!+#REF!+#REF!+#REF!+#REF!+#REF!+#REF!+#REF!+#REF!+#REF!+#REF!+#REF!+#REF!+#REF!+#REF!+#REF!+#REF!+#REF!+#REF!+#REF!+#REF!+#REF!+#REF!+#REF!+#REF!+#REF!+#REF!+Feb_Williams!E36+#REF!+#REF!+#REF!","v":{"$error":"#REF!"}},{"$f":"#REF!*0.5","v":{"$error":"#REF!"}},{"$f":"#REF!+#REF!+#REF!+#REF!+#REF!+#REF!+#REF!+#REF!+#REF!+#REF!+#REF!+#REF!+#REF!+#REF!+#REF!+#REF!+#REF!+#REF!+#REF!+#REF!+#REF!+#REF!+#REF!+#REF!+#REF!+#REF!+#REF!+#REF!+#REF!+#REF!+#REF!+Feb_Williams!G36+#REF!","v":{"$error":"#REF!"}},{"$f":"#REF!+#REF!+#REF!+#REF!+#REF!+#REF!+#REF!+#REF!+#REF!+#REF!+#REF!+#REF!+#REF!+#REF!+#REF!+#REF!+#REF!+#REF!+#REF!+#REF!+#REF!+#REF!+#REF!+#REF!+#REF!+#REF!+#REF!+#REF!+#REF!+#REF!+#REF!+Feb_Williams!H36+#REF!+#REF!+#REF!","v":{"$error":"#REF!"}},{"$f":"#REF!+#REF!+#REF!+#REF!+#REF!+#REF!+#REF!+#REF!+#REF!+#REF!+#REF!+#REF!+#REF!+#REF!+#REF!+#REF!+#REF!+#REF!+#REF!+#REF!+#REF!+#REF!+#REF!+#REF!+#REF!+#REF!+#REF!+#REF!+#REF!+#REF!+#REF!+Feb_Williams!I36+#REF!+#REF!+#REF!","v":{"$error":"#REF!"}},{"$f":"#REF!+#REF!+#REF!+#REF!+#REF!+#REF!+#REF!+#REF!+#REF!+#REF!+#REF!+#REF!+#REF!+#REF!+#REF!+#REF!+#REF!+#REF!+#REF!+#REF!+#REF!+#REF!+#REF!+#REF!+#REF!+#REF!+#REF!+#REF!+#REF!+#REF!+#REF!+Feb_Williams!J36+#REF!+#REF!+#REF!","v":{"$error":"#REF!"}},{"$f":"#REF!*0.5","v":{"$error":"#REF!"}},{"$f":"#REF!+#REF!+#REF!+#REF!+#REF!+#REF!+#REF!+#REF!+#REF!+#REF!+#REF!+#REF!+#REF!+#REF!+#REF!+#REF!+#REF!+#REF!+#REF!+#REF!+#REF!+#REF!+#REF!+#REF!+#REF!+#REF!+#REF!+#REF!+#REF!+#REF!+#REF!+Feb_Williams!L36+#REF!","v":{"$error":"#REF!"}},null,null,{"$f":"#REF!+#REF!+#REF!+#REF!+#REF!+#REF!+#REF!+#REF!+#REF!+#REF!+#REF!+#REF!+#REF!+#REF!+#REF!+#REF!+#REF!+#REF!+#REF!+#REF!+#REF!+#REF!+#REF!+#REF!+#REF!+#REF!+#REF!+#REF!+#REF!+#REF!+#REF!+Feb_Williams!O36+#REF!","v":{"$error":"#REF!"}},{"$f":"#REF!*0.5","v":{"$error":"#REF!"}},{"$f":"#REF!+#REF!+#REF!+#REF!+#REF!+#REF!+#REF!+#REF!+#REF!+#REF!+#REF!+#REF!+#REF!+#REF!+#REF!+#REF!+#REF!+#REF!+#REF!+#REF!+#REF!+#REF!+#REF!+#REF!+#REF!+#REF!+#REF!+#REF!+#REF!+#REF!+#REF!+Feb_Williams!Q36+#REF!","v":{"$error":"#REF!"}},null,null,{"$f":"#REF!+#REF!+#REF!+#REF!+#REF!+#REF!+#REF!+#REF!+#REF!+#REF!+#REF!+#REF!+#REF!+#REF!+#REF!+#REF!+#REF!+#REF!+#REF!+#REF!+#REF!+#REF!+#REF!+#REF!+#REF!+#REF!+#REF!+#REF!+#REF!+#REF!+#REF!+Feb_Williams!T36+#REF!","v":{"$error":"#REF!"}},{"$f":"#REF!*0.5","v":{"$error":"#REF!"}},{"$f":"#REF!+#REF!+#REF!+#REF!+#REF!+#REF!+#REF!+#REF!+#REF!+#REF!+#REF!+#REF!+#REF!+#REF!+#REF!+#REF!+#REF!+#REF!+#REF!+#REF!+#REF!+#REF!+#REF!+#REF!+#REF!+#REF!+#REF!+#REF!+#REF!+#REF!+#REF!+Feb_Williams!V36+#REF!","v":{"$error":"#REF!"}},{"$f":"#REF!+#REF!+#REF!+#REF!+#REF!+#REF!+#REF!+#REF!+#REF!+#REF!+#REF!+#REF!+#REF!+#REF!+#REF!+#REF!+#REF!+#REF!+#REF!+#REF!+#REF!+#REF!+#REF!+#REF!+#REF!+#REF!+#REF!+#REF!+#REF!+#REF!+#REF!+Feb_Williams!W36+#REF!","v":{"$error":"#REF!"}},{"$f":"#REF!*0.5","v":{"$error":"#REF!"}},{"$f":"#REF!+#REF!+#REF!+#REF!+#REF!+#REF!+#REF!+#REF!+#REF!+#REF!+#REF!+#REF!+#REF!+#REF!+#REF!+#REF!+#REF!+#REF!+#REF!+#REF!+#REF!+#REF!+#REF!+#REF!+#REF!+#REF!+#REF!+#REF!+#REF!+#REF!+#REF!+Feb_Williams!Y36+#REF!","v":{"$error":"#REF!"}},null,null,{"$error":"#REF!"},{"$error":"#REF!"},{"$error":"#REF!"},{"$error":"#REF!"}]
[31,"Lincoln",{"$f":"#REF!+#REF!+#REF!+#REF!+#REF!+#REF!+#REF!+#REF!+#REF!+#REF!+#REF!+#REF!+#REF!+#REF!+#REF!+#REF!+#REF!+#REF!+#REF!+#REF!+#REF!+#REF!+#REF!+#REF!+#REF!+#REF!+#REF!+#REF!+#REF!+#REF!+#REF!+Feb_Williams!C37+#REF!+#REF!+#REF!","v":{"$error":"#REF!"}},{"$f":"#REF!+#REF!+#REF!+#REF!+#REF!+#REF!+#REF!+#REF!+#REF!+#REF!+#REF!+#REF!+#REF!+#REF!+#REF!+#REF!+#REF!+#REF!+#REF!+#REF!+#REF!+#REF!+#REF!+#REF!+#REF!+#REF!+#REF!+#REF!+#REF!+#REF!+#REF!+Feb_Williams!D37+#REF!+#REF!+#REF!","v":{"$error":"#REF!"}},{"$f":"#REF!+#REF!+#REF!+#REF!+#REF!+#REF!+#REF!+#REF!+#REF!+#REF!+#REF!+#REF!+#REF!+#REF!+#REF!+#REF!+#REF!+#REF!+#REF!+#REF!+#REF!+#REF!+#REF!+#REF!+#REF!+#REF!+#REF!+#REF!+#REF!+#REF!+#REF!+Feb_Williams!E37+#REF!+#REF!+#REF!","v":{"$error":"#REF!"}},{"$f":"#REF!*0.5","v":{"$error":"#REF!"}},{"$f":"#REF!+#REF!+#REF!+#REF!+#REF!+#REF!+#REF!+#REF!+#REF!+#REF!+#REF!+#REF!+#REF!+#REF!+#REF!+#REF!+#REF!+#REF!+#REF!+#REF!+#REF!+#REF!+#REF!+#REF!+#REF!+#REF!+#REF!+#REF!+#REF!+#REF!+#REF!+Feb_Williams!G37+#REF!","v":{"$error":"#REF!"}},{"$f":"#REF!+#REF!+#REF!+#REF!+#REF!+#REF!+#REF!+#REF!+#REF!+#REF!+#REF!+#REF!+#REF!+#REF!+#REF!+#REF!+#REF!+#REF!+#REF!+#REF!+#REF!+#REF!+#REF!+#REF!+#REF!+#REF!+#REF!+#REF!+#REF!+#REF!+#REF!+Feb_Williams!H37+#REF!+#REF!+#REF!","v":{"$error":"#REF!"}},{"$f":"#REF!+#REF!+#REF!+#REF!+#REF!+#REF!+#REF!+#REF!+#REF!+#REF!+#REF!+#REF!+#REF!+#REF!+#REF!+#REF!+#REF!+#REF!+#REF!+#REF!+#REF!+#REF!+#REF!+#REF!+#REF!+#REF!+#REF!+#REF!+#REF!+#REF!+#REF!+Feb_Williams!I37+#REF!+#REF!+#REF!","v":{"$error":"#REF!"}},{"$f":"#REF!+#REF!+#REF!+#REF!+#REF!+#REF!+#REF!+#REF!+#REF!+#REF!+#REF!+#REF!+#REF!+#REF!+#REF!+#REF!+#REF!+#REF!+#REF!+#REF!+#REF!+#REF!+#REF!+#REF!+#REF!+#REF!+#REF!+#REF!+#REF!+#REF!+#REF!+Feb_Williams!J37+#REF!+#REF!+#REF!","v":{"$error":"#REF!"}},{"$f":"#REF!*0.5","v":{"$error":"#REF!"}},{"$f":"#REF!+#REF!+#REF!+#REF!+#REF!+#REF!+#REF!+#REF!+#REF!+#REF!+#REF!+#REF!+#REF!+#REF!+#REF!+#REF!+#REF!+#REF!+#REF!+#REF!+#REF!+#REF!+#REF!+#REF!+#REF!+#REF!+#REF!+#REF!+#REF!+#REF!+#REF!+Feb_Williams!L37+#REF!","v":{"$error":"#REF!"}},null,null,{"$f":"#REF!+#REF!+#REF!+#REF!+#REF!+#REF!+#REF!+#REF!+#REF!+#REF!+#REF!+#REF!+#REF!+#REF!+#REF!+#REF!+#REF!+#REF!+#REF!+#REF!+#REF!+#REF!+#REF!+#REF!+#REF!+#REF!+#REF!+#REF!+#REF!+#REF!+#REF!+Feb_Williams!O37+#REF!","v":{"$error":"#REF!"}},{"$f":"#REF!*0.5","v":{"$error":"#REF!"}},{"$f":"#REF!+#REF!+#REF!+#REF!+#REF!+#REF!+#REF!+#REF!+#REF!+#REF!+#REF!+#REF!+#REF!+#REF!+#REF!+#REF!+#REF!+#REF!+#REF!+#REF!+#REF!+#REF!+#REF!+#REF!+#REF!+#REF!+#REF!+#REF!+#REF!+#REF!+#REF!+Feb_Williams!Q37+#REF!","v":{"$error":"#REF!"}},null,null,{"$f":"#REF!+#REF!+#REF!+#REF!+#REF!+#REF!+#REF!+#REF!+#REF!+#REF!+#REF!+#REF!+#REF!+#REF!+#REF!+#REF!+#REF!+#REF!+#REF!+#REF!+#REF!+#REF!+#REF!+#REF!+#REF!+#REF!+#REF!+#REF!+#REF!+#REF!+#REF!+Feb_Williams!T37+#REF!","v":{"$error":"#REF!"}},{"$f":"#REF!*0.5","v":{"$error":"#REF!"}},{"$f":"#REF!+#REF!+#REF!+#REF!+#REF!+#REF!+#REF!+#REF!+#REF!+#REF!+#REF!+#REF!+#REF!+#REF!+#REF!+#REF!+#REF!+#REF!+#REF!+#REF!+#REF!+#REF!+#REF!+#REF!+#REF!+#REF!+#REF!+#REF!+#REF!+#REF!+#REF!+Feb_Williams!V37+#REF!","v":{"$error":"#REF!"}},{"$f":"#REF!+#REF!+#REF!+#REF!+#REF!+#REF!+#REF!+#REF!+#REF!+#REF!+#REF!+#REF!+#REF!+#REF!+#REF!+#REF!+#REF!+#REF!+#REF!+#REF!+#REF!+#REF!+#REF!+#REF!+#REF!+#REF!+#REF!+#REF!+#REF!+#REF!+#REF!+Feb_Williams!W37+#REF!","v":{"$error":"#REF!"}},{"$f":"#REF!*0.5","v":{"$error":"#REF!"}},{"$f":"#REF!+#REF!+#REF!+#REF!+#REF!+#REF!+#REF!+#REF!+#REF!+#REF!+#REF!+#REF!+#REF!+#REF!+#REF!+#REF!+#REF!+#REF!+#REF!+#REF!+#REF!+#REF!+#REF!+#REF!+#REF!+#REF!+#REF!+#REF!+#REF!+#REF!+#REF!+Feb_Williams!Y37+#REF!","v":{"$error":"#REF!"}},null,null,{"$error":"#REF!"},{"$error":"#REF!"},{"$error":"#REF!"},{"$error":"#REF!"}]
[32,"Livingston",{"$f":"#REF!+#REF!+#REF!+#REF!+#REF!+#REF!+#REF!+#REF!+#REF!+#REF!+#REF!+#REF!+#REF!+#REF!+#REF!+#REF!+#REF!+#REF!+#REF!+#REF!+#REF!+#REF!+#REF!+#REF!+#REF!+#REF!+#REF!+#REF!+#REF!+#REF!+#REF!+Feb_Williams!C38+#REF!+#REF!+#REF!","v":{"$error":"#REF!"}},{"$f":"#REF!+#REF!+#REF!+#REF!+#REF!+#REF!+#REF!+#REF!+#REF!+#REF!+#REF!+#REF!+#REF!+#REF!+#REF!+#REF!+#REF!+#REF!+#REF!+#REF!+#REF!+#REF!+#REF!+#REF!+#REF!+#REF!+#REF!+#REF!+#REF!+#REF!+#REF!+Feb_Williams!D38+#REF!+#REF!+#REF!","v":{"$error":"#REF!"}},{"$f":"#REF!+#REF!+#REF!+#REF!+#REF!+#REF!+#REF!+#REF!+#REF!+#REF!+#REF!+#REF!+#REF!+#REF!+#REF!+#REF!+#REF!+#REF!+#REF!+#REF!+#REF!+#REF!+#REF!+#REF!+#REF!+#REF!+#REF!+#REF!+#REF!+#REF!+#REF!+Feb_Williams!E38+#REF!+#REF!+#REF!","v":{"$error":"#REF!"}},{"$f":"#REF!*0.5","v":{"$error":"#REF!"}},{"$f":"#REF!+#REF!+#REF!+#REF!+#REF!+#REF!+#REF!+#REF!+#REF!+#REF!+#REF!+#REF!+#REF!+#REF!+#REF!+#REF!+#REF!+#REF!+#REF!+#REF!+#REF!+#REF!+#REF!+#REF!+#REF!+#REF!+#REF!+#REF!+#REF!+#REF!+#REF!+Feb_Williams!G38+#REF!","v":{"$error":"#REF!"}},{"$f":"#REF!+#REF!+#REF!+#REF!+#REF!+#REF!+#REF!+#REF!+#REF!+#REF!+#REF!+#REF!+#REF!+#REF!+#REF!+#REF!+#REF!+#REF!+#REF!+#REF!+#REF!+#REF!+#REF!+#REF!+#REF!+#REF!+#REF!+#REF!+#REF!+#REF!+#REF!+Feb_Williams!H38+#REF!+#REF!+#REF!","v":{"$error":"#REF!"}},{"$f":"#REF!+#REF!+#REF!+#REF!+#REF!+#REF!+#REF!+#REF!+#REF!+#REF!+#REF!+#REF!+#REF!+#REF!+#REF!+#REF!+#REF!+#REF!+#REF!+#REF!+#REF!+#REF!+#REF!+#REF!+#REF!+#REF!+#REF!+#REF!+#REF!+#REF!+#REF!+Feb_Williams!I38+#REF!+#REF!+#REF!","v":{"$error":"#REF!"}},{"$f":"#REF!+#REF!+#REF!+#REF!+#REF!+#REF!+#REF!+#REF!+#REF!+#REF!+#REF!+#REF!+#REF!+#REF!+#REF!+#REF!+#REF!+#REF!+#REF!+#REF!+#REF!+#REF!+#REF!+#REF!+#REF!+#REF!+#REF!+#REF!+#REF!+#REF!+#REF!+Feb_Williams!J38+#REF!+#REF!+#REF!","v":{"$error":"#REF!"}},{"$f":"#REF!*0.5","v":{"$error":"#REF!"}},{"$f":"#REF!+#REF!+#REF!+#REF!+#REF!+#REF!+#REF!+#REF!+#REF!+#REF!+#REF!+#REF!+#REF!+#REF!+#REF!+#REF!+#REF!+#REF!+#REF!+#REF!+#REF!+#REF!+#REF!+#REF!+#REF!+#REF!+#REF!+#REF!+#REF!+#REF!+#REF!+Feb_Williams!L38+#REF!","v":{"$error":"#REF!"}},null,null,{"$f":"#REF!+#REF!+#REF!+#REF!+#REF!+#REF!+#REF!+#REF!+#REF!+#REF!+#REF!+#REF!+#REF!+#REF!+#REF!+#REF!+#REF!+#REF!+#REF!+#REF!+#REF!+#REF!+#REF!+#REF!+#REF!+#REF!+#REF!+#REF!+#REF!+#REF!+#REF!+Feb_Williams!O38+#REF!","v":{"$error":"#REF!"}},{"$f":"#REF!*0.5","v":{"$error":"#REF!"}},{"$f":"#REF!+#REF!+#REF!+#REF!+#REF!+#REF!+#REF!+#REF!+#REF!+#REF!+#REF!+#REF!+#REF!+#REF!+#REF!+#REF!+#REF!+#REF!+#REF!+#REF!+#REF!+#REF!+#REF!+#REF!+#REF!+#REF!+#REF!+#REF!+#REF!+#REF!+#REF!+Feb_Williams!Q38+#REF!","v":{"$error":"#REF!"}},null,null,{"$f":"#REF!+#REF!+#REF!+#REF!+#REF!+#REF!+#REF!+#REF!+#REF!+#REF!+#REF!+#REF!+#REF!+#REF!+#REF!+#REF!+#REF!+#REF!+#REF!+#REF!+#REF!+#REF!+#REF!+#REF!+#REF!+#REF!+#REF!+#REF!+#REF!+#REF!+#REF!+Feb_Williams!T38+#REF!","v":{"$error":"#REF!"}},{"$f":"#REF!*0.5","v":{"$error":"#REF!"}},{"$f":"#REF!+#REF!+#REF!+#REF!+#REF!+#REF!+#REF!+#REF!+#REF!+#REF!+#REF!+#REF!+#REF!+#REF!+#REF!+#REF!+#REF!+#REF!+#REF!+#REF!+#REF!+#REF!+#REF!+#REF!+#REF!+#REF!+#REF!+#REF!+#REF!+#REF!+#REF!+Feb_Williams!V38+#REF!","v":{"$error":"#REF!"}},{"$f":"#REF!+#REF!+#REF!+#REF!+#REF!+#REF!+#REF!+#REF!+#REF!+#REF!+#REF!+#REF!+#REF!+#REF!+#REF!+#REF!+#REF!+#REF!+#REF!+#REF!+#REF!+#REF!+#REF!+#REF!+#REF!+#REF!+#REF!+#REF!+#REF!+#REF!+#REF!+Feb_Williams!W38+#REF!","v":{"$error":"#REF!"}},{"$f":"#REF!*0.5","v":{"$error":"#REF!"}},{"$f":"#REF!+#REF!+#REF!+#REF!+#REF!+#REF!+#REF!+#REF!+#REF!+#REF!+#REF!+#REF!+#REF!+#REF!+#REF!+#REF!+#REF!+#REF!+#REF!+#REF!+#REF!+#REF!+#REF!+#REF!+#REF!+#REF!+#REF!+#REF!+#REF!+#REF!+#REF!+Feb_Williams!Y38+#REF!","v":{"$error":"#REF!"}},null,null,{"$error":"#REF!"},{"$error":"#REF!"},{"$error":"#REF!"},{"$error":"#REF!"}]
[33,"Madison",{"$f":"#REF!+#REF!+#REF!+#REF!+#REF!+#REF!+#REF!+#REF!+#REF!+#REF!+#REF!+#REF!+#REF!+#REF!+#REF!+#REF!+#REF!+#REF!+#REF!+#REF!+#REF!+#REF!+#REF!+#REF!+#REF!+#REF!+#REF!+#REF!+#REF!+#REF!+#REF!+Feb_Williams!C39+#REF!+#REF!+#REF!","v":{"$error":"#REF!"}},{"$f":"#REF!+#REF!+#REF!+#REF!+#REF!+#REF!+#REF!+#REF!+#REF!+#REF!+#REF!+#REF!+#REF!+#REF!+#REF!+#REF!+#REF!+#REF!+#REF!+#REF!+#REF!+#REF!+#REF!+#REF!+#REF!+#REF!+#REF!+#REF!+#REF!+#REF!+#REF!+Feb_Williams!D39+#REF!+#REF!+#REF!","v":{"$error":"#REF!"}},{"$f":"#REF!+#REF!+#REF!+#REF!+#REF!+#REF!+#REF!+#REF!+#REF!+#REF!+#REF!+#REF!+#REF!+#REF!+#REF!+#REF!+#REF!+#REF!+#REF!+#REF!+#REF!+#REF!+#REF!+#REF!+#REF!+#REF!+#REF!+#REF!+#REF!+#REF!+#REF!+Feb_Williams!E39+#REF!+#REF!+#REF!","v":{"$error":"#REF!"}},{"$f":"#REF!*0.5","v":{"$error":"#REF!"}},{"$f":"#REF!+#REF!+#REF!+#REF!+#REF!+#REF!+#REF!+#REF!+#REF!+#REF!+#REF!+#REF!+#REF!+#REF!+#REF!+#REF!+#REF!+#REF!+#REF!+#REF!+#REF!+#REF!+#REF!+#REF!+#REF!+#REF!+#REF!+#REF!+#REF!+#REF!+#REF!+Feb_Williams!G39+#REF!","v":{"$error":"#REF!"}},{"$f":"#REF!+#REF!+#REF!+#REF!+#REF!+#REF!+#REF!+#REF!+#REF!+#REF!+#REF!+#REF!+#REF!+#REF!+#REF!+#REF!+#REF!+#REF!+#REF!+#REF!+#REF!+#REF!+#REF!+#REF!+#REF!+#REF!+#REF!+#REF!+#REF!+#REF!+#REF!+Feb_Williams!H39+#REF!+#REF!+#REF!","v":{"$error":"#REF!"}},{"$f":"#REF!+#REF!+#REF!+#REF!+#REF!+#REF!+#REF!+#REF!+#REF!+#REF!+#REF!+#REF!+#REF!+#REF!+#REF!+#REF!+#REF!+#REF!+#REF!+#REF!+#REF!+#REF!+#REF!+#REF!+#REF!+#REF!+#REF!+#REF!+#REF!+#REF!+#REF!+Feb_Williams!I39+#REF!+#REF!+#REF!","v":{"$error":"#REF!"}},{"$f":"#REF!+#REF!+#REF!+#REF!+#REF!+#REF!+#REF!+#REF!+#REF!+#REF!+#REF!+#REF!+#REF!+#REF!+#REF!+#REF!+#REF!+#REF!+#REF!+#REF!+#REF!+#REF!+#REF!+#REF!+#REF!+#REF!+#REF!+#REF!+#REF!+#REF!+#REF!+Feb_Williams!J39+#REF!+#REF!+#REF!","v":{"$error":"#REF!"}},{"$f":"#REF!*0.5","v":{"$error":"#REF!"}},{"$f":"#REF!+#REF!+#REF!+#REF!+#REF!+#REF!+#REF!+#REF!+#REF!+#REF!+#REF!+#REF!+#REF!+#REF!+#REF!+#REF!+#REF!+#REF!+#REF!+#REF!+#REF!+#REF!+#REF!+#REF!+#REF!+#REF!+#REF!+#REF!+#REF!+#REF!+#REF!+Feb_Williams!L39+#REF!","v":{"$error":"#REF!"}},null,null,{"$f":"#REF!+#REF!+#REF!+#REF!+#REF!+#REF!+#REF!+#REF!+#REF!+#REF!+#REF!+#REF!+#REF!+#REF!+#REF!+#REF!+#REF!+#REF!+#REF!+#REF!+#REF!+#REF!+#REF!+#REF!+#REF!+#REF!+#REF!+#REF!+#REF!+#REF!+#REF!+Feb_Williams!O39+#REF!","v":{"$error":"#REF!"}},{"$f":"#REF!*0.5","v":{"$error":"#REF!"}},{"$f":"#REF!+#REF!+#REF!+#REF!+#REF!+#REF!+#REF!+#REF!+#REF!+#REF!+#REF!+#REF!+#REF!+#REF!+#REF!+#REF!+#REF!+#REF!+#REF!+#REF!+#REF!+#REF!+#REF!+#REF!+#REF!+#REF!+#REF!+#REF!+#REF!+#REF!+#REF!+Feb_Williams!Q39+#REF!","v":{"$error":"#REF!"}},null,null,{"$f":"#REF!+#REF!+#REF!+#REF!+#REF!+#REF!+#REF!+#REF!+#REF!+#REF!+#REF!+#REF!+#REF!+#REF!+#REF!+#REF!+#REF!+#REF!+#REF!+#REF!+#REF!+#REF!+#REF!+#REF!+#REF!+#REF!+#REF!+#REF!+#REF!+#REF!+#REF!+Feb_Williams!T39+#REF!","v":{"$error":"#REF!"}},{"$f":"#REF!*0.5","v":{"$error":"#REF!"}},{"$f":"#REF!+#REF!+#REF!+#REF!+#REF!+#REF!+#REF!+#REF!+#REF!+#REF!+#REF!+#REF!+#REF!+#REF!+#REF!+#REF!+#REF!+#REF!+#REF!+#REF!+#REF!+#REF!+#REF!+#REF!+#REF!+#REF!+#REF!+#REF!+#REF!+#REF!+#REF!+Feb_Williams!V39+#REF!","v":{"$error":"#REF!"}},{"$f":"#REF!+#REF!+#REF!+#REF!+#REF!+#REF!+#REF!+#REF!+#REF!+#REF!+#REF!+#REF!+#REF!+#REF!+#REF!+#REF!+#REF!+#REF!+#REF!+#REF!+#REF!+#REF!+#REF!+#REF!+#REF!+#REF!+#REF!+#REF!+#REF!+#REF!+#REF!+Feb_Williams!W39+#REF!","v":{"$error":"#REF!"}},{"$f":"#REF!*0.5","v":{"$error":"#REF!"}},{"$f":"#REF!+#REF!+#REF!+#REF!+#REF!+#REF!+#REF!+#REF!+#REF!+#REF!+#REF!+#REF!+#REF!+#REF!+#REF!+#REF!+#REF!+#REF!+#REF!+#REF!+#REF!+#REF!+#REF!+#REF!+#REF!+#REF!+#REF!+#REF!+#REF!+#REF!+#REF!+Feb_Williams!Y39+#REF!","v":{"$error":"#REF!"}},null,null,{"$error":"#REF!"},{"$error":"#REF!"},{"$error":"#REF!"},{"$error":"#REF!"}]
[34,"Morehouse",{"$f":"#REF!+#REF!+#REF!+#REF!+#REF!+#REF!+#REF!+#REF!+#REF!+#REF!+#REF!+#REF!+#REF!+#REF!+#REF!+#REF!+#REF!+#REF!+#REF!+#REF!+#REF!+#REF!+#REF!+#REF!+#REF!+#REF!+#REF!+#REF!+#REF!+#REF!+#REF!+Feb_Williams!C40+#REF!+#REF!+#REF!","v":{"$error":"#REF!"}},{"$f":"#REF!+#REF!+#REF!+#REF!+#REF!+#REF!+#REF!+#REF!+#REF!+#REF!+#REF!+#REF!+#REF!+#REF!+#REF!+#REF!+#REF!+#REF!+#REF!+#REF!+#REF!+#REF!+#REF!+#REF!+#REF!+#REF!+#REF!+#REF!+#REF!+#REF!+#REF!+Feb_Williams!D40+#REF!+#REF!+#REF!","v":{"$error":"#REF!"}},{"$f":"#REF!+#REF!+#REF!+#REF!+#REF!+#REF!+#REF!+#REF!+#REF!+#REF!+#REF!+#REF!+#REF!+#REF!+#REF!+#REF!+#REF!+#REF!+#REF!+#REF!+#REF!+#REF!+#REF!+#REF!+#REF!+#REF!+#REF!+#REF!+#REF!+#REF!+#REF!+Feb_Williams!E40+#REF!+#REF!+#REF!","v":{"$error":"#REF!"}},{"$f":"#REF!*0.5","v":{"$error":"#REF!"}},{"$f":"#REF!+#REF!+#REF!+#REF!+#REF!+#REF!+#REF!+#REF!+#REF!+#REF!+#REF!+#REF!+#REF!+#REF!+#REF!+#REF!+#REF!+#REF!+#REF!+#REF!+#REF!+#REF!+#REF!+#REF!+#REF!+#REF!+#REF!+#REF!+#REF!+#REF!+#REF!+Feb_Williams!G40+#REF!","v":{"$error":"#REF!"}},{"$f":"#REF!+#REF!+#REF!+#REF!+#REF!+#REF!+#REF!+#REF!+#REF!+#REF!+#REF!+#REF!+#REF!+#REF!+#REF!+#REF!+#REF!+#REF!+#REF!+#REF!+#REF!+#REF!+#REF!+#REF!+#REF!+#REF!+#REF!+#REF!+#REF!+#REF!+#REF!+Feb_Williams!H40+#REF!+#REF!+#REF!","v":{"$error":"#REF!"}},{"$f":"#REF!+#REF!+#REF!+#REF!+#REF!+#REF!+#REF!+#REF!+#REF!+#REF!+#REF!+#REF!+#REF!+#REF!+#REF!+#REF!+#REF!+#REF!+#REF!+#REF!+#REF!+#REF!+#REF!+#REF!+#REF!+#REF!+#REF!+#REF!+#REF!+#REF!+#REF!+Feb_Williams!I40+#REF!+#REF!+#REF!","v":{"$error":"#REF!"}},{"$f":"#REF!+#REF!+#REF!+#REF!+#REF!+#REF!+#REF!+#REF!+#REF!+#REF!+#REF!+#REF!+#REF!+#REF!+#REF!+#REF!+#REF!+#REF!+#REF!+#REF!+#REF!+#REF!+#REF!+#REF!+#REF!+#REF!+#REF!+#REF!+#REF!+#REF!+#REF!+Feb_Williams!J40+#REF!+#REF!+#REF!","v":{"$error":"#REF!"}},{"$f":"#REF!*0.5","v":{"$error":"#REF!"}},{"$f":"#REF!+#REF!+#REF!+#REF!+#REF!+#REF!+#REF!+#REF!+#REF!+#REF!+#REF!+#REF!+#REF!+#REF!+#REF!+#REF!+#REF!+#REF!+#REF!+#REF!+#REF!+#REF!+#REF!+#REF!+#REF!+#REF!+#REF!+#REF!+#REF!+#REF!+#REF!+Feb_Williams!L40+#REF!","v":{"$error":"#REF!"}},null,null,{"$f":"#REF!+#REF!+#REF!+#REF!+#REF!+#REF!+#REF!+#REF!+#REF!+#REF!+#REF!+#REF!+#REF!+#REF!+#REF!+#REF!+#REF!+#REF!+#REF!+#REF!+#REF!+#REF!+#REF!+#REF!+#REF!+#REF!+#REF!+#REF!+#REF!+#REF!+#REF!+Feb_Williams!O40+#REF!","v":{"$error":"#REF!"}},{"$f":"#REF!*0.5","v":{"$error":"#REF!"}},{"$f":"#REF!+#REF!+#REF!+#REF!+#REF!+#REF!+#REF!+#REF!+#REF!+#REF!+#REF!+#REF!+#REF!+#REF!+#REF!+#REF!+#REF!+#REF!+#REF!+#REF!+#REF!+#REF!+#REF!+#REF!+#REF!+#REF!+#REF!+#REF!+#REF!+#REF!+#REF!+Feb_Williams!Q40+#REF!","v":{"$error":"#REF!"}},null,null,{"$f":"#REF!+#REF!+#REF!+#REF!+#REF!+#REF!+#REF!+#REF!+#REF!+#REF!+#REF!+#REF!+#REF!+#REF!+#REF!+#REF!+#REF!+#REF!+#REF!+#REF!+#REF!+#REF!+#REF!+#REF!+#REF!+#REF!+#REF!+#REF!+#REF!+#REF!+#REF!+Feb_Williams!T40+#REF!","v":{"$error":"#REF!"}},{"$f":"#REF!*0.5","v":{"$error":"#REF!"}},{"$f":"#REF!+#REF!+#REF!+#REF!+#REF!+#REF!+#REF!+#REF!+#REF!+#REF!+#REF!+#REF!+#REF!+#REF!+#REF!+#REF!+#REF!+#REF!+#REF!+#REF!+#REF!+#REF!+#REF!+#REF!+#REF!+#REF!+#REF!+#REF!+#REF!+#REF!+#REF!+Feb_Williams!V40+#REF!","v":{"$error":"#REF!"}},{"$f":"#REF!+#REF!+#REF!+#REF!+#REF!+#REF!+#REF!+#REF!+#REF!+#REF!+#REF!+#REF!+#REF!+#REF!+#REF!+#REF!+#REF!+#REF!+#REF!+#REF!+#REF!+#REF!+#REF!+#REF!+#REF!+#REF!+#REF!+#REF!+#REF!+#REF!+#REF!+Feb_Williams!W40+#REF!","v":{"$error":"#REF!"}},{"$f":"#REF!*0.5","v":{"$error":"#REF!"}},{"$f":"#REF!+#REF!+#REF!+#REF!+#REF!+#REF!+#REF!+#REF!+#REF!+#REF!+#REF!+#REF!+#REF!+#REF!+#REF!+#REF!+#REF!+#REF!+#REF!+#REF!+#REF!+#REF!+#REF!+#REF!+#REF!+#REF!+#REF!+#REF!+#REF!+#REF!+#REF!+Feb_Williams!Y40+#REF!","v":{"$error":"#REF!"}},null,null,{"$error":"#REF!"},{"$error":"#REF!"},{"$error":"#REF!"},{"$error":"#REF!"}]
[35,"Natchitoches",{"$f":"#REF!+#REF!+#REF!+#REF!+#REF!+#REF!+#REF!+#REF!+#REF!+#REF!+#REF!+#REF!+#REF!+#REF!+#REF!+#REF!+#REF!+#REF!+#REF!+#REF!+#REF!+#REF!+#REF!+#REF!+#REF!+#REF!+#REF!+#REF!+#REF!+#REF!+#REF!+Feb_Williams!C41+#REF!+#REF!+#REF!","v":{"$error":"#REF!"}},{"$f":"#REF!+#REF!+#REF!+#REF!+#REF!+#REF!+#REF!+#REF!+#REF!+#REF!+#REF!+#REF!+#REF!+#REF!+#REF!+#REF!+#REF!+#REF!+#REF!+#REF!+#REF!+#REF!+#REF!+#REF!+#REF!+#REF!+#REF!+#REF!+#REF!+#REF!+#REF!+Feb_Williams!D41+#REF!+#REF!+#REF!","v":{"$error":"#REF!"}},{"$f":"#REF!+#REF!+#REF!+#REF!+#REF!+#REF!+#REF!+#REF!+#REF!+#REF!+#REF!+#REF!+#REF!+#REF!+#REF!+#REF!+#REF!+#REF!+#REF!+#REF!+#REF!+#REF!+#REF!+#REF!+#REF!+#REF!+#REF!+#REF!+#REF!+#REF!+#REF!+Feb_Williams!E41+#REF!+#REF!+#REF!","v":{"$error":"#REF!"}},{"$f":"#REF!*0.5","v":{"$error":"#REF!"}},{"$f":"#REF!+#REF!+#REF!+#REF!+#REF!+#REF!+#REF!+#REF!+#REF!+#REF!+#REF!+#REF!+#REF!+#REF!+#REF!+#REF!+#REF!+#REF!+#REF!+#REF!+#REF!+#REF!+#REF!+#REF!+#REF!+#REF!+#REF!+#REF!+#REF!+#REF!+#REF!+Feb_Williams!G41+#REF!","v":{"$error":"#REF!"}},{"$f":"#REF!+#REF!+#REF!+#REF!+#REF!+#REF!+#REF!+#REF!+#REF!+#REF!+#REF!+#REF!+#REF!+#REF!+#REF!+#REF!+#REF!+#REF!+#REF!+#REF!+#REF!+#REF!+#REF!+#REF!+#REF!+#REF!+#REF!+#REF!+#REF!+#REF!+#REF!+Feb_Williams!H41+#REF!+#REF!+#REF!","v":{"$error":"#REF!"}},{"$f":"#REF!+#REF!+#REF!+#REF!+#REF!+#REF!+#REF!+#REF!+#REF!+#REF!+#REF!+#REF!+#REF!+#REF!+#REF!+#REF!+#REF!+#REF!+#REF!+#REF!+#REF!+#REF!+#REF!+#REF!+#REF!+#REF!+#REF!+#REF!+#REF!+#REF!+#REF!+Feb_Williams!I41+#REF!+#REF!+#REF!","v":{"$error":"#REF!"}},{"$f":"#REF!+#REF!+#REF!+#REF!+#REF!+#REF!+#REF!+#REF!+#REF!+#REF!+#REF!+#REF!+#REF!+#REF!+#REF!+#REF!+#REF!+#REF!+#REF!+#REF!+#REF!+#REF!+#REF!+#REF!+#REF!+#REF!+#REF!+#REF!+#REF!+#REF!+#REF!+Feb_Williams!J41+#REF!+#REF!+#REF!","v":{"$error":"#REF!"}},{"$f":"#REF!*0.5","v":{"$error":"#REF!"}},{"$f":"#REF!+#REF!+#REF!+#REF!+#REF!+#REF!+#REF!+#REF!+#REF!+#REF!+#REF!+#REF!+#REF!+#REF!+#REF!+#REF!+#REF!+#REF!+#REF!+#REF!+#REF!+#REF!+#REF!+#REF!+#REF!+#REF!+#REF!+#REF!+#REF!+#REF!+#REF!+Feb_Williams!L41+#REF!","v":{"$error":"#REF!"}},null,null,{"$f":"#REF!+#REF!+#REF!+#REF!+#REF!+#REF!+#REF!+#REF!+#REF!+#REF!+#REF!+#REF!+#REF!+#REF!+#REF!+#REF!+#REF!+#REF!+#REF!+#REF!+#REF!+#REF!+#REF!+#REF!+#REF!+#REF!+#REF!+#REF!+#REF!+#REF!+#REF!+Feb_Williams!O41+#REF!","v":{"$error":"#REF!"}},{"$f":"#REF!*0.5","v":{"$error":"#REF!"}},{"$f":"#REF!+#REF!+#REF!+#REF!+#REF!+#REF!+#REF!+#REF!+#REF!+#REF!+#REF!+#REF!+#REF!+#REF!+#REF!+#REF!+#REF!+#REF!+#REF!+#REF!+#REF!+#REF!+#REF!+#REF!+#REF!+#REF!+#REF!+#REF!+#REF!+#REF!+#REF!+Feb_Williams!Q41+#REF!","v":{"$error":"#REF!"}},null,null,{"$f":"#REF!+#REF!+#REF!+#REF!+#REF!+#REF!+#REF!+#REF!+#REF!+#REF!+#REF!+#REF!+#REF!+#REF!+#REF!+#REF!+#REF!+#REF!+#REF!+#REF!+#REF!+#REF!+#REF!+#REF!+#REF!+#REF!+#REF!+#REF!+#REF!+#REF!+#REF!+Feb_Williams!T41+#REF!","v":{"$error":"#REF!"}},{"$f":"#REF!*0.5","v":{"$error":"#REF!"}},{"$f":"#REF!+#REF!+#REF!+#REF!+#REF!+#REF!+#REF!+#REF!+#REF!+#REF!+#REF!+#REF!+#REF!+#REF!+#REF!+#REF!+#REF!+#REF!+#REF!+#REF!+#REF!+#REF!+#REF!+#REF!+#REF!+#REF!+#REF!+#REF!+#REF!+#REF!+#REF!+Feb_Williams!V41+#REF!","v":{"$error":"#REF!"}},{"$f":"#REF!+#REF!+#REF!+#REF!+#REF!+#REF!+#REF!+#REF!+#REF!+#REF!+#REF!+#REF!+#REF!+#REF!+#REF!+#REF!+#REF!+#REF!+#REF!+#REF!+#REF!+#REF!+#REF!+#REF!+#REF!+#REF!+#REF!+#REF!+#REF!+#REF!+#REF!+Feb_Williams!W41+#REF!","v":{"$error":"#REF!"}},{"$f":"#REF!*0.5","v":{"$error":"#REF!"}},{"$f":"#REF!+#REF!+#REF!+#REF!+#REF!+#REF!+#REF!+#REF!+#REF!+#REF!+#REF!+#REF!+#REF!+#REF!+#REF!+#REF!+#REF!+#REF!+#REF!+#REF!+#REF!+#REF!+#REF!+#REF!+#REF!+#REF!+#REF!+#REF!+#REF!+#REF!+#REF!+Feb_Williams!Y41+#REF!","v":{"$error":"#REF!"}},null,null,{"$error":"#REF!"},{"$error":"#REF!"},{"$error":"#REF!"},{"$error":"#REF!"}]
[36,"Orleans",{"$f":"#REF!+#REF!+#REF!+#REF!+#REF!+#REF!+#REF!+#REF!+#REF!+#REF!+#REF!+#REF!+#REF!+#REF!+#REF!+#REF!+#REF!+#REF!+#REF!+#REF!+#REF!+#REF!+#REF!+#REF!+#REF!+#REF!+#REF!+#REF!+#REF!+#REF!+#REF!+Feb_Williams!C42+#REF!+#REF!+#REF!","v":{"$error":"#REF!"}},{"$f":"#REF!+#REF!+#REF!+#REF!+#REF!+#REF!+#REF!+#REF!+#REF!+#REF!+#REF!+#REF!+#REF!+#REF!+#REF!+#REF!+#REF!+#REF!+#REF!+#REF!+#REF!+#REF!+#REF!+#REF!+#REF!+#REF!+#REF!+#REF!+#REF!+#REF!+#REF!+Feb_Williams!D42+#REF!+#REF!+#REF!","v":{"$error":"#REF!"}},{"$f":"#REF!+#REF!+#REF!+#REF!+#REF!+#REF!+#REF!+#REF!+#REF!+#REF!+#REF!+#REF!+#REF!+#REF!+#REF!+#REF!+#REF!+#REF!+#REF!+#REF!+#REF!+#REF!+#REF!+#REF!+#REF!+#REF!+#REF!+#REF!+#REF!+#REF!+#REF!+Feb_Williams!E42+#REF!+#REF!+#REF!","v":{"$error":"#REF!"}},{"$f":"#REF!*0.5","v":{"$error":"#REF!"}},{"$f":"#REF!+#REF!+#REF!+#REF!+#REF!+#REF!+#REF!+#REF!+#REF!+#REF!+#REF!+#REF!+#REF!+#REF!+#REF!+#REF!+#REF!+#REF!+#REF!+#REF!+#REF!+#REF!+#REF!+#REF!+#REF!+#REF!+#REF!+#REF!+#REF!+#REF!+#REF!+Feb_Williams!G42+#REF!","v":{"$error":"#REF!"}},{"$f":"#REF!+#REF!+#REF!+#REF!+#REF!+#REF!+#REF!+#REF!+#REF!+#REF!+#REF!+#REF!+#REF!+#REF!+#REF!+#REF!+#REF!+#REF!+#REF!+#REF!+#REF!+#REF!+#REF!+#REF!+#REF!+#REF!+#REF!+#REF!+#REF!+#REF!+#REF!+Feb_Williams!H42+#REF!+#REF!+#REF!","v":{"$error":"#REF!"}},{"$f":"#REF!+#REF!+#REF!+#REF!+#REF!+#REF!+#REF!+#REF!+#REF!+#REF!+#REF!+#REF!+#REF!+#REF!+#REF!+#REF!+#REF!+#REF!+#REF!+#REF!+#REF!+#REF!+#REF!+#REF!+#REF!+#REF!+#REF!+#REF!+#REF!+#REF!+#REF!+Feb_Williams!I42+#REF!+#REF!+#REF!","v":{"$error":"#REF!"}},{"$f":"#REF!+#REF!+#REF!+#REF!+#REF!+#REF!+#REF!+#REF!+#REF!+#REF!+#REF!+#REF!+#REF!+#REF!+#REF!+#REF!+#REF!+#REF!+#REF!+#REF!+#REF!+#REF!+#REF!+#REF!+#REF!+#REF!+#REF!+#REF!+#REF!+#REF!+#REF!+Feb_Williams!J42+#REF!+#REF!+#REF!","v":{"$error":"#REF!"}},{"$f":"#REF!*0.5","v":{"$error":"#REF!"}},{"$f":"#REF!+#REF!+#REF!+#REF!+#REF!+#REF!+#REF!+#REF!+#REF!+#REF!+#REF!+#REF!+#REF!+#REF!+#REF!+#REF!+#REF!+#REF!+#REF!+#REF!+#REF!+#REF!+#REF!+#REF!+#REF!+#REF!+#REF!+#REF!+#REF!+#REF!+#REF!+Feb_Williams!L42+#REF!","v":{"$error":"#REF!"}},null,null,{"$f":"#REF!+#REF!+#REF!+#REF!+#REF!+#REF!+#REF!+#REF!+#REF!+#REF!+#REF!+#REF!+#REF!+#REF!+#REF!+#REF!+#REF!+#REF!+#REF!+#REF!+#REF!+#REF!+#REF!+#REF!+#REF!+#REF!+#REF!+#REF!+#REF!+#REF!+#REF!+Feb_Williams!O42+#REF!","v":{"$error":"#REF!"}},{"$f":"#REF!*0.5","v":{"$error":"#REF!"}},{"$f":"#REF!+#REF!+#REF!+#REF!+#REF!+#REF!+#REF!+#REF!+#REF!+#REF!+#REF!+#REF!+#REF!+#REF!+#REF!+#REF!+#REF!+#REF!+#REF!+#REF!+#REF!+#REF!+#REF!+#REF!+#REF!+#REF!+#REF!+#REF!+#REF!+#REF!+#REF!+Feb_Williams!Q42+#REF!","v":{"$error":"#REF!"}},null,null,{"$f":"#REF!+#REF!+#REF!+#REF!+#REF!+#REF!+#REF!+#REF!+#REF!+#REF!+#REF!+#REF!+#REF!+#REF!+#REF!+#REF!+#REF!+#REF!+#REF!+#REF!+#REF!+#REF!+#REF!+#REF!+#REF!+#REF!+#REF!+#REF!+#REF!+#REF!+#REF!+Feb_Williams!T42+#REF!","v":{"$error":"#REF!"}},{"$f":"#REF!*0.5","v":{"$error":"#REF!"}},{"$f":"#REF!+#REF!+#REF!+#REF!+#REF!+#REF!+#REF!+#REF!+#REF!+#REF!+#REF!+#REF!+#REF!+#REF!+#REF!+#REF!+#REF!+#REF!+#REF!+#REF!+#REF!+#REF!+#REF!+#REF!+#REF!+#REF!+#REF!+#REF!+#REF!+#REF!+#REF!+Feb_Williams!V42+#REF!","v":{"$error":"#REF!"}},{"$f":"#REF!+#REF!+#REF!+#REF!+#REF!+#REF!+#REF!+#REF!+#REF!+#REF!+#REF!+#REF!+#REF!+#REF!+#REF!+#REF!+#REF!+#REF!+#REF!+#REF!+#REF!+#REF!+#REF!+#REF!+#REF!+#REF!+#REF!+#REF!+#REF!+#REF!+#REF!+Feb_Williams!W42+#REF!","v":{"$error":"#REF!"}},{"$f":"#REF!*0.5","v":{"$error":"#REF!"}},{"$f":"#REF!+#REF!+#REF!+#REF!+#REF!+#REF!+#REF!+#REF!+#REF!+#REF!+#REF!+#REF!+#REF!+#REF!+#REF!+#REF!+#REF!+#REF!+#REF!+#REF!+#REF!+#REF!+#REF!+#REF!+#REF!+#REF!+#REF!+#REF!+#REF!+#REF!+#REF!+Feb_Williams!Y42+#REF!","v":{"$error":"#REF!"}},null,null,{"$error":"#REF!"},{"$error":"#REF!"},{"$error":"#REF!"},{"$error":"#REF!"}]
[37,"Ouachita",{"$f":"#REF!+#REF!+#REF!+#REF!+#REF!+#REF!+#REF!+#REF!+#REF!+#REF!+#REF!+#REF!+#REF!+#REF!+#REF!+#REF!+#REF!+#REF!+#REF!+#REF!+#REF!+#REF!+#REF!+#REF!+#REF!+#REF!+#REF!+#REF!+#REF!+#REF!+#REF!+Feb_Williams!C43+#REF!+#REF!+#REF!","v":{"$error":"#REF!"}},{"$f":"#REF!+#REF!+#REF!+#REF!+#REF!+#REF!+#REF!+#REF!+#REF!+#REF!+#REF!+#REF!+#REF!+#REF!+#REF!+#REF!+#REF!+#REF!+#REF!+#REF!+#REF!+#REF!+#REF!+#REF!+#REF!+#REF!+#REF!+#REF!+#REF!+#REF!+#REF!+Feb_Williams!D43+#REF!+#REF!+#REF!","v":{"$error":"#REF!"}},{"$f":"#REF!+#REF!+#REF!+#REF!+#REF!+#REF!+#REF!+#REF!+#REF!+#REF!+#REF!+#REF!+#REF!+#REF!+#REF!+#REF!+#REF!+#REF!+#REF!+#REF!+#REF!+#REF!+#REF!+#REF!+#REF!+#REF!+#REF!+#REF!+#REF!+#REF!+#REF!+Feb_Williams!E43+#REF!+#REF!+#REF!","v":{"$error":"#REF!"}},{"$f":"#REF!*0.5","v":{"$error":"#REF!"}},{"$f":"#REF!+#REF!+#REF!+#REF!+#REF!+#REF!+#REF!+#REF!+#REF!+#REF!+#REF!+#REF!+#REF!+#REF!+#REF!+#REF!+#REF!+#REF!+#REF!+#REF!+#REF!+#REF!+#REF!+#REF!+#REF!+#REF!+#REF!+#REF!+#REF!+#REF!+#REF!+Feb_Williams!G43+#REF!","v":{"$error":"#REF!"}},{"$f":"#REF!+#REF!+#REF!+#REF!+#REF!+#REF!+#REF!+#REF!+#REF!+#REF!+#REF!+#REF!+#REF!+#REF!+#REF!+#REF!+#REF!+#REF!+#REF!+#REF!+#REF!+#REF!+#REF!+#REF!+#REF!+#REF!+#REF!+#REF!+#REF!+#REF!+#REF!+Feb_Williams!H43+#REF!+#REF!+#REF!","v":{"$error":"#REF!"}},{"$f":"#REF!+#REF!+#REF!+#REF!+#REF!+#REF!+#REF!+#REF!+#REF!+#REF!+#REF!+#REF!+#REF!+#REF!+#REF!+#REF!+#REF!+#REF!+#REF!+#REF!+#REF!+#REF!+#REF!+#REF!+#REF!+#REF!+#REF!+#REF!+#REF!+#REF!+#REF!+Feb_Williams!I43+#REF!+#REF!+#REF!","v":{"$error":"#REF!"}},{"$f":"#REF!+#REF!+#REF!+#REF!+#REF!+#REF!+#REF!+#REF!+#REF!+#REF!+#REF!+#REF!+#REF!+#REF!+#REF!+#REF!+#REF!+#REF!+#REF!+#REF!+#REF!+#REF!+#REF!+#REF!+#REF!+#REF!+#REF!+#REF!+#REF!+#REF!+#REF!+Feb_Williams!J43+#REF!+#REF!+#REF!","v":{"$error":"#REF!"}},{"$f":"#REF!*0.5","v":{"$error":"#REF!"}},{"$f":"#REF!+#REF!+#REF!+#REF!+#REF!+#REF!+#REF!+#REF!+#REF!+#REF!+#REF!+#REF!+#REF!+#REF!+#REF!+#REF!+#REF!+#REF!+#REF!+#REF!+#REF!+#REF!+#REF!+#REF!+#REF!+#REF!+#REF!+#REF!+#REF!+#REF!+#REF!+Feb_Williams!L43+#REF!","v":{"$error":"#REF!"}},null,null,{"$f":"#REF!+#REF!+#REF!+#REF!+#REF!+#REF!+#REF!+#REF!+#REF!+#REF!+#REF!+#REF!+#REF!+#REF!+#REF!+#REF!+#REF!+#REF!+#REF!+#REF!+#REF!+#REF!+#REF!+#REF!+#REF!+#REF!+#REF!+#REF!+#REF!+#REF!+#REF!+Feb_Williams!O43+#REF!","v":{"$error":"#REF!"}},{"$f":"#REF!*0.5","v":{"$error":"#REF!"}},{"$f":"#REF!+#REF!+#REF!+#REF!+#REF!+#REF!+#REF!+#REF!+#REF!+#REF!+#REF!+#REF!+#REF!+#REF!+#REF!+#REF!+#REF!+#REF!+#REF!+#REF!+#REF!+#REF!+#REF!+#REF!+#REF!+#REF!+#REF!+#REF!+#REF!+#REF!+#REF!+Feb_Williams!Q43+#REF!","v":{"$error":"#REF!"}},null,null,{"$f":"#REF!+#REF!+#REF!+#REF!+#REF!+#REF!+#REF!+#REF!+#REF!+#REF!+#REF!+#REF!+#REF!+#REF!+#REF!+#REF!+#REF!+#REF!+#REF!+#REF!+#REF!+#REF!+#REF!+#REF!+#REF!+#REF!+#REF!+#REF!+#REF!+#REF!+#REF!+Feb_Williams!T43+#REF!","v":{"$error":"#REF!"}},{"$f":"#REF!*0.5","v":{"$error":"#REF!"}},{"$f":"#REF!+#REF!+#REF!+#REF!+#REF!+#REF!+#REF!+#REF!+#REF!+#REF!+#REF!+#REF!+#REF!+#REF!+#REF!+#REF!+#REF!+#REF!+#REF!+#REF!+#REF!+#REF!+#REF!+#REF!+#REF!+#REF!+#REF!+#REF!+#REF!+#REF!+#REF!+Feb_Williams!V43+#REF!","v":{"$error":"#REF!"}},{"$f":"#REF!+#REF!+#REF!+#REF!+#REF!+#REF!+#REF!+#REF!+#REF!+#REF!+#REF!+#REF!+#REF!+#REF!+#REF!+#REF!+#REF!+#REF!+#REF!+#REF!+#REF!+#REF!+#REF!+#REF!+#REF!+#REF!+#REF!+#REF!+#REF!+#REF!+#REF!+Feb_Williams!W43+#REF!","v":{"$error":"#REF!"}},{"$f":"#REF!*0.5","v":{"$error":"#REF!"}},{"$f":"#REF!+#REF!+#REF!+#REF!+#REF!+#REF!+#REF!+#REF!+#REF!+#REF!+#REF!+#REF!+#REF!+#REF!+#REF!+#REF!+#REF!+#REF!+#REF!+#REF!+#REF!+#REF!+#REF!+#REF!+#REF!+#REF!+#REF!+#REF!+#REF!+#REF!+#REF!+Feb_Williams!Y43+#REF!","v":{"$error":"#REF!"}},null,null,{"$error":"#REF!"},{"$error":"#REF!"},{"$error":"#REF!"},{"$error":"#REF!"}]
[38,"Plaquemines",{"$f":"#REF!+#REF!+#REF!+#REF!+#REF!+#REF!+#REF!+#REF!+#REF!+#REF!+#REF!+#REF!+#REF!+#REF!+#REF!+#REF!+#REF!+#REF!+#REF!+#REF!+#REF!+#REF!+#REF!+#REF!+#REF!+#REF!+#REF!+#REF!+#REF!+#REF!+#REF!+Feb_Williams!C44+#REF!+#REF!+#REF!","v":{"$error":"#REF!"}},{"$f":"#REF!+#REF!+#REF!+#REF!+#REF!+#REF!+#REF!+#REF!+#REF!+#REF!+#REF!+#REF!+#REF!+#REF!+#REF!+#REF!+#REF!+#REF!+#REF!+#REF!+#REF!+#REF!+#REF!+#REF!+#REF!+#REF!+#REF!+#REF!+#REF!+#REF!+#REF!+Feb_Williams!D44+#REF!+#REF!+#REF!","v":{"$error":"#REF!"}},{"$f":"#REF!+#REF!+#REF!+#REF!+#REF!+#REF!+#REF!+#REF!+#REF!+#REF!+#REF!+#REF!+#REF!+#REF!+#REF!+#REF!+#REF!+#REF!+#REF!+#REF!+#REF!+#REF!+#REF!+#REF!+#REF!+#REF!+#REF!+#REF!+#REF!+#REF!+#REF!+Feb_Williams!E44+#REF!+#REF!+#REF!","v":{"$error":"#REF!"}},{"$f":"#REF!*0.5","v":{"$error":"#REF!"}},{"$f":"#REF!+#REF!+#REF!+#REF!+#REF!+#REF!+#REF!+#REF!+#REF!+#REF!+#REF!+#REF!+#REF!+#REF!+#REF!+#REF!+#REF!+#REF!+#REF!+#REF!+#REF!+#REF!+#REF!+#REF!+#REF!+#REF!+#REF!+#REF!+#REF!+#REF!+#REF!+Feb_Williams!G44+#REF!","v":{"$error":"#REF!"}},{"$f":"#REF!+#REF!+#REF!+#REF!+#REF!+#REF!+#REF!+#REF!+#REF!+#REF!+#REF!+#REF!+#REF!+#REF!+#REF!+#REF!+#REF!+#REF!+#REF!+#REF!+#REF!+#REF!+#REF!+#REF!+#REF!+#REF!+#REF!+#REF!+#REF!+#REF!+#REF!+Feb_Williams!H44+#REF!+#REF!+#REF!","v":{"$error":"#REF!"}},{"$f":"#REF!+#REF!+#REF!+#REF!+#REF!+#REF!+#REF!+#REF!+#REF!+#REF!+#REF!+#REF!+#REF!+#REF!+#REF!+#REF!+#REF!+#REF!+#REF!+#REF!+#REF!+#REF!+#REF!+#REF!+#REF!+#REF!+#REF!+#REF!+#REF!+#REF!+#REF!+Feb_Williams!I44+#REF!+#REF!+#REF!","v":{"$error":"#REF!"}},{"$f":"#REF!+#REF!+#REF!+#REF!+#REF!+#REF!+#REF!+#REF!+#REF!+#REF!+#REF!+#REF!+#REF!+#REF!+#REF!+#REF!+#REF!+#REF!+#REF!+#REF!+#REF!+#REF!+#REF!+#REF!+#REF!+#REF!+#REF!+#REF!+#REF!+#REF!+#REF!+Feb_Williams!J44+#REF!+#REF!+#REF!","v":{"$error":"#REF!"}},{"$f":"#REF!*0.5","v":{"$error":"#REF!"}},{"$f":"#REF!+#REF!+#REF!+#REF!+#REF!+#REF!+#REF!+#REF!+#REF!+#REF!+#REF!+#REF!+#REF!+#REF!+#REF!+#REF!+#REF!+#REF!+#REF!+#REF!+#REF!+#REF!+#REF!+#REF!+#REF!+#REF!+#REF!+#REF!+#REF!+#REF!+#REF!+Feb_Williams!L44+#REF!","v":{"$error":"#REF!"}},null,null,{"$f":"#REF!+#REF!+#REF!+#REF!+#REF!+#REF!+#REF!+#REF!+#REF!+#REF!+#REF!+#REF!+#REF!+#REF!+#REF!+#REF!+#REF!+#REF!+#REF!+#REF!+#REF!+#REF!+#REF!+#REF!+#REF!+#REF!+#REF!+#REF!+#REF!+#REF!+#REF!+Feb_Williams!O44+#REF!","v":{"$error":"#REF!"}},{"$f":"#REF!*0.5","v":{"$error":"#REF!"}},{"$f":"#REF!+#REF!+#REF!+#REF!+#REF!+#REF!+#REF!+#REF!+#REF!+#REF!+#REF!+#REF!+#REF!+#REF!+#REF!+#REF!+#REF!+#REF!+#REF!+#REF!+#REF!+#REF!+#REF!+#REF!+#REF!+#REF!+#REF!+#REF!+#REF!+#REF!+#REF!+Feb_Williams!Q44+#REF!","v":{"$error":"#REF!"}},null,null,{"$f":"#REF!+#REF!+#REF!+#REF!+#REF!+#REF!+#REF!+#REF!+#REF!+#REF!+#REF!+#REF!+#REF!+#REF!+#REF!+#REF!+#REF!+#REF!+#REF!+#REF!+#REF!+#REF!+#REF!+#REF!+#REF!+#REF!+#REF!+#REF!+#REF!+#REF!+#REF!+Feb_Williams!T44+#REF!","v":{"$error":"#REF!"}},{"$f":"#REF!*0.5","v":{"$error":"#REF!"}},{"$f":"#REF!+#REF!+#REF!+#REF!+#REF!+#REF!+#REF!+#REF!+#REF!+#REF!+#REF!+#REF!+#REF!+#REF!+#REF!+#REF!+#REF!+#REF!+#REF!+#REF!+#REF!+#REF!+#REF!+#REF!+#REF!+#REF!+#REF!+#REF!+#REF!+#REF!+#REF!+Feb_Williams!V44+#REF!","v":{"$error":"#REF!"}},{"$f":"#REF!+#REF!+#REF!+#REF!+#REF!+#REF!+#REF!+#REF!+#REF!+#REF!+#REF!+#REF!+#REF!+#REF!+#REF!+#REF!+#REF!+#REF!+#REF!+#REF!+#REF!+#REF!+#REF!+#REF!+#REF!+#REF!+#REF!+#REF!+#REF!+#REF!+#REF!+Feb_Williams!W44+#REF!","v":{"$error":"#REF!"}},{"$f":"#REF!*0.5","v":{"$error":"#REF!"}},{"$f":"#REF!+#REF!+#REF!+#REF!+#REF!+#REF!+#REF!+#REF!+#REF!+#REF!+#REF!+#REF!+#REF!+#REF!+#REF!+#REF!+#REF!+#REF!+#REF!+#REF!+#REF!+#REF!+#REF!+#REF!+#REF!+#REF!+#REF!+#REF!+#REF!+#REF!+#REF!+Feb_Williams!Y44+#REF!","v":{"$error":"#REF!"}},null,null,{"$error":"#REF!"},{"$error":"#REF!"},{"$error":"#REF!"},{"$error":"#REF!"}]
[39,"Pointe Coupee",{"$f":"#REF!+#REF!+#REF!+#REF!+#REF!+#REF!+#REF!+#REF!+#REF!+#REF!+#REF!+#REF!+#REF!+#REF!+#REF!+#REF!+#REF!+#REF!+#REF!+#REF!+#REF!+#REF!+#REF!+#REF!+#REF!+#REF!+#REF!+#REF!+#REF!+#REF!+#REF!+Feb_Williams!C45+#REF!+#REF!+#REF!","v":{"$error":"#REF!"}},{"$f":"#REF!+#REF!+#REF!+#REF!+#REF!+#REF!+#REF!+#REF!+#REF!+#REF!+#REF!+#REF!+#REF!+#REF!+#REF!+#REF!+#REF!+#REF!+#REF!+#REF!+#REF!+#REF!+#REF!+#REF!+#REF!+#REF!+#REF!+#REF!+#REF!+#REF!+#REF!+Feb_Williams!D45+#REF!+#REF!+#REF!","v":{"$error":"#REF!"}},{"$f":"#REF!+#REF!+#REF!+#REF!+#REF!+#REF!+#REF!+#REF!+#REF!+#REF!+#REF!+#REF!+#REF!+#REF!+#REF!+#REF!+#REF!+#REF!+#REF!+#REF!+#REF!+#REF!+#REF!+#REF!+#REF!+#REF!+#REF!+#REF!+#REF!+#REF!+#REF!+Feb_Williams!E45+#REF!+#REF!+#REF!","v":{"$error":"#REF!"}},{"$f":"#REF!*0.5","v":{"$error":"#REF!"}},{"$f":"#REF!+#REF!+#REF!+#REF!+#REF!+#REF!+#REF!+#REF!+#REF!+#REF!+#REF!+#REF!+#REF!+#REF!+#REF!+#REF!+#REF!+#REF!+#REF!+#REF!+#REF!+#REF!+#REF!+#REF!+#REF!+#REF!+#REF!+#REF!+#REF!+#REF!+#REF!+Feb_Williams!G45+#REF!","v":{"$error":"#REF!"}},{"$f":"#REF!+#REF!+#REF!+#REF!+#REF!+#REF!+#REF!+#REF!+#REF!+#REF!+#REF!+#REF!+#REF!+#REF!+#REF!+#REF!+#REF!+#REF!+#REF!+#REF!+#REF!+#REF!+#REF!+#REF!+#REF!+#REF!+#REF!+#REF!+#REF!+#REF!+#REF!+Feb_Williams!H45+#REF!+#REF!+#REF!","v":{"$error":"#REF!"}},{"$f":"#REF!+#REF!+#REF!+#REF!+#REF!+#REF!+#REF!+#REF!+#REF!+#REF!+#REF!+#REF!+#REF!+#REF!+#REF!+#REF!+#REF!+#REF!+#REF!+#REF!+#REF!+#REF!+#REF!+#REF!+#REF!+#REF!+#REF!+#REF!+#REF!+#REF!+#REF!+Feb_Williams!I45+#REF!+#REF!+#REF!","v":{"$error":"#REF!"}},{"$f":"#REF!+#REF!+#REF!+#REF!+#REF!+#REF!+#REF!+#REF!+#REF!+#REF!+#REF!+#REF!+#REF!+#REF!+#REF!+#REF!+#REF!+#REF!+#REF!+#REF!+#REF!+#REF!+#REF!+#REF!+#REF!+#REF!+#REF!+#REF!+#REF!+#REF!+#REF!+Feb_Williams!J45+#REF!+#REF!+#REF!","v":{"$error":"#REF!"}},{"$f":"#REF!*0.5","v":{"$error":"#REF!"}},{"$f":"#REF!+#REF!+#REF!+#REF!+#REF!+#REF!+#REF!+#REF!+#REF!+#REF!+#REF!+#REF!+#REF!+#REF!+#REF!+#REF!+#REF!+#REF!+#REF!+#REF!+#REF!+#REF!+#REF!+#REF!+#REF!+#REF!+#REF!+#REF!+#REF!+#REF!+#REF!+Feb_Williams!L45+#REF!","v":{"$error":"#REF!"}},null,null,{"$f":"#REF!+#REF!+#REF!+#REF!+#REF!+#REF!+#REF!+#REF!+#REF!+#REF!+#REF!+#REF!+#REF!+#REF!+#REF!+#REF!+#REF!+#REF!+#REF!+#REF!+#REF!+#REF!+#REF!+#REF!+#REF!+#REF!+#REF!+#REF!+#REF!+#REF!+#REF!+Feb_Williams!O45+#REF!","v":{"$error":"#REF!"}},{"$f":"#REF!*0.5","v":{"$error":"#REF!"}},{"$f":"#REF!+#REF!+#REF!+#REF!+#REF!+#REF!+#REF!+#REF!+#REF!+#REF!+#REF!+#REF!+#REF!+#REF!+#REF!+#REF!+#REF!+#REF!+#REF!+#REF!+#REF!+#REF!+#REF!+#REF!+#REF!+#REF!+#REF!+#REF!+#REF!+#REF!+#REF!+Feb_Williams!Q45+#REF!","v":{"$error":"#REF!"}},null,null,{"$f":"#REF!+#REF!+#REF!+#REF!+#REF!+#REF!+#REF!+#REF!+#REF!+#REF!+#REF!+#REF!+#REF!+#REF!+#REF!+#REF!+#REF!+#REF!+#REF!+#REF!+#REF!+#REF!+#REF!+#REF!+#REF!+#REF!+#REF!+#REF!+#REF!+#REF!+#REF!+Feb_Williams!T45+#REF!","v":{"$error":"#REF!"}},{"$f":"#REF!*0.5","v":{"$error":"#REF!"}},{"$f":"#REF!+#REF!+#REF!+#REF!+#REF!+#REF!+#REF!+#REF!+#REF!+#REF!+#REF!+#REF!+#REF!+#REF!+#REF!+#REF!+#REF!+#REF!+#REF!+#REF!+#REF!+#REF!+#REF!+#REF!+#REF!+#REF!+#REF!+#REF!+#REF!+#REF!+#REF!+Feb_Williams!V45+#REF!","v":{"$error":"#REF!"}},{"$f":"#REF!+#REF!+#REF!+#REF!+#REF!+#REF!+#REF!+#REF!+#REF!+#REF!+#REF!+#REF!+#REF!+#REF!+#REF!+#REF!+#REF!+#REF!+#REF!+#REF!+#REF!+#REF!+#REF!+#REF!+#REF!+#REF!+#REF!+#REF!+#REF!+#REF!+#REF!+Feb_Williams!W45+#REF!","v":{"$error":"#REF!"}},{"$f":"#REF!*0.5","v":{"$error":"#REF!"}},{"$f":"#REF!+#REF!+#REF!+#REF!+#REF!+#REF!+#REF!+#REF!+#REF!+#REF!+#REF!+#REF!+#REF!+#REF!+#REF!+#REF!+#REF!+#REF!+#REF!+#REF!+#REF!+#REF!+#REF!+#REF!+#REF!+#REF!+#REF!+#REF!+#REF!+#REF!+#REF!+Feb_Williams!Y45+#REF!","v":{"$error":"#REF!"}},null,null,{"$error":"#REF!"},{"$error":"#REF!"},{"$error":"#REF!"},{"$error":"#REF!"}]
[40,"Rapides",{"$f":"#REF!+#REF!+#REF!+#REF!+#REF!+#REF!+#REF!+#REF!+#REF!+#REF!+#REF!+#REF!+#REF!+#REF!+#REF!+#REF!+#REF!+#REF!+#REF!+#REF!+#REF!+#REF!+#REF!+#REF!+#REF!+#REF!+#REF!+#REF!+#REF!+#REF!+#REF!+Feb_Williams!C46+#REF!+#REF!+#REF!","v":{"$error":"#REF!"}},{"$f":"#REF!+#REF!+#REF!+#REF!+#REF!+#REF!+#REF!+#REF!+#REF!+#REF!+#REF!+#REF!+#REF!+#REF!+#REF!+#REF!+#REF!+#REF!+#REF!+#REF!+#REF!+#REF!+#REF!+#REF!+#REF!+#REF!+#REF!+#REF!+#REF!+#REF!+#REF!+Feb_Williams!D46+#REF!+#REF!+#REF!","v":{"$error":"#REF!"}},{"$f":"#REF!+#REF!+#REF!+#REF!+#REF!+#REF!+#REF!+#REF!+#REF!+#REF!+#REF!+#REF!+#REF!+#REF!+#REF!+#REF!+#REF!+#REF!+#REF!+#REF!+#REF!+#REF!+#REF!+#REF!+#REF!+#REF!+#REF!+#REF!+#REF!+#REF!+#REF!+Feb_Williams!E46+#REF!+#REF!+#REF!","v":{"$error":"#REF!"}},{"$f":"#REF!*0.5","v":{"$error":"#REF!"}},{"$f":"#REF!+#REF!+#REF!+#REF!+#REF!+#REF!+#REF!+#REF!+#REF!+#REF!+#REF!+#REF!+#REF!+#REF!+#REF!+#REF!+#REF!+#REF!+#REF!+#REF!+#REF!+#REF!+#REF!+#REF!+#REF!+#REF!+#REF!+#REF!+#REF!+#REF!+#REF!+Feb_Williams!G46+#REF!","v":{"$error":"#REF!"}},{"$f":"#REF!+#REF!+#REF!+#REF!+#REF!+#REF!+#REF!+#REF!+#REF!+#REF!+#REF!+#REF!+#REF!+#REF!+#REF!+#REF!+#REF!+#REF!+#REF!+#REF!+#REF!+#REF!+#REF!+#REF!+#REF!+#REF!+#REF!+#REF!+#REF!+#REF!+#REF!+Feb_Williams!H46+#REF!+#REF!+#REF!","v":{"$error":"#REF!"}},{"$f":"#REF!+#REF!+#REF!+#REF!+#REF!+#REF!+#REF!+#REF!+#REF!+#REF!+#REF!+#REF!+#REF!+#REF!+#REF!+#REF!+#REF!+#REF!+#REF!+#REF!+#REF!+#REF!+#REF!+#REF!+#REF!+#REF!+#REF!+#REF!+#REF!+#REF!+#REF!+Feb_Williams!I46+#REF!+#REF!+#REF!","v":{"$error":"#REF!"}},{"$f":"#REF!+#REF!+#REF!+#REF!+#REF!+#REF!+#REF!+#REF!+#REF!+#REF!+#REF!+#REF!+#REF!+#REF!+#REF!+#REF!+#REF!+#REF!+#REF!+#REF!+#REF!+#REF!+#REF!+#REF!+#REF!+#REF!+#REF!+#REF!+#REF!+#REF!+#REF!+Feb_Williams!J46+#REF!+#REF!+#REF!","v":{"$error":"#REF!"}},{"$f":"#REF!*0.5","v":{"$error":"#REF!"}},{"$f":"#REF!+#REF!+#REF!+#REF!+#REF!+#REF!+#REF!+#REF!+#REF!+#REF!+#REF!+#REF!+#REF!+#REF!+#REF!+#REF!+#REF!+#REF!+#REF!+#REF!+#REF!+#REF!+#REF!+#REF!+#REF!+#REF!+#REF!+#REF!+#REF!+#REF!+#REF!+Feb_Williams!L46+#REF!","v":{"$error":"#REF!"}},null,null,{"$f":"#REF!+#REF!+#REF!+#REF!+#REF!+#REF!+#REF!+#REF!+#REF!+#REF!+#REF!+#REF!+#REF!+#REF!+#REF!+#REF!+#REF!+#REF!+#REF!+#REF!+#REF!+#REF!+#REF!+#REF!+#REF!+#REF!+#REF!+#REF!+#REF!+#REF!+#REF!+Feb_Williams!O46+#REF!","v":{"$error":"#REF!"}},{"$f":"#REF!*0.5","v":{"$error":"#REF!"}},{"$f":"#REF!+#REF!+#REF!+#REF!+#REF!+#REF!+#REF!+#REF!+#REF!+#REF!+#REF!+#REF!+#REF!+#REF!+#REF!+#REF!+#REF!+#REF!+#REF!+#REF!+#REF!+#REF!+#REF!+#REF!+#REF!+#REF!+#REF!+#REF!+#REF!+#REF!+#REF!+Feb_Williams!Q46+#REF!","v":{"$error":"#REF!"}},null,null,{"$f":"#REF!+#REF!+#REF!+#REF!+#REF!+#REF!+#REF!+#REF!+#REF!+#REF!+#REF!+#REF!+#REF!+#REF!+#REF!+#REF!+#REF!+#REF!+#REF!+#REF!+#REF!+#REF!+#REF!+#REF!+#REF!+#REF!+#REF!+#REF!+#REF!+#REF!+#REF!+Feb_Williams!T46+#REF!","v":{"$error":"#REF!"}},{"$f":"#REF!*0.5","v":{"$error":"#REF!"}},{"$f":"#REF!+#REF!+#REF!+#REF!+#REF!+#REF!+#REF!+#REF!+#REF!+#REF!+#REF!+#REF!+#REF!+#REF!+#REF!+#REF!+#REF!+#REF!+#REF!+#REF!+#REF!+#REF!+#REF!+#REF!+#REF!+#REF!+#REF!+#REF!+#REF!+#REF!+#REF!+Feb_Williams!V46+#REF!","v":{"$error":"#REF!"}},{"$f":"#REF!+#REF!+#REF!+#REF!+#REF!+#REF!+#REF!+#REF!+#REF!+#REF!+#REF!+#REF!+#REF!+#REF!+#REF!+#REF!+#REF!+#REF!+#REF!+#REF!+#REF!+#REF!+#REF!+#REF!+#REF!+#REF!+#REF!+#REF!+#REF!+#REF!+#REF!+Feb_Williams!W46+#REF!","v":{"$error":"#REF!"}},{"$f":"#REF!*0.5","v":{"$error":"#REF!"}},{"$f":"#REF!+#REF!+#REF!+#REF!+#REF!+#REF!+#REF!+#REF!+#REF!+#REF!+#REF!+#REF!+#REF!+#REF!+#REF!+#REF!+#REF!+#REF!+#REF!+#REF!+#REF!+#REF!+#REF!+#REF!+#REF!+#REF!+#REF!+#REF!+#REF!+#REF!+#REF!+Feb_Williams!Y46+#REF!","v":{"$error":"#REF!"}},null,null,{"$error":"#REF!"},{"$error":"#REF!"},{"$error":"#REF!"},{"$error":"#REF!"}]
[41,"Red River",{"$f":"#REF!+#REF!+#REF!+#REF!+#REF!+#REF!+#REF!+#REF!+#REF!+#REF!+#REF!+#REF!+#REF!+#REF!+#REF!+#REF!+#REF!+#REF!+#REF!+#REF!+#REF!+#REF!+#REF!+#REF!+#REF!+#REF!+#REF!+#REF!+#REF!+#REF!+#REF!+Feb_Williams!C47+#REF!+#REF!+#REF!","v":{"$error":"#REF!"}},{"$f":"#REF!+#REF!+#REF!+#REF!+#REF!+#REF!+#REF!+#REF!+#REF!+#REF!+#REF!+#REF!+#REF!+#REF!+#REF!+#REF!+#REF!+#REF!+#REF!+#REF!+#REF!+#REF!+#REF!+#REF!+#REF!+#REF!+#REF!+#REF!+#REF!+#REF!+#REF!+Feb_Williams!D47+#REF!+#REF!+#REF!","v":{"$error":"#REF!"}},{"$f":"#REF!+#REF!+#REF!+#REF!+#REF!+#REF!+#REF!+#REF!+#REF!+#REF!+#REF!+#REF!+#REF!+#REF!+#REF!+#REF!+#REF!+#REF!+#REF!+#REF!+#REF!+#REF!+#REF!+#REF!+#REF!+#REF!+#REF!+#REF!+#REF!+#REF!+#REF!+Feb_Williams!E47+#REF!+#REF!+#REF!","v":{"$error":"#REF!"}},{"$f":"#REF!*0.5","v":{"$error":"#REF!"}},{"$f":"#REF!+#REF!+#REF!+#REF!+#REF!+#REF!+#REF!+#REF!+#REF!+#REF!+#REF!+#REF!+#REF!+#REF!+#REF!+#REF!+#REF!+#REF!+#REF!+#REF!+#REF!+#REF!+#REF!+#REF!+#REF!+#REF!+#REF!+#REF!+#REF!+#REF!+#REF!+Feb_Williams!G47+#REF!","v":{"$error":"#REF!"}},{"$f":"#REF!+#REF!+#REF!+#REF!+#REF!+#REF!+#REF!+#REF!+#REF!+#REF!+#REF!+#REF!+#REF!+#REF!+#REF!+#REF!+#REF!+#REF!+#REF!+#REF!+#REF!+#REF!+#REF!+#REF!+#REF!+#REF!+#REF!+#REF!+#REF!+#REF!+#REF!+Feb_Williams!H47+#REF!+#REF!+#REF!","v":{"$error":"#REF!"}},{"$f":"#REF!+#REF!+#REF!+#REF!+#REF!+#REF!+#REF!+#REF!+#REF!+#REF!+#REF!+#REF!+#REF!+#REF!+#REF!+#REF!+#REF!+#REF!+#REF!+#REF!+#REF!+#REF!+#REF!+#REF!+#REF!+#REF!+#REF!+#REF!+#REF!+#REF!+#REF!+Feb_Williams!I47+#REF!+#REF!+#REF!","v":{"$error":"#REF!"}},{"$f":"#REF!+#REF!+#REF!+#REF!+#REF!+#REF!+#REF!+#REF!+#REF!+#REF!+#REF!+#REF!+#REF!+#REF!+#REF!+#REF!+#REF!+#REF!+#REF!+#REF!+#REF!+#REF!+#REF!+#REF!+#REF!+#REF!+#REF!+#REF!+#REF!+#REF!+#REF!+Feb_Williams!J47+#REF!+#REF!+#REF!","v":{"$error":"#REF!"}},{"$f":"#REF!*0.5","v":{"$error":"#REF!"}},{"$f":"#REF!+#REF!+#REF!+#REF!+#REF!+#REF!+#REF!+#REF!+#REF!+#REF!+#REF!+#REF!+#REF!+#REF!+#REF!+#REF!+#REF!+#REF!+#REF!+#REF!+#REF!+#REF!+#REF!+#REF!+#REF!+#REF!+#REF!+#REF!+#REF!+#REF!+#REF!+Feb_Williams!L47+#REF!","v":{"$error":"#REF!"}},null,null,{"$f":"#REF!+#REF!+#REF!+#REF!+#REF!+#REF!+#REF!+#REF!+#REF!+#REF!+#REF!+#REF!+#REF!+#REF!+#REF!+#REF!+#REF!+#REF!+#REF!+#REF!+#REF!+#REF!+#REF!+#REF!+#REF!+#REF!+#REF!+#REF!+#REF!+#REF!+#REF!+Feb_Williams!O47+#REF!","v":{"$error":"#REF!"}},{"$f":"#REF!*0.5","v":{"$error":"#REF!"}},{"$f":"#REF!+#REF!+#REF!+#REF!+#REF!+#REF!+#REF!+#REF!+#REF!+#REF!+#REF!+#REF!+#REF!+#REF!+#REF!+#REF!+#REF!+#REF!+#REF!+#REF!+#REF!+#REF!+#REF!+#REF!+#REF!+#REF!+#REF!+#REF!+#REF!+#REF!+#REF!+Feb_Williams!Q47+#REF!","v":{"$error":"#REF!"}},null,null,{"$f":"#REF!+#REF!+#REF!+#REF!+#REF!+#REF!+#REF!+#REF!+#REF!+#REF!+#REF!+#REF!+#REF!+#REF!+#REF!+#REF!+#REF!+#REF!+#REF!+#REF!+#REF!+#REF!+#REF!+#REF!+#REF!+#REF!+#REF!+#REF!+#REF!+#REF!+#REF!+Feb_Williams!T47+#REF!","v":{"$error":"#REF!"}},{"$f":"#REF!*0.5","v":{"$error":"#REF!"}},{"$f":"#REF!+#REF!+#REF!+#REF!+#REF!+#REF!+#REF!+#REF!+#REF!+#REF!+#REF!+#REF!+#REF!+#REF!+#REF!+#REF!+#REF!+#REF!+#REF!+#REF!+#REF!+#REF!+#REF!+#REF!+#REF!+#REF!+#REF!+#REF!+#REF!+#REF!+#REF!+Feb_Williams!V47+#REF!","v":{"$error":"#REF!"}},{"$f":"#REF!+#REF!+#REF!+#REF!+#REF!+#REF!+#REF!+#REF!+#REF!+#REF!+#REF!+#REF!+#REF!+#REF!+#REF!+#REF!+#REF!+#REF!+#REF!+#REF!+#REF!+#REF!+#REF!+#REF!+#REF!+#REF!+#REF!+#REF!+#REF!+#REF!+#REF!+Feb_Williams!W47+#REF!","v":{"$error":"#REF!"}},{"$f":"#REF!*0.5","v":{"$error":"#REF!"}},{"$f":"#REF!+#REF!+#REF!+#REF!+#REF!+#REF!+#REF!+#REF!+#REF!+#REF!+#REF!+#REF!+#REF!+#REF!+#REF!+#REF!+#REF!+#REF!+#REF!+#REF!+#REF!+#REF!+#REF!+#REF!+#REF!+#REF!+#REF!+#REF!+#REF!+#REF!+#REF!+Feb_Williams!Y47+#REF!","v":{"$error":"#REF!"}},null,null,{"$error":"#REF!"},{"$error":"#REF!"},{"$error":"#REF!"},{"$error":"#REF!"}]
[42,"Richland",{"$f":"#REF!+#REF!+#REF!+#REF!+#REF!+#REF!+#REF!+#REF!+#REF!+#REF!+#REF!+#REF!+#REF!+#REF!+#REF!+#REF!+#REF!+#REF!+#REF!+#REF!+#REF!+#REF!+#REF!+#REF!+#REF!+#REF!+#REF!+#REF!+#REF!+#REF!+#REF!+Feb_Williams!C48+#REF!+#REF!+#REF!","v":{"$error":"#REF!"}},{"$f":"#REF!+#REF!+#REF!+#REF!+#REF!+#REF!+#REF!+#REF!+#REF!+#REF!+#REF!+#REF!+#REF!+#REF!+#REF!+#REF!+#REF!+#REF!+#REF!+#REF!+#REF!+#REF!+#REF!+#REF!+#REF!+#REF!+#REF!+#REF!+#REF!+#REF!+#REF!+Feb_Williams!D48+#REF!+#REF!+#REF!","v":{"$error":"#REF!"}},{"$f":"#REF!+#REF!+#REF!+#REF!+#REF!+#REF!+#REF!+#REF!+#REF!+#REF!+#REF!+#REF!+#REF!+#REF!+#REF!+#REF!+#REF!+#REF!+#REF!+#REF!+#REF!+#REF!+#REF!+#REF!+#REF!+#REF!+#REF!+#REF!+#REF!+#REF!+#REF!+Feb_Williams!E48+#REF!+#REF!+#REF!","v":{"$error":"#REF!"}},{"$f":"#REF!*0.5","v":{"$error":"#REF!"}},{"$f":"#REF!+#REF!+#REF!+#REF!+#REF!+#REF!+#REF!+#REF!+#REF!+#REF!+#REF!+#REF!+#REF!+#REF!+#REF!+#REF!+#REF!+#REF!+#REF!+#REF!+#REF!+#REF!+#REF!+#REF!+#REF!+#REF!+#REF!+#REF!+#REF!+#REF!+#REF!+Feb_Williams!G48+#REF!","v":{"$error":"#REF!"}},{"$f":"#REF!+#REF!+#REF!+#REF!+#REF!+#REF!+#REF!+#REF!+#REF!+#REF!+#REF!+#REF!+#REF!+#REF!+#REF!+#REF!+#REF!+#REF!+#REF!+#REF!+#REF!+#REF!+#REF!+#REF!+#REF!+#REF!+#REF!+#REF!+#REF!+#REF!+#REF!+Feb_Williams!H48+#REF!+#REF!+#REF!","v":{"$error":"#REF!"}},{"$f":"#REF!+#REF!+#REF!+#REF!+#REF!+#REF!+#REF!+#REF!+#REF!+#REF!+#REF!+#REF!+#REF!+#REF!+#REF!+#REF!+#REF!+#REF!+#REF!+#REF!+#REF!+#REF!+#REF!+#REF!+#REF!+#REF!+#REF!+#REF!+#REF!+#REF!+#REF!+Feb_Williams!I48+#REF!+#REF!+#REF!","v":{"$error":"#REF!"}},{"$f":"#REF!+#REF!+#REF!+#REF!+#REF!+#REF!+#REF!+#REF!+#REF!+#REF!+#REF!+#REF!+#REF!+#REF!+#REF!+#REF!+#REF!+#REF!+#REF!+#REF!+#REF!+#REF!+#REF!+#REF!+#REF!+#REF!+#REF!+#REF!+#REF!+#REF!+#REF!+Feb_Williams!J48+#REF!+#REF!+#REF!","v":{"$error":"#REF!"}},{"$f":"#REF!*0.5","v":{"$error":"#REF!"}},{"$f":"#REF!+#REF!+#REF!+#REF!+#REF!+#REF!+#REF!+#REF!+#REF!+#REF!+#REF!+#REF!+#REF!+#REF!+#REF!+#REF!+#REF!+#REF!+#REF!+#REF!+#REF!+#REF!+#REF!+#REF!+#REF!+#REF!+#REF!+#REF!+#REF!+#REF!+#REF!+Feb_Williams!L48+#REF!","v":{"$error":"#REF!"}},null,null,{"$f":"#REF!+#REF!+#REF!+#REF!+#REF!+#REF!+#REF!+#REF!+#REF!+#REF!+#REF!+#REF!+#REF!+#REF!+#REF!+#REF!+#REF!+#REF!+#REF!+#REF!+#REF!+#REF!+#REF!+#REF!+#REF!+#REF!+#REF!+#REF!+#REF!+#REF!+#REF!+Feb_Williams!O48+#REF!","v":{"$error":"#REF!"}},{"$f":"#REF!*0.5","v":{"$error":"#REF!"}},{"$f":"#REF!+#REF!+#REF!+#REF!+#REF!+#REF!+#REF!+#REF!+#REF!+#REF!+#REF!+#REF!+#REF!+#REF!+#REF!+#REF!+#REF!+#REF!+#REF!+#REF!+#REF!+#REF!+#REF!+#REF!+#REF!+#REF!+#REF!+#REF!+#REF!+#REF!+#REF!+Feb_Williams!Q48+#REF!","v":{"$error":"#REF!"}},null,null,{"$f":"#REF!+#REF!+#REF!+#REF!+#REF!+#REF!+#REF!+#REF!+#REF!+#REF!+#REF!+#REF!+#REF!+#REF!+#REF!+#REF!+#REF!+#REF!+#REF!+#REF!+#REF!+#REF!+#REF!+#REF!+#REF!+#REF!+#REF!+#REF!+#REF!+#REF!+#REF!+Feb_Williams!T48+#REF!","v":{"$error":"#REF!"}},{"$f":"#REF!*0.5","v":{"$error":"#REF!"}},{"$f":"#REF!+#REF!+#REF!+#REF!+#REF!+#REF!+#REF!+#REF!+#REF!+#REF!+#REF!+#REF!+#REF!+#REF!+#REF!+#REF!+#REF!+#REF!+#REF!+#REF!+#REF!+#REF!+#REF!+#REF!+#REF!+#REF!+#REF!+#REF!+#REF!+#REF!+#REF!+Feb_Williams!V48+#REF!","v":{"$error":"#REF!"}},{"$f":"#REF!+#REF!+#REF!+#REF!+#REF!+#REF!+#REF!+#REF!+#REF!+#REF!+#REF!+#REF!+#REF!+#REF!+#REF!+#REF!+#REF!+#REF!+#REF!+#REF!+#REF!+#REF!+#REF!+#REF!+#REF!+#REF!+#REF!+#REF!+#REF!+#REF!+#REF!+Feb_Williams!W48+#REF!","v":{"$error":"#REF!"}},{"$f":"#REF!*0.5","v":{"$error":"#REF!"}},{"$f":"#REF!+#REF!+#REF!+#REF!+#REF!+#REF!+#REF!+#REF!+#REF!+#REF!+#REF!+#REF!+#REF!+#REF!+#REF!+#REF!+#REF!+#REF!+#REF!+#REF!+#REF!+#REF!+#REF!+#REF!+#REF!+#REF!+#REF!+#REF!+#REF!+#REF!+#REF!+Feb_Williams!Y48+#REF!","v":{"$error":"#REF!"}},null,null,{"$error":"#REF!"},{"$error":"#REF!"},{"$error":"#REF!"},{"$error":"#REF!"}]
[43,"Sabine",{"$f":"#REF!+#REF!+#REF!+#REF!+#REF!+#REF!+#REF!+#REF!+#REF!+#REF!+#REF!+#REF!+#REF!+#REF!+#REF!+#REF!+#REF!+#REF!+#REF!+#REF!+#REF!+#REF!+#REF!+#REF!+#REF!+#REF!+#REF!+#REF!+#REF!+#REF!+#REF!+Feb_Williams!C49+#REF!+#REF!+#REF!","v":{"$error":"#REF!"}},{"$f":"#REF!+#REF!+#REF!+#REF!+#REF!+#REF!+#REF!+#REF!+#REF!+#REF!+#REF!+#REF!+#REF!+#REF!+#REF!+#REF!+#REF!+#REF!+#REF!+#REF!+#REF!+#REF!+#REF!+#REF!+#REF!+#REF!+#REF!+#REF!+#REF!+#REF!+#REF!+Feb_Williams!D49+#REF!+#REF!+#REF!","v":{"$error":"#REF!"}},{"$f":"#REF!+#REF!+#REF!+#REF!+#REF!+#REF!+#REF!+#REF!+#REF!+#REF!+#REF!+#REF!+#REF!+#REF!+#REF!+#REF!+#REF!+#REF!+#REF!+#REF!+#REF!+#REF!+#REF!+#REF!+#REF!+#REF!+#REF!+#REF!+#REF!+#REF!+#REF!+Feb_Williams!E49+#REF!+#REF!+#REF!","v":{"$error":"#REF!"}},{"$f":"#REF!*0.5","v":{"$error":"#REF!"}},{"$f":"#REF!+#REF!+#REF!+#REF!+#REF!+#REF!+#REF!+#REF!+#REF!+#REF!+#REF!+#REF!+#REF!+#REF!+#REF!+#REF!+#REF!+#REF!+#REF!+#REF!+#REF!+#REF!+#REF!+#REF!+#REF!+#REF!+#REF!+#REF!+#REF!+#REF!+#REF!+Feb_Williams!G49+#REF!","v":{"$error":"#REF!"}},{"$f":"#REF!+#REF!+#REF!+#REF!+#REF!+#REF!+#REF!+#REF!+#REF!+#REF!+#REF!+#REF!+#REF!+#REF!+#REF!+#REF!+#REF!+#REF!+#REF!+#REF!+#REF!+#REF!+#REF!+#REF!+#REF!+#REF!+#REF!+#REF!+#REF!+#REF!+#REF!+Feb_Williams!H49+#REF!+#REF!+#REF!","v":{"$error":"#REF!"}},{"$f":"#REF!+#REF!+#REF!+#REF!+#REF!+#REF!+#REF!+#REF!+#REF!+#REF!+#REF!+#REF!+#REF!+#REF!+#REF!+#REF!+#REF!+#REF!+#REF!+#REF!+#REF!+#REF!+#REF!+#REF!+#REF!+#REF!+#REF!+#REF!+#REF!+#REF!+#REF!+Feb_Williams!I49+#REF!+#REF!+#REF!","v":{"$error":"#REF!"}},{"$f":"#REF!+#REF!+#REF!+#REF!+#REF!+#REF!+#REF!+#REF!+#REF!+#REF!+#REF!+#REF!+#REF!+#REF!+#REF!+#REF!+#REF!+#REF!+#REF!+#REF!+#REF!+#REF!+#REF!+#REF!+#REF!+#REF!+#REF!+#REF!+#REF!+#REF!+#REF!+Feb_Williams!J49+#REF!+#REF!+#REF!","v":{"$error":"#REF!"}},{"$f":"#REF!*0.5","v":{"$error":"#REF!"}},{"$f":"#REF!+#REF!+#REF!+#REF!+#REF!+#REF!+#REF!+#REF!+#REF!+#REF!+#REF!+#REF!+#REF!+#REF!+#REF!+#REF!+#REF!+#REF!+#REF!+#REF!+#REF!+#REF!+#REF!+#REF!+#REF!+#REF!+#REF!+#REF!+#REF!+#REF!+#REF!+Feb_Williams!L49+#REF!","v":{"$error":"#REF!"}},null,null,{"$f":"#REF!+#REF!+#REF!+#REF!+#REF!+#REF!+#REF!+#REF!+#REF!+#REF!+#REF!+#REF!+#REF!+#REF!+#REF!+#REF!+#REF!+#REF!+#REF!+#REF!+#REF!+#REF!+#REF!+#REF!+#REF!+#REF!+#REF!+#REF!+#REF!+#REF!+#REF!+Feb_Williams!O49+#REF!","v":{"$error":"#REF!"}},{"$f":"#REF!*0.5","v":{"$error":"#REF!"}},{"$f":"#REF!+#REF!+#REF!+#REF!+#REF!+#REF!+#REF!+#REF!+#REF!+#REF!+#REF!+#REF!+#REF!+#REF!+#REF!+#REF!+#REF!+#REF!+#REF!+#REF!+#REF!+#REF!+#REF!+#REF!+#REF!+#REF!+#REF!+#REF!+#REF!+#REF!+#REF!+Feb_Williams!Q49+#REF!","v":{"$error":"#REF!"}},null,null,{"$f":"#REF!+#REF!+#REF!+#REF!+#REF!+#REF!+#REF!+#REF!+#REF!+#REF!+#REF!+#REF!+#REF!+#REF!+#REF!+#REF!+#REF!+#REF!+#REF!+#REF!+#REF!+#REF!+#REF!+#REF!+#REF!+#REF!+#REF!+#REF!+#REF!+#REF!+#REF!+Feb_Williams!T49+#REF!","v":{"$error":"#REF!"}},{"$f":"#REF!*0.5","v":{"$error":"#REF!"}},{"$f":"#REF!+#REF!+#REF!+#REF!+#REF!+#REF!+#REF!+#REF!+#REF!+#REF!+#REF!+#REF!+#REF!+#REF!+#REF!+#REF!+#REF!+#REF!+#REF!+#REF!+#REF!+#REF!+#REF!+#REF!+#REF!+#REF!+#REF!+#REF!+#REF!+#REF!+#REF!+Feb_Williams!V49+#REF!","v":{"$error":"#REF!"}},{"$f":"#REF!+#REF!+#REF!+#REF!+#REF!+#REF!+#REF!+#REF!+#REF!+#REF!+#REF!+#REF!+#REF!+#REF!+#REF!+#REF!+#REF!+#REF!+#REF!+#REF!+#REF!+#REF!+#REF!+#REF!+#REF!+#REF!+#REF!+#REF!+#REF!+#REF!+#REF!+Feb_Williams!W49+#REF!","v":{"$error":"#REF!"}},{"$f":"#REF!*0.5","v":{"$error":"#REF!"}},{"$f":"#REF!+#REF!+#REF!+#REF!+#REF!+#REF!+#REF!+#REF!+#REF!+#REF!+#REF!+#REF!+#REF!+#REF!+#REF!+#REF!+#REF!+#REF!+#REF!+#REF!+#REF!+#REF!+#REF!+#REF!+#REF!+#REF!+#REF!+#REF!+#REF!+#REF!+#REF!+Feb_Williams!Y49+#REF!","v":{"$error":"#REF!"}},null,null,{"$error":"#REF!"},{"$error":"#REF!"},{"$error":"#REF!"},{"$error":"#REF!"}]
[44,"St. Bernard",{"$f":"#REF!+#REF!+#REF!+#REF!+#REF!+#REF!+#REF!+#REF!+#REF!+#REF!+#REF!+#REF!+#REF!+#REF!+#REF!+#REF!+#REF!+#REF!+#REF!+#REF!+#REF!+#REF!+#REF!+#REF!+#REF!+#REF!+#REF!+#REF!+#REF!+#REF!+#REF!+Feb_Williams!C50+#REF!+#REF!+#REF!","v":{"$error":"#REF!"}},{"$f":"#REF!+#REF!+#REF!+#REF!+#REF!+#REF!+#REF!+#REF!+#REF!+#REF!+#REF!+#REF!+#REF!+#REF!+#REF!+#REF!+#REF!+#REF!+#REF!+#REF!+#REF!+#REF!+#REF!+#REF!+#REF!+#REF!+#REF!+#REF!+#REF!+#REF!+#REF!+Feb_Williams!D50+#REF!+#REF!+#REF!","v":{"$error":"#REF!"}},{"$f":"#REF!+#REF!+#REF!+#REF!+#REF!+#REF!+#REF!+#REF!+#REF!+#REF!+#REF!+#REF!+#REF!+#REF!+#REF!+#REF!+#REF!+#REF!+#REF!+#REF!+#REF!+#REF!+#REF!+#REF!+#REF!+#REF!+#REF!+#REF!+#REF!+#REF!+#REF!+Feb_Williams!E50+#REF!+#REF!+#REF!","v":{"$error":"#REF!"}},{"$f":"#REF!*0.5","v":{"$error":"#REF!"}},{"$f":"#REF!+#REF!+#REF!+#REF!+#REF!+#REF!+#REF!+#REF!+#REF!+#REF!+#REF!+#REF!+#REF!+#REF!+#REF!+#REF!+#REF!+#REF!+#REF!+#REF!+#REF!+#REF!+#REF!+#REF!+#REF!+#REF!+#REF!+#REF!+#REF!+#REF!+#REF!+Feb_Williams!G50+#REF!","v":{"$error":"#REF!"}},{"$f":"#REF!+#REF!+#REF!+#REF!+#REF!+#REF!+#REF!+#REF!+#REF!+#REF!+#REF!+#REF!+#REF!+#REF!+#REF!+#REF!+#REF!+#REF!+#REF!+#REF!+#REF!+#REF!+#REF!+#REF!+#REF!+#REF!+#REF!+#REF!+#REF!+#REF!+#REF!+Feb_Williams!H50+#REF!+#REF!+#REF!","v":{"$error":"#REF!"}},{"$f":"#REF!+#REF!+#REF!+#REF!+#REF!+#REF!+#REF!+#REF!+#REF!+#REF!+#REF!+#REF!+#REF!+#REF!+#REF!+#REF!+#REF!+#REF!+#REF!+#REF!+#REF!+#REF!+#REF!+#REF!+#REF!+#REF!+#REF!+#REF!+#REF!+#REF!+#REF!+Feb_Williams!I50+#REF!+#REF!+#REF!","v":{"$error":"#REF!"}},{"$f":"#REF!+#REF!+#REF!+#REF!+#REF!+#REF!+#REF!+#REF!+#REF!+#REF!+#REF!+#REF!+#REF!+#REF!+#REF!+#REF!+#REF!+#REF!+#REF!+#REF!+#REF!+#REF!+#REF!+#REF!+#REF!+#REF!+#REF!+#REF!+#REF!+#REF!+#REF!+Feb_Williams!J50+#REF!+#REF!+#REF!","v":{"$error":"#REF!"}},{"$f":"#REF!*0.5","v":{"$error":"#REF!"}},{"$f":"#REF!+#REF!+#REF!+#REF!+#REF!+#REF!+#REF!+#REF!+#REF!+#REF!+#REF!+#REF!+#REF!+#REF!+#REF!+#REF!+#REF!+#REF!+#REF!+#REF!+#REF!+#REF!+#REF!+#REF!+#REF!+#REF!+#REF!+#REF!+#REF!+#REF!+#REF!+Feb_Williams!L50+#REF!","v":{"$error":"#REF!"}},null,null,{"$f":"#REF!+#REF!+#REF!+#REF!+#REF!+#REF!+#REF!+#REF!+#REF!+#REF!+#REF!+#REF!+#REF!+#REF!+#REF!+#REF!+#REF!+#REF!+#REF!+#REF!+#REF!+#REF!+#REF!+#REF!+#REF!+#REF!+#REF!+#REF!+#REF!+#REF!+#REF!+Feb_Williams!O50+#REF!","v":{"$error":"#REF!"}},{"$f":"#REF!*0.5","v":{"$error":"#REF!"}},{"$f":"#REF!+#REF!+#REF!+#REF!+#REF!+#REF!+#REF!+#REF!+#REF!+#REF!+#REF!+#REF!+#REF!+#REF!+#REF!+#REF!+#REF!+#REF!+#REF!+#REF!+#REF!+#REF!+#REF!+#REF!+#REF!+#REF!+#REF!+#REF!+#REF!+#REF!+#REF!+Feb_Williams!Q50+#REF!","v":{"$error":"#REF!"}},null,null,{"$f":"#REF!+#REF!+#REF!+#REF!+#REF!+#REF!+#REF!+#REF!+#REF!+#REF!+#REF!+#REF!+#REF!+#REF!+#REF!+#REF!+#REF!+#REF!+#REF!+#REF!+#REF!+#REF!+#REF!+#REF!+#REF!+#REF!+#REF!+#REF!+#REF!+#REF!+#REF!+Feb_Williams!T50+#REF!","v":{"$error":"#REF!"}},{"$f":"#REF!*0.5","v":{"$error":"#REF!"}},{"$f":"#REF!+#REF!+#REF!+#REF!+#REF!+#REF!+#REF!+#REF!+#REF!+#REF!+#REF!+#REF!+#REF!+#REF!+#REF!+#REF!+#REF!+#REF!+#REF!+#REF!+#REF!+#REF!+#REF!+#REF!+#REF!+#REF!+#REF!+#REF!+#REF!+#REF!+#REF!+Feb_Williams!V50+#REF!","v":{"$error":"#REF!"}},{"$f":"#REF!+#REF!+#REF!+#REF!+#REF!+#REF!+#REF!+#REF!+#REF!+#REF!+#REF!+#REF!+#REF!+#REF!+#REF!+#REF!+#REF!+#REF!+#REF!+#REF!+#REF!+#REF!+#REF!+#REF!+#REF!+#REF!+#REF!+#REF!+#REF!+#REF!+#REF!+Feb_Williams!W50+#REF!","v":{"$error":"#REF!"}},{"$f":"#REF!*0.5","v":{"$error":"#REF!"}},{"$f":"#REF!+#REF!+#REF!+#REF!+#REF!+#REF!+#REF!+#REF!+#REF!+#REF!+#REF!+#REF!+#REF!+#REF!+#REF!+#REF!+#REF!+#REF!+#REF!+#REF!+#REF!+#REF!+#REF!+#REF!+#REF!+#REF!+#REF!+#REF!+#REF!+#REF!+#REF!+Feb_Williams!Y50+#REF!","v":{"$error":"#REF!"}},null,null,{"$error":"#REF!"},{"$error":"#REF!"},{"$error":"#REF!"},{"$error":"#REF!"}]
[45,"St. Charles",{"$f":"#REF!+#REF!+#REF!+#REF!+#REF!+#REF!+#REF!+#REF!+#REF!+#REF!+#REF!+#REF!+#REF!+#REF!+#REF!+#REF!+#REF!+#REF!+#REF!+#REF!+#REF!+#REF!+#REF!+#REF!+#REF!+#REF!+#REF!+#REF!+#REF!+#REF!+#REF!+Feb_Williams!C51+#REF!+#REF!+#REF!","v":{"$error":"#REF!"}},{"$f":"#REF!+#REF!+#REF!+#REF!+#REF!+#REF!+#REF!+#REF!+#REF!+#REF!+#REF!+#REF!+#REF!+#REF!+#REF!+#REF!+#REF!+#REF!+#REF!+#REF!+#REF!+#REF!+#REF!+#REF!+#REF!+#REF!+#REF!+#REF!+#REF!+#REF!+#REF!+Feb_Williams!D51+#REF!+#REF!+#REF!","v":{"$error":"#REF!"}},{"$f":"#REF!+#REF!+#REF!+#REF!+#REF!+#REF!+#REF!+#REF!+#REF!+#REF!+#REF!+#REF!+#REF!+#REF!+#REF!+#REF!+#REF!+#REF!+#REF!+#REF!+#REF!+#REF!+#REF!+#REF!+#REF!+#REF!+#REF!+#REF!+#REF!+#REF!+#REF!+Feb_Williams!E51+#REF!+#REF!+#REF!","v":{"$error":"#REF!"}},{"$f":"#REF!*0.5","v":{"$error":"#REF!"}},{"$f":"#REF!+#REF!+#REF!+#REF!+#REF!+#REF!+#REF!+#REF!+#REF!+#REF!+#REF!+#REF!+#REF!+#REF!+#REF!+#REF!+#REF!+#REF!+#REF!+#REF!+#REF!+#REF!+#REF!+#REF!+#REF!+#REF!+#REF!+#REF!+#REF!+#REF!+#REF!+Feb_Williams!G51+#REF!","v":{"$error":"#REF!"}},{"$f":"#REF!+#REF!+#REF!+#REF!+#REF!+#REF!+#REF!+#REF!+#REF!+#REF!+#REF!+#REF!+#REF!+#REF!+#REF!+#REF!+#REF!+#REF!+#REF!+#REF!+#REF!+#REF!+#REF!+#REF!+#REF!+#REF!+#REF!+#REF!+#REF!+#REF!+#REF!+Feb_Williams!H51+#REF!+#REF!+#REF!","v":{"$error":"#REF!"}},{"$f":"#REF!+#REF!+#REF!+#REF!+#REF!+#REF!+#REF!+#REF!+#REF!+#REF!+#REF!+#REF!+#REF!+#REF!+#REF!+#REF!+#REF!+#REF!+#REF!+#REF!+#REF!+#REF!+#REF!+#REF!+#REF!+#REF!+#REF!+#REF!+#REF!+#REF!+#REF!+Feb_Williams!I51+#REF!+#REF!+#REF!","v":{"$error":"#REF!"}},{"$f":"#REF!+#REF!+#REF!+#REF!+#REF!+#REF!+#REF!+#REF!+#REF!+#REF!+#REF!+#REF!+#REF!+#REF!+#REF!+#REF!+#REF!+#REF!+#REF!+#REF!+#REF!+#REF!+#REF!+#REF!+#REF!+#REF!+#REF!+#REF!+#REF!+#REF!+#REF!+Feb_Williams!J51+#REF!+#REF!+#REF!","v":{"$error":"#REF!"}},{"$f":"#REF!*0.5","v":{"$error":"#REF!"}},{"$f":"#REF!+#REF!+#REF!+#REF!+#REF!+#REF!+#REF!+#REF!+#REF!+#REF!+#REF!+#REF!+#REF!+#REF!+#REF!+#REF!+#REF!+#REF!+#REF!+#REF!+#REF!+#REF!+#REF!+#REF!+#REF!+#REF!+#REF!+#REF!+#REF!+#REF!+#REF!+Feb_Williams!L51+#REF!","v":{"$error":"#REF!"}},null,null,{"$f":"#REF!+#REF!+#REF!+#REF!+#REF!+#REF!+#REF!+#REF!+#REF!+#REF!+#REF!+#REF!+#REF!+#REF!+#REF!+#REF!+#REF!+#REF!+#REF!+#REF!+#REF!+#REF!+#REF!+#REF!+#REF!+#REF!+#REF!+#REF!+#REF!+#REF!+#REF!+Feb_Williams!O51+#REF!","v":{"$error":"#REF!"}},{"$f":"#REF!*0.5","v":{"$error":"#REF!"}},{"$f":"#REF!+#REF!+#REF!+#REF!+#REF!+#REF!+#REF!+#REF!+#REF!+#REF!+#REF!+#REF!+#REF!+#REF!+#REF!+#REF!+#REF!+#REF!+#REF!+#REF!+#REF!+#REF!+#REF!+#REF!+#REF!+#REF!+#REF!+#REF!+#REF!+#REF!+#REF!+Feb_Williams!Q51+#REF!","v":{"$error":"#REF!"}},null,null,{"$f":"#REF!+#REF!+#REF!+#REF!+#REF!+#REF!+#REF!+#REF!+#REF!+#REF!+#REF!+#REF!+#REF!+#REF!+#REF!+#REF!+#REF!+#REF!+#REF!+#REF!+#REF!+#REF!+#REF!+#REF!+#REF!+#REF!+#REF!+#REF!+#REF!+#REF!+#REF!+Feb_Williams!T51+#REF!","v":{"$error":"#REF!"}},{"$f":"#REF!*0.5","v":{"$error":"#REF!"}},{"$f":"#REF!+#REF!+#REF!+#REF!+#REF!+#REF!+#REF!+#REF!+#REF!+#REF!+#REF!+#REF!+#REF!+#REF!+#REF!+#REF!+#REF!+#REF!+#REF!+#REF!+#REF!+#REF!+#REF!+#REF!+#REF!+#REF!+#REF!+#REF!+#REF!+#REF!+#REF!+Feb_Williams!V51+#REF!","v":{"$error":"#REF!"}},{"$f":"#REF!+#REF!+#REF!+#REF!+#REF!+#REF!+#REF!+#REF!+#REF!+#REF!+#REF!+#REF!+#REF!+#REF!+#REF!+#REF!+#REF!+#REF!+#REF!+#REF!+#REF!+#REF!+#REF!+#REF!+#REF!+#REF!+#REF!+#REF!+#REF!+#REF!+#REF!+Feb_Williams!W51+#REF!","v":{"$error":"#REF!"}},{"$f":"#REF!*0.5","v":{"$error":"#REF!"}},{"$f":"#REF!+#REF!+#REF!+#REF!+#REF!+#REF!+#REF!+#REF!+#REF!+#REF!+#REF!+#REF!+#REF!+#REF!+#REF!+#REF!+#REF!+#REF!+#REF!+#REF!+#REF!+#REF!+#REF!+#REF!+#REF!+#REF!+#REF!+#REF!+#REF!+#REF!+#REF!+Feb_Williams!Y51+#REF!","v":{"$error":"#REF!"}},null,null,{"$error":"#REF!"},{"$error":"#REF!"},{"$error":"#REF!"},{"$error":"#REF!"}]
[46,"St. Helena",{"$f":"#REF!+#REF!+#REF!+#REF!+#REF!+#REF!+#REF!+#REF!+#REF!+#REF!+#REF!+#REF!+#REF!+#REF!+#REF!+#REF!+#REF!+#REF!+#REF!+#REF!+#REF!+#REF!+#REF!+#REF!+#REF!+#REF!+#REF!+#REF!+#REF!+#REF!+#REF!+Feb_Williams!C52+#REF!+#REF!+#REF!","v":{"$error":"#REF!"}},{"$f":"#REF!+#REF!+#REF!+#REF!+#REF!+#REF!+#REF!+#REF!+#REF!+#REF!+#REF!+#REF!+#REF!+#REF!+#REF!+#REF!+#REF!+#REF!+#REF!+#REF!+#REF!+#REF!+#REF!+#REF!+#REF!+#REF!+#REF!+#REF!+#REF!+#REF!+#REF!+Feb_Williams!D52+#REF!+#REF!+#REF!","v":{"$error":"#REF!"}},{"$f":"#REF!+#REF!+#REF!+#REF!+#REF!+#REF!+#REF!+#REF!+#REF!+#REF!+#REF!+#REF!+#REF!+#REF!+#REF!+#REF!+#REF!+#REF!+#REF!+#REF!+#REF!+#REF!+#REF!+#REF!+#REF!+#REF!+#REF!+#REF!+#REF!+#REF!+#REF!+Feb_Williams!E52+#REF!+#REF!+#REF!","v":{"$error":"#REF!"}},{"$f":"#REF!*0.5","v":{"$error":"#REF!"}},{"$f":"#REF!+#REF!+#REF!+#REF!+#REF!+#REF!+#REF!+#REF!+#REF!+#REF!+#REF!+#REF!+#REF!+#REF!+#REF!+#REF!+#REF!+#REF!+#REF!+#REF!+#REF!+#REF!+#REF!+#REF!+#REF!+#REF!+#REF!+#REF!+#REF!+#REF!+#REF!+Feb_Williams!G52+#REF!","v":{"$error":"#REF!"}},{"$f":"#REF!+#REF!+#REF!+#REF!+#REF!+#REF!+#REF!+#REF!+#REF!+#REF!+#REF!+#REF!+#REF!+#REF!+#REF!+#REF!+#REF!+#REF!+#REF!+#REF!+#REF!+#REF!+#REF!+#REF!+#REF!+#REF!+#REF!+#REF!+#REF!+#REF!+#REF!+Feb_Williams!H52+#REF!+#REF!+#REF!","v":{"$error":"#REF!"}},{"$f":"#REF!+#REF!+#REF!+#REF!+#REF!+#REF!+#REF!+#REF!+#REF!+#REF!+#REF!+#REF!+#REF!+#REF!+#REF!+#REF!+#REF!+#REF!+#REF!+#REF!+#REF!+#REF!+#REF!+#REF!+#REF!+#REF!+#REF!+#REF!+#REF!+#REF!+#REF!+Feb_Williams!I52+#REF!+#REF!+#REF!","v":{"$error":"#REF!"}},{"$f":"#REF!+#REF!+#REF!+#REF!+#REF!+#REF!+#REF!+#REF!+#REF!+#REF!+#REF!+#REF!+#REF!+#REF!+#REF!+#REF!+#REF!+#REF!+#REF!+#REF!+#REF!+#REF!+#REF!+#REF!+#REF!+#REF!+#REF!+#REF!+#REF!+#REF!+#REF!+Feb_Williams!J52+#REF!+#REF!+#REF!","v":{"$error":"#REF!"}},{"$f":"#REF!*0.5","v":{"$error":"#REF!"}},{"$f":"#REF!+#REF!+#REF!+#REF!+#REF!+#REF!+#REF!+#REF!+#REF!+#REF!+#REF!+#REF!+#REF!+#REF!+#REF!+#REF!+#REF!+#REF!+#REF!+#REF!+#REF!+#REF!+#REF!+#REF!+#REF!+#REF!+#REF!+#REF!+#REF!+#REF!+#REF!+Feb_Williams!L52+#REF!","v":{"$error":"#REF!"}},null,null,{"$f":"#REF!+#REF!+#REF!+#REF!+#REF!+#REF!+#REF!+#REF!+#REF!+#REF!+#REF!+#REF!+#REF!+#REF!+#REF!+#REF!+#REF!+#REF!+#REF!+#REF!+#REF!+#REF!+#REF!+#REF!+#REF!+#REF!+#REF!+#REF!+#REF!+#REF!+#REF!+Feb_Williams!O52+#REF!","v":{"$error":"#REF!"}},{"$f":"#REF!*0.5","v":{"$error":"#REF!"}},{"$f":"#REF!+#REF!+#REF!+#REF!+#REF!+#REF!+#REF!+#REF!+#REF!+#REF!+#REF!+#REF!+#REF!+#REF!+#REF!+#REF!+#REF!+#REF!+#REF!+#REF!+#REF!+#REF!+#REF!+#REF!+#REF!+#REF!+#REF!+#REF!+#REF!+#REF!+#REF!+Feb_Williams!Q52+#REF!","v":{"$error":"#REF!"}},null,null,{"$f":"#REF!+#REF!+#REF!+#REF!+#REF!+#REF!+#REF!+#REF!+#REF!+#REF!+#REF!+#REF!+#REF!+#REF!+#REF!+#REF!+#REF!+#REF!+#REF!+#REF!+#REF!+#REF!+#REF!+#REF!+#REF!+#REF!+#REF!+#REF!+#REF!+#REF!+#REF!+Feb_Williams!T52+#REF!","v":{"$error":"#REF!"}},{"$f":"#REF!*0.5","v":{"$error":"#REF!"}},{"$f":"#REF!+#REF!+#REF!+#REF!+#REF!+#REF!+#REF!+#REF!+#REF!+#REF!+#REF!+#REF!+#REF!+#REF!+#REF!+#REF!+#REF!+#REF!+#REF!+#REF!+#REF!+#REF!+#REF!+#REF!+#REF!+#REF!+#REF!+#REF!+#REF!+#REF!+#REF!+Feb_Williams!V52+#REF!","v":{"$error":"#REF!"}},{"$f":"#REF!+#REF!+#REF!+#REF!+#REF!+#REF!+#REF!+#REF!+#REF!+#REF!+#REF!+#REF!+#REF!+#REF!+#REF!+#REF!+#REF!+#REF!+#REF!+#REF!+#REF!+#REF!+#REF!+#REF!+#REF!+#REF!+#REF!+#REF!+#REF!+#REF!+#REF!+Feb_Williams!W52+#REF!","v":{"$error":"#REF!"}},{"$f":"#REF!*0.5","v":{"$error":"#REF!"}},{"$f":"#REF!+#REF!+#REF!+#REF!+#REF!+#REF!+#REF!+#REF!+#REF!+#REF!+#REF!+#REF!+#REF!+#REF!+#REF!+#REF!+#REF!+#REF!+#REF!+#REF!+#REF!+#REF!+#REF!+#REF!+#REF!+#REF!+#REF!+#REF!+#REF!+#REF!+#REF!+Feb_Williams!Y52+#REF!","v":{"$error":"#REF!"}},null,null,{"$error":"#REF!"},{"$error":"#REF!"},{"$error":"#REF!"},{"$error":"#REF!"}]
[47,"St. James",{"$f":"#REF!+#REF!+#REF!+#REF!+#REF!+#REF!+#REF!+#REF!+#REF!+#REF!+#REF!+#REF!+#REF!+#REF!+#REF!+#REF!+#REF!+#REF!+#REF!+#REF!+#REF!+#REF!+#REF!+#REF!+#REF!+#REF!+#REF!+#REF!+#REF!+#REF!+#REF!+Feb_Williams!C53+#REF!+#REF!+#REF!","v":{"$error":"#REF!"}},{"$f":"#REF!+#REF!+#REF!+#REF!+#REF!+#REF!+#REF!+#REF!+#REF!+#REF!+#REF!+#REF!+#REF!+#REF!+#REF!+#REF!+#REF!+#REF!+#REF!+#REF!+#REF!+#REF!+#REF!+#REF!+#REF!+#REF!+#REF!+#REF!+#REF!+#REF!+#REF!+Feb_Williams!D53+#REF!+#REF!+#REF!","v":{"$error":"#REF!"}},{"$f":"#REF!+#REF!+#REF!+#REF!+#REF!+#REF!+#REF!+#REF!+#REF!+#REF!+#REF!+#REF!+#REF!+#REF!+#REF!+#REF!+#REF!+#REF!+#REF!+#REF!+#REF!+#REF!+#REF!+#REF!+#REF!+#REF!+#REF!+#REF!+#REF!+#REF!+#REF!+Feb_Williams!E53+#REF!+#REF!+#REF!","v":{"$error":"#REF!"}},{"$f":"#REF!*0.5","v":{"$error":"#REF!"}},{"$f":"#REF!+#REF!+#REF!+#REF!+#REF!+#REF!+#REF!+#REF!+#REF!+#REF!+#REF!+#REF!+#REF!+#REF!+#REF!+#REF!+#REF!+#REF!+#REF!+#REF!+#REF!+#REF!+#REF!+#REF!+#REF!+#REF!+#REF!+#REF!+#REF!+#REF!+#REF!+Feb_Williams!G53+#REF!","v":{"$error":"#REF!"}},{"$f":"#REF!+#REF!+#REF!+#REF!+#REF!+#REF!+#REF!+#REF!+#REF!+#REF!+#REF!+#REF!+#REF!+#REF!+#REF!+#REF!+#REF!+#REF!+#REF!+#REF!+#REF!+#REF!+#REF!+#REF!+#REF!+#REF!+#REF!+#REF!+#REF!+#REF!+#REF!+Feb_Williams!H53+#REF!+#REF!+#REF!","v":{"$error":"#REF!"}},{"$f":"#REF!+#REF!+#REF!+#REF!+#REF!+#REF!+#REF!+#REF!+#REF!+#REF!+#REF!+#REF!+#REF!+#REF!+#REF!+#REF!+#REF!+#REF!+#REF!+#REF!+#REF!+#REF!+#REF!+#REF!+#REF!+#REF!+#REF!+#REF!+#REF!+#REF!+#REF!+Feb_Williams!I53+#REF!+#REF!+#REF!","v":{"$error":"#REF!"}},{"$f":"#REF!+#REF!+#REF!+#REF!+#REF!+#REF!+#REF!+#REF!+#REF!+#REF!+#REF!+#REF!+#REF!+#REF!+#REF!+#REF!+#REF!+#REF!+#REF!+#REF!+#REF!+#REF!+#REF!+#REF!+#REF!+#REF!+#REF!+#REF!+#REF!+#REF!+#REF!+Feb_Williams!J53+#REF!+#REF!+#REF!","v":{"$error":"#REF!"}},{"$f":"#REF!*0.5","v":{"$error":"#REF!"}},{"$f":"#REF!+#REF!+#REF!+#REF!+#REF!+#REF!+#REF!+#REF!+#REF!+#REF!+#REF!+#REF!+#REF!+#REF!+#REF!+#REF!+#REF!+#REF!+#REF!+#REF!+#REF!+#REF!+#REF!+#REF!+#REF!+#REF!+#REF!+#REF!+#REF!+#REF!+#REF!+Feb_Williams!L53+#REF!","v":{"$error":"#REF!"}},null,null,{"$f":"#REF!+#REF!+#REF!+#REF!+#REF!+#REF!+#REF!+#REF!+#REF!+#REF!+#REF!+#REF!+#REF!+#REF!+#REF!+#REF!+#REF!+#REF!+#REF!+#REF!+#REF!+#REF!+#REF!+#REF!+#REF!+#REF!+#REF!+#REF!+#REF!+#REF!+#REF!+Feb_Williams!O53+#REF!","v":{"$error":"#REF!"}},{"$f":"#REF!*0.5","v":{"$error":"#REF!"}},{"$f":"#REF!+#REF!+#REF!+#REF!+#REF!+#REF!+#REF!+#REF!+#REF!+#REF!+#REF!+#REF!+#REF!+#REF!+#REF!+#REF!+#REF!+#REF!+#REF!+#REF!+#REF!+#REF!+#REF!+#REF!+#REF!+#REF!+#REF!+#REF!+#REF!+#REF!+#REF!+Feb_Williams!Q53+#REF!","v":{"$error":"#REF!"}},null,null,{"$f":"#REF!+#REF!+#REF!+#REF!+#REF!+#REF!+#REF!+#REF!+#REF!+#REF!+#REF!+#REF!+#REF!+#REF!+#REF!+#REF!+#REF!+#REF!+#REF!+#REF!+#REF!+#REF!+#REF!+#REF!+#REF!+#REF!+#REF!+#REF!+#REF!+#REF!+#REF!+Feb_Williams!T53+#REF!","v":{"$error":"#REF!"}},{"$f":"#REF!*0.5","v":{"$error":"#REF!"}},{"$f":"#REF!+#REF!+#REF!+#REF!+#REF!+#REF!+#REF!+#REF!+#REF!+#REF!+#REF!+#REF!+#REF!+#REF!+#REF!+#REF!+#REF!+#REF!+#REF!+#REF!+#REF!+#REF!+#REF!+#REF!+#REF!+#REF!+#REF!+#REF!+#REF!+#REF!+#REF!+Feb_Williams!V53+#REF!","v":{"$error":"#REF!"}},{"$f":"#REF!+#REF!+#REF!+#REF!+#REF!+#REF!+#REF!+#REF!+#REF!+#REF!+#REF!+#REF!+#REF!+#REF!+#REF!+#REF!+#REF!+#REF!+#REF!+#REF!+#REF!+#REF!+#REF!+#REF!+#REF!+#REF!+#REF!+#REF!+#REF!+#REF!+#REF!+Feb_Williams!W53+#REF!","v":{"$error":"#REF!"}},{"$f":"#REF!*0.5","v":{"$error":"#REF!"}},{"$f":"#REF!+#REF!+#REF!+#REF!+#REF!+#REF!+#REF!+#REF!+#REF!+#REF!+#REF!+#REF!+#REF!+#REF!+#REF!+#REF!+#REF!+#REF!+#REF!+#REF!+#REF!+#REF!+#REF!+#REF!+#REF!+#REF!+#REF!+#REF!+#REF!+#REF!+#REF!+Feb_Williams!Y53+#REF!","v":{"$error":"#REF!"}},null,null,{"$error":"#REF!"},{"$error":"#REF!"},{"$error":"#REF!"},{"$error":"#REF!"}]
[48,"St. John the Baptist",{"$f":"#REF!+#REF!+#REF!+#REF!+#REF!+#REF!+#REF!+#REF!+#REF!+#REF!+#REF!+#REF!+#REF!+#REF!+#REF!+#REF!+#REF!+#REF!+#REF!+#REF!+#REF!+#REF!+#REF!+#REF!+#REF!+#REF!+#REF!+#REF!+#REF!+#REF!+#REF!+Feb_Williams!C54+#REF!+#REF!+#REF!","v":{"$error":"#REF!"}},{"$f":"#REF!+#REF!+#REF!+#REF!+#REF!+#REF!+#REF!+#REF!+#REF!+#REF!+#REF!+#REF!+#REF!+#REF!+#REF!+#REF!+#REF!+#REF!+#REF!+#REF!+#REF!+#REF!+#REF!+#REF!+#REF!+#REF!+#REF!+#REF!+#REF!+#REF!+#REF!+Feb_Williams!D54+#REF!+#REF!+#REF!","v":{"$error":"#REF!"}},{"$f":"#REF!+#REF!+#REF!+#REF!+#REF!+#REF!+#REF!+#REF!+#REF!+#REF!+#REF!+#REF!+#REF!+#REF!+#REF!+#REF!+#REF!+#REF!+#REF!+#REF!+#REF!+#REF!+#REF!+#REF!+#REF!+#REF!+#REF!+#REF!+#REF!+#REF!+#REF!+Feb_Williams!E54+#REF!+#REF!+#REF!","v":{"$error":"#REF!"}},{"$f":"#REF!*0.5","v":{"$error":"#REF!"}},{"$f":"#REF!+#REF!+#REF!+#REF!+#REF!+#REF!+#REF!+#REF!+#REF!+#REF!+#REF!+#REF!+#REF!+#REF!+#REF!+#REF!+#REF!+#REF!+#REF!+#REF!+#REF!+#REF!+#REF!+#REF!+#REF!+#REF!+#REF!+#REF!+#REF!+#REF!+#REF!+Feb_Williams!G54+#REF!","v":{"$error":"#REF!"}},{"$f":"#REF!+#REF!+#REF!+#REF!+#REF!+#REF!+#REF!+#REF!+#REF!+#REF!+#REF!+#REF!+#REF!+#REF!+#REF!+#REF!+#REF!+#REF!+#REF!+#REF!+#REF!+#REF!+#REF!+#REF!+#REF!+#REF!+#REF!+#REF!+#REF!+#REF!+#REF!+Feb_Williams!H54+#REF!+#REF!+#REF!","v":{"$error":"#REF!"}},{"$f":"#REF!+#REF!+#REF!+#REF!+#REF!+#REF!+#REF!+#REF!+#REF!+#REF!+#REF!+#REF!+#REF!+#REF!+#REF!+#REF!+#REF!+#REF!+#REF!+#REF!+#REF!+#REF!+#REF!+#REF!+#REF!+#REF!+#REF!+#REF!+#REF!+#REF!+#REF!+Feb_Williams!I54+#REF!+#REF!+#REF!","v":{"$error":"#REF!"}},{"$f":"#REF!+#REF!+#REF!+#REF!+#REF!+#REF!+#REF!+#REF!+#REF!+#REF!+#REF!+#REF!+#REF!+#REF!+#REF!+#REF!+#REF!+#REF!+#REF!+#REF!+#REF!+#REF!+#REF!+#REF!+#REF!+#REF!+#REF!+#REF!+#REF!+#REF!+#REF!+Feb_Williams!J54+#REF!+#REF!+#REF!","v":{"$error":"#REF!"}},{"$f":"#REF!*0.5","v":{"$error":"#REF!"}},{"$f":"#REF!+#REF!+#REF!+#REF!+#REF!+#REF!+#REF!+#REF!+#REF!+#REF!+#REF!+#REF!+#REF!+#REF!+#REF!+#REF!+#REF!+#REF!+#REF!+#REF!+#REF!+#REF!+#REF!+#REF!+#REF!+#REF!+#REF!+#REF!+#REF!+#REF!+#REF!+Feb_Williams!L54+#REF!","v":{"$error":"#REF!"}},null,null,{"$f":"#REF!+#REF!+#REF!+#REF!+#REF!+#REF!+#REF!+#REF!+#REF!+#REF!+#REF!+#REF!+#REF!+#REF!+#REF!+#REF!+#REF!+#REF!+#REF!+#REF!+#REF!+#REF!+#REF!+#REF!+#REF!+#REF!+#REF!+#REF!+#REF!+#REF!+#REF!+Feb_Williams!O54+#REF!","v":{"$error":"#REF!"}},{"$f":"#REF!*0.5","v":{"$error":"#REF!"}},{"$f":"#REF!+#REF!+#REF!+#REF!+#REF!+#REF!+#REF!+#REF!+#REF!+#REF!+#REF!+#REF!+#REF!+#REF!+#REF!+#REF!+#REF!+#REF!+#REF!+#REF!+#REF!+#REF!+#REF!+#REF!+#REF!+#REF!+#REF!+#REF!+#REF!+#REF!+#REF!+Feb_Williams!Q54+#REF!","v":{"$error":"#REF!"}},null,null,{"$f":"#REF!+#REF!+#REF!+#REF!+#REF!+#REF!+#REF!+#REF!+#REF!+#REF!+#REF!+#REF!+#REF!+#REF!+#REF!+#REF!+#REF!+#REF!+#REF!+#REF!+#REF!+#REF!+#REF!+#REF!+#REF!+#REF!+#REF!+#REF!+#REF!+#REF!+#REF!+Feb_Williams!T54+#REF!","v":{"$error":"#REF!"}},{"$f":"#REF!*0.5","v":{"$error":"#REF!"}},{"$f":"#REF!+#REF!+#REF!+#REF!+#REF!+#REF!+#REF!+#REF!+#REF!+#REF!+#REF!+#REF!+#REF!+#REF!+#REF!+#REF!+#REF!+#REF!+#REF!+#REF!+#REF!+#REF!+#REF!+#REF!+#REF!+#REF!+#REF!+#REF!+#REF!+#REF!+#REF!+Feb_Williams!V54+#REF!","v":{"$error":"#REF!"}},{"$f":"#REF!+#REF!+#REF!+#REF!+#REF!+#REF!+#REF!+#REF!+#REF!+#REF!+#REF!+#REF!+#REF!+#REF!+#REF!+#REF!+#REF!+#REF!+#REF!+#REF!+#REF!+#REF!+#REF!+#REF!+#REF!+#REF!+#REF!+#REF!+#REF!+#REF!+#REF!+Feb_Williams!W54+#REF!","v":{"$error":"#REF!"}},{"$f":"#REF!*0.5","v":{"$error":"#REF!"}},{"$f":"#REF!+#REF!+#REF!+#REF!+#REF!+#REF!+#REF!+#REF!+#REF!+#REF!+#REF!+#REF!+#REF!+#REF!+#REF!+#REF!+#REF!+#REF!+#REF!+#REF!+#REF!+#REF!+#REF!+#REF!+#REF!+#REF!+#REF!+#REF!+#REF!+#REF!+#REF!+Feb_Williams!Y54+#REF!","v":{"$error":"#REF!"}},null,null,{"$error":"#REF!"},{"$error":"#REF!"},{"$error":"#REF!"},{"$error":"#REF!"}]
[49,"St. Landry",{"$f":"#REF!+#REF!+#REF!+#REF!+#REF!+#REF!+#REF!+#REF!+#REF!+#REF!+#REF!+#REF!+#REF!+#REF!+#REF!+#REF!+#REF!+#REF!+#REF!+#REF!+#REF!+#REF!+#REF!+#REF!+#REF!+#REF!+#REF!+#REF!+#REF!+#REF!+#REF!+Feb_Williams!C55+#REF!+#REF!+#REF!","v":{"$error":"#REF!"}},{"$f":"#REF!+#REF!+#REF!+#REF!+#REF!+#REF!+#REF!+#REF!+#REF!+#REF!+#REF!+#REF!+#REF!+#REF!+#REF!+#REF!+#REF!+#REF!+#REF!+#REF!+#REF!+#REF!+#REF!+#REF!+#REF!+#REF!+#REF!+#REF!+#REF!+#REF!+#REF!+Feb_Williams!D55+#REF!+#REF!+#REF!","v":{"$error":"#REF!"}},{"$f":"#REF!+#REF!+#REF!+#REF!+#REF!+#REF!+#REF!+#REF!+#REF!+#REF!+#REF!+#REF!+#REF!+#REF!+#REF!+#REF!+#REF!+#REF!+#REF!+#REF!+#REF!+#REF!+#REF!+#REF!+#REF!+#REF!+#REF!+#REF!+#REF!+#REF!+#REF!+Feb_Williams!E55+#REF!+#REF!+#REF!","v":{"$error":"#REF!"}},{"$f":"#REF!*0.5","v":{"$error":"#REF!"}},{"$f":"#REF!+#REF!+#REF!+#REF!+#REF!+#REF!+#REF!+#REF!+#REF!+#REF!+#REF!+#REF!+#REF!+#REF!+#REF!+#REF!+#REF!+#REF!+#REF!+#REF!+#REF!+#REF!+#REF!+#REF!+#REF!+#REF!+#REF!+#REF!+#REF!+#REF!+#REF!+Feb_Williams!G55+#REF!","v":{"$error":"#REF!"}},{"$f":"#REF!+#REF!+#REF!+#REF!+#REF!+#REF!+#REF!+#REF!+#REF!+#REF!+#REF!+#REF!+#REF!+#REF!+#REF!+#REF!+#REF!+#REF!+#REF!+#REF!+#REF!+#REF!+#REF!+#REF!+#REF!+#REF!+#REF!+#REF!+#REF!+#REF!+#REF!+Feb_Williams!H55+#REF!+#REF!+#REF!","v":{"$error":"#REF!"}},{"$f":"#REF!+#REF!+#REF!+#REF!+#REF!+#REF!+#REF!+#REF!+#REF!+#REF!+#REF!+#REF!+#REF!+#REF!+#REF!+#REF!+#REF!+#REF!+#REF!+#REF!+#REF!+#REF!+#REF!+#REF!+#REF!+#REF!+#REF!+#REF!+#REF!+#REF!+#REF!+Feb_Williams!I55+#REF!+#REF!+#REF!","v":{"$error":"#REF!"}},{"$f":"#REF!+#REF!+#REF!+#REF!+#REF!+#REF!+#REF!+#REF!+#REF!+#REF!+#REF!+#REF!+#REF!+#REF!+#REF!+#REF!+#REF!+#REF!+#REF!+#REF!+#REF!+#REF!+#REF!+#REF!+#REF!+#REF!+#REF!+#REF!+#REF!+#REF!+#REF!+Feb_Williams!J55+#REF!+#REF!+#REF!","v":{"$error":"#REF!"}},{"$f":"#REF!*0.5","v":{"$error":"#REF!"}},{"$f":"#REF!+#REF!+#REF!+#REF!+#REF!+#REF!+#REF!+#REF!+#REF!+#REF!+#REF!+#REF!+#REF!+#REF!+#REF!+#REF!+#REF!+#REF!+#REF!+#REF!+#REF!+#REF!+#REF!+#REF!+#REF!+#REF!+#REF!+#REF!+#REF!+#REF!+#REF!+Feb_Williams!L55+#REF!","v":{"$error":"#REF!"}},null,null,{"$f":"#REF!+#REF!+#REF!+#REF!+#REF!+#REF!+#REF!+#REF!+#REF!+#REF!+#REF!+#REF!+#REF!+#REF!+#REF!+#REF!+#REF!+#REF!+#REF!+#REF!+#REF!+#REF!+#REF!+#REF!+#REF!+#REF!+#REF!+#REF!+#REF!+#REF!+#REF!+Feb_Williams!O55+#REF!","v":{"$error":"#REF!"}},{"$f":"#REF!*0.5","v":{"$error":"#REF!"}},{"$f":"#REF!+#REF!+#REF!+#REF!+#REF!+#REF!+#REF!+#REF!+#REF!+#REF!+#REF!+#REF!+#REF!+#REF!+#REF!+#REF!+#REF!+#REF!+#REF!+#REF!+#REF!+#REF!+#REF!+#REF!+#REF!+#REF!+#REF!+#REF!+#REF!+#REF!+#REF!+Feb_Williams!Q55+#REF!","v":{"$error":"#REF!"}},null,null,{"$f":"#REF!+#REF!+#REF!+#REF!+#REF!+#REF!+#REF!+#REF!+#REF!+#REF!+#REF!+#REF!+#REF!+#REF!+#REF!+#REF!+#REF!+#REF!+#REF!+#REF!+#REF!+#REF!+#REF!+#REF!+#REF!+#REF!+#REF!+#REF!+#REF!+#REF!+#REF!+Feb_Williams!T55+#REF!","v":{"$error":"#REF!"}},{"$f":"#REF!*0.5","v":{"$error":"#REF!"}},{"$f":"#REF!+#REF!+#REF!+#REF!+#REF!+#REF!+#REF!+#REF!+#REF!+#REF!+#REF!+#REF!+#REF!+#REF!+#REF!+#REF!+#REF!+#REF!+#REF!+#REF!+#REF!+#REF!+#REF!+#REF!+#REF!+#REF!+#REF!+#REF!+#REF!+#REF!+#REF!+Feb_Williams!V55+#REF!","v":{"$error":"#REF!"}},{"$f":"#REF!+#REF!+#REF!+#REF!+#REF!+#REF!+#REF!+#REF!+#REF!+#REF!+#REF!+#REF!+#REF!+#REF!+#REF!+#REF!+#REF!+#REF!+#REF!+#REF!+#REF!+#REF!+#REF!+#REF!+#REF!+#REF!+#REF!+#REF!+#REF!+#REF!+#REF!+Feb_Williams!W55+#REF!","v":{"$error":"#REF!"}},{"$f":"#REF!*0.5","v":{"$error":"#REF!"}},{"$f":"#REF!+#REF!+#REF!+#REF!+#REF!+#REF!+#REF!+#REF!+#REF!+#REF!+#REF!+#REF!+#REF!+#REF!+#REF!+#REF!+#REF!+#REF!+#REF!+#REF!+#REF!+#REF!+#REF!+#REF!+#REF!+#REF!+#REF!+#REF!+#REF!+#REF!+#REF!+Feb_Williams!Y55+#REF!","v":{"$error":"#REF!"}},null,null,{"$error":"#REF!"},{"$error":"#REF!"},{"$error":"#REF!"},{"$error":"#REF!"}]
[50,"St. Martin",{"$f":"#REF!+#REF!+#REF!+#REF!+#REF!+#REF!+#REF!+#REF!+#REF!+#REF!+#REF!+#REF!+#REF!+#REF!+#REF!+#REF!+#REF!+#REF!+#REF!+#REF!+#REF!+#REF!+#REF!+#REF!+#REF!+#REF!+#REF!+#REF!+#REF!+#REF!+#REF!+Feb_Williams!C56+#REF!+#REF!+#REF!","v":{"$error":"#REF!"}},{"$f":"#REF!+#REF!+#REF!+#REF!+#REF!+#REF!+#REF!+#REF!+#REF!+#REF!+#REF!+#REF!+#REF!+#REF!+#REF!+#REF!+#REF!+#REF!+#REF!+#REF!+#REF!+#REF!+#REF!+#REF!+#REF!+#REF!+#REF!+#REF!+#REF!+#REF!+#REF!+Feb_Williams!D56+#REF!+#REF!+#REF!","v":{"$error":"#REF!"}},{"$f":"#REF!+#REF!+#REF!+#REF!+#REF!+#REF!+#REF!+#REF!+#REF!+#REF!+#REF!+#REF!+#REF!+#REF!+#REF!+#REF!+#REF!+#REF!+#REF!+#REF!+#REF!+#REF!+#REF!+#REF!+#REF!+#REF!+#REF!+#REF!+#REF!+#REF!+#REF!+Feb_Williams!E56+#REF!+#REF!+#REF!","v":{"$error":"#REF!"}},{"$f":"#REF!*0.5","v":{"$error":"#REF!"}},{"$f":"#REF!+#REF!+#REF!+#REF!+#REF!+#REF!+#REF!+#REF!+#REF!+#REF!+#REF!+#REF!+#REF!+#REF!+#REF!+#REF!+#REF!+#REF!+#REF!+#REF!+#REF!+#REF!+#REF!+#REF!+#REF!+#REF!+#REF!+#REF!+#REF!+#REF!+#REF!+Feb_Williams!G56+#REF!","v":{"$error":"#REF!"}},{"$f":"#REF!+#REF!+#REF!+#REF!+#REF!+#REF!+#REF!+#REF!+#REF!+#REF!+#REF!+#REF!+#REF!+#REF!+#REF!+#REF!+#REF!+#REF!+#REF!+#REF!+#REF!+#REF!+#REF!+#REF!+#REF!+#REF!+#REF!+#REF!+#REF!+#REF!+#REF!+Feb_Williams!H56+#REF!+#REF!+#REF!","v":{"$error":"#REF!"}},{"$f":"#REF!+#REF!+#REF!+#REF!+#REF!+#REF!+#REF!+#REF!+#REF!+#REF!+#REF!+#REF!+#REF!+#REF!+#REF!+#REF!+#REF!+#REF!+#REF!+#REF!+#REF!+#REF!+#REF!+#REF!+#REF!+#REF!+#REF!+#REF!+#REF!+#REF!+#REF!+Feb_Williams!I56+#REF!+#REF!+#REF!","v":{"$error":"#REF!"}},{"$f":"#REF!+#REF!+#REF!+#REF!+#REF!+#REF!+#REF!+#REF!+#REF!+#REF!+#REF!+#REF!+#REF!+#REF!+#REF!+#REF!+#REF!+#REF!+#REF!+#REF!+#REF!+#REF!+#REF!+#REF!+#REF!+#REF!+#REF!+#REF!+#REF!+#REF!+#REF!+Feb_Williams!J56+#REF!+#REF!+#REF!","v":{"$error":"#REF!"}},{"$f":"#REF!*0.5","v":{"$error":"#REF!"}},{"$f":"#REF!+#REF!+#REF!+#REF!+#REF!+#REF!+#REF!+#REF!+#REF!+#REF!+#REF!+#REF!+#REF!+#REF!+#REF!+#REF!+#REF!+#REF!+#REF!+#REF!+#REF!+#REF!+#REF!+#REF!+#REF!+#REF!+#REF!+#REF!+#REF!+#REF!+#REF!+Feb_Williams!L56+#REF!","v":{"$error":"#REF!"}},null,null,{"$f":"#REF!+#REF!+#REF!+#REF!+#REF!+#REF!+#REF!+#REF!+#REF!+#REF!+#REF!+#REF!+#REF!+#REF!+#REF!+#REF!+#REF!+#REF!+#REF!+#REF!+#REF!+#REF!+#REF!+#REF!+#REF!+#REF!+#REF!+#REF!+#REF!+#REF!+#REF!+Feb_Williams!O56+#REF!","v":{"$error":"#REF!"}},{"$f":"#REF!*0.5","v":{"$error":"#REF!"}},{"$f":"#REF!+#REF!+#REF!+#REF!+#REF!+#REF!+#REF!+#REF!+#REF!+#REF!+#REF!+#REF!+#REF!+#REF!+#REF!+#REF!+#REF!+#REF!+#REF!+#REF!+#REF!+#REF!+#REF!+#REF!+#REF!+#REF!+#REF!+#REF!+#REF!+#REF!+#REF!+Feb_Williams!Q56+#REF!","v":{"$error":"#REF!"}},null,null,{"$f":"#REF!+#REF!+#REF!+#REF!+#REF!+#REF!+#REF!+#REF!+#REF!+#REF!+#REF!+#REF!+#REF!+#REF!+#REF!+#REF!+#REF!+#REF!+#REF!+#REF!+#REF!+#REF!+#REF!+#REF!+#REF!+#REF!+#REF!+#REF!+#REF!+#REF!+#REF!+Feb_Williams!T56+#REF!","v":{"$error":"#REF!"}},{"$f":"#REF!*0.5","v":{"$error":"#REF!"}},{"$f":"#REF!+#REF!+#REF!+#REF!+#REF!+#REF!+#REF!+#REF!+#REF!+#REF!+#REF!+#REF!+#REF!+#REF!+#REF!+#REF!+#REF!+#REF!+#REF!+#REF!+#REF!+#REF!+#REF!+#REF!+#REF!+#REF!+#REF!+#REF!+#REF!+#REF!+#REF!+Feb_Williams!V56+#REF!","v":{"$error":"#REF!"}},{"$f":"#REF!+#REF!+#REF!+#REF!+#REF!+#REF!+#REF!+#REF!+#REF!+#REF!+#REF!+#REF!+#REF!+#REF!+#REF!+#REF!+#REF!+#REF!+#REF!+#REF!+#REF!+#REF!+#REF!+#REF!+#REF!+#REF!+#REF!+#REF!+#REF!+#REF!+#REF!+Feb_Williams!W56+#REF!","v":{"$error":"#REF!"}},{"$f":"#REF!*0.5","v":{"$error":"#REF!"}},{"$f":"#REF!+#REF!+#REF!+#REF!+#REF!+#REF!+#REF!+#REF!+#REF!+#REF!+#REF!+#REF!+#REF!+#REF!+#REF!+#REF!+#REF!+#REF!+#REF!+#REF!+#REF!+#REF!+#REF!+#REF!+#REF!+#REF!+#REF!+#REF!+#REF!+#REF!+#REF!+Feb_Williams!Y56+#REF!","v":{"$error":"#REF!"}},null,null,{"$error":"#REF!"},{"$error":"#REF!"},{"$error":"#REF!"},{"$error":"#REF!"}]
[51,"St. Mary",{"$f":"#REF!+#REF!+#REF!+#REF!+#REF!+#REF!+#REF!+#REF!+#REF!+#REF!+#REF!+#REF!+#REF!+#REF!+#REF!+#REF!+#REF!+#REF!+#REF!+#REF!+#REF!+#REF!+#REF!+#REF!+#REF!+#REF!+#REF!+#REF!+#REF!+#REF!+#REF!+Feb_Williams!C57+#REF!+#REF!+#REF!","v":{"$error":"#REF!"}},{"$f":"#REF!+#REF!+#REF!+#REF!+#REF!+#REF!+#REF!+#REF!+#REF!+#REF!+#REF!+#REF!+#REF!+#REF!+#REF!+#REF!+#REF!+#REF!+#REF!+#REF!+#REF!+#REF!+#REF!+#REF!+#REF!+#REF!+#REF!+#REF!+#REF!+#REF!+#REF!+Feb_Williams!D57+#REF!+#REF!+#REF!","v":{"$error":"#REF!"}},{"$f":"#REF!+#REF!+#REF!+#REF!+#REF!+#REF!+#REF!+#REF!+#REF!+#REF!+#REF!+#REF!+#REF!+#REF!+#REF!+#REF!+#REF!+#REF!+#REF!+#REF!+#REF!+#REF!+#REF!+#REF!+#REF!+#REF!+#REF!+#REF!+#REF!+#REF!+#REF!+Feb_Williams!E57+#REF!+#REF!+#REF!","v":{"$error":"#REF!"}},{"$f":"#REF!*0.5","v":{"$error":"#REF!"}},{"$f":"#REF!+#REF!+#REF!+#REF!+#REF!+#REF!+#REF!+#REF!+#REF!+#REF!+#REF!+#REF!+#REF!+#REF!+#REF!+#REF!+#REF!+#REF!+#REF!+#REF!+#REF!+#REF!+#REF!+#REF!+#REF!+#REF!+#REF!+#REF!+#REF!+#REF!+#REF!+Feb_Williams!G57+#REF!","v":{"$error":"#REF!"}},{"$f":"#REF!+#REF!+#REF!+#REF!+#REF!+#REF!+#REF!+#REF!+#REF!+#REF!+#REF!+#REF!+#REF!+#REF!+#REF!+#REF!+#REF!+#REF!+#REF!+#REF!+#REF!+#REF!+#REF!+#REF!+#REF!+#REF!+#REF!+#REF!+#REF!+#REF!+#REF!+Feb_Williams!H57+#REF!+#REF!+#REF!","v":{"$error":"#REF!"}},{"$f":"#REF!+#REF!+#REF!+#REF!+#REF!+#REF!+#REF!+#REF!+#REF!+#REF!+#REF!+#REF!+#REF!+#REF!+#REF!+#REF!+#REF!+#REF!+#REF!+#REF!+#REF!+#REF!+#REF!+#REF!+#REF!+#REF!+#REF!+#REF!+#REF!+#REF!+#REF!+Feb_Williams!I57+#REF!+#REF!+#REF!","v":{"$error":"#REF!"}},{"$f":"#REF!+#REF!+#REF!+#REF!+#REF!+#REF!+#REF!+#REF!+#REF!+#REF!+#REF!+#REF!+#REF!+#REF!+#REF!+#REF!+#REF!+#REF!+#REF!+#REF!+#REF!+#REF!+#REF!+#REF!+#REF!+#REF!+#REF!+#REF!+#REF!+#REF!+#REF!+Feb_Williams!J57+#REF!+#REF!+#REF!","v":{"$error":"#REF!"}},{"$f":"#REF!*0.5","v":{"$error":"#REF!"}},{"$f":"#REF!+#REF!+#REF!+#REF!+#REF!+#REF!+#REF!+#REF!+#REF!+#REF!+#REF!+#REF!+#REF!+#REF!+#REF!+#REF!+#REF!+#REF!+#REF!+#REF!+#REF!+#REF!+#REF!+#REF!+#REF!+#REF!+#REF!+#REF!+#REF!+#REF!+#REF!+Feb_Williams!L57+#REF!","v":{"$error":"#REF!"}},null,null,{"$f":"#REF!+#REF!+#REF!+#REF!+#REF!+#REF!+#REF!+#REF!+#REF!+#REF!+#REF!+#REF!+#REF!+#REF!+#REF!+#REF!+#REF!+#REF!+#REF!+#REF!+#REF!+#REF!+#REF!+#REF!+#REF!+#REF!+#REF!+#REF!+#REF!+#REF!+#REF!+Feb_Williams!O57+#REF!","v":{"$error":"#REF!"}},{"$f":"#REF!*0.5","v":{"$error":"#REF!"}},{"$f":"#REF!+#REF!+#REF!+#REF!+#REF!+#REF!+#REF!+#REF!+#REF!+#REF!+#REF!+#REF!+#REF!+#REF!+#REF!+#REF!+#REF!+#REF!+#REF!+#REF!+#REF!+#REF!+#REF!+#REF!+#REF!+#REF!+#REF!+#REF!+#REF!+#REF!+#REF!+Feb_Williams!Q57+#REF!","v":{"$error":"#REF!"}},null,null,{"$f":"#REF!+#REF!+#REF!+#REF!+#REF!+#REF!+#REF!+#REF!+#REF!+#REF!+#REF!+#REF!+#REF!+#REF!+#REF!+#REF!+#REF!+#REF!+#REF!+#REF!+#REF!+#REF!+#REF!+#REF!+#REF!+#REF!+#REF!+#REF!+#REF!+#REF!+#REF!+Feb_Williams!T57+#REF!","v":{"$error":"#REF!"}},{"$f":"#REF!*0.5","v":{"$error":"#REF!"}},{"$f":"#REF!+#REF!+#REF!+#REF!+#REF!+#REF!+#REF!+#REF!+#REF!+#REF!+#REF!+#REF!+#REF!+#REF!+#REF!+#REF!+#REF!+#REF!+#REF!+#REF!+#REF!+#REF!+#REF!+#REF!+#REF!+#REF!+#REF!+#REF!+#REF!+#REF!+#REF!+Feb_Williams!V57+#REF!","v":{"$error":"#REF!"}},{"$f":"#REF!+#REF!+#REF!+#REF!+#REF!+#REF!+#REF!+#REF!+#REF!+#REF!+#REF!+#REF!+#REF!+#REF!+#REF!+#REF!+#REF!+#REF!+#REF!+#REF!+#REF!+#REF!+#REF!+#REF!+#REF!+#REF!+#REF!+#REF!+#REF!+#REF!+#REF!+Feb_Williams!W57+#REF!","v":{"$error":"#REF!"}},{"$f":"#REF!*0.5","v":{"$error":"#REF!"}},{"$f":"#REF!+#REF!+#REF!+#REF!+#REF!+#REF!+#REF!+#REF!+#REF!+#REF!+#REF!+#REF!+#REF!+#REF!+#REF!+#REF!+#REF!+#REF!+#REF!+#REF!+#REF!+#REF!+#REF!+#REF!+#REF!+#REF!+#REF!+#REF!+#REF!+#REF!+#REF!+Feb_Williams!Y57+#REF!","v":{"$error":"#REF!"}},null,null,{"$error":"#REF!"},{"$error":"#REF!"},{"$error":"#REF!"},{"$error":"#REF!"}]
[52,"St. Tammany",{"$f":"#REF!+#REF!+#REF!+#REF!+#REF!+#REF!+#REF!+#REF!+#REF!+#REF!+#REF!+#REF!+#REF!+#REF!+#REF!+#REF!+#REF!+#REF!+#REF!+#REF!+#REF!+#REF!+#REF!+#REF!+#REF!+#REF!+#REF!+#REF!+#REF!+#REF!+#REF!+Feb_Williams!C58+#REF!+#REF!+#REF!","v":{"$error":"#REF!"}},{"$f":"#REF!+#REF!+#REF!+#REF!+#REF!+#REF!+#REF!+#REF!+#REF!+#REF!+#REF!+#REF!+#REF!+#REF!+#REF!+#REF!+#REF!+#REF!+#REF!+#REF!+#REF!+#REF!+#REF!+#REF!+#REF!+#REF!+#REF!+#REF!+#REF!+#REF!+#REF!+Feb_Williams!D58+#REF!+#REF!+#REF!","v":{"$error":"#REF!"}},{"$f":"#REF!+#REF!+#REF!+#REF!+#REF!+#REF!+#REF!+#REF!+#REF!+#REF!+#REF!+#REF!+#REF!+#REF!+#REF!+#REF!+#REF!+#REF!+#REF!+#REF!+#REF!+#REF!+#REF!+#REF!+#REF!+#REF!+#REF!+#REF!+#REF!+#REF!+#REF!+Feb_Williams!E58+#REF!+#REF!+#REF!","v":{"$error":"#REF!"}},{"$f":"#REF!*0.5","v":{"$error":"#REF!"}},{"$f":"#REF!+#REF!+#REF!+#REF!+#REF!+#REF!+#REF!+#REF!+#REF!+#REF!+#REF!+#REF!+#REF!+#REF!+#REF!+#REF!+#REF!+#REF!+#REF!+#REF!+#REF!+#REF!+#REF!+#REF!+#REF!+#REF!+#REF!+#REF!+#REF!+#REF!+#REF!+Feb_Williams!G58+#REF!","v":{"$error":"#REF!"}},{"$f":"#REF!+#REF!+#REF!+#REF!+#REF!+#REF!+#REF!+#REF!+#REF!+#REF!+#REF!+#REF!+#REF!+#REF!+#REF!+#REF!+#REF!+#REF!+#REF!+#REF!+#REF!+#REF!+#REF!+#REF!+#REF!+#REF!+#REF!+#REF!+#REF!+#REF!+#REF!+Feb_Williams!H58+#REF!+#REF!+#REF!","v":{"$error":"#REF!"}},{"$f":"#REF!+#REF!+#REF!+#REF!+#REF!+#REF!+#REF!+#REF!+#REF!+#REF!+#REF!+#REF!+#REF!+#REF!+#REF!+#REF!+#REF!+#REF!+#REF!+#REF!+#REF!+#REF!+#REF!+#REF!+#REF!+#REF!+#REF!+#REF!+#REF!+#REF!+#REF!+Feb_Williams!I58+#REF!+#REF!+#REF!","v":{"$error":"#REF!"}},{"$f":"#REF!+#REF!+#REF!+#REF!+#REF!+#REF!+#REF!+#REF!+#REF!+#REF!+#REF!+#REF!+#REF!+#REF!+#REF!+#REF!+#REF!+#REF!+#REF!+#REF!+#REF!+#REF!+#REF!+#REF!+#REF!+#REF!+#REF!+#REF!+#REF!+#REF!+#REF!+Feb_Williams!J58+#REF!+#REF!+#REF!","v":{"$error":"#REF!"}},{"$f":"#REF!*0.5","v":{"$error":"#REF!"}},{"$f":"#REF!+#REF!+#REF!+#REF!+#REF!+#REF!+#REF!+#REF!+#REF!+#REF!+#REF!+#REF!+#REF!+#REF!+#REF!+#REF!+#REF!+#REF!+#REF!+#REF!+#REF!+#REF!+#REF!+#REF!+#REF!+#REF!+#REF!+#REF!+#REF!+#REF!+#REF!+Feb_Williams!L58+#REF!","v":{"$error":"#REF!"}},null,null,{"$f":"#REF!+#REF!+#REF!+#REF!+#REF!+#REF!+#REF!+#REF!+#REF!+#REF!+#REF!+#REF!+#REF!+#REF!+#REF!+#REF!+#REF!+#REF!+#REF!+#REF!+#REF!+#REF!+#REF!+#REF!+#REF!+#REF!+#REF!+#REF!+#REF!+#REF!+#REF!+Feb_Williams!O58+#REF!","v":{"$error":"#REF!"}},{"$f":"#REF!*0.5","v":{"$error":"#REF!"}},{"$f":"#REF!+#REF!+#REF!+#REF!+#REF!+#REF!+#REF!+#REF!+#REF!+#REF!+#REF!+#REF!+#REF!+#REF!+#REF!+#REF!+#REF!+#REF!+#REF!+#REF!+#REF!+#REF!+#REF!+#REF!+#REF!+#REF!+#REF!+#REF!+#REF!+#REF!+#REF!+Feb_Williams!Q58+#REF!","v":{"$error":"#REF!"}},null,null,{"$f":"#REF!+#REF!+#REF!+#REF!+#REF!+#REF!+#REF!+#REF!+#REF!+#REF!+#REF!+#REF!+#REF!+#REF!+#REF!+#REF!+#REF!+#REF!+#REF!+#REF!+#REF!+#REF!+#REF!+#REF!+#REF!+#REF!+#REF!+#REF!+#REF!+#REF!+#REF!+Feb_Williams!T58+#REF!","v":{"$error":"#REF!"}},{"$f":"#REF!*0.5","v":{"$error":"#REF!"}},{"$f":"#REF!+#REF!+#REF!+#REF!+#REF!+#REF!+#REF!+#REF!+#REF!+#REF!+#REF!+#REF!+#REF!+#REF!+#REF!+#REF!+#REF!+#REF!+#REF!+#REF!+#REF!+#REF!+#REF!+#REF!+#REF!+#REF!+#REF!+#REF!+#REF!+#REF!+#REF!+Feb_Williams!V58+#REF!","v":{"$error":"#REF!"}},{"$f":"#REF!+#REF!+#REF!+#REF!+#REF!+#REF!+#REF!+#REF!+#REF!+#REF!+#REF!+#REF!+#REF!+#REF!+#REF!+#REF!+#REF!+#REF!+#REF!+#REF!+#REF!+#REF!+#REF!+#REF!+#REF!+#REF!+#REF!+#REF!+#REF!+#REF!+#REF!+Feb_Williams!W58+#REF!","v":{"$error":"#REF!"}},{"$f":"#REF!*0.5","v":{"$error":"#REF!"}},{"$f":"#REF!+#REF!+#REF!+#REF!+#REF!+#REF!+#REF!+#REF!+#REF!+#REF!+#REF!+#REF!+#REF!+#REF!+#REF!+#REF!+#REF!+#REF!+#REF!+#REF!+#REF!+#REF!+#REF!+#REF!+#REF!+#REF!+#REF!+#REF!+#REF!+#REF!+#REF!+Feb_Williams!Y58+#REF!","v":{"$error":"#REF!"}},null,null,{"$error":"#REF!"},{"$error":"#REF!"},{"$error":"#REF!"},{"$error":"#REF!"}]
[53,"Tangipahoa",{"$f":"#REF!+#REF!+#REF!+#REF!+#REF!+#REF!+#REF!+#REF!+#REF!+#REF!+#REF!+#REF!+#REF!+#REF!+#REF!+#REF!+#REF!+#REF!+#REF!+#REF!+#REF!+#REF!+#REF!+#REF!+#REF!+#REF!+#REF!+#REF!+#REF!+#REF!+#REF!+Feb_Williams!C59+#REF!+#REF!+#REF!","v":{"$error":"#REF!"}},{"$f":"#REF!+#REF!+#REF!+#REF!+#REF!+#REF!+#REF!+#REF!+#REF!+#REF!+#REF!+#REF!+#REF!+#REF!+#REF!+#REF!+#REF!+#REF!+#REF!+#REF!+#REF!+#REF!+#REF!+#REF!+#REF!+#REF!+#REF!+#REF!+#REF!+#REF!+#REF!+Feb_Williams!D59+#REF!+#REF!+#REF!","v":{"$error":"#REF!"}},{"$f":"#REF!+#REF!+#REF!+#REF!+#REF!+#REF!+#REF!+#REF!+#REF!+#REF!+#REF!+#REF!+#REF!+#REF!+#REF!+#REF!+#REF!+#REF!+#REF!+#REF!+#REF!+#REF!+#REF!+#REF!+#REF!+#REF!+#REF!+#REF!+#REF!+#REF!+#REF!+Feb_Williams!E59+#REF!+#REF!+#REF!","v":{"$error":"#REF!"}},{"$f":"#REF!*0.5","v":{"$error":"#REF!"}},{"$f":"#REF!+#REF!+#REF!+#REF!+#REF!+#REF!+#REF!+#REF!+#REF!+#REF!+#REF!+#REF!+#REF!+#REF!+#REF!+#REF!+#REF!+#REF!+#REF!+#REF!+#REF!+#REF!+#REF!+#REF!+#REF!+#REF!+#REF!+#REF!+#REF!+#REF!+#REF!+Feb_Williams!G59+#REF!","v":{"$error":"#REF!"}},{"$f":"#REF!+#REF!+#REF!+#REF!+#REF!+#REF!+#REF!+#REF!+#REF!+#REF!+#REF!+#REF!+#REF!+#REF!+#REF!+#REF!+#REF!+#REF!+#REF!+#REF!+#REF!+#REF!+#REF!+#REF!+#REF!+#REF!+#REF!+#REF!+#REF!+#REF!+#REF!+Feb_Williams!H59+#REF!+#REF!+#REF!","v":{"$error":"#REF!"}},{"$f":"#REF!+#REF!+#REF!+#REF!+#REF!+#REF!+#REF!+#REF!+#REF!+#REF!+#REF!+#REF!+#REF!+#REF!+#REF!+#REF!+#REF!+#REF!+#REF!+#REF!+#REF!+#REF!+#REF!+#REF!+#REF!+#REF!+#REF!+#REF!+#REF!+#REF!+#REF!+Feb_Williams!I59+#REF!+#REF!+#REF!","v":{"$error":"#REF!"}},{"$f":"#REF!+#REF!+#REF!+#REF!+#REF!+#REF!+#REF!+#REF!+#REF!+#REF!+#REF!+#REF!+#REF!+#REF!+#REF!+#REF!+#REF!+#REF!+#REF!+#REF!+#REF!+#REF!+#REF!+#REF!+#REF!+#REF!+#REF!+#REF!+#REF!+#REF!+#REF!+Feb_Williams!J59+#REF!+#REF!+#REF!","v":{"$error":"#REF!"}},{"$f":"#REF!*0.5","v":{"$error":"#REF!"}},{"$f":"#REF!+#REF!+#REF!+#REF!+#REF!+#REF!+#REF!+#REF!+#REF!+#REF!+#REF!+#REF!+#REF!+#REF!+#REF!+#REF!+#REF!+#REF!+#REF!+#REF!+#REF!+#REF!+#REF!+#REF!+#REF!+#REF!+#REF!+#REF!+#REF!+#REF!+#REF!+Feb_Williams!L59+#REF!","v":{"$error":"#REF!"}},null,null,{"$f":"#REF!+#REF!+#REF!+#REF!+#REF!+#REF!+#REF!+#REF!+#REF!+#REF!+#REF!+#REF!+#REF!+#REF!+#REF!+#REF!+#REF!+#REF!+#REF!+#REF!+#REF!+#REF!+#REF!+#REF!+#REF!+#REF!+#REF!+#REF!+#REF!+#REF!+#REF!+Feb_Williams!O59+#REF!","v":{"$error":"#REF!"}},{"$f":"#REF!*0.5","v":{"$error":"#REF!"}},{"$f":"#REF!+#REF!+#REF!+#REF!+#REF!+#REF!+#REF!+#REF!+#REF!+#REF!+#REF!+#REF!+#REF!+#REF!+#REF!+#REF!+#REF!+#REF!+#REF!+#REF!+#REF!+#REF!+#REF!+#REF!+#REF!+#REF!+#REF!+#REF!+#REF!+#REF!+#REF!+Feb_Williams!Q59+#REF!","v":{"$error":"#REF!"}},null,null,{"$f":"#REF!+#REF!+#REF!+#REF!+#REF!+#REF!+#REF!+#REF!+#REF!+#REF!+#REF!+#REF!+#REF!+#REF!+#REF!+#REF!+#REF!+#REF!+#REF!+#REF!+#REF!+#REF!+#REF!+#REF!+#REF!+#REF!+#REF!+#REF!+#REF!+#REF!+#REF!+Feb_Williams!T59+#REF!","v":{"$error":"#REF!"}},{"$f":"#REF!*0.5","v":{"$error":"#REF!"}},{"$f":"#REF!+#REF!+#REF!+#REF!+#REF!+#REF!+#REF!+#REF!+#REF!+#REF!+#REF!+#REF!+#REF!+#REF!+#REF!+#REF!+#REF!+#REF!+#REF!+#REF!+#REF!+#REF!+#REF!+#REF!+#REF!+#REF!+#REF!+#REF!+#REF!+#REF!+#REF!+Feb_Williams!V59+#REF!","v":{"$error":"#REF!"}},{"$f":"#REF!+#REF!+#REF!+#REF!+#REF!+#REF!+#REF!+#REF!+#REF!+#REF!+#REF!+#REF!+#REF!+#REF!+#REF!+#REF!+#REF!+#REF!+#REF!+#REF!+#REF!+#REF!+#REF!+#REF!+#REF!+#REF!+#REF!+#REF!+#REF!+#REF!+#REF!+Feb_Williams!W59+#REF!","v":{"$error":"#REF!"}},{"$f":"#REF!*0.5","v":{"$error":"#REF!"}},{"$f":"#REF!+#REF!+#REF!+#REF!+#REF!+#REF!+#REF!+#REF!+#REF!+#REF!+#REF!+#REF!+#REF!+#REF!+#REF!+#REF!+#REF!+#REF!+#REF!+#REF!+#REF!+#REF!+#REF!+#REF!+#REF!+#REF!+#REF!+#REF!+#REF!+#REF!+#REF!+Feb_Williams!Y59+#REF!","v":{"$error":"#REF!"}},null,null,{"$error":"#REF!"},{"$error":"#REF!"},{"$error":"#REF!"},{"$error":"#REF!"}]
[54,"Tensas",{"$f":"#REF!+#REF!+#REF!+#REF!+#REF!+#REF!+#REF!+#REF!+#REF!+#REF!+#REF!+#REF!+#REF!+#REF!+#REF!+#REF!+#REF!+#REF!+#REF!+#REF!+#REF!+#REF!+#REF!+#REF!+#REF!+#REF!+#REF!+#REF!+#REF!+#REF!+#REF!+Feb_Williams!C60+#REF!+#REF!+#REF!","v":{"$error":"#REF!"}},{"$f":"#REF!+#REF!+#REF!+#REF!+#REF!+#REF!+#REF!+#REF!+#REF!+#REF!+#REF!+#REF!+#REF!+#REF!+#REF!+#REF!+#REF!+#REF!+#REF!+#REF!+#REF!+#REF!+#REF!+#REF!+#REF!+#REF!+#REF!+#REF!+#REF!+#REF!+#REF!+Feb_Williams!D60+#REF!+#REF!+#REF!","v":{"$error":"#REF!"}},{"$f":"#REF!+#REF!+#REF!+#REF!+#REF!+#REF!+#REF!+#REF!+#REF!+#REF!+#REF!+#REF!+#REF!+#REF!+#REF!+#REF!+#REF!+#REF!+#REF!+#REF!+#REF!+#REF!+#REF!+#REF!+#REF!+#REF!+#REF!+#REF!+#REF!+#REF!+#REF!+Feb_Williams!E60+#REF!+#REF!+#REF!","v":{"$error":"#REF!"}},{"$f":"#REF!*0.5","v":{"$error":"#REF!"}},{"$f":"#REF!+#REF!+#REF!+#REF!+#REF!+#REF!+#REF!+#REF!+#REF!+#REF!+#REF!+#REF!+#REF!+#REF!+#REF!+#REF!+#REF!+#REF!+#REF!+#REF!+#REF!+#REF!+#REF!+#REF!+#REF!+#REF!+#REF!+#REF!+#REF!+#REF!+#REF!+Feb_Williams!G60+#REF!","v":{"$error":"#REF!"}},{"$f":"#REF!+#REF!+#REF!+#REF!+#REF!+#REF!+#REF!+#REF!+#REF!+#REF!+#REF!+#REF!+#REF!+#REF!+#REF!+#REF!+#REF!+#REF!+#REF!+#REF!+#REF!+#REF!+#REF!+#REF!+#REF!+#REF!+#REF!+#REF!+#REF!+#REF!+#REF!+Feb_Williams!H60+#REF!+#REF!+#REF!","v":{"$error":"#REF!"}},{"$f":"#REF!+#REF!+#REF!+#REF!+#REF!+#REF!+#REF!+#REF!+#REF!+#REF!+#REF!+#REF!+#REF!+#REF!+#REF!+#REF!+#REF!+#REF!+#REF!+#REF!+#REF!+#REF!+#REF!+#REF!+#REF!+#REF!+#REF!+#REF!+#REF!+#REF!+#REF!+Feb_Williams!I60+#REF!+#REF!+#REF!","v":{"$error":"#REF!"}},{"$f":"#REF!+#REF!+#REF!+#REF!+#REF!+#REF!+#REF!+#REF!+#REF!+#REF!+#REF!+#REF!+#REF!+#REF!+#REF!+#REF!+#REF!+#REF!+#REF!+#REF!+#REF!+#REF!+#REF!+#REF!+#REF!+#REF!+#REF!+#REF!+#REF!+#REF!+#REF!+Feb_Williams!J60+#REF!+#REF!+#REF!","v":{"$error":"#REF!"}},{"$f":"#REF!*0.5","v":{"$error":"#REF!"}},{"$f":"#REF!+#REF!+#REF!+#REF!+#REF!+#REF!+#REF!+#REF!+#REF!+#REF!+#REF!+#REF!+#REF!+#REF!+#REF!+#REF!+#REF!+#REF!+#REF!+#REF!+#REF!+#REF!+#REF!+#REF!+#REF!+#REF!+#REF!+#REF!+#REF!+#REF!+#REF!+Feb_Williams!L60+#REF!","v":{"$error":"#REF!"}},null,null,{"$f":"#REF!+#REF!+#REF!+#REF!+#REF!+#REF!+#REF!+#REF!+#REF!+#REF!+#REF!+#REF!+#REF!+#REF!+#REF!+#REF!+#REF!+#REF!+#REF!+#REF!+#REF!+#REF!+#REF!+#REF!+#REF!+#REF!+#REF!+#REF!+#REF!+#REF!+#REF!+Feb_Williams!O60+#REF!","v":{"$error":"#REF!"}},{"$f":"#REF!*0.5","v":{"$error":"#REF!"}},{"$f":"#REF!+#REF!+#REF!+#REF!+#REF!+#REF!+#REF!+#REF!+#REF!+#REF!+#REF!+#REF!+#REF!+#REF!+#REF!+#REF!+#REF!+#REF!+#REF!+#REF!+#REF!+#REF!+#REF!+#REF!+#REF!+#REF!+#REF!+#REF!+#REF!+#REF!+#REF!+Feb_Williams!Q60+#REF!","v":{"$error":"#REF!"}},null,null,{"$f":"#REF!+#REF!+#REF!+#REF!+#REF!+#REF!+#REF!+#REF!+#REF!+#REF!+#REF!+#REF!+#REF!+#REF!+#REF!+#REF!+#REF!+#REF!+#REF!+#REF!+#REF!+#REF!+#REF!+#REF!+#REF!+#REF!+#REF!+#REF!+#REF!+#REF!+#REF!+Feb_Williams!T60+#REF!","v":{"$error":"#REF!"}},{"$f":"#REF!*0.5","v":{"$error":"#REF!"}},{"$f":"#REF!+#REF!+#REF!+#REF!+#REF!+#REF!+#REF!+#REF!+#REF!+#REF!+#REF!+#REF!+#REF!+#REF!+#REF!+#REF!+#REF!+#REF!+#REF!+#REF!+#REF!+#REF!+#REF!+#REF!+#REF!+#REF!+#REF!+#REF!+#REF!+#REF!+#REF!+Feb_Williams!V60+#REF!","v":{"$error":"#REF!"}},{"$f":"#REF!+#REF!+#REF!+#REF!+#REF!+#REF!+#REF!+#REF!+#REF!+#REF!+#REF!+#REF!+#REF!+#REF!+#REF!+#REF!+#REF!+#REF!+#REF!+#REF!+#REF!+#REF!+#REF!+#REF!+#REF!+#REF!+#REF!+#REF!+#REF!+#REF!+#REF!+Feb_Williams!W60+#REF!","v":{"$error":"#REF!"}},{"$f":"#REF!*0.5","v":{"$error":"#REF!"}},{"$f":"#REF!+#REF!+#REF!+#REF!+#REF!+#REF!+#REF!+#REF!+#REF!+#REF!+#REF!+#REF!+#REF!+#REF!+#REF!+#REF!+#REF!+#REF!+#REF!+#REF!+#REF!+#REF!+#REF!+#REF!+#REF!+#REF!+#REF!+#REF!+#REF!+#REF!+#REF!+Feb_Williams!Y60+#REF!","v":{"$error":"#REF!"}},null,null,{"$error":"#REF!"},{"$error":"#REF!"},{"$error":"#REF!"},{"$error":"#REF!"}]
[55,"Terrebonne",{"$f":"#REF!+#REF!+#REF!+#REF!+#REF!+#REF!+#REF!+#REF!+#REF!+#REF!+#REF!+#REF!+#REF!+#REF!+#REF!+#REF!+#REF!+#REF!+#REF!+#REF!+#REF!+#REF!+#REF!+#REF!+#REF!+#REF!+#REF!+#REF!+#REF!+#REF!+#REF!+Feb_Williams!C61+#REF!+#REF!+#REF!","v":{"$error":"#REF!"}},{"$f":"#REF!+#REF!+#REF!+#REF!+#REF!+#REF!+#REF!+#REF!+#REF!+#REF!+#REF!+#REF!+#REF!+#REF!+#REF!+#REF!+#REF!+#REF!+#REF!+#REF!+#REF!+#REF!+#REF!+#REF!+#REF!+#REF!+#REF!+#REF!+#REF!+#REF!+#REF!+Feb_Williams!D61+#REF!+#REF!+#REF!","v":{"$error":"#REF!"}},{"$f":"#REF!+#REF!+#REF!+#REF!+#REF!+#REF!+#REF!+#REF!+#REF!+#REF!+#REF!+#REF!+#REF!+#REF!+#REF!+#REF!+#REF!+#REF!+#REF!+#REF!+#REF!+#REF!+#REF!+#REF!+#REF!+#REF!+#REF!+#REF!+#REF!+#REF!+#REF!+Feb_Williams!E61+#REF!+#REF!+#REF!","v":{"$error":"#REF!"}},{"$f":"#REF!*0.5","v":{"$error":"#REF!"}},{"$f":"#REF!+#REF!+#REF!+#REF!+#REF!+#REF!+#REF!+#REF!+#REF!+#REF!+#REF!+#REF!+#REF!+#REF!+#REF!+#REF!+#REF!+#REF!+#REF!+#REF!+#REF!+#REF!+#REF!+#REF!+#REF!+#REF!+#REF!+#REF!+#REF!+#REF!+#REF!+Feb_Williams!G61+#REF!","v":{"$error":"#REF!"}},{"$f":"#REF!+#REF!+#REF!+#REF!+#REF!+#REF!+#REF!+#REF!+#REF!+#REF!+#REF!+#REF!+#REF!+#REF!+#REF!+#REF!+#REF!+#REF!+#REF!+#REF!+#REF!+#REF!+#REF!+#REF!+#REF!+#REF!+#REF!+#REF!+#REF!+#REF!+#REF!+Feb_Williams!H61+#REF!+#REF!+#REF!","v":{"$error":"#REF!"}},{"$f":"#REF!+#REF!+#REF!+#REF!+#REF!+#REF!+#REF!+#REF!+#REF!+#REF!+#REF!+#REF!+#REF!+#REF!+#REF!+#REF!+#REF!+#REF!+#REF!+#REF!+#REF!+#REF!+#REF!+#REF!+#REF!+#REF!+#REF!+#REF!+#REF!+#REF!+#REF!+Feb_Williams!I61+#REF!+#REF!+#REF!","v":{"$error":"#REF!"}},{"$f":"#REF!+#REF!+#REF!+#REF!+#REF!+#REF!+#REF!+#REF!+#REF!+#REF!+#REF!+#REF!+#REF!+#REF!+#REF!+#REF!+#REF!+#REF!+#REF!+#REF!+#REF!+#REF!+#REF!+#REF!+#REF!+#REF!+#REF!+#REF!+#REF!+#REF!+#REF!+Feb_Williams!J61+#REF!+#REF!+#REF!","v":{"$error":"#REF!"}},{"$f":"#REF!*0.5","v":{"$error":"#REF!"}},{"$f":"#REF!+#REF!+#REF!+#REF!+#REF!+#REF!+#REF!+#REF!+#REF!+#REF!+#REF!+#REF!+#REF!+#REF!+#REF!+#REF!+#REF!+#REF!+#REF!+#REF!+#REF!+#REF!+#REF!+#REF!+#REF!+#REF!+#REF!+#REF!+#REF!+#REF!+#REF!+Feb_Williams!L61+#REF!","v":{"$error":"#REF!"}},null,null,{"$f":"#REF!+#REF!+#REF!+#REF!+#REF!+#REF!+#REF!+#REF!+#REF!+#REF!+#REF!+#REF!+#REF!+#REF!+#REF!+#REF!+#REF!+#REF!+#REF!+#REF!+#REF!+#REF!+#REF!+#REF!+#REF!+#REF!+#REF!+#REF!+#REF!+#REF!+#REF!+Feb_Williams!O61+#REF!","v":{"$error":"#REF!"}},{"$f":"#REF!*0.5","v":{"$error":"#REF!"}},{"$f":"#REF!+#REF!+#REF!+#REF!+#REF!+#REF!+#REF!+#REF!+#REF!+#REF!+#REF!+#REF!+#REF!+#REF!+#REF!+#REF!+#REF!+#REF!+#REF!+#REF!+#REF!+#REF!+#REF!+#REF!+#REF!+#REF!+#REF!+#REF!+#REF!+#REF!+#REF!+Feb_Williams!Q61+#REF!","v":{"$error":"#REF!"}},null,null,{"$f":"#REF!+#REF!+#REF!+#REF!+#REF!+#REF!+#REF!+#REF!+#REF!+#REF!+#REF!+#REF!+#REF!+#REF!+#REF!+#REF!+#REF!+#REF!+#REF!+#REF!+#REF!+#REF!+#REF!+#REF!+#REF!+#REF!+#REF!+#REF!+#REF!+#REF!+#REF!+Feb_Williams!T61+#REF!","v":{"$error":"#REF!"}},{"$f":"#REF!*0.5","v":{"$error":"#REF!"}},{"$f":"#REF!+#REF!+#REF!+#REF!+#REF!+#REF!+#REF!+#REF!+#REF!+#REF!+#REF!+#REF!+#REF!+#REF!+#REF!+#REF!+#REF!+#REF!+#REF!+#REF!+#REF!+#REF!+#REF!+#REF!+#REF!+#REF!+#REF!+#REF!+#REF!+#REF!+#REF!+Feb_Williams!V61+#REF!","v":{"$error":"#REF!"}},{"$f":"#REF!+#REF!+#REF!+#REF!+#REF!+#REF!+#REF!+#REF!+#REF!+#REF!+#REF!+#REF!+#REF!+#REF!+#REF!+#REF!+#REF!+#REF!+#REF!+#REF!+#REF!+#REF!+#REF!+#REF!+#REF!+#REF!+#REF!+#REF!+#REF!+#REF!+#REF!+Feb_Williams!W61+#REF!","v":{"$error":"#REF!"}},{"$f":"#REF!*0.5","v":{"$error":"#REF!"}},{"$f":"#REF!+#REF!+#REF!+#REF!+#REF!+#REF!+#REF!+#REF!+#REF!+#REF!+#REF!+#REF!+#REF!+#REF!+#REF!+#REF!+#REF!+#REF!+#REF!+#REF!+#REF!+#REF!+#REF!+#REF!+#REF!+#REF!+#REF!+#REF!+#REF!+#REF!+#REF!+Feb_Williams!Y61+#REF!","v":{"$error":"#REF!"}},null,null,{"$error":"#REF!"},{"$error":"#REF!"},{"$error":"#REF!"},{"$error":"#REF!"}]
[56,"Union",{"$f":"#REF!+#REF!+#REF!+#REF!+#REF!+#REF!+#REF!+#REF!+#REF!+#REF!+#REF!+#REF!+#REF!+#REF!+#REF!+#REF!+#REF!+#REF!+#REF!+#REF!+#REF!+#REF!+#REF!+#REF!+#REF!+#REF!+#REF!+#REF!+#REF!+#REF!+#REF!+Feb_Williams!C62+#REF!+#REF!+#REF!","v":{"$error":"#REF!"}},{"$f":"#REF!+#REF!+#REF!+#REF!+#REF!+#REF!+#REF!+#REF!+#REF!+#REF!+#REF!+#REF!+#REF!+#REF!+#REF!+#REF!+#REF!+#REF!+#REF!+#REF!+#REF!+#REF!+#REF!+#REF!+#REF!+#REF!+#REF!+#REF!+#REF!+#REF!+#REF!+Feb_Williams!D62+#REF!+#REF!+#REF!","v":{"$error":"#REF!"}},{"$f":"#REF!+#REF!+#REF!+#REF!+#REF!+#REF!+#REF!+#REF!+#REF!+#REF!+#REF!+#REF!+#REF!+#REF!+#REF!+#REF!+#REF!+#REF!+#REF!+#REF!+#REF!+#REF!+#REF!+#REF!+#REF!+#REF!+#REF!+#REF!+#REF!+#REF!+#REF!+Feb_Williams!E62+#REF!+#REF!+#REF!","v":{"$error":"#REF!"}},{"$f":"#REF!*0.5","v":{"$error":"#REF!"}},{"$f":"#REF!+#REF!+#REF!+#REF!+#REF!+#REF!+#REF!+#REF!+#REF!+#REF!+#REF!+#REF!+#REF!+#REF!+#REF!+#REF!+#REF!+#REF!+#REF!+#REF!+#REF!+#REF!+#REF!+#REF!+#REF!+#REF!+#REF!+#REF!+#REF!+#REF!+#REF!+Feb_Williams!G62+#REF!","v":{"$error":"#REF!"}},{"$f":"#REF!+#REF!+#REF!+#REF!+#REF!+#REF!+#REF!+#REF!+#REF!+#REF!+#REF!+#REF!+#REF!+#REF!+#REF!+#REF!+#REF!+#REF!+#REF!+#REF!+#REF!+#REF!+#REF!+#REF!+#REF!+#REF!+#REF!+#REF!+#REF!+#REF!+#REF!+Feb_Williams!H62+#REF!+#REF!+#REF!","v":{"$error":"#REF!"}},{"$f":"#REF!+#REF!+#REF!+#REF!+#REF!+#REF!+#REF!+#REF!+#REF!+#REF!+#REF!+#REF!+#REF!+#REF!+#REF!+#REF!+#REF!+#REF!+#REF!+#REF!+#REF!+#REF!+#REF!+#REF!+#REF!+#REF!+#REF!+#REF!+#REF!+#REF!+#REF!+Feb_Williams!I62+#REF!+#REF!+#REF!","v":{"$error":"#REF!"}},{"$f":"#REF!+#REF!+#REF!+#REF!+#REF!+#REF!+#REF!+#REF!+#REF!+#REF!+#REF!+#REF!+#REF!+#REF!+#REF!+#REF!+#REF!+#REF!+#REF!+#REF!+#REF!+#REF!+#REF!+#REF!+#REF!+#REF!+#REF!+#REF!+#REF!+#REF!+#REF!+Feb_Williams!J62+#REF!+#REF!+#REF!","v":{"$error":"#REF!"}},{"$f":"#REF!*0.5","v":{"$error":"#REF!"}},{"$f":"#REF!+#REF!+#REF!+#REF!+#REF!+#REF!+#REF!+#REF!+#REF!+#REF!+#REF!+#REF!+#REF!+#REF!+#REF!+#REF!+#REF!+#REF!+#REF!+#REF!+#REF!+#REF!+#REF!+#REF!+#REF!+#REF!+#REF!+#REF!+#REF!+#REF!+#REF!+Feb_Williams!L62+#REF!","v":{"$error":"#REF!"}},null,null,{"$f":"#REF!+#REF!+#REF!+#REF!+#REF!+#REF!+#REF!+#REF!+#REF!+#REF!+#REF!+#REF!+#REF!+#REF!+#REF!+#REF!+#REF!+#REF!+#REF!+#REF!+#REF!+#REF!+#REF!+#REF!+#REF!+#REF!+#REF!+#REF!+#REF!+#REF!+#REF!+Feb_Williams!O62+#REF!","v":{"$error":"#REF!"}},{"$f":"#REF!*0.5","v":{"$error":"#REF!"}},{"$f":"#REF!+#REF!+#REF!+#REF!+#REF!+#REF!+#REF!+#REF!+#REF!+#REF!+#REF!+#REF!+#REF!+#REF!+#REF!+#REF!+#REF!+#REF!+#REF!+#REF!+#REF!+#REF!+#REF!+#REF!+#REF!+#REF!+#REF!+#REF!+#REF!+#REF!+#REF!+Feb_Williams!Q62+#REF!","v":{"$error":"#REF!"}},null,null,{"$f":"#REF!+#REF!+#REF!+#REF!+#REF!+#REF!+#REF!+#REF!+#REF!+#REF!+#REF!+#REF!+#REF!+#REF!+#REF!+#REF!+#REF!+#REF!+#REF!+#REF!+#REF!+#REF!+#REF!+#REF!+#REF!+#REF!+#REF!+#REF!+#REF!+#REF!+#REF!+Feb_Williams!T62+#REF!","v":{"$error":"#REF!"}},{"$f":"#REF!*0.5","v":{"$error":"#REF!"}},{"$f":"#REF!+#REF!+#REF!+#REF!+#REF!+#REF!+#REF!+#REF!+#REF!+#REF!+#REF!+#REF!+#REF!+#REF!+#REF!+#REF!+#REF!+#REF!+#REF!+#REF!+#REF!+#REF!+#REF!+#REF!+#REF!+#REF!+#REF!+#REF!+#REF!+#REF!+#REF!+Feb_Williams!V62+#REF!","v":{"$error":"#REF!"}},{"$f":"#REF!+#REF!+#REF!+#REF!+#REF!+#REF!+#REF!+#REF!+#REF!+#REF!+#REF!+#REF!+#REF!+#REF!+#REF!+#REF!+#REF!+#REF!+#REF!+#REF!+#REF!+#REF!+#REF!+#REF!+#REF!+#REF!+#REF!+#REF!+#REF!+#REF!+#REF!+Feb_Williams!W62+#REF!","v":{"$error":"#REF!"}},{"$f":"#REF!*0.5","v":{"$error":"#REF!"}},{"$f":"#REF!+#REF!+#REF!+#REF!+#REF!+#REF!+#REF!+#REF!+#REF!+#REF!+#REF!+#REF!+#REF!+#REF!+#REF!+#REF!+#REF!+#REF!+#REF!+#REF!+#REF!+#REF!+#REF!+#REF!+#REF!+#REF!+#REF!+#REF!+#REF!+#REF!+#REF!+Feb_Williams!Y62+#REF!","v":{"$error":"#REF!"}},null,null,{"$error":"#REF!"},{"$error":"#REF!"},{"$error":"#REF!"},{"$error":"#REF!"}]
[57,"Vermilion",{"$f":"#REF!+#REF!+#REF!+#REF!+#REF!+#REF!+#REF!+#REF!+#REF!+#REF!+#REF!+#REF!+#REF!+#REF!+#REF!+#REF!+#REF!+#REF!+#REF!+#REF!+#REF!+#REF!+#REF!+#REF!+#REF!+#REF!+#REF!+#REF!+#REF!+#REF!+#REF!+Feb_Williams!C63+#REF!+#REF!+#REF!","v":{"$error":"#REF!"}},{"$f":"#REF!+#REF!+#REF!+#REF!+#REF!+#REF!+#REF!+#REF!+#REF!+#REF!+#REF!+#REF!+#REF!+#REF!+#REF!+#REF!+#REF!+#REF!+#REF!+#REF!+#REF!+#REF!+#REF!+#REF!+#REF!+#REF!+#REF!+#REF!+#REF!+#REF!+#REF!+Feb_Williams!D63+#REF!+#REF!+#REF!","v":{"$error":"#REF!"}},{"$f":"#REF!+#REF!+#REF!+#REF!+#REF!+#REF!+#REF!+#REF!+#REF!+#REF!+#REF!+#REF!+#REF!+#REF!+#REF!+#REF!+#REF!+#REF!+#REF!+#REF!+#REF!+#REF!+#REF!+#REF!+#REF!+#REF!+#REF!+#REF!+#REF!+#REF!+#REF!+Feb_Williams!E63+#REF!+#REF!+#REF!","v":{"$error":"#REF!"}},{"$f":"#REF!*0.5","v":{"$error":"#REF!"}},{"$f":"#REF!+#REF!+#REF!+#REF!+#REF!+#REF!+#REF!+#REF!+#REF!+#REF!+#REF!+#REF!+#REF!+#REF!+#REF!+#REF!+#REF!+#REF!+#REF!+#REF!+#REF!+#REF!+#REF!+#REF!+#REF!+#REF!+#REF!+#REF!+#REF!+#REF!+#REF!+Feb_Williams!G63+#REF!","v":{"$error":"#REF!"}},{"$f":"#REF!+#REF!+#REF!+#REF!+#REF!+#REF!+#REF!+#REF!+#REF!+#REF!+#REF!+#REF!+#REF!+#REF!+#REF!+#REF!+#REF!+#REF!+#REF!+#REF!+#REF!+#REF!+#REF!+#REF!+#REF!+#REF!+#REF!+#REF!+#REF!+#REF!+#REF!+Feb_Williams!H63+#REF!+#REF!+#REF!","v":{"$error":"#REF!"}},{"$f":"#REF!+#REF!+#REF!+#REF!+#REF!+#REF!+#REF!+#REF!+#REF!+#REF!+#REF!+#REF!+#REF!+#REF!+#REF!+#REF!+#REF!+#REF!+#REF!+#REF!+#REF!+#REF!+#REF!+#REF!+#REF!+#REF!+#REF!+#REF!+#REF!+#REF!+#REF!+Feb_Williams!I63+#REF!+#REF!+#REF!","v":{"$error":"#REF!"}},{"$f":"#REF!+#REF!+#REF!+#REF!+#REF!+#REF!+#REF!+#REF!+#REF!+#REF!+#REF!+#REF!+#REF!+#REF!+#REF!+#REF!+#REF!+#REF!+#REF!+#REF!+#REF!+#REF!+#REF!+#REF!+#REF!+#REF!+#REF!+#REF!+#REF!+#REF!+#REF!+Feb_Williams!J63+#REF!+#REF!+#REF!","v":{"$error":"#REF!"}},{"$f":"#REF!*0.5","v":{"$error":"#REF!"}},{"$f":"#REF!+#REF!+#REF!+#REF!+#REF!+#REF!+#REF!+#REF!+#REF!+#REF!+#REF!+#REF!+#REF!+#REF!+#REF!+#REF!+#REF!+#REF!+#REF!+#REF!+#REF!+#REF!+#REF!+#REF!+#REF!+#REF!+#REF!+#REF!+#REF!+#REF!+#REF!+Feb_Williams!L63+#REF!","v":{"$error":"#REF!"}},null,null,{"$f":"#REF!+#REF!+#REF!+#REF!+#REF!+#REF!+#REF!+#REF!+#REF!+#REF!+#REF!+#REF!+#REF!+#REF!+#REF!+#REF!+#REF!+#REF!+#REF!+#REF!+#REF!+#REF!+#REF!+#REF!+#REF!+#REF!+#REF!+#REF!+#REF!+#REF!+#REF!+Feb_Williams!O63+#REF!","v":{"$error":"#REF!"}},{"$f":"#REF!*0.5","v":{"$error":"#REF!"}},{"$f":"#REF!+#REF!+#REF!+#REF!+#REF!+#REF!+#REF!+#REF!+#REF!+#REF!+#REF!+#REF!+#REF!+#REF!+#REF!+#REF!+#REF!+#REF!+#REF!+#REF!+#REF!+#REF!+#REF!+#REF!+#REF!+#REF!+#REF!+#REF!+#REF!+#REF!+#REF!+Feb_Williams!Q63+#REF!","v":{"$error":"#REF!"}},null,null,{"$f":"#REF!+#REF!+#REF!+#REF!+#REF!+#REF!+#REF!+#REF!+#REF!+#REF!+#REF!+#REF!+#REF!+#REF!+#REF!+#REF!+#REF!+#REF!+#REF!+#REF!+#REF!+#REF!+#REF!+#REF!+#REF!+#REF!+#REF!+#REF!+#REF!+#REF!+#REF!+Feb_Williams!T63+#REF!","v":{"$error":"#REF!"}},{"$f":"#REF!*0.5","v":{"$error":"#REF!"}},{"$f":"#REF!+#REF!+#REF!+#REF!+#REF!+#REF!+#REF!+#REF!+#REF!+#REF!+#REF!+#REF!+#REF!+#REF!+#REF!+#REF!+#REF!+#REF!+#REF!+#REF!+#REF!+#REF!+#REF!+#REF!+#REF!+#REF!+#REF!+#REF!+#REF!+#REF!+#REF!+Feb_Williams!V63+#REF!","v":{"$error":"#REF!"}},{"$f":"#REF!+#REF!+#REF!+#REF!+#REF!+#REF!+#REF!+#REF!+#REF!+#REF!+#REF!+#REF!+#REF!+#REF!+#REF!+#REF!+#REF!+#REF!+#REF!+#REF!+#REF!+#REF!+#REF!+#REF!+#REF!+#REF!+#REF!+#REF!+#REF!+#REF!+#REF!+Feb_Williams!W63+#REF!","v":{"$error":"#REF!"}},{"$f":"#REF!*0.5","v":{"$error":"#REF!"}},{"$f":"#REF!+#REF!+#REF!+#REF!+#REF!+#REF!+#REF!+#REF!+#REF!+#REF!+#REF!+#REF!+#REF!+#REF!+#REF!+#REF!+#REF!+#REF!+#REF!+#REF!+#REF!+#REF!+#REF!+#REF!+#REF!+#REF!+#REF!+#REF!+#REF!+#REF!+#REF!+Feb_Williams!Y63+#REF!","v":{"$error":"#REF!"}},null,null,{"$error":"#REF!"},{"$error":"#REF!"},{"$error":"#REF!"},{"$error":"#REF!"}]
[58,"Vernon",{"$f":"#REF!+#REF!+#REF!+#REF!+#REF!+#REF!+#REF!+#REF!+#REF!+#REF!+#REF!+#REF!+#REF!+#REF!+#REF!+#REF!+#REF!+#REF!+#REF!+#REF!+#REF!+#REF!+#REF!+#REF!+#REF!+#REF!+#REF!+#REF!+#REF!+#REF!+#REF!+Feb_Williams!C64+#REF!+#REF!+#REF!","v":{"$error":"#REF!"}},{"$f":"#REF!+#REF!+#REF!+#REF!+#REF!+#REF!+#REF!+#REF!+#REF!+#REF!+#REF!+#REF!+#REF!+#REF!+#REF!+#REF!+#REF!+#REF!+#REF!+#REF!+#REF!+#REF!+#REF!+#REF!+#REF!+#REF!+#REF!+#REF!+#REF!+#REF!+#REF!+Feb_Williams!D64+#REF!+#REF!+#REF!","v":{"$error":"#REF!"}},{"$f":"#REF!+#REF!+#REF!+#REF!+#REF!+#REF!+#REF!+#REF!+#REF!+#REF!+#REF!+#REF!+#REF!+#REF!+#REF!+#REF!+#REF!+#REF!+#REF!+#REF!+#REF!+#REF!+#REF!+#REF!+#REF!+#REF!+#REF!+#REF!+#REF!+#REF!+#REF!+Feb_Williams!E64+#REF!+#REF!+#REF!","v":{"$error":"#REF!"}},{"$f":"#REF!*0.5","v":{"$error":"#REF!"}},{"$f":"#REF!+#REF!+#REF!+#REF!+#REF!+#REF!+#REF!+#REF!+#REF!+#REF!+#REF!+#REF!+#REF!+#REF!+#REF!+#REF!+#REF!+#REF!+#REF!+#REF!+#REF!+#REF!+#REF!+#REF!+#REF!+#REF!+#REF!+#REF!+#REF!+#REF!+#REF!+Feb_Williams!G64+#REF!","v":{"$error":"#REF!"}},{"$f":"#REF!+#REF!+#REF!+#REF!+#REF!+#REF!+#REF!+#REF!+#REF!+#REF!+#REF!+#REF!+#REF!+#REF!+#REF!+#REF!+#REF!+#REF!+#REF!+#REF!+#REF!+#REF!+#REF!+#REF!+#REF!+#REF!+#REF!+#REF!+#REF!+#REF!+#REF!+Feb_Williams!H64+#REF!+#REF!+#REF!","v":{"$error":"#REF!"}},{"$f":"#REF!+#REF!+#REF!+#REF!+#REF!+#REF!+#REF!+#REF!+#REF!+#REF!+#REF!+#REF!+#REF!+#REF!+#REF!+#REF!+#REF!+#REF!+#REF!+#REF!+#REF!+#REF!+#REF!+#REF!+#REF!+#REF!+#REF!+#REF!+#REF!+#REF!+#REF!+Feb_Williams!I64+#REF!+#REF!+#REF!","v":{"$error":"#REF!"}},{"$f":"#REF!+#REF!+#REF!+#REF!+#REF!+#REF!+#REF!+#REF!+#REF!+#REF!+#REF!+#REF!+#REF!+#REF!+#REF!+#REF!+#REF!+#REF!+#REF!+#REF!+#REF!+#REF!+#REF!+#REF!+#REF!+#REF!+#REF!+#REF!+#REF!+#REF!+#REF!+Feb_Williams!J64+#REF!+#REF!+#REF!","v":{"$error":"#REF!"}},{"$f":"#REF!*0.5","v":{"$error":"#REF!"}},{"$f":"#REF!+#REF!+#REF!+#REF!+#REF!+#REF!+#REF!+#REF!+#REF!+#REF!+#REF!+#REF!+#REF!+#REF!+#REF!+#REF!+#REF!+#REF!+#REF!+#REF!+#REF!+#REF!+#REF!+#REF!+#REF!+#REF!+#REF!+#REF!+#REF!+#REF!+#REF!+Feb_Williams!L64+#REF!","v":{"$error":"#REF!"}},null,null,{"$f":"#REF!+#REF!+#REF!+#REF!+#REF!+#REF!+#REF!+#REF!+#REF!+#REF!+#REF!+#REF!+#REF!+#REF!+#REF!+#REF!+#REF!+#REF!+#REF!+#REF!+#REF!+#REF!+#REF!+#REF!+#REF!+#REF!+#REF!+#REF!+#REF!+#REF!+#REF!+Feb_Williams!O64+#REF!","v":{"$error":"#REF!"}},{"$f":"#REF!*0.5","v":{"$error":"#REF!"}},{"$f":"#REF!+#REF!+#REF!+#REF!+#REF!+#REF!+#REF!+#REF!+#REF!+#REF!+#REF!+#REF!+#REF!+#REF!+#REF!+#REF!+#REF!+#REF!+#REF!+#REF!+#REF!+#REF!+#REF!+#REF!+#REF!+#REF!+#REF!+#REF!+#REF!+#REF!+#REF!+Feb_Williams!Q64+#REF!","v":{"$error":"#REF!"}},null,null,{"$f":"#REF!+#REF!+#REF!+#REF!+#REF!+#REF!+#REF!+#REF!+#REF!+#REF!+#REF!+#REF!+#REF!+#REF!+#REF!+#REF!+#REF!+#REF!+#REF!+#REF!+#REF!+#REF!+#REF!+#REF!+#REF!+#REF!+#REF!+#REF!+#REF!+#REF!+#REF!+Feb_Williams!T64+#REF!","v":{"$error":"#REF!"}},{"$f":"#REF!*0.5","v":{"$error":"#REF!"}},{"$f":"#REF!+#REF!+#REF!+#REF!+#REF!+#REF!+#REF!+#REF!+#REF!+#REF!+#REF!+#REF!+#REF!+#REF!+#REF!+#REF!+#REF!+#REF!+#REF!+#REF!+#REF!+#REF!+#REF!+#REF!+#REF!+#REF!+#REF!+#REF!+#REF!+#REF!+#REF!+Feb_Williams!V64+#REF!","v":{"$error":"#REF!"}},{"$f":"#REF!+#REF!+#REF!+#REF!+#REF!+#REF!+#REF!+#REF!+#REF!+#REF!+#REF!+#REF!+#REF!+#REF!+#REF!+#REF!+#REF!+#REF!+#REF!+#REF!+#REF!+#REF!+#REF!+#REF!+#REF!+#REF!+#REF!+#REF!+#REF!+#REF!+#REF!+Feb_Williams!W64+#REF!","v":{"$error":"#REF!"}},{"$f":"#REF!*0.5","v":{"$error":"#REF!"}},{"$f":"#REF!+#REF!+#REF!+#REF!+#REF!+#REF!+#REF!+#REF!+#REF!+#REF!+#REF!+#REF!+#REF!+#REF!+#REF!+#REF!+#REF!+#REF!+#REF!+#REF!+#REF!+#REF!+#REF!+#REF!+#REF!+#REF!+#REF!+#REF!+#REF!+#REF!+#REF!+Feb_Williams!Y64+#REF!","v":{"$error":"#REF!"}},null,null,{"$error":"#REF!"},{"$error":"#REF!"},{"$error":"#REF!"},{"$error":"#REF!"}]
[59,"Washington",{"$f":"#REF!+#REF!+#REF!+#REF!+#REF!+#REF!+#REF!+#REF!+#REF!+#REF!+#REF!+#REF!+#REF!+#REF!+#REF!+#REF!+#REF!+#REF!+#REF!+#REF!+#REF!+#REF!+#REF!+#REF!+#REF!+#REF!+#REF!+#REF!+#REF!+#REF!+#REF!+Feb_Williams!C65+#REF!+#REF!+#REF!","v":{"$error":"#REF!"}},{"$f":"#REF!+#REF!+#REF!+#REF!+#REF!+#REF!+#REF!+#REF!+#REF!+#REF!+#REF!+#REF!+#REF!+#REF!+#REF!+#REF!+#REF!+#REF!+#REF!+#REF!+#REF!+#REF!+#REF!+#REF!+#REF!+#REF!+#REF!+#REF!+#REF!+#REF!+#REF!+Feb_Williams!D65+#REF!+#REF!+#REF!","v":{"$error":"#REF!"}},{"$f":"#REF!+#REF!+#REF!+#REF!+#REF!+#REF!+#REF!+#REF!+#REF!+#REF!+#REF!+#REF!+#REF!+#REF!+#REF!+#REF!+#REF!+#REF!+#REF!+#REF!+#REF!+#REF!+#REF!+#REF!+#REF!+#REF!+#REF!+#REF!+#REF!+#REF!+#REF!+Feb_Williams!E65+#REF!+#REF!+#REF!","v":{"$error":"#REF!"}},{"$f":"#REF!*0.5","v":{"$error":"#REF!"}},{"$f":"#REF!+#REF!+#REF!+#REF!+#REF!+#REF!+#REF!+#REF!+#REF!+#REF!+#REF!+#REF!+#REF!+#REF!+#REF!+#REF!+#REF!+#REF!+#REF!+#REF!+#REF!+#REF!+#REF!+#REF!+#REF!+#REF!+#REF!+#REF!+#REF!+#REF!+#REF!+Feb_Williams!G65+#REF!","v":{"$error":"#REF!"}},{"$f":"#REF!+#REF!+#REF!+#REF!+#REF!+#REF!+#REF!+#REF!+#REF!+#REF!+#REF!+#REF!+#REF!+#REF!+#REF!+#REF!+#REF!+#REF!+#REF!+#REF!+#REF!+#REF!+#REF!+#REF!+#REF!+#REF!+#REF!+#REF!+#REF!+#REF!+#REF!+Feb_Williams!H65+#REF!+#REF!+#REF!","v":{"$error":"#REF!"}},{"$f":"#REF!+#REF!+#REF!+#REF!+#REF!+#REF!+#REF!+#REF!+#REF!+#REF!+#REF!+#REF!+#REF!+#REF!+#REF!+#REF!+#REF!+#REF!+#REF!+#REF!+#REF!+#REF!+#REF!+#REF!+#REF!+#REF!+#REF!+#REF!+#REF!+#REF!+#REF!+Feb_Williams!I65+#REF!+#REF!+#REF!","v":{"$error":"#REF!"}},{"$f":"#REF!+#REF!+#REF!+#REF!+#REF!+#REF!+#REF!+#REF!+#REF!+#REF!+#REF!+#REF!+#REF!+#REF!+#REF!+#REF!+#REF!+#REF!+#REF!+#REF!+#REF!+#REF!+#REF!+#REF!+#REF!+#REF!+#REF!+#REF!+#REF!+#REF!+#REF!+Feb_Williams!J65+#REF!+#REF!+#REF!","v":{"$error":"#REF!"}},{"$f":"#REF!*0.5","v":{"$error":"#REF!"}},{"$f":"#REF!+#REF!+#REF!+#REF!+#REF!+#REF!+#REF!+#REF!+#REF!+#REF!+#REF!+#REF!+#REF!+#REF!+#REF!+#REF!+#REF!+#REF!+#REF!+#REF!+#REF!+#REF!+#REF!+#REF!+#REF!+#REF!+#REF!+#REF!+#REF!+#REF!+#REF!+Feb_Williams!L65+#REF!","v":{"$error":"#REF!"}},null,null,{"$f":"#REF!+#REF!+#REF!+#REF!+#REF!+#REF!+#REF!+#REF!+#REF!+#REF!+#REF!+#REF!+#REF!+#REF!+#REF!+#REF!+#REF!+#REF!+#REF!+#REF!+#REF!+#REF!+#REF!+#REF!+#REF!+#REF!+#REF!+#REF!+#REF!+#REF!+#REF!+Feb_Williams!O65+#REF!","v":{"$error":"#REF!"}},{"$f":"#REF!*0.5","v":{"$error":"#REF!"}},{"$f":"#REF!+#REF!+#REF!+#REF!+#REF!+#REF!+#REF!+#REF!+#REF!+#REF!+#REF!+#REF!+#REF!+#REF!+#REF!+#REF!+#REF!+#REF!+#REF!+#REF!+#REF!+#REF!+#REF!+#REF!+#REF!+#REF!+#REF!+#REF!+#REF!+#REF!+#REF!+Feb_Williams!Q65+#REF!","v":{"$error":"#REF!"}},null,null,{"$f":"#REF!+#REF!+#REF!+#REF!+#REF!+#REF!+#REF!+#REF!+#REF!+#REF!+#REF!+#REF!+#REF!+#REF!+#REF!+#REF!+#REF!+#REF!+#REF!+#REF!+#REF!+#REF!+#REF!+#REF!+#REF!+#REF!+#REF!+#REF!+#REF!+#REF!+#REF!+Feb_Williams!T65+#REF!","v":{"$error":"#REF!"}},{"$f":"#REF!*0.5","v":{"$error":"#REF!"}},{"$f":"#REF!+#REF!+#REF!+#REF!+#REF!+#REF!+#REF!+#REF!+#REF!+#REF!+#REF!+#REF!+#REF!+#REF!+#REF!+#REF!+#REF!+#REF!+#REF!+#REF!+#REF!+#REF!+#REF!+#REF!+#REF!+#REF!+#REF!+#REF!+#REF!+#REF!+#REF!+Feb_Williams!V65+#REF!","v":{"$error":"#REF!"}},{"$f":"#REF!+#REF!+#REF!+#REF!+#REF!+#REF!+#REF!+#REF!+#REF!+#REF!+#REF!+#REF!+#REF!+#REF!+#REF!+#REF!+#REF!+#REF!+#REF!+#REF!+#REF!+#REF!+#REF!+#REF!+#REF!+#REF!+#REF!+#REF!+#REF!+#REF!+#REF!+Feb_Williams!W65+#REF!","v":{"$error":"#REF!"}},{"$f":"#REF!*0.5","v":{"$error":"#REF!"}},{"$f":"#REF!+#REF!+#REF!+#REF!+#REF!+#REF!+#REF!+#REF!+#REF!+#REF!+#REF!+#REF!+#REF!+#REF!+#REF!+#REF!+#REF!+#REF!+#REF!+#REF!+#REF!+#REF!+#REF!+#REF!+#REF!+#REF!+#REF!+#REF!+#REF!+#REF!+#REF!+Feb_Williams!Y65+#REF!","v":{"$error":"#REF!"}},null,null,{"$error":"#REF!"},{"$error":"#REF!"},{"$error":"#REF!"},{"$error":"#REF!"}]
[60,"Webster",{"$f":"#REF!+#REF!+#REF!+#REF!+#REF!+#REF!+#REF!+#REF!+#REF!+#REF!+#REF!+#REF!+#REF!+#REF!+#REF!+#REF!+#REF!+#REF!+#REF!+#REF!+#REF!+#REF!+#REF!+#REF!+#REF!+#REF!+#REF!+#REF!+#REF!+#REF!+#REF!+Feb_Williams!C66+#REF!+#REF!+#REF!","v":{"$error":"#REF!"}},{"$f":"#REF!+#REF!+#REF!+#REF!+#REF!+#REF!+#REF!+#REF!+#REF!+#REF!+#REF!+#REF!+#REF!+#REF!+#REF!+#REF!+#REF!+#REF!+#REF!+#REF!+#REF!+#REF!+#REF!+#REF!+#REF!+#REF!+#REF!+#REF!+#REF!+#REF!+#REF!+Feb_Williams!D66+#REF!+#REF!+#REF!","v":{"$error":"#REF!"}},{"$f":"#REF!+#REF!+#REF!+#REF!+#REF!+#REF!+#REF!+#REF!+#REF!+#REF!+#REF!+#REF!+#REF!+#REF!+#REF!+#REF!+#REF!+#REF!+#REF!+#REF!+#REF!+#REF!+#REF!+#REF!+#REF!+#REF!+#REF!+#REF!+#REF!+#REF!+#REF!+Feb_Williams!E66+#REF!+#REF!+#REF!","v":{"$error":"#REF!"}},{"$f":"#REF!*0.5","v":{"$error":"#REF!"}},{"$f":"#REF!+#REF!+#REF!+#REF!+#REF!+#REF!+#REF!+#REF!+#REF!+#REF!+#REF!+#REF!+#REF!+#REF!+#REF!+#REF!+#REF!+#REF!+#REF!+#REF!+#REF!+#REF!+#REF!+#REF!+#REF!+#REF!+#REF!+#REF!+#REF!+#REF!+#REF!+Feb_Williams!G66+#REF!","v":{"$error":"#REF!"}},{"$f":"#REF!+#REF!+#REF!+#REF!+#REF!+#REF!+#REF!+#REF!+#REF!+#REF!+#REF!+#REF!+#REF!+#REF!+#REF!+#REF!+#REF!+#REF!+#REF!+#REF!+#REF!+#REF!+#REF!+#REF!+#REF!+#REF!+#REF!+#REF!+#REF!+#REF!+#REF!+Feb_Williams!H66+#REF!+#REF!+#REF!","v":{"$error":"#REF!"}},{"$f":"#REF!+#REF!+#REF!+#REF!+#REF!+#REF!+#REF!+#REF!+#REF!+#REF!+#REF!+#REF!+#REF!+#REF!+#REF!+#REF!+#REF!+#REF!+#REF!+#REF!+#REF!+#REF!+#REF!+#REF!+#REF!+#REF!+#REF!+#REF!+#REF!+#REF!+#REF!+Feb_Williams!I66+#REF!+#REF!+#REF!","v":{"$error":"#REF!"}},{"$f":"#REF!+#REF!+#REF!+#REF!+#REF!+#REF!+#REF!+#REF!+#REF!+#REF!+#REF!+#REF!+#REF!+#REF!+#REF!+#REF!+#REF!+#REF!+#REF!+#REF!+#REF!+#REF!+#REF!+#REF!+#REF!+#REF!+#REF!+#REF!+#REF!+#REF!+#REF!+Feb_Williams!J66+#REF!+#REF!+#REF!","v":{"$error":"#REF!"}},{"$f":"#REF!*0.5","v":{"$error":"#REF!"}},{"$f":"#REF!+#REF!+#REF!+#REF!+#REF!+#REF!+#REF!+#REF!+#REF!+#REF!+#REF!+#REF!+#REF!+#REF!+#REF!+#REF!+#REF!+#REF!+#REF!+#REF!+#REF!+#REF!+#REF!+#REF!+#REF!+#REF!+#REF!+#REF!+#REF!+#REF!+#REF!+Feb_Williams!L66+#REF!","v":{"$error":"#REF!"}},null,null,{"$f":"#REF!+#REF!+#REF!+#REF!+#REF!+#REF!+#REF!+#REF!+#REF!+#REF!+#REF!+#REF!+#REF!+#REF!+#REF!+#REF!+#REF!+#REF!+#REF!+#REF!+#REF!+#REF!+#REF!+#REF!+#REF!+#REF!+#REF!+#REF!+#REF!+#REF!+#REF!+Feb_Williams!O66+#REF!","v":{"$error":"#REF!"}},{"$f":"#REF!*0.5","v":{"$error":"#REF!"}},{"$f":"#REF!+#REF!+#REF!+#REF!+#REF!+#REF!+#REF!+#REF!+#REF!+#REF!+#REF!+#REF!+#REF!+#REF!+#REF!+#REF!+#REF!+#REF!+#REF!+#REF!+#REF!+#REF!+#REF!+#REF!+#REF!+#REF!+#REF!+#REF!+#REF!+#REF!+#REF!+Feb_Williams!Q66+#REF!","v":{"$error":"#REF!"}},null,null,{"$f":"#REF!+#REF!+#REF!+#REF!+#REF!+#REF!+#REF!+#REF!+#REF!+#REF!+#REF!+#REF!+#REF!+#REF!+#REF!+#REF!+#REF!+#REF!+#REF!+#REF!+#REF!+#REF!+#REF!+#REF!+#REF!+#REF!+#REF!+#REF!+#REF!+#REF!+#REF!+Feb_Williams!T66+#REF!","v":{"$error":"#REF!"}},{"$f":"#REF!*0.5","v":{"$error":"#REF!"}},{"$f":"#REF!+#REF!+#REF!+#REF!+#REF!+#REF!+#REF!+#REF!+#REF!+#REF!+#REF!+#REF!+#REF!+#REF!+#REF!+#REF!+#REF!+#REF!+#REF!+#REF!+#REF!+#REF!+#REF!+#REF!+#REF!+#REF!+#REF!+#REF!+#REF!+#REF!+#REF!+Feb_Williams!V66+#REF!","v":{"$error":"#REF!"}},{"$f":"#REF!+#REF!+#REF!+#REF!+#REF!+#REF!+#REF!+#REF!+#REF!+#REF!+#REF!+#REF!+#REF!+#REF!+#REF!+#REF!+#REF!+#REF!+#REF!+#REF!+#REF!+#REF!+#REF!+#REF!+#REF!+#REF!+#REF!+#REF!+#REF!+#REF!+#REF!+Feb_Williams!W66+#REF!","v":{"$error":"#REF!"}},{"$f":"#REF!*0.5","v":{"$error":"#REF!"}},{"$f":"#REF!+#REF!+#REF!+#REF!+#REF!+#REF!+#REF!+#REF!+#REF!+#REF!+#REF!+#REF!+#REF!+#REF!+#REF!+#REF!+#REF!+#REF!+#REF!+#REF!+#REF!+#REF!+#REF!+#REF!+#REF!+#REF!+#REF!+#REF!+#REF!+#REF!+#REF!+Feb_Williams!Y66+#REF!","v":{"$error":"#REF!"}},null,null,{"$error":"#REF!"},{"$error":"#REF!"},{"$error":"#REF!"},{"$error":"#REF!"}]
[61,"West Baton Rouge",{"$f":"#REF!+#REF!+#REF!+#REF!+#REF!+#REF!+#REF!+#REF!+#REF!+#REF!+#REF!+#REF!+#REF!+#REF!+#REF!+#REF!+#REF!+#REF!+#REF!+#REF!+#REF!+#REF!+#REF!+#REF!+#REF!+#REF!+#REF!+#REF!+#REF!+#REF!+#REF!+Feb_Williams!C67+#REF!+#REF!+#REF!","v":{"$error":"#REF!"}},{"$f":"#REF!+#REF!+#REF!+#REF!+#REF!+#REF!+#REF!+#REF!+#REF!+#REF!+#REF!+#REF!+#REF!+#REF!+#REF!+#REF!+#REF!+#REF!+#REF!+#REF!+#REF!+#REF!+#REF!+#REF!+#REF!+#REF!+#REF!+#REF!+#REF!+#REF!+#REF!+Feb_Williams!D67+#REF!+#REF!+#REF!","v":{"$error":"#REF!"}},{"$f":"#REF!+#REF!+#REF!+#REF!+#REF!+#REF!+#REF!+#REF!+#REF!+#REF!+#REF!+#REF!+#REF!+#REF!+#REF!+#REF!+#REF!+#REF!+#REF!+#REF!+#REF!+#REF!+#REF!+#REF!+#REF!+#REF!+#REF!+#REF!+#REF!+#REF!+#REF!+Feb_Williams!E67+#REF!+#REF!+#REF!","v":{"$error":"#REF!"}},{"$f":"#REF!*0.5","v":{"$error":"#REF!"}},{"$f":"#REF!+#REF!+#REF!+#REF!+#REF!+#REF!+#REF!+#REF!+#REF!+#REF!+#REF!+#REF!+#REF!+#REF!+#REF!+#REF!+#REF!+#REF!+#REF!+#REF!+#REF!+#REF!+#REF!+#REF!+#REF!+#REF!+#REF!+#REF!+#REF!+#REF!+#REF!+Feb_Williams!G67+#REF!","v":{"$error":"#REF!"}},{"$f":"#REF!+#REF!+#REF!+#REF!+#REF!+#REF!+#REF!+#REF!+#REF!+#REF!+#REF!+#REF!+#REF!+#REF!+#REF!+#REF!+#REF!+#REF!+#REF!+#REF!+#REF!+#REF!+#REF!+#REF!+#REF!+#REF!+#REF!+#REF!+#REF!+#REF!+#REF!+Feb_Williams!H67+#REF!+#REF!+#REF!","v":{"$error":"#REF!"}},{"$f":"#REF!+#REF!+#REF!+#REF!+#REF!+#REF!+#REF!+#REF!+#REF!+#REF!+#REF!+#REF!+#REF!+#REF!+#REF!+#REF!+#REF!+#REF!+#REF!+#REF!+#REF!+#REF!+#REF!+#REF!+#REF!+#REF!+#REF!+#REF!+#REF!+#REF!+#REF!+Feb_Williams!I67+#REF!+#REF!+#REF!","v":{"$error":"#REF!"}},{"$f":"#REF!+#REF!+#REF!+#REF!+#REF!+#REF!+#REF!+#REF!+#REF!+#REF!+#REF!+#REF!+#REF!+#REF!+#REF!+#REF!+#REF!+#REF!+#REF!+#REF!+#REF!+#REF!+#REF!+#REF!+#REF!+#REF!+#REF!+#REF!+#REF!+#REF!+#REF!+Feb_Williams!J67+#REF!+#REF!+#REF!","v":{"$error":"#REF!"}},{"$f":"#REF!*0.5","v":{"$error":"#REF!"}},{"$f":"#REF!+#REF!+#REF!+#REF!+#REF!+#REF!+#REF!+#REF!+#REF!+#REF!+#REF!+#REF!+#REF!+#REF!+#REF!+#REF!+#REF!+#REF!+#REF!+#REF!+#REF!+#REF!+#REF!+#REF!+#REF!+#REF!+#REF!+#REF!+#REF!+#REF!+#REF!+Feb_Williams!L67+#REF!","v":{"$error":"#REF!"}},null,null,{"$f":"#REF!+#REF!+#REF!+#REF!+#REF!+#REF!+#REF!+#REF!+#REF!+#REF!+#REF!+#REF!+#REF!+#REF!+#REF!+#REF!+#REF!+#REF!+#REF!+#REF!+#REF!+#REF!+#REF!+#REF!+#REF!+#REF!+#REF!+#REF!+#REF!+#REF!+#REF!+Feb_Williams!O67+#REF!","v":{"$error":"#REF!"}},{"$f":"#REF!*0.5","v":{"$error":"#REF!"}},{"$f":"#REF!+#REF!+#REF!+#REF!+#REF!+#REF!+#REF!+#REF!+#REF!+#REF!+#REF!+#REF!+#REF!+#REF!+#REF!+#REF!+#REF!+#REF!+#REF!+#REF!+#REF!+#REF!+#REF!+#REF!+#REF!+#REF!+#REF!+#REF!+#REF!+#REF!+#REF!+Feb_Williams!Q67+#REF!","v":{"$error":"#REF!"}},null,null,{"$f":"#REF!+#REF!+#REF!+#REF!+#REF!+#REF!+#REF!+#REF!+#REF!+#REF!+#REF!+#REF!+#REF!+#REF!+#REF!+#REF!+#REF!+#REF!+#REF!+#REF!+#REF!+#REF!+#REF!+#REF!+#REF!+#REF!+#REF!+#REF!+#REF!+#REF!+#REF!+Feb_Williams!T67+#REF!","v":{"$error":"#REF!"}},{"$f":"#REF!*0.5","v":{"$error":"#REF!"}},{"$f":"#REF!+#REF!+#REF!+#REF!+#REF!+#REF!+#REF!+#REF!+#REF!+#REF!+#REF!+#REF!+#REF!+#REF!+#REF!+#REF!+#REF!+#REF!+#REF!+#REF!+#REF!+#REF!+#REF!+#REF!+#REF!+#REF!+#REF!+#REF!+#REF!+#REF!+#REF!+Feb_Williams!V67+#REF!","v":{"$error":"#REF!"}},{"$f":"#REF!+#REF!+#REF!+#REF!+#REF!+#REF!+#REF!+#REF!+#REF!+#REF!+#REF!+#REF!+#REF!+#REF!+#REF!+#REF!+#REF!+#REF!+#REF!+#REF!+#REF!+#REF!+#REF!+#REF!+#REF!+#REF!+#REF!+#REF!+#REF!+#REF!+#REF!+Feb_Williams!W67+#REF!","v":{"$error":"#REF!"}},{"$f":"#REF!*0.5","v":{"$error":"#REF!"}},{"$f":"#REF!+#REF!+#REF!+#REF!+#REF!+#REF!+#REF!+#REF!+#REF!+#REF!+#REF!+#REF!+#REF!+#REF!+#REF!+#REF!+#REF!+#REF!+#REF!+#REF!+#REF!+#REF!+#REF!+#REF!+#REF!+#REF!+#REF!+#REF!+#REF!+#REF!+#REF!+Feb_Williams!Y67+#REF!","v":{"$error":"#REF!"}},null,null,{"$error":"#REF!"},{"$error":"#REF!"},{"$error":"#REF!"},{"$error":"#REF!"}]
[62,"West Carroll",{"$f":"#REF!+#REF!+#REF!+#REF!+#REF!+#REF!+#REF!+#REF!+#REF!+#REF!+#REF!+#REF!+#REF!+#REF!+#REF!+#REF!+#REF!+#REF!+#REF!+#REF!+#REF!+#REF!+#REF!+#REF!+#REF!+#REF!+#REF!+#REF!+#REF!+#REF!+#REF!+Feb_Williams!C68+#REF!+#REF!+#REF!","v":{"$error":"#REF!"}},{"$f":"#REF!+#REF!+#REF!+#REF!+#REF!+#REF!+#REF!+#REF!+#REF!+#REF!+#REF!+#REF!+#REF!+#REF!+#REF!+#REF!+#REF!+#REF!+#REF!+#REF!+#REF!+#REF!+#REF!+#REF!+#REF!+#REF!+#REF!+#REF!+#REF!+#REF!+#REF!+Feb_Williams!D68+#REF!+#REF!+#REF!","v":{"$error":"#REF!"}},{"$f":"#REF!+#REF!+#REF!+#REF!+#REF!+#REF!+#REF!+#REF!+#REF!+#REF!+#REF!+#REF!+#REF!+#REF!+#REF!+#REF!+#REF!+#REF!+#REF!+#REF!+#REF!+#REF!+#REF!+#REF!+#REF!+#REF!+#REF!+#REF!+#REF!+#REF!+#REF!+Feb_Williams!E68+#REF!+#REF!+#REF!","v":{"$error":"#REF!"}},{"$f":"#REF!*0.5","v":{"$error":"#REF!"}},{"$f":"#REF!+#REF!+#REF!+#REF!+#REF!+#REF!+#REF!+#REF!+#REF!+#REF!+#REF!+#REF!+#REF!+#REF!+#REF!+#REF!+#REF!+#REF!+#REF!+#REF!+#REF!+#REF!+#REF!+#REF!+#REF!+#REF!+#REF!+#REF!+#REF!+#REF!+#REF!+Feb_Williams!G68+#REF!","v":{"$error":"#REF!"}},{"$f":"#REF!+#REF!+#REF!+#REF!+#REF!+#REF!+#REF!+#REF!+#REF!+#REF!+#REF!+#REF!+#REF!+#REF!+#REF!+#REF!+#REF!+#REF!+#REF!+#REF!+#REF!+#REF!+#REF!+#REF!+#REF!+#REF!+#REF!+#REF!+#REF!+#REF!+#REF!+Feb_Williams!H68+#REF!+#REF!+#REF!","v":{"$error":"#REF!"}},{"$f":"#REF!+#REF!+#REF!+#REF!+#REF!+#REF!+#REF!+#REF!+#REF!+#REF!+#REF!+#REF!+#REF!+#REF!+#REF!+#REF!+#REF!+#REF!+#REF!+#REF!+#REF!+#REF!+#REF!+#REF!+#REF!+#REF!+#REF!+#REF!+#REF!+#REF!+#REF!+Feb_Williams!I68+#REF!+#REF!+#REF!","v":{"$error":"#REF!"}},{"$f":"#REF!+#REF!+#REF!+#REF!+#REF!+#REF!+#REF!+#REF!+#REF!+#REF!+#REF!+#REF!+#REF!+#REF!+#REF!+#REF!+#REF!+#REF!+#REF!+#REF!+#REF!+#REF!+#REF!+#REF!+#REF!+#REF!+#REF!+#REF!+#REF!+#REF!+#REF!+Feb_Williams!J68+#REF!+#REF!+#REF!","v":{"$error":"#REF!"}},{"$f":"#REF!*0.5","v":{"$error":"#REF!"}},{"$f":"#REF!+#REF!+#REF!+#REF!+#REF!+#REF!+#REF!+#REF!+#REF!+#REF!+#REF!+#REF!+#REF!+#REF!+#REF!+#REF!+#REF!+#REF!+#REF!+#REF!+#REF!+#REF!+#REF!+#REF!+#REF!+#REF!+#REF!+#REF!+#REF!+#REF!+#REF!+Feb_Williams!L68+#REF!","v":{"$error":"#REF!"}},null,null,{"$f":"#REF!+#REF!+#REF!+#REF!+#REF!+#REF!+#REF!+#REF!+#REF!+#REF!+#REF!+#REF!+#REF!+#REF!+#REF!+#REF!+#REF!+#REF!+#REF!+#REF!+#REF!+#REF!+#REF!+#REF!+#REF!+#REF!+#REF!+#REF!+#REF!+#REF!+#REF!+Feb_Williams!O68+#REF!","v":{"$error":"#REF!"}},{"$f":"#REF!*0.5","v":{"$error":"#REF!"}},{"$f":"#REF!+#REF!+#REF!+#REF!+#REF!+#REF!+#REF!+#REF!+#REF!+#REF!+#REF!+#REF!+#REF!+#REF!+#REF!+#REF!+#REF!+#REF!+#REF!+#REF!+#REF!+#REF!+#REF!+#REF!+#REF!+#REF!+#REF!+#REF!+#REF!+#REF!+#REF!+Feb_Williams!Q68+#REF!","v":{"$error":"#REF!"}},null,null,{"$f":"#REF!+#REF!+#REF!+#REF!+#REF!+#REF!+#REF!+#REF!+#REF!+#REF!+#REF!+#REF!+#REF!+#REF!+#REF!+#REF!+#REF!+#REF!+#REF!+#REF!+#REF!+#REF!+#REF!+#REF!+#REF!+#REF!+#REF!+#REF!+#REF!+#REF!+#REF!+Feb_Williams!T68+#REF!","v":{"$error":"#REF!"}},{"$f":"#REF!*0.5","v":{"$error":"#REF!"}},{"$f":"#REF!+#REF!+#REF!+#REF!+#REF!+#REF!+#REF!+#REF!+#REF!+#REF!+#REF!+#REF!+#REF!+#REF!+#REF!+#REF!+#REF!+#REF!+#REF!+#REF!+#REF!+#REF!+#REF!+#REF!+#REF!+#REF!+#REF!+#REF!+#REF!+#REF!+#REF!+Feb_Williams!V68+#REF!","v":{"$error":"#REF!"}},{"$f":"#REF!+#REF!+#REF!+#REF!+#REF!+#REF!+#REF!+#REF!+#REF!+#REF!+#REF!+#REF!+#REF!+#REF!+#REF!+#REF!+#REF!+#REF!+#REF!+#REF!+#REF!+#REF!+#REF!+#REF!+#REF!+#REF!+#REF!+#REF!+#REF!+#REF!+#REF!+Feb_Williams!W68+#REF!","v":{"$error":"#REF!"}},{"$f":"#REF!*0.5","v":{"$error":"#REF!"}},{"$f":"#REF!+#REF!+#REF!+#REF!+#REF!+#REF!+#REF!+#REF!+#REF!+#REF!+#REF!+#REF!+#REF!+#REF!+#REF!+#REF!+#REF!+#REF!+#REF!+#REF!+#REF!+#REF!+#REF!+#REF!+#REF!+#REF!+#REF!+#REF!+#REF!+#REF!+#REF!+Feb_Williams!Y68+#REF!","v":{"$error":"#REF!"}},null,null,{"$error":"#REF!"},{"$error":"#REF!"},{"$error":"#REF!"},{"$error":"#REF!"}]
[63,"West Feliciana",{"$f":"#REF!+#REF!+#REF!+#REF!+#REF!+#REF!+#REF!+#REF!+#REF!+#REF!+#REF!+#REF!+#REF!+#REF!+#REF!+#REF!+#REF!+#REF!+#REF!+#REF!+#REF!+#REF!+#REF!+#REF!+#REF!+#REF!+#REF!+#REF!+#REF!+#REF!+#REF!+Feb_Williams!C69+#REF!+#REF!+#REF!","v":{"$error":"#REF!"}},{"$f":"#REF!+#REF!+#REF!+#REF!+#REF!+#REF!+#REF!+#REF!+#REF!+#REF!+#REF!+#REF!+#REF!+#REF!+#REF!+#REF!+#REF!+#REF!+#REF!+#REF!+#REF!+#REF!+#REF!+#REF!+#REF!+#REF!+#REF!+#REF!+#REF!+#REF!+#REF!+Feb_Williams!D69+#REF!+#REF!+#REF!","v":{"$error":"#REF!"}},{"$f":"#REF!+#REF!+#REF!+#REF!+#REF!+#REF!+#REF!+#REF!+#REF!+#REF!+#REF!+#REF!+#REF!+#REF!+#REF!+#REF!+#REF!+#REF!+#REF!+#REF!+#REF!+#REF!+#REF!+#REF!+#REF!+#REF!+#REF!+#REF!+#REF!+#REF!+#REF!+Feb_Williams!E69+#REF!+#REF!+#REF!","v":{"$error":"#REF!"}},{"$f":"#REF!*0.5","v":{"$error":"#REF!"}},{"$f":"#REF!+#REF!+#REF!+#REF!+#REF!+#REF!+#REF!+#REF!+#REF!+#REF!+#REF!+#REF!+#REF!+#REF!+#REF!+#REF!+#REF!+#REF!+#REF!+#REF!+#REF!+#REF!+#REF!+#REF!+#REF!+#REF!+#REF!+#REF!+#REF!+#REF!+#REF!+Feb_Williams!G69+#REF!","v":{"$error":"#REF!"}},{"$f":"#REF!+#REF!+#REF!+#REF!+#REF!+#REF!+#REF!+#REF!+#REF!+#REF!+#REF!+#REF!+#REF!+#REF!+#REF!+#REF!+#REF!+#REF!+#REF!+#REF!+#REF!+#REF!+#REF!+#REF!+#REF!+#REF!+#REF!+#REF!+#REF!+#REF!+#REF!+Feb_Williams!H69+#REF!+#REF!+#REF!","v":{"$error":"#REF!"}},{"$f":"#REF!+#REF!+#REF!+#REF!+#REF!+#REF!+#REF!+#REF!+#REF!+#REF!+#REF!+#REF!+#REF!+#REF!+#REF!+#REF!+#REF!+#REF!+#REF!+#REF!+#REF!+#REF!+#REF!+#REF!+#REF!+#REF!+#REF!+#REF!+#REF!+#REF!+#REF!+Feb_Williams!I69+#REF!+#REF!+#REF!","v":{"$error":"#REF!"}},{"$f":"#REF!+#REF!+#REF!+#REF!+#REF!+#REF!+#REF!+#REF!+#REF!+#REF!+#REF!+#REF!+#REF!+#REF!+#REF!+#REF!+#REF!+#REF!+#REF!+#REF!+#REF!+#REF!+#REF!+#REF!+#REF!+#REF!+#REF!+#REF!+#REF!+#REF!+#REF!+Feb_Williams!J69+#REF!+#REF!+#REF!","v":{"$error":"#REF!"}},{"$f":"#REF!*0.5","v":{"$error":"#REF!"}},{"$f":"#REF!+#REF!+#REF!+#REF!+#REF!+#REF!+#REF!+#REF!+#REF!+#REF!+#REF!+#REF!+#REF!+#REF!+#REF!+#REF!+#REF!+#REF!+#REF!+#REF!+#REF!+#REF!+#REF!+#REF!+#REF!+#REF!+#REF!+#REF!+#REF!+#REF!+#REF!+Feb_Williams!L69+#REF!","v":{"$error":"#REF!"}},null,null,{"$f":"#REF!+#REF!+#REF!+#REF!+#REF!+#REF!+#REF!+#REF!+#REF!+#REF!+#REF!+#REF!+#REF!+#REF!+#REF!+#REF!+#REF!+#REF!+#REF!+#REF!+#REF!+#REF!+#REF!+#REF!+#REF!+#REF!+#REF!+#REF!+#REF!+#REF!+#REF!+Feb_Williams!O69+#REF!","v":{"$error":"#REF!"}},{"$f":"#REF!*0.5","v":{"$error":"#REF!"}},{"$f":"#REF!+#REF!+#REF!+#REF!+#REF!+#REF!+#REF!+#REF!+#REF!+#REF!+#REF!+#REF!+#REF!+#REF!+#REF!+#REF!+#REF!+#REF!+#REF!+#REF!+#REF!+#REF!+#REF!+#REF!+#REF!+#REF!+#REF!+#REF!+#REF!+#REF!+#REF!+Feb_Williams!Q69+#REF!","v":{"$error":"#REF!"}},null,null,{"$f":"#REF!+#REF!+#REF!+#REF!+#REF!+#REF!+#REF!+#REF!+#REF!+#REF!+#REF!+#REF!+#REF!+#REF!+#REF!+#REF!+#REF!+#REF!+#REF!+#REF!+#REF!+#REF!+#REF!+#REF!+#REF!+#REF!+#REF!+#REF!+#REF!+#REF!+#REF!+Feb_Williams!T69+#REF!","v":{"$error":"#REF!"}},{"$f":"#REF!*0.5","v":{"$error":"#REF!"}},{"$f":"#REF!+#REF!+#REF!+#REF!+#REF!+#REF!+#REF!+#REF!+#REF!+#REF!+#REF!+#REF!+#REF!+#REF!+#REF!+#REF!+#REF!+#REF!+#REF!+#REF!+#REF!+#REF!+#REF!+#REF!+#REF!+#REF!+#REF!+#REF!+#REF!+#REF!+#REF!+Feb_Williams!V69+#REF!","v":{"$error":"#REF!"}},{"$f":"#REF!+#REF!+#REF!+#REF!+#REF!+#REF!+#REF!+#REF!+#REF!+#REF!+#REF!+#REF!+#REF!+#REF!+#REF!+#REF!+#REF!+#REF!+#REF!+#REF!+#REF!+#REF!+#REF!+#REF!+#REF!+#REF!+#REF!+#REF!+#REF!+#REF!+#REF!+Feb_Williams!W69+#REF!","v":{"$error":"#REF!"}},{"$f":"#REF!*0.5","v":{"$error":"#REF!"}},{"$f":"#REF!+#REF!+#REF!+#REF!+#REF!+#REF!+#REF!+#REF!+#REF!+#REF!+#REF!+#REF!+#REF!+#REF!+#REF!+#REF!+#REF!+#REF!+#REF!+#REF!+#REF!+#REF!+#REF!+#REF!+#REF!+#REF!+#REF!+#REF!+#REF!+#REF!+#REF!+Feb_Williams!Y69+#REF!","v":{"$error":"#REF!"}},null,null,{"$error":"#REF!"},{"$error":"#REF!"},{"$error":"#REF!"},{"$error":"#REF!"}]
[64,"Winn",{"$f":"#REF!+#REF!+#REF!+#REF!+#REF!+#REF!+#REF!+#REF!+#REF!+#REF!+#REF!+#REF!+#REF!+#REF!+#REF!+#REF!+#REF!+#REF!+#REF!+#REF!+#REF!+#REF!+#REF!+#REF!+#REF!+#REF!+#REF!+#REF!+#REF!+#REF!+#REF!+Feb_Williams!C70+#REF!+#REF!+#REF!","v":{"$error":"#REF!"}},{"$f":"#REF!+#REF!+#REF!+#REF!+#REF!+#REF!+#REF!+#REF!+#REF!+#REF!+#REF!+#REF!+#REF!+#REF!+#REF!+#REF!+#REF!+#REF!+#REF!+#REF!+#REF!+#REF!+#REF!+#REF!+#REF!+#REF!+#REF!+#REF!+#REF!+#REF!+#REF!+Feb_Williams!D70+#REF!+#REF!+#REF!","v":{"$error":"#REF!"}},{"$f":"#REF!+#REF!+#REF!+#REF!+#REF!+#REF!+#REF!+#REF!+#REF!+#REF!+#REF!+#REF!+#REF!+#REF!+#REF!+#REF!+#REF!+#REF!+#REF!+#REF!+#REF!+#REF!+#REF!+#REF!+#REF!+#REF!+#REF!+#REF!+#REF!+#REF!+#REF!+Feb_Williams!E70+#REF!+#REF!+#REF!","v":{"$error":"#REF!"}},{"$f":"#REF!*0.5","v":{"$error":"#REF!"}},{"$f":"#REF!+#REF!+#REF!+#REF!+#REF!+#REF!+#REF!+#REF!+#REF!+#REF!+#REF!+#REF!+#REF!+#REF!+#REF!+#REF!+#REF!+#REF!+#REF!+#REF!+#REF!+#REF!+#REF!+#REF!+#REF!+#REF!+#REF!+#REF!+#REF!+#REF!+#REF!+Feb_Williams!G70+#REF!","v":{"$error":"#REF!"}},{"$f":"#REF!+#REF!+#REF!+#REF!+#REF!+#REF!+#REF!+#REF!+#REF!+#REF!+#REF!+#REF!+#REF!+#REF!+#REF!+#REF!+#REF!+#REF!+#REF!+#REF!+#REF!+#REF!+#REF!+#REF!+#REF!+#REF!+#REF!+#REF!+#REF!+#REF!+#REF!+Feb_Williams!H70+#REF!+#REF!+#REF!","v":{"$error":"#REF!"}},{"$f":"#REF!+#REF!+#REF!+#REF!+#REF!+#REF!+#REF!+#REF!+#REF!+#REF!+#REF!+#REF!+#REF!+#REF!+#REF!+#REF!+#REF!+#REF!+#REF!+#REF!+#REF!+#REF!+#REF!+#REF!+#REF!+#REF!+#REF!+#REF!+#REF!+#REF!+#REF!+Feb_Williams!I70+#REF!+#REF!+#REF!","v":{"$error":"#REF!"}},{"$f":"#REF!+#REF!+#REF!+#REF!+#REF!+#REF!+#REF!+#REF!+#REF!+#REF!+#REF!+#REF!+#REF!+#REF!+#REF!+#REF!+#REF!+#REF!+#REF!+#REF!+#REF!+#REF!+#REF!+#REF!+#REF!+#REF!+#REF!+#REF!+#REF!+#REF!+#REF!+Feb_Williams!J70+#REF!+#REF!+#REF!","v":{"$error":"#REF!"}},{"$f":"#REF!*0.5","v":{"$error":"#REF!"}},{"$f":"#REF!+#REF!+#REF!+#REF!+#REF!+#REF!+#REF!+#REF!+#REF!+#REF!+#REF!+#REF!+#REF!+#REF!+#REF!+#REF!+#REF!+#REF!+#REF!+#REF!+#REF!+#REF!+#REF!+#REF!+#REF!+#REF!+#REF!+#REF!+#REF!+#REF!+#REF!+Feb_Williams!L70+#REF!","v":{"$error":"#REF!"}},null,null,{"$f":"#REF!+#REF!+#REF!+#REF!+#REF!+#REF!+#REF!+#REF!+#REF!+#REF!+#REF!+#REF!+#REF!+#REF!+#REF!+#REF!+#REF!+#REF!+#REF!+#REF!+#REF!+#REF!+#REF!+#REF!+#REF!+#REF!+#REF!+#REF!+#REF!+#REF!+#REF!+Feb_Williams!O70+#REF!","v":{"$error":"#REF!"}},{"$f":"#REF!*0.5","v":{"$error":"#REF!"}},{"$f":"#REF!+#REF!+#REF!+#REF!+#REF!+#REF!+#REF!+#REF!+#REF!+#REF!+#REF!+#REF!+#REF!+#REF!+#REF!+#REF!+#REF!+#REF!+#REF!+#REF!+#REF!+#REF!+#REF!+#REF!+#REF!+#REF!+#REF!+#REF!+#REF!+#REF!+#REF!+Feb_Williams!Q70+#REF!","v":{"$error":"#REF!"}},null,null,{"$f":"#REF!+#REF!+#REF!+#REF!+#REF!+#REF!+#REF!+#REF!+#REF!+#REF!+#REF!+#REF!+#REF!+#REF!+#REF!+#REF!+#REF!+#REF!+#REF!+#REF!+#REF!+#REF!+#REF!+#REF!+#REF!+#REF!+#REF!+#REF!+#REF!+#REF!+#REF!+Feb_Williams!T70+#REF!","v":{"$error":"#REF!"}},{"$f":"#REF!*0.5","v":{"$error":"#REF!"}},{"$f":"#REF!+#REF!+#REF!+#REF!+#REF!+#REF!+#REF!+#REF!+#REF!+#REF!+#REF!+#REF!+#REF!+#REF!+#REF!+#REF!+#REF!+#REF!+#REF!+#REF!+#REF!+#REF!+#REF!+#REF!+#REF!+#REF!+#REF!+#REF!+#REF!+#REF!+#REF!+Feb_Williams!V70+#REF!","v":{"$error":"#REF!"}},{"$f":"#REF!+#REF!+#REF!+#REF!+#REF!+#REF!+#REF!+#REF!+#REF!+#REF!+#REF!+#REF!+#REF!+#REF!+#REF!+#REF!+#REF!+#REF!+#REF!+#REF!+#REF!+#REF!+#REF!+#REF!+#REF!+#REF!+#REF!+#REF!+#REF!+#REF!+#REF!+Feb_Williams!W70+#REF!","v":{"$error":"#REF!"}},{"$f":"#REF!*0.5","v":{"$error":"#REF!"}},{"$f":"#REF!+#REF!+#REF!+#REF!+#REF!+#REF!+#REF!+#REF!+#REF!+#REF!+#REF!+#REF!+#REF!+#REF!+#REF!+#REF!+#REF!+#REF!+#REF!+#REF!+#REF!+#REF!+#REF!+#REF!+#REF!+#REF!+#REF!+#REF!+#REF!+#REF!+#REF!+Feb_Williams!Y70+#REF!","v":{"$error":"#REF!"}},null,null,{"$error":"#REF!"},{"$error":"#REF!"},{"$error":"#REF!"},{"$error":"#REF!"}]
[65,"City of Monroe",{"$f":"#REF!+#REF!+#REF!+#REF!+#REF!+#REF!+#REF!+#REF!+#REF!+#REF!+#REF!+#REF!+#REF!+#REF!+#REF!+#REF!+#REF!+#REF!+#REF!+#REF!+#REF!+#REF!+#REF!+#REF!+#REF!+#REF!+#REF!+#REF!+#REF!+#REF!+#REF!+Feb_Williams!C71+#REF!+#REF!+#REF!","v":{"$error":"#REF!"}},{"$f":"#REF!+#REF!+#REF!+#REF!+#REF!+#REF!+#REF!+#REF!+#REF!+#REF!+#REF!+#REF!+#REF!+#REF!+#REF!+#REF!+#REF!+#REF!+#REF!+#REF!+#REF!+#REF!+#REF!+#REF!+#REF!+#REF!+#REF!+#REF!+#REF!+#REF!+#REF!+Feb_Williams!D71+#REF!+#REF!+#REF!","v":{"$error":"#REF!"}},{"$f":"#REF!+#REF!+#REF!+#REF!+#REF!+#REF!+#REF!+#REF!+#REF!+#REF!+#REF!+#REF!+#REF!+#REF!+#REF!+#REF!+#REF!+#REF!+#REF!+#REF!+#REF!+#REF!+#REF!+#REF!+#REF!+#REF!+#REF!+#REF!+#REF!+#REF!+#REF!+Feb_Williams!E71+#REF!+#REF!+#REF!","v":{"$error":"#REF!"}},{"$f":"#REF!*0.5","v":{"$error":"#REF!"}},{"$f":"#REF!+#REF!+#REF!+#REF!+#REF!+#REF!+#REF!+#REF!+#REF!+#REF!+#REF!+#REF!+#REF!+#REF!+#REF!+#REF!+#REF!+#REF!+#REF!+#REF!+#REF!+#REF!+#REF!+#REF!+#REF!+#REF!+#REF!+#REF!+#REF!+#REF!+#REF!+Feb_Williams!G71+#REF!","v":{"$error":"#REF!"}},{"$f":"#REF!+#REF!+#REF!+#REF!+#REF!+#REF!+#REF!+#REF!+#REF!+#REF!+#REF!+#REF!+#REF!+#REF!+#REF!+#REF!+#REF!+#REF!+#REF!+#REF!+#REF!+#REF!+#REF!+#REF!+#REF!+#REF!+#REF!+#REF!+#REF!+#REF!+#REF!+Feb_Williams!H71+#REF!+#REF!+#REF!","v":{"$error":"#REF!"}},{"$f":"#REF!+#REF!+#REF!+#REF!+#REF!+#REF!+#REF!+#REF!+#REF!+#REF!+#REF!+#REF!+#REF!+#REF!+#REF!+#REF!+#REF!+#REF!+#REF!+#REF!+#REF!+#REF!+#REF!+#REF!+#REF!+#REF!+#REF!+#REF!+#REF!+#REF!+#REF!+Feb_Williams!I71+#REF!+#REF!+#REF!","v":{"$error":"#REF!"}},{"$f":"#REF!+#REF!+#REF!+#REF!+#REF!+#REF!+#REF!+#REF!+#REF!+#REF!+#REF!+#REF!+#REF!+#REF!+#REF!+#REF!+#REF!+#REF!+#REF!+#REF!+#REF!+#REF!+#REF!+#REF!+#REF!+#REF!+#REF!+#REF!+#REF!+#REF!+#REF!+Feb_Williams!J71+#REF!+#REF!+#REF!","v":{"$error":"#REF!"}},{"$f":"#REF!*0.5","v":{"$error":"#REF!"}},{"$f":"#REF!+#REF!+#REF!+#REF!+#REF!+#REF!+#REF!+#REF!+#REF!+#REF!+#REF!+#REF!+#REF!+#REF!+#REF!+#REF!+#REF!+#REF!+#REF!+#REF!+#REF!+#REF!+#REF!+#REF!+#REF!+#REF!+#REF!+#REF!+#REF!+#REF!+#REF!+Feb_Williams!L71+#REF!","v":{"$error":"#REF!"}},null,null,{"$f":"#REF!+#REF!+#REF!+#REF!+#REF!+#REF!+#REF!+#REF!+#REF!+#REF!+#REF!+#REF!+#REF!+#REF!+#REF!+#REF!+#REF!+#REF!+#REF!+#REF!+#REF!+#REF!+#REF!+#REF!+#REF!+#REF!+#REF!+#REF!+#REF!+#REF!+#REF!+Feb_Williams!O71+#REF!","v":{"$error":"#REF!"}},{"$f":"#REF!*0.5","v":{"$error":"#REF!"}},{"$f":"#REF!+#REF!+#REF!+#REF!+#REF!+#REF!+#REF!+#REF!+#REF!+#REF!+#REF!+#REF!+#REF!+#REF!+#REF!+#REF!+#REF!+#REF!+#REF!+#REF!+#REF!+#REF!+#REF!+#REF!+#REF!+#REF!+#REF!+#REF!+#REF!+#REF!+#REF!+Feb_Williams!Q71+#REF!","v":{"$error":"#REF!"}},null,null,{"$f":"#REF!+#REF!+#REF!+#REF!+#REF!+#REF!+#REF!+#REF!+#REF!+#REF!+#REF!+#REF!+#REF!+#REF!+#REF!+#REF!+#REF!+#REF!+#REF!+#REF!+#REF!+#REF!+#REF!+#REF!+#REF!+#REF!+#REF!+#REF!+#REF!+#REF!+#REF!+Feb_Williams!T71+#REF!","v":{"$error":"#REF!"}},{"$f":"#REF!*0.5","v":{"$error":"#REF!"}},{"$f":"#REF!+#REF!+#REF!+#REF!+#REF!+#REF!+#REF!+#REF!+#REF!+#REF!+#REF!+#REF!+#REF!+#REF!+#REF!+#REF!+#REF!+#REF!+#REF!+#REF!+#REF!+#REF!+#REF!+#REF!+#REF!+#REF!+#REF!+#REF!+#REF!+#REF!+#REF!+Feb_Williams!V71+#REF!","v":{"$error":"#REF!"}},{"$f":"#REF!+#REF!+#REF!+#REF!+#REF!+#REF!+#REF!+#REF!+#REF!+#REF!+#REF!+#REF!+#REF!+#REF!+#REF!+#REF!+#REF!+#REF!+#REF!+#REF!+#REF!+#REF!+#REF!+#REF!+#REF!+#REF!+#REF!+#REF!+#REF!+#REF!+#REF!+Feb_Williams!W71+#REF!","v":{"$error":"#REF!"}},{"$f":"#REF!*0.5","v":{"$error":"#REF!"}},{"$f":"#REF!+#REF!+#REF!+#REF!+#REF!+#REF!+#REF!+#REF!+#REF!+#REF!+#REF!+#REF!+#REF!+#REF!+#REF!+#REF!+#REF!+#REF!+#REF!+#REF!+#REF!+#REF!+#REF!+#REF!+#REF!+#REF!+#REF!+#REF!+#REF!+#REF!+#REF!+Feb_Williams!Y71+#REF!","v":{"$error":"#REF!"}},null,null,{"$error":"#REF!"},{"$error":"#REF!"},{"$error":"#REF!"},{"$error":"#REF!"}]
[66,"City of Bogalusa",{"$f":"#REF!+#REF!+#REF!+#REF!+#REF!+#REF!+#REF!+#REF!+#REF!+#REF!+#REF!+#REF!+#REF!+#REF!+#REF!+#REF!+#REF!+#REF!+#REF!+#REF!+#REF!+#REF!+#REF!+#REF!+#REF!+#REF!+#REF!+#REF!+#REF!+#REF!+#REF!+Feb_Williams!C72+#REF!+#REF!+#REF!","v":{"$error":"#REF!"}},{"$f":"#REF!+#REF!+#REF!+#REF!+#REF!+#REF!+#REF!+#REF!+#REF!+#REF!+#REF!+#REF!+#REF!+#REF!+#REF!+#REF!+#REF!+#REF!+#REF!+#REF!+#REF!+#REF!+#REF!+#REF!+#REF!+#REF!+#REF!+#REF!+#REF!+#REF!+#REF!+Feb_Williams!D72+#REF!+#REF!+#REF!","v":{"$error":"#REF!"}},{"$f":"#REF!+#REF!+#REF!+#REF!+#REF!+#REF!+#REF!+#REF!+#REF!+#REF!+#REF!+#REF!+#REF!+#REF!+#REF!+#REF!+#REF!+#REF!+#REF!+#REF!+#REF!+#REF!+#REF!+#REF!+#REF!+#REF!+#REF!+#REF!+#REF!+#REF!+#REF!+Feb_Williams!E72+#REF!+#REF!+#REF!","v":{"$error":"#REF!"}},{"$f":"#REF!*0.5","v":{"$error":"#REF!"}},{"$f":"#REF!+#REF!+#REF!+#REF!+#REF!+#REF!+#REF!+#REF!+#REF!+#REF!+#REF!+#REF!+#REF!+#REF!+#REF!+#REF!+#REF!+#REF!+#REF!+#REF!+#REF!+#REF!+#REF!+#REF!+#REF!+#REF!+#REF!+#REF!+#REF!+#REF!+#REF!+Feb_Williams!G72+#REF!","v":{"$error":"#REF!"}},{"$f":"#REF!+#REF!+#REF!+#REF!+#REF!+#REF!+#REF!+#REF!+#REF!+#REF!+#REF!+#REF!+#REF!+#REF!+#REF!+#REF!+#REF!+#REF!+#REF!+#REF!+#REF!+#REF!+#REF!+#REF!+#REF!+#REF!+#REF!+#REF!+#REF!+#REF!+#REF!+Feb_Williams!H72+#REF!+#REF!+#REF!","v":{"$error":"#REF!"}},{"$f":"#REF!+#REF!+#REF!+#REF!+#REF!+#REF!+#REF!+#REF!+#REF!+#REF!+#REF!+#REF!+#REF!+#REF!+#REF!+#REF!+#REF!+#REF!+#REF!+#REF!+#REF!+#REF!+#REF!+#REF!+#REF!+#REF!+#REF!+#REF!+#REF!+#REF!+#REF!+Feb_Williams!I72+#REF!+#REF!+#REF!","v":{"$error":"#REF!"}},{"$f":"#REF!+#REF!+#REF!+#REF!+#REF!+#REF!+#REF!+#REF!+#REF!+#REF!+#REF!+#REF!+#REF!+#REF!+#REF!+#REF!+#REF!+#REF!+#REF!+#REF!+#REF!+#REF!+#REF!+#REF!+#REF!+#REF!+#REF!+#REF!+#REF!+#REF!+#REF!+Feb_Williams!J72+#REF!+#REF!+#REF!","v":{"$error":"#REF!"}},{"$f":"#REF!*0.5","v":{"$error":"#REF!"}},{"$f":"#REF!+#REF!+#REF!+#REF!+#REF!+#REF!+#REF!+#REF!+#REF!+#REF!+#REF!+#REF!+#REF!+#REF!+#REF!+#REF!+#REF!+#REF!+#REF!+#REF!+#REF!+#REF!+#REF!+#REF!+#REF!+#REF!+#REF!+#REF!+#REF!+#REF!+#REF!+Feb_Williams!L72+#REF!","v":{"$error":"#REF!"}},null,null,{"$f":"#REF!+#REF!+#REF!+#REF!+#REF!+#REF!+#REF!+#REF!+#REF!+#REF!+#REF!+#REF!+#REF!+#REF!+#REF!+#REF!+#REF!+#REF!+#REF!+#REF!+#REF!+#REF!+#REF!+#REF!+#REF!+#REF!+#REF!+#REF!+#REF!+#REF!+#REF!+Feb_Williams!O72+#REF!","v":{"$error":"#REF!"}},{"$f":"#REF!*0.5","v":{"$error":"#REF!"}},{"$f":"#REF!+#REF!+#REF!+#REF!+#REF!+#REF!+#REF!+#REF!+#REF!+#REF!+#REF!+#REF!+#REF!+#REF!+#REF!+#REF!+#REF!+#REF!+#REF!+#REF!+#REF!+#REF!+#REF!+#REF!+#REF!+#REF!+#REF!+#REF!+#REF!+#REF!+#REF!+Feb_Williams!Q72+#REF!","v":{"$error":"#REF!"}},null,null,{"$f":"#REF!+#REF!+#REF!+#REF!+#REF!+#REF!+#REF!+#REF!+#REF!+#REF!+#REF!+#REF!+#REF!+#REF!+#REF!+#REF!+#REF!+#REF!+#REF!+#REF!+#REF!+#REF!+#REF!+#REF!+#REF!+#REF!+#REF!+#REF!+#REF!+#REF!+#REF!+Feb_Williams!T72+#REF!","v":{"$error":"#REF!"}},{"$f":"#REF!*0.5","v":{"$error":"#REF!"}},{"$f":"#REF!+#REF!+#REF!+#REF!+#REF!+#REF!+#REF!+#REF!+#REF!+#REF!+#REF!+#REF!+#REF!+#REF!+#REF!+#REF!+#REF!+#REF!+#REF!+#REF!+#REF!+#REF!+#REF!+#REF!+#REF!+#REF!+#REF!+#REF!+#REF!+#REF!+#REF!+Feb_Williams!V72+#REF!","v":{"$error":"#REF!"}},{"$f":"#REF!+#REF!+#REF!+#REF!+#REF!+#REF!+#REF!+#REF!+#REF!+#REF!+#REF!+#REF!+#REF!+#REF!+#REF!+#REF!+#REF!+#REF!+#REF!+#REF!+#REF!+#REF!+#REF!+#REF!+#REF!+#REF!+#REF!+#REF!+#REF!+#REF!+#REF!+Feb_Williams!W72+#REF!","v":{"$error":"#REF!"}},{"$f":"#REF!*0.5","v":{"$error":"#REF!"}},{"$f":"#REF!+#REF!+#REF!+#REF!+#REF!+#REF!+#REF!+#REF!+#REF!+#REF!+#REF!+#REF!+#REF!+#REF!+#REF!+#REF!+#REF!+#REF!+#REF!+#REF!+#REF!+#REF!+#REF!+#REF!+#REF!+#REF!+#REF!+#REF!+#REF!+#REF!+#REF!+Feb_Williams!Y72+#REF!","v":{"$error":"#REF!"}},null,null,{"$f":"E72=(D72-C72)","v":{"$error":"#REF!"}},{"$f":"J72=(I72-H72)","v":{"$error":"#REF!"}},{"$f":"O72=(N72-M72)","v":{"$error":"#REF!"}},{"$f":"T72=(S72-R72)","v":{"$error":"#REF!"}}]
[67,"Zachary Community",{"$f":"#REF!+#REF!+#REF!+#REF!+#REF!+#REF!+#REF!+#REF!+#REF!+#REF!+#REF!+#REF!+#REF!+#REF!+#REF!+#REF!+#REF!+#REF!+#REF!+#REF!+#REF!+#REF!+#REF!+#REF!+#REF!+#REF!+#REF!+#REF!+#REF!+#REF!+#REF!+Feb_Williams!C73+#REF!+#REF!+#REF!","v":{"$error":"#REF!"}},{"$f":"#REF!+#REF!+#REF!+#REF!+#REF!+#REF!+#REF!+#REF!+#REF!+#REF!+#REF!+#REF!+#REF!+#REF!+#REF!+#REF!+#REF!+#REF!+#REF!+#REF!+#REF!+#REF!+#REF!+#REF!+#REF!+#REF!+#REF!+#REF!+#REF!+#REF!+#REF!+Feb_Williams!D73+#REF!+#REF!+#REF!","v":{"$error":"#REF!"}},{"$f":"#REF!+#REF!+#REF!+#REF!+#REF!+#REF!+#REF!+#REF!+#REF!+#REF!+#REF!+#REF!+#REF!+#REF!+#REF!+#REF!+#REF!+#REF!+#REF!+#REF!+#REF!+#REF!+#REF!+#REF!+#REF!+#REF!+#REF!+#REF!+#REF!+#REF!+#REF!+Feb_Williams!E73+#REF!+#REF!+#REF!","v":{"$error":"#REF!"}},{"$f":"#REF!*0.5","v":{"$error":"#REF!"}},{"$f":"#REF!+#REF!+#REF!+#REF!+#REF!+#REF!+#REF!+#REF!+#REF!+#REF!+#REF!+#REF!+#REF!+#REF!+#REF!+#REF!+#REF!+#REF!+#REF!+#REF!+#REF!+#REF!+#REF!+#REF!+#REF!+#REF!+#REF!+#REF!+#REF!+#REF!+#REF!+Feb_Williams!G73+#REF!","v":{"$error":"#REF!"}},{"$f":"#REF!+#REF!+#REF!+#REF!+#REF!+#REF!+#REF!+#REF!+#REF!+#REF!+#REF!+#REF!+#REF!+#REF!+#REF!+#REF!+#REF!+#REF!+#REF!+#REF!+#REF!+#REF!+#REF!+#REF!+#REF!+#REF!+#REF!+#REF!+#REF!+#REF!+#REF!+Feb_Williams!H73+#REF!+#REF!+#REF!","v":{"$error":"#REF!"}},{"$f":"#REF!+#REF!+#REF!+#REF!+#REF!+#REF!+#REF!+#REF!+#REF!+#REF!+#REF!+#REF!+#REF!+#REF!+#REF!+#REF!+#REF!+#REF!+#REF!+#REF!+#REF!+#REF!+#REF!+#REF!+#REF!+#REF!+#REF!+#REF!+#REF!+#REF!+#REF!+Feb_Williams!I73+#REF!+#REF!+#REF!","v":{"$error":"#REF!"}},{"$f":"#REF!+#REF!+#REF!+#REF!+#REF!+#REF!+#REF!+#REF!+#REF!+#REF!+#REF!+#REF!+#REF!+#REF!+#REF!+#REF!+#REF!+#REF!+#REF!+#REF!+#REF!+#REF!+#REF!+#REF!+#REF!+#REF!+#REF!+#REF!+#REF!+#REF!+#REF!+Feb_Williams!J73+#REF!+#REF!+#REF!","v":{"$error":"#REF!"}},{"$f":"#REF!*0.5","v":{"$error":"#REF!"}},{"$f":"#REF!+#REF!+#REF!+#REF!+#REF!+#REF!+#REF!+#REF!+#REF!+#REF!+#REF!+#REF!+#REF!+#REF!+#REF!+#REF!+#REF!+#REF!+#REF!+#REF!+#REF!+#REF!+#REF!+#REF!+#REF!+#REF!+#REF!+#REF!+#REF!+#REF!+#REF!+Feb_Williams!L73+#REF!","v":{"$error":"#REF!"}},null,null,{"$f":"#REF!+#REF!+#REF!+#REF!+#REF!+#REF!+#REF!+#REF!+#REF!+#REF!+#REF!+#REF!+#REF!+#REF!+#REF!+#REF!+#REF!+#REF!+#REF!+#REF!+#REF!+#REF!+#REF!+#REF!+#REF!+#REF!+#REF!+#REF!+#REF!+#REF!+#REF!+Feb_Williams!O73+#REF!","v":{"$error":"#REF!"}},{"$f":"#REF!*0.5","v":{"$error":"#REF!"}},{"$f":"#REF!+#REF!+#REF!+#REF!+#REF!+#REF!+#REF!+#REF!+#REF!+#REF!+#REF!+#REF!+#REF!+#REF!+#REF!+#REF!+#REF!+#REF!+#REF!+#REF!+#REF!+#REF!+#REF!+#REF!+#REF!+#REF!+#REF!+#REF!+#REF!+#REF!+#REF!+Feb_Williams!Q73+#REF!","v":{"$error":"#REF!"}},null,null,{"$f":"#REF!+#REF!+#REF!+#REF!+#REF!+#REF!+#REF!+#REF!+#REF!+#REF!+#REF!+#REF!+#REF!+#REF!+#REF!+#REF!+#REF!+#REF!+#REF!+#REF!+#REF!+#REF!+#REF!+#REF!+#REF!+#REF!+#REF!+#REF!+#REF!+#REF!+#REF!+Feb_Williams!T73+#REF!","v":{"$error":"#REF!"}},{"$f":"#REF!*0.5","v":{"$error":"#REF!"}},{"$f":"#REF!+#REF!+#REF!+#REF!+#REF!+#REF!+#REF!+#REF!+#REF!+#REF!+#REF!+#REF!+#REF!+#REF!+#REF!+#REF!+#REF!+#REF!+#REF!+#REF!+#REF!+#REF!+#REF!+#REF!+#REF!+#REF!+#REF!+#REF!+#REF!+#REF!+#REF!+Feb_Williams!V73+#REF!","v":{"$error":"#REF!"}},{"$f":"#REF!+#REF!+#REF!+#REF!+#REF!+#REF!+#REF!+#REF!+#REF!+#REF!+#REF!+#REF!+#REF!+#REF!+#REF!+#REF!+#REF!+#REF!+#REF!+#REF!+#REF!+#REF!+#REF!+#REF!+#REF!+#REF!+#REF!+#REF!+#REF!+#REF!+#REF!+Feb_Williams!W73+#REF!","v":{"$error":"#REF!"}},{"$f":"#REF!*0.5","v":{"$error":"#REF!"}},{"$f":"#REF!+#REF!+#REF!+#REF!+#REF!+#REF!+#REF!+#REF!+#REF!+#REF!+#REF!+#REF!+#REF!+#REF!+#REF!+#REF!+#REF!+#REF!+#REF!+#REF!+#REF!+#REF!+#REF!+#REF!+#REF!+#REF!+#REF!+#REF!+#REF!+#REF!+#REF!+Feb_Williams!Y73+#REF!","v":{"$error":"#REF!"}},null,null,{"$error":"#REF!"},{"$error":"#REF!"},{"$error":"#REF!"},{"$error":"#REF!"}]
[68,"City of Baker",{"$f":"#REF!+#REF!+#REF!+#REF!+#REF!+#REF!+#REF!+#REF!+#REF!+#REF!+#REF!+#REF!+#REF!+#REF!+#REF!+#REF!+#REF!+#REF!+#REF!+#REF!+#REF!+#REF!+#REF!+#REF!+#REF!+#REF!+#REF!+#REF!+#REF!+#REF!+#REF!+Feb_Williams!C74+#REF!+#REF!+#REF!","v":{"$error":"#REF!"}},{"$f":"#REF!+#REF!+#REF!+#REF!+#REF!+#REF!+#REF!+#REF!+#REF!+#REF!+#REF!+#REF!+#REF!+#REF!+#REF!+#REF!+#REF!+#REF!+#REF!+#REF!+#REF!+#REF!+#REF!+#REF!+#REF!+#REF!+#REF!+#REF!+#REF!+#REF!+#REF!+Feb_Williams!D74+#REF!+#REF!+#REF!","v":{"$error":"#REF!"}},{"$f":"#REF!+#REF!+#REF!+#REF!+#REF!+#REF!+#REF!+#REF!+#REF!+#REF!+#REF!+#REF!+#REF!+#REF!+#REF!+#REF!+#REF!+#REF!+#REF!+#REF!+#REF!+#REF!+#REF!+#REF!+#REF!+#REF!+#REF!+#REF!+#REF!+#REF!+#REF!+Feb_Williams!E74+#REF!+#REF!+#REF!","v":{"$error":"#REF!"}},{"$f":"#REF!*0.5","v":{"$error":"#REF!"}},{"$f":"#REF!+#REF!+#REF!+#REF!+#REF!+#REF!+#REF!+#REF!+#REF!+#REF!+#REF!+#REF!+#REF!+#REF!+#REF!+#REF!+#REF!+#REF!+#REF!+#REF!+#REF!+#REF!+#REF!+#REF!+#REF!+#REF!+#REF!+#REF!+#REF!+#REF!+#REF!+Feb_Williams!G74+#REF!","v":{"$error":"#REF!"}},{"$f":"#REF!+#REF!+#REF!+#REF!+#REF!+#REF!+#REF!+#REF!+#REF!+#REF!+#REF!+#REF!+#REF!+#REF!+#REF!+#REF!+#REF!+#REF!+#REF!+#REF!+#REF!+#REF!+#REF!+#REF!+#REF!+#REF!+#REF!+#REF!+#REF!+#REF!+#REF!+Feb_Williams!H74+#REF!+#REF!+#REF!","v":{"$error":"#REF!"}},{"$f":"#REF!+#REF!+#REF!+#REF!+#REF!+#REF!+#REF!+#REF!+#REF!+#REF!+#REF!+#REF!+#REF!+#REF!+#REF!+#REF!+#REF!+#REF!+#REF!+#REF!+#REF!+#REF!+#REF!+#REF!+#REF!+#REF!+#REF!+#REF!+#REF!+#REF!+#REF!+Feb_Williams!I74+#REF!+#REF!+#REF!","v":{"$error":"#REF!"}},{"$f":"#REF!+#REF!+#REF!+#REF!+#REF!+#REF!+#REF!+#REF!+#REF!+#REF!+#REF!+#REF!+#REF!+#REF!+#REF!+#REF!+#REF!+#REF!+#REF!+#REF!+#REF!+#REF!+#REF!+#REF!+#REF!+#REF!+#REF!+#REF!+#REF!+#REF!+#REF!+Feb_Williams!J74+#REF!+#REF!+#REF!","v":{"$error":"#REF!"}},{"$f":"#REF!*0.5","v":{"$error":"#REF!"}},{"$f":"#REF!+#REF!+#REF!+#REF!+#REF!+#REF!+#REF!+#REF!+#REF!+#REF!+#REF!+#REF!+#REF!+#REF!+#REF!+#REF!+#REF!+#REF!+#REF!+#REF!+#REF!+#REF!+#REF!+#REF!+#REF!+#REF!+#REF!+#REF!+#REF!+#REF!+#REF!+Feb_Williams!L74+#REF!","v":{"$error":"#REF!"}},null,null,{"$f":"#REF!+#REF!+#REF!+#REF!+#REF!+#REF!+#REF!+#REF!+#REF!+#REF!+#REF!+#REF!+#REF!+#REF!+#REF!+#REF!+#REF!+#REF!+#REF!+#REF!+#REF!+#REF!+#REF!+#REF!+#REF!+#REF!+#REF!+#REF!+#REF!+#REF!+#REF!+Feb_Williams!O74+#REF!","v":{"$error":"#REF!"}},{"$f":"#REF!*0.5","v":{"$error":"#REF!"}},{"$f":"#REF!+#REF!+#REF!+#REF!+#REF!+#REF!+#REF!+#REF!+#REF!+#REF!+#REF!+#REF!+#REF!+#REF!+#REF!+#REF!+#REF!+#REF!+#REF!+#REF!+#REF!+#REF!+#REF!+#REF!+#REF!+#REF!+#REF!+#REF!+#REF!+#REF!+#REF!+Feb_Williams!Q74+#REF!","v":{"$error":"#REF!"}},null,null,{"$f":"#REF!+#REF!+#REF!+#REF!+#REF!+#REF!+#REF!+#REF!+#REF!+#REF!+#REF!+#REF!+#REF!+#REF!+#REF!+#REF!+#REF!+#REF!+#REF!+#REF!+#REF!+#REF!+#REF!+#REF!+#REF!+#REF!+#REF!+#REF!+#REF!+#REF!+#REF!+Feb_Williams!T74+#REF!","v":{"$error":"#REF!"}},{"$f":"#REF!*0.5","v":{"$error":"#REF!"}},{"$f":"#REF!+#REF!+#REF!+#REF!+#REF!+#REF!+#REF!+#REF!+#REF!+#REF!+#REF!+#REF!+#REF!+#REF!+#REF!+#REF!+#REF!+#REF!+#REF!+#REF!+#REF!+#REF!+#REF!+#REF!+#REF!+#REF!+#REF!+#REF!+#REF!+#REF!+#REF!+Feb_Williams!V74+#REF!","v":{"$error":"#REF!"}},{"$f":"#REF!+#REF!+#REF!+#REF!+#REF!+#REF!+#REF!+#REF!+#REF!+#REF!+#REF!+#REF!+#REF!+#REF!+#REF!+#REF!+#REF!+#REF!+#REF!+#REF!+#REF!+#REF!+#REF!+#REF!+#REF!+#REF!+#REF!+#REF!+#REF!+#REF!+#REF!+Feb_Williams!W74+#REF!","v":{"$error":"#REF!"}},{"$f":"#REF!*0.5","v":{"$error":"#REF!"}},{"$f":"#REF!+#REF!+#REF!+#REF!+#REF!+#REF!+#REF!+#REF!+#REF!+#REF!+#REF!+#REF!+#REF!+#REF!+#REF!+#REF!+#REF!+#REF!+#REF!+#REF!+#REF!+#REF!+#REF!+#REF!+#REF!+#REF!+#REF!+#REF!+#REF!+#REF!+#REF!+Feb_Williams!Y74+#REF!","v":{"$error":"#REF!"}},null,null,{"$error":"#REF!"},{"$error":"#REF!"},{"$error":"#REF!"},{"$error":"#REF!"}]
[69,"Central Community",{"$f":"#REF!+#REF!+#REF!+#REF!+#REF!+#REF!+#REF!+#REF!+#REF!+#REF!+#REF!+#REF!+#REF!+#REF!+#REF!+#REF!+#REF!+#REF!+#REF!+#REF!+#REF!+#REF!+#REF!+#REF!+#REF!+#REF!+#REF!+#REF!+#REF!+#REF!+#REF!+Feb_Williams!C75+#REF!+#REF!+#REF!","v":{"$error":"#REF!"}},{"$f":"#REF!+#REF!+#REF!+#REF!+#REF!+#REF!+#REF!+#REF!+#REF!+#REF!+#REF!+#REF!+#REF!+#REF!+#REF!+#REF!+#REF!+#REF!+#REF!+#REF!+#REF!+#REF!+#REF!+#REF!+#REF!+#REF!+#REF!+#REF!+#REF!+#REF!+#REF!+Feb_Williams!D75+#REF!+#REF!+#REF!","v":{"$error":"#REF!"}},{"$f":"#REF!+#REF!+#REF!+#REF!+#REF!+#REF!+#REF!+#REF!+#REF!+#REF!+#REF!+#REF!+#REF!+#REF!+#REF!+#REF!+#REF!+#REF!+#REF!+#REF!+#REF!+#REF!+#REF!+#REF!+#REF!+#REF!+#REF!+#REF!+#REF!+#REF!+#REF!+Feb_Williams!E75+#REF!+#REF!+#REF!","v":{"$error":"#REF!"}},{"$f":"#REF!*0.5","v":{"$error":"#REF!"}},{"$f":"#REF!+#REF!+#REF!+#REF!+#REF!+#REF!+#REF!+#REF!+#REF!+#REF!+#REF!+#REF!+#REF!+#REF!+#REF!+#REF!+#REF!+#REF!+#REF!+#REF!+#REF!+#REF!+#REF!+#REF!+#REF!+#REF!+#REF!+#REF!+#REF!+#REF!+#REF!+Feb_Williams!G75+#REF!","v":{"$error":"#REF!"}},{"$f":"#REF!+#REF!+#REF!+#REF!+#REF!+#REF!+#REF!+#REF!+#REF!+#REF!+#REF!+#REF!+#REF!+#REF!+#REF!+#REF!+#REF!+#REF!+#REF!+#REF!+#REF!+#REF!+#REF!+#REF!+#REF!+#REF!+#REF!+#REF!+#REF!+#REF!+#REF!+Feb_Williams!H75+#REF!+#REF!+#REF!","v":{"$error":"#REF!"}},{"$f":"#REF!+#REF!+#REF!+#REF!+#REF!+#REF!+#REF!+#REF!+#REF!+#REF!+#REF!+#REF!+#REF!+#REF!+#REF!+#REF!+#REF!+#REF!+#REF!+#REF!+#REF!+#REF!+#REF!+#REF!+#REF!+#REF!+#REF!+#REF!+#REF!+#REF!+#REF!+Feb_Williams!I75+#REF!+#REF!+#REF!","v":{"$error":"#REF!"}},{"$f":"#REF!+#REF!+#REF!+#REF!+#REF!+#REF!+#REF!+#REF!+#REF!+#REF!+#REF!+#REF!+#REF!+#REF!+#REF!+#REF!+#REF!+#REF!+#REF!+#REF!+#REF!+#REF!+#REF!+#REF!+#REF!+#REF!+#REF!+#REF!+#REF!+#REF!+#REF!+Feb_Williams!J75+#REF!+#REF!+#REF!","v":{"$error":"#REF!"}},{"$f":"#REF!*0.5","v":{"$error":"#REF!"}},{"$f":"#REF!+#REF!+#REF!+#REF!+#REF!+#REF!+#REF!+#REF!+#REF!+#REF!+#REF!+#REF!+#REF!+#REF!+#REF!+#REF!+#REF!+#REF!+#REF!+#REF!+#REF!+#REF!+#REF!+#REF!+#REF!+#REF!+#REF!+#REF!+#REF!+#REF!+#REF!+Feb_Williams!L75+#REF!","v":{"$error":"#REF!"}},null,null,{"$f":"#REF!+#REF!+#REF!+#REF!+#REF!+#REF!+#REF!+#REF!+#REF!+#REF!+#REF!+#REF!+#REF!+#REF!+#REF!+#REF!+#REF!+#REF!+#REF!+#REF!+#REF!+#REF!+#REF!+#REF!+#REF!+#REF!+#REF!+#REF!+#REF!+#REF!+#REF!+Feb_Williams!O75+#REF!","v":{"$error":"#REF!"}},{"$f":"#REF!*0.5","v":{"$error":"#REF!"}},{"$f":"#REF!+#REF!+#REF!+#REF!+#REF!+#REF!+#REF!+#REF!+#REF!+#REF!+#REF!+#REF!+#REF!+#REF!+#REF!+#REF!+#REF!+#REF!+#REF!+#REF!+#REF!+#REF!+#REF!+#REF!+#REF!+#REF!+#REF!+#REF!+#REF!+#REF!+#REF!+Feb_Williams!Q75+#REF!","v":{"$error":"#REF!"}},null,null,{"$f":"#REF!+#REF!+#REF!+#REF!+#REF!+#REF!+#REF!+#REF!+#REF!+#REF!+#REF!+#REF!+#REF!+#REF!+#REF!+#REF!+#REF!+#REF!+#REF!+#REF!+#REF!+#REF!+#REF!+#REF!+#REF!+#REF!+#REF!+#REF!+#REF!+#REF!+#REF!+Feb_Williams!T75+#REF!","v":{"$error":"#REF!"}},{"$f":"#REF!*0.5","v":{"$error":"#REF!"}},{"$f":"#REF!+#REF!+#REF!+#REF!+#REF!+#REF!+#REF!+#REF!+#REF!+#REF!+#REF!+#REF!+#REF!+#REF!+#REF!+#REF!+#REF!+#REF!+#REF!+#REF!+#REF!+#REF!+#REF!+#REF!+#REF!+#REF!+#REF!+#REF!+#REF!+#REF!+#REF!+Feb_Williams!V75+#REF!","v":{"$error":"#REF!"}},{"$f":"#REF!+#REF!+#REF!+#REF!+#REF!+#REF!+#REF!+#REF!+#REF!+#REF!+#REF!+#REF!+#REF!+#REF!+#REF!+#REF!+#REF!+#REF!+#REF!+#REF!+#REF!+#REF!+#REF!+#REF!+#REF!+#REF!+#REF!+#REF!+#REF!+#REF!+#REF!+Feb_Williams!W75+#REF!","v":{"$error":"#REF!"}},{"$f":"#REF!*0.5","v":{"$error":"#REF!"}},{"$f":"#REF!+#REF!+#REF!+#REF!+#REF!+#REF!+#REF!+#REF!+#REF!+#REF!+#REF!+#REF!+#REF!+#REF!+#REF!+#REF!+#REF!+#REF!+#REF!+#REF!+#REF!+#REF!+#REF!+#REF!+#REF!+#REF!+#REF!+#REF!+#REF!+#REF!+#REF!+Feb_Williams!Y75+#REF!","v":{"$error":"#REF!"}},null,null,{"$error":"#REF!"},{"$error":"#REF!"},{"$error":"#REF!"},{"$error":"#REF!"}]
["State Subtotal",null,{"$f":"SUM(C7:C75)","v":{"$error":"#REF!"}},{"$f":"SUM(D7:D75)","v":{"$error":"#REF!"}},{"$f":"SUM(E7:E75)","v":{"$error":"#REF!"}},null,{"$f":"SUM(G7:G75)","v":{"$error":"#REF!"}},{"$f":"SUM(H7:H75)","v":{"$error":"#REF!"}},{"$f":"SUM(I7:I75)","v":{"$error":"#REF!"}},{"$f":"SUM(J7:J75)","v":{"$error":"#REF!"}},null,{"$f":"SUM(L7:L75)","v":{"$error":"#REF!"}},{"$f":"SUM(M7:M75)","v":0},{"$f":"SUM(N7:N75)","v":0},{"$f":"SUM(O7:O75)","v":{"$error":"#REF!"}},null,{"$f":"SUM(Q7:Q75)","v":{"$error":"#REF!"}},{"$f":"SUM(R7:R75)","v":0},{"$f":"SUM(S7:S75)","v":0},{"$f":"SUM(T7:T75)","v":{"$error":"#REF!"}},null,{"$f":"SUM(V7:V75)","v":{"$error":"#REF!"}},{"$f":"SUM(W7:W75)","v":{"$error":"#REF!"}},null,{"$f":"SUM(Y7:Y75)","v":{"$error":"#REF!"}},null,null,{"$error":"#REF!"},{"$error":"#REF!"},{"$error":"#REF!"},{"$error":"#REF!"}]
["FY2022-23 Feb MYA (3/4/23)",null,23673,23395,-278,null,-544398.84638151689,16883,16830,-53,null,-10146.514508556706,0,0,0,null,0,0,0,0,null,0,-554546,null,-862496]
[null,null,{"$f":"C76-C77","v":{"$error":"#REF!"}},{"$f":"D76-D77","v":{"$error":"#REF!"}},{"$error":"#REF!"},0,{"$error":"#REF!"},{"$error":"#REF!"},{"$error":"#REF!"},{"$error":"#REF!"},0,{"$error":"#REF!"},0,0,{"$error":"#REF!"},0,{"$error":"#REF!"},0,0,{"$error":"#REF!"},0,{"$error":"#REF!"},{"$error":"#REF!"},0,{"$error":"#REF!"}]
[null,null,"N/A","N/A","N/A"]
[null,null,"N/A","N/A","N/A"]
[null,null,"N/A","N/A","N/A"]
[]
[]
[]
[]
[]
[]
[]
[]
[null,"checks to SIS file (mlb) 3/4/23",{"$f":"C76=SUM([3]Base!$E$76:$AU$76)","v":{"$error":"#REF!"}},{"$f":"D76=SUM([4]Base!$E$7:$AU$75)","v":{"$error":"#REF!"}}]
[null,"checks to tabs in this file (mlb) 3/4/23",{"$f":"C76=#REF!+#REF!+#REF!+#REF!+#REF!+#REF!+#REF!+#REF!+#REF!+#REF!+#REF!+#REF!+#REF!+#REF!+#REF!+#REF!+#REF!+#REF!+#REF!+#REF!+#REF!+#REF!+#REF!+#REF!+#REF!+#REF!+#REF!+#REF!+#REF!+Feb_Williams!C76+#REF!+#REF!+#REF!+#REF!+#REF!","v":{"$error":"#REF!"}},{"$f":"D76=#REF!+#REF!+#REF!+#REF!+#REF!+#REF!+#REF!+#REF!+#REF!+#REF!+#REF!+#REF!+#REF!+#REF!+#REF!+#REF!+#REF!+#REF!+#REF!+#REF!+#REF!+#REF!+#REF!+#REF!+#REF!+#REF!+#REF!+#REF!+#REF!+Feb_Williams!D76+#REF!+#REF!+#REF!+#REF!+#REF!","v":{"$error":"#REF!"}}]
[null,"checks to Oct_MidYear Adj (mlb) 3/4/23",{"$f":"'Feb_MidYear Adj'!D132=C76","v":{"$error":"#REF!"}},{"$f":"'Feb_MidYear Adj'!E132=D76","v":{"$error":"#REF!"}}]

{"sheet":"Feb_OPSB Breakout","index":2,"n_rows":101,"n_cols":8,"rows_kept":101,"cut":false,"hidden":true,"merged":[[0,0,0,2],[0,3,1,3],[0,4,1,4],[0,9,2,9]]}
["School\nSystem",null,null,"Oct. 1, 2022\nMFP Funded\nMembership\n\n(Per SIS)","Feb. 1, 2023\nMFP Funded\nMembership\n\n(Per SIS)","Change in\nMFP Funded\nMembership","City/Parish\nPer Pupil\n\n(After\nState Cost\nAllocations to\nOther Public\nSchools)","Change in\nTotal\nState Cost\nAllocation"]
[]
[]
[null,null,null,1,{"$f":"D4+1","v":2},{"$f":"E4+1","v":3},{"$f":"F4+1","v":4},{"$f":"G4+1","v":5}]
[]
[null,null,null,"Input","Per Pupil ($E$3)\nResolution","Input","Per Pupil ($I$3)\nResolution","Formula"]
[36,36,"Orleans Direct Run",{"$f":"VLOOKUP($A7,[3]OPSB!$A$3:$I$74,4,FALSE)","v":2459},{"$f":"VLOOKUP($A7,[4]OPSB!$A$3:$I$74,4,FALSE)","v":2573},{"$f":"E7-D7","v":114},{"$f":"#REF!*0.5","v":{"$error":"#REF!"}},{"$f":"ROUND(F7*G7,0)","v":{"$error":"#REF!"}}]
["W21001",390001,"James M. Singleton Charter School",{"$f":"VLOOKUP($A8,[3]OPSB!$A$3:$I$74,4,FALSE)","v":{"$error":"#N/A"}},{"$f":"VLOOKUP($A8,[4]OPSB!$A$3:$I$74,4,FALSE)","v":{"$error":"#N/A"}},{"$f":"E8-D8","v":{"$error":"#N/A"}},{"$f":"#REF!*0.5","v":{"$error":"#REF!"}},{"$f":"ROUND(F8*G8,0)","v":{"$error":"#N/A"}}]
["W31001","W31001","Dr. Martin Luther King Charter School for Sci Tech",{"$f":"VLOOKUP($A9,[3]OPSB!$A$3:$I$74,4,FALSE)","v":768},{"$f":"VLOOKUP($A9,[4]OPSB!$A$3:$I$74,4,FALSE)","v":776},8,{"$f":"#REF!*0.5","v":{"$error":"#REF!"}},{"$error":"#REF!"}]
["W62001",395005,"Lord Beaconsfield Landry High School",{"$f":"VLOOKUP($A10,[3]OPSB!$A$3:$I$74,4,FALSE)","v":471},{"$f":"VLOOKUP($A10,[4]OPSB!$A$3:$I$74,4,FALSE)","v":592},121,{"$f":"#REF!*0.5","v":{"$error":"#REF!"}},{"$error":"#REF!"}]
["W66001",395001,"Martin Behrman Charter Acad of Creative Arts & Sci",{"$f":"VLOOKUP($A11,[3]OPSB!$A$3:$I$74,4,FALSE)","v":755},{"$f":"VLOOKUP($A11,[4]OPSB!$A$3:$I$74,4,FALSE)","v":767},12,{"$f":"#REF!*0.5","v":{"$error":"#REF!"}},{"$error":"#REF!"}]
["W71001",397001,"Sophie B. Wright Institute of Academic Excellence",{"$f":"VLOOKUP($A12,[3]OPSB!$A$3:$I$74,4,FALSE)","v":548},{"$f":"VLOOKUP($A12,[4]OPSB!$A$3:$I$74,4,FALSE)","v":536},-12,{"$f":"#REF!*0.5","v":{"$error":"#REF!"}},{"$error":"#REF!"}]
["W81001",398002,"KIPP Morial",{"$f":"VLOOKUP($A13,[3]OPSB!$A$3:$I$74,4,FALSE)","v":929},{"$f":"VLOOKUP($A13,[4]OPSB!$A$3:$I$74,4,FALSE)","v":920},-9,{"$f":"#REF!*0.5","v":{"$error":"#REF!"}},{"$error":"#REF!"}]
["W82001",398001,"KIPP Believe",{"$f":"VLOOKUP($A14,[3]OPSB!$A$3:$I$74,4,FALSE)","v":710},{"$f":"VLOOKUP($A14,[4]OPSB!$A$3:$I$74,4,FALSE)","v":716},6,{"$f":"#REF!*0.5","v":{"$error":"#REF!"}},{"$error":"#REF!"}]
["W84001",398005,"Frederick A. Douglass High School",{"$f":"VLOOKUP($A15,[3]OPSB!$A$3:$I$74,4,FALSE)","v":648},{"$f":"VLOOKUP($A15,[4]OPSB!$A$3:$I$74,4,FALSE)","v":629},-19,{"$f":"#REF!*0.5","v":{"$error":"#REF!"}},{"$error":"#REF!"}]
["W85001",398006,"KIPP Leadership",{"$f":"VLOOKUP($A16,[3]OPSB!$A$3:$I$74,4,FALSE)","v":876},{"$f":"VLOOKUP($A16,[4]OPSB!$A$3:$I$74,4,FALSE)","v":865},-11,{"$f":"#REF!*0.5","v":{"$error":"#REF!"}},{"$error":"#REF!"}]
["W86001",398007,"KIPP East",{"$f":"VLOOKUP($A17,[3]OPSB!$A$3:$I$74,4,FALSE)","v":890},{"$f":"VLOOKUP($A17,[4]OPSB!$A$3:$I$74,4,FALSE)","v":894},4,{"$f":"#REF!*0.5","v":{"$error":"#REF!"}},{"$error":"#REF!"}]
["W87001",398008,"Booker T. Washington High School",{"$f":"VLOOKUP($A18,[3]OPSB!$A$3:$I$74,4,FALSE)","v":599},{"$f":"VLOOKUP($A18,[4]OPSB!$A$3:$I$74,4,FALSE)","v":574},-25,{"$f":"#REF!*0.5","v":{"$error":"#REF!"}},{"$error":"#REF!"}]
["W91001",399001,"Samuel J. Green Charter School",{"$f":"VLOOKUP($A19,[3]OPSB!$A$3:$I$74,4,FALSE)","v":512},{"$f":"VLOOKUP($A19,[4]OPSB!$A$3:$I$74,4,FALSE)","v":533},21,{"$f":"#REF!*0.5","v":{"$error":"#REF!"}},{"$error":"#REF!"}]
["W92001",399002,"Arthur Ashe Charter School",{"$f":"VLOOKUP($A20,[3]OPSB!$A$3:$I$74,4,FALSE)","v":756},{"$f":"VLOOKUP($A20,[4]OPSB!$A$3:$I$74,4,FALSE)","v":763},7,{"$f":"#REF!*0.5","v":{"$error":"#REF!"}},{"$error":"#REF!"}]
["W94001",399004,"Phillis Wheatley Community School",{"$f":"VLOOKUP($A21,[3]OPSB!$A$3:$I$74,4,FALSE)","v":729},{"$f":"VLOOKUP($A21,[4]OPSB!$A$3:$I$74,4,FALSE)","v":768},39,{"$f":"#REF!*0.5","v":{"$error":"#REF!"}},{"$error":"#REF!"}]
["W95001",399005,"Langston Hughes Charter Academy",{"$f":"VLOOKUP($A22,[3]OPSB!$A$3:$I$74,4,FALSE)","v":750},{"$f":"VLOOKUP($A22,[4]OPSB!$A$3:$I$74,4,FALSE)","v":747},-3,{"$f":"#REF!*0.5","v":{"$error":"#REF!"}},{"$error":"#REF!"}]
["WAA001",368001,"Morris Jeff Community School",{"$f":"VLOOKUP($A23,[3]OPSB!$A$3:$I$74,4,FALSE)","v":1376},{"$f":"VLOOKUP($A23,[4]OPSB!$A$3:$I$74,4,FALSE)","v":1367},-9,{"$f":"#REF!*0.5","v":{"$error":"#REF!"}},{"$error":"#REF!"}]
["WAE001",364001,"Fannie C. Williams Charter School",{"$f":"VLOOKUP($A24,[3]OPSB!$A$3:$I$74,4,FALSE)","v":409},{"$f":"VLOOKUP($A24,[4]OPSB!$A$3:$I$74,4,FALSE)","v":422},13,{"$f":"#REF!*0.5","v":{"$error":"#REF!"}},{"$error":"#REF!"}]
["WAF001",363001,"Harriet Tubman Charter School",{"$f":"VLOOKUP($A25,[3]OPSB!$A$3:$I$74,4,FALSE)","v":832},{"$f":"VLOOKUP($A25,[4]OPSB!$A$3:$I$74,4,FALSE)","v":839},7,{"$f":"#REF!*0.5","v":{"$error":"#REF!"}},{"$error":"#REF!"}]
["WAH001",360001,"The NET Charter High School",{"$f":"VLOOKUP($A26,[3]OPSB!$A$3:$I$74,4,FALSE)","v":155},{"$f":"VLOOKUP($A26,[4]OPSB!$A$3:$I$74,4,FALSE)","v":167},12,{"$f":"#REF!*0.5","v":{"$error":"#REF!"}},{"$error":"#REF!"}]
["WAM001",363002,"Paul Habans Charter School",{"$f":"VLOOKUP($A27,[3]OPSB!$A$3:$I$74,4,FALSE)","v":795},{"$f":"VLOOKUP($A27,[4]OPSB!$A$3:$I$74,4,FALSE)","v":805},10,{"$f":"#REF!*0.5","v":{"$error":"#REF!"}},{"$error":"#REF!"}]
["WAZ001","WAZ001","Audubon Charter School",{"$f":"VLOOKUP($A28,[3]OPSB!$A$3:$I$74,4,FALSE)","v":920},{"$f":"VLOOKUP($A28,[4]OPSB!$A$3:$I$74,4,FALSE)","v":910},-10,{"$f":"#REF!*0.5","v":{"$error":"#REF!"}},{"$error":"#REF!"}]
["WBA001","WBA001","Einstein Charter School at Village De L'Est",{"$f":"VLOOKUP($A29,[3]OPSB!$A$3:$I$74,4,FALSE)","v":401},{"$f":"VLOOKUP($A29,[4]OPSB!$A$3:$I$74,4,FALSE)","v":393},-8,{"$f":"#REF!*0.5","v":{"$error":"#REF!"}},{"$error":"#REF!"}]
["WBB001","WBB001","Benjamin Franklin High School",{"$f":"VLOOKUP($A30,[3]OPSB!$A$3:$I$74,4,FALSE)","v":1056},{"$f":"VLOOKUP($A30,[4]OPSB!$A$3:$I$74,4,FALSE)","v":1049},-7,{"$f":"#REF!*0.5","v":{"$error":"#REF!"}},{"$error":"#REF!"}]
["WBC001","WBC001","Alice M Harte Elementary Charter School",{"$f":"VLOOKUP($A31,[3]OPSB!$A$3:$I$74,4,FALSE)","v":701},{"$f":"VLOOKUP($A31,[4]OPSB!$A$3:$I$74,4,FALSE)","v":698},-3,{"$f":"#REF!*0.5","v":{"$error":"#REF!"}},{"$error":"#REF!"}]
["WBD001","WBD001","Edna Karr High School",{"$f":"VLOOKUP($A32,[3]OPSB!$A$3:$I$74,4,FALSE)","v":1118},{"$f":"VLOOKUP($A32,[4]OPSB!$A$3:$I$74,4,FALSE)","v":1107},-11,{"$f":"#REF!*0.5","v":{"$error":"#REF!"}},{"$error":"#REF!"}]
["WBE001","WBE001","Lusher Charter School",{"$f":"VLOOKUP($A33,[3]OPSB!$A$3:$I$74,4,FALSE)","v":2068},{"$f":"VLOOKUP($A33,[4]OPSB!$A$3:$I$74,4,FALSE)","v":2058},-10,{"$f":"#REF!*0.5","v":{"$error":"#REF!"}},{"$error":"#REF!"}]
["WBF001","WBF001","Eleanor McMain Secondary School",{"$f":"VLOOKUP($A34,[3]OPSB!$A$3:$I$74,4,FALSE)","v":716},{"$f":"VLOOKUP($A34,[4]OPSB!$A$3:$I$74,4,FALSE)","v":692},-24,{"$f":"#REF!*0.5","v":{"$error":"#REF!"}},{"$error":"#REF!"}]
["WBG001","WBG001","Robert Russa Moton Charter School",{"$f":"VLOOKUP($A35,[3]OPSB!$A$3:$I$74,4,FALSE)","v":344},{"$f":"VLOOKUP($A35,[4]OPSB!$A$3:$I$74,4,FALSE)","v":333},-11,{"$f":"#REF!*0.5","v":{"$error":"#REF!"}},{"$error":"#REF!"}]
["WBH001","WBH001","Lake Forest Elementary Charter School",{"$f":"VLOOKUP($A36,[3]OPSB!$A$3:$I$74,4,FALSE)","v":656},{"$f":"VLOOKUP($A36,[4]OPSB!$A$3:$I$74,4,FALSE)","v":652},-4,{"$f":"#REF!*0.5","v":{"$error":"#REF!"}},{"$error":"#REF!"}]
["WBI001","WBI001","New Orleans Charter Science and Mathematics HS",{"$f":"VLOOKUP($A37,[3]OPSB!$A$3:$I$74,4,FALSE)","v":612},{"$f":"VLOOKUP($A37,[4]OPSB!$A$3:$I$74,4,FALSE)","v":591},-21,{"$f":"#REF!*0.5","v":{"$error":"#REF!"}},{"$error":"#REF!"}]
["WBJ001","WBJ001","ENCORE Academy",{"$f":"VLOOKUP($A38,[3]OPSB!$A$3:$I$74,4,FALSE)","v":0},{"$f":"VLOOKUP($A38,[4]OPSB!$A$3:$I$74,4,FALSE)","v":0},0,{"$f":"#REF!*0.5","v":{"$error":"#REF!"}},{"$error":"#REF!"}]
["WBK001","WBK001","Bricolage Academy",{"$f":"VLOOKUP($A39,[3]OPSB!$A$3:$I$74,4,FALSE)","v":884},{"$f":"VLOOKUP($A39,[4]OPSB!$A$3:$I$74,4,FALSE)","v":903},19,{"$f":"#REF!*0.5","v":{"$error":"#REF!"}},{"$error":"#REF!"}]
["WBL001","WBL001","Wilson Charter School",{"$f":"VLOOKUP($A40,[3]OPSB!$A$3:$I$74,4,FALSE)","v":577},{"$f":"VLOOKUP($A40,[4]OPSB!$A$3:$I$74,4,FALSE)","v":574},{"$f":"E40-D40","v":-3},{"$f":"#REF!*0.5","v":{"$error":"#REF!"}},{"$f":"ROUND(F40*G40,0)","v":{"$error":"#REF!"}}]
["WBM001","WBM001","Einstein Charter High School at Sarah Towles Reed",{"$f":"VLOOKUP($A41,[3]OPSB!$A$3:$I$74,4,FALSE)","v":379},{"$f":"VLOOKUP($A41,[4]OPSB!$A$3:$I$74,4,FALSE)","v":369},-10,{"$f":"#REF!*0.5","v":{"$error":"#REF!"}},{"$error":"#REF!"}]
["WBN001","WBN001","Einstein Charter Middle Sch at Sarah Towles Reed",{"$f":"VLOOKUP($A42,[3]OPSB!$A$3:$I$74,4,FALSE)","v":265},{"$f":"VLOOKUP($A42,[4]OPSB!$A$3:$I$74,4,FALSE)","v":277},12,{"$f":"#REF!*0.5","v":{"$error":"#REF!"}},{"$error":"#REF!"}]
["WBO001","WBO001","Einstein Charter at Sherwood Forest",{"$f":"VLOOKUP($A43,[3]OPSB!$A$3:$I$74,4,FALSE)","v":343},{"$f":"VLOOKUP($A43,[4]OPSB!$A$3:$I$74,4,FALSE)","v":345},2,{"$f":"#REF!*0.5","v":{"$error":"#REF!"}},{"$error":"#REF!"}]
["WBP001","WBP001","McDonogh 42 Charter School",{"$f":"VLOOKUP($A44,[3]OPSB!$A$3:$I$74,4,FALSE)","v":606},{"$f":"VLOOKUP($A44,[4]OPSB!$A$3:$I$74,4,FALSE)","v":581},-25,{"$f":"#REF!*0.5","v":{"$error":"#REF!"}},{"$error":"#REF!"}]
["WBS001",399006,"FirstLine Live Oak",{"$f":"VLOOKUP($A45,[3]OPSB!$A$3:$I$74,4,FALSE)","v":{"$error":"#N/A"}},{"$f":"VLOOKUP($A45,[4]OPSB!$A$3:$I$74,4,FALSE)","v":{"$error":"#N/A"}},{"$error":"#N/A"},{"$f":"#REF!*0.5","v":{"$error":"#REF!"}},{"$error":"#N/A"}]
["WBT001","WBT001","Audubon Charter School - Gentilly",{"$f":"VLOOKUP($A46,[3]OPSB!$A$3:$I$74,4,FALSE)","v":414},{"$f":"VLOOKUP($A46,[4]OPSB!$A$3:$I$74,4,FALSE)","v":404},-10,{"$f":"#REF!*0.5","v":{"$error":"#REF!"}},{"$error":"#REF!"}]
["WBU001","WBU001","Rosenwald Collegiate Academy",{"$f":"VLOOKUP($A47,[3]OPSB!$A$3:$I$74,4,FALSE)","v":359},{"$f":"VLOOKUP($A47,[4]OPSB!$A$3:$I$74,4,FALSE)","v":380},21,{"$f":"#REF!*0.5","v":{"$error":"#REF!"}},{"$error":"#REF!"}]
["WBV001","WBV001","Dwight D. Eisenhower Charter School",{"$f":"VLOOKUP($A48,[3]OPSB!$A$3:$I$74,4,FALSE)","v":579},{"$f":"VLOOKUP($A48,[4]OPSB!$A$3:$I$74,4,FALSE)","v":580},1,{"$f":"#REF!*0.5","v":{"$error":"#REF!"}},{"$error":"#REF!"}]
["WBW001","WBW001","Living School",{"$f":"VLOOKUP($A49,[3]OPSB!$A$3:$I$74,4,FALSE)","v":179},{"$f":"VLOOKUP($A49,[4]OPSB!$A$3:$I$74,4,FALSE)","v":169},-10,{"$f":"#REF!*0.5","v":{"$error":"#REF!"}},{"$error":"#REF!"}]
["WBZ001","WBZ001","McDonogh 35 Senior High School",{"$f":"VLOOKUP($A50,[3]OPSB!$A$3:$I$74,4,FALSE)","v":846},{"$f":"VLOOKUP($A50,[4]OPSB!$A$3:$I$74,4,FALSE)","v":837},-9,{"$f":"#REF!*0.5","v":{"$error":"#REF!"}},{"$error":"#REF!"}]
["WC2001","WC2001","Opportunities Academy",{"$f":"VLOOKUP($A51,[3]OPSB!$A$3:$I$74,4,FALSE)","v":78},{"$f":"VLOOKUP($A51,[4]OPSB!$A$3:$I$74,4,FALSE)","v":77},-1,{"$f":"#REF!*0.5","v":{"$error":"#REF!"}},{"$error":"#REF!"}]
["WC3001","WC3001","IDEA Oscar Dunn",{"$f":"VLOOKUP($A52,[3]OPSB!$A$3:$I$74,4,FALSE)","v":{"$error":"#N/A"}},{"$f":"VLOOKUP($A52,[4]OPSB!$A$3:$I$74,4,FALSE)","v":{"$error":"#N/A"}},{"$error":"#N/A"},{"$f":"#REF!*0.5","v":{"$error":"#REF!"}},{"$error":"#N/A"}]
["WE2001",385002,"Walter L. Cohen College Prep",{"$f":"VLOOKUP($A53,[3]OPSB!$A$3:$I$74,4,FALSE)","v":0},{"$f":"VLOOKUP($A53,[4]OPSB!$A$3:$I$74,4,FALSE)","v":0},0,{"$f":"#REF!*0.5","v":{"$error":"#REF!"}},{"$error":"#REF!"}]
["WI1001",381001,"Akili Academy of New Orleans",{"$f":"VLOOKUP($A54,[3]OPSB!$A$3:$I$74,4,FALSE)","v":0},{"$f":"VLOOKUP($A54,[4]OPSB!$A$3:$I$74,4,FALSE)","v":0},0,{"$f":"#REF!*0.5","v":{"$error":"#REF!"}},{"$error":"#REF!"}]
["WJ1001",382001,"Abramson Sci Academy",{"$f":"VLOOKUP($A55,[3]OPSB!$A$3:$I$74,4,FALSE)","v":654},{"$f":"VLOOKUP($A55,[4]OPSB!$A$3:$I$74,4,FALSE)","v":639},-15,{"$f":"#REF!*0.5","v":{"$error":"#REF!"}},{"$error":"#REF!"}]
["WJ2001",382002,"G W Carver High School",{"$f":"VLOOKUP($A56,[3]OPSB!$A$3:$I$74,4,FALSE)","v":767},{"$f":"VLOOKUP($A56,[4]OPSB!$A$3:$I$74,4,FALSE)","v":740},-27,{"$f":"#REF!*0.5","v":{"$error":"#REF!"}},{"$error":"#REF!"}]
["WJ4001",382004,"Livingston Collegiate Academy",{"$f":"VLOOKUP($A57,[3]OPSB!$A$3:$I$74,4,FALSE)","v":590},{"$f":"VLOOKUP($A57,[4]OPSB!$A$3:$I$74,4,FALSE)","v":577},-13,{"$f":"#REF!*0.5","v":{"$error":"#REF!"}},{"$error":"#REF!"}]
["WL1001",398004,"KIPP Central City",{"$f":"VLOOKUP($A58,[3]OPSB!$A$3:$I$74,4,FALSE)","v":795},{"$f":"VLOOKUP($A58,[4]OPSB!$A$3:$I$74,4,FALSE)","v":814},19,{"$f":"#REF!*0.5","v":{"$error":"#REF!"}},{"$error":"#REF!"}]
["WU1001",374001,"Success @ Thurgood Marshall",{"$f":"VLOOKUP($A59,[3]OPSB!$A$3:$I$74,4,FALSE)","v":422},{"$f":"VLOOKUP($A59,[4]OPSB!$A$3:$I$74,4,FALSE)","v":430},8,{"$f":"#REF!*0.5","v":{"$error":"#REF!"}},{"$error":"#REF!"}]
["WV1001",373001,"Arise Academy",{"$f":"VLOOKUP($A60,[3]OPSB!$A$3:$I$74,4,FALSE)","v":{"$error":"#N/A"}},{"$f":"VLOOKUP($A60,[4]OPSB!$A$3:$I$74,4,FALSE)","v":{"$error":"#N/A"}},{"$error":"#N/A"},{"$f":"#REF!*0.5","v":{"$error":"#REF!"}},{"$error":"#N/A"}]
["WV2001",373002,"Mildred Osborne Charter School",{"$f":"VLOOKUP($A61,[3]OPSB!$A$3:$I$74,4,FALSE)","v":0},{"$f":"VLOOKUP($A61,[4]OPSB!$A$3:$I$74,4,FALSE)","v":0},0,{"$f":"#REF!*0.5","v":{"$error":"#REF!"}},{"$error":"#REF!"}]
["WZ2001",369002,"ReNEW SciTech Academy at Laurel",{"$f":"VLOOKUP($A62,[3]OPSB!$A$3:$I$74,4,FALSE)","v":729},{"$f":"VLOOKUP($A62,[4]OPSB!$A$3:$I$74,4,FALSE)","v":801},72,{"$f":"#REF!*0.5","v":{"$error":"#REF!"}},{"$error":"#REF!"}]
["WZ3001",369003,"ReNEW Dolores T. Aaron Elementary",{"$f":"VLOOKUP($A63,[3]OPSB!$A$3:$I$74,4,FALSE)","v":685},{"$f":"VLOOKUP($A63,[4]OPSB!$A$3:$I$74,4,FALSE)","v":675},-10,{"$f":"#REF!*0.5","v":{"$error":"#REF!"}},{"$error":"#REF!"}]
["WZ6001",369006,"ReNEW Schaumburg Elementary",{"$f":"VLOOKUP($A64,[3]OPSB!$A$3:$I$74,4,FALSE)","v":613},{"$f":"VLOOKUP($A64,[4]OPSB!$A$3:$I$74,4,FALSE)","v":615},2,{"$f":"#REF!*0.5","v":{"$error":"#REF!"}},{"$error":"#REF!"}]
["WZ9001",360002,"The NET 2 Charter High School",{"$f":"VLOOKUP($A65,[3]OPSB!$A$3:$I$74,4,FALSE)","v":120},{"$f":"VLOOKUP($A65,[4]OPSB!$A$3:$I$74,4,FALSE)","v":135},15,{"$f":"#REF!*0.5","v":{"$error":"#REF!"}},{"$error":"#REF!"}]
["WZA001",360003,"New Orleans Accelerated High School",{"$f":"VLOOKUP($A66,[3]OPSB!$A$3:$I$74,4,FALSE)","v":203},{"$f":"VLOOKUP($A66,[4]OPSB!$A$3:$I$74,4,FALSE)","v":182},-21,{"$f":"#REF!*0.5","v":{"$error":"#REF!"}},{"$error":"#REF!"}]
["WZB001","WZB001","Warren Easton Charter High School",{"$f":"VLOOKUP($A67,[3]OPSB!$A$3:$I$74,4,FALSE)","v":1128},{"$f":"VLOOKUP($A67,[4]OPSB!$A$3:$I$74,4,FALSE)","v":1105},-23,{"$f":"#REF!*0.5","v":{"$error":"#REF!"}},{"$error":"#REF!"}]
["WZC001","3C2001","Edward Hynes Charter School - Lakeview",{"$f":"VLOOKUP($A68,[3]OPSB!$A$3:$I$74,4,FALSE)","v":720},{"$f":"VLOOKUP($A68,[4]OPSB!$A$3:$I$74,4,FALSE)","v":717},-3,{"$f":"#REF!*0.5","v":{"$error":"#REF!"}},{"$error":"#REF!"}]
["WZD001","3C2002","Edward Hynes Charter School - UNO",{"$f":"VLOOKUP($A69,[3]OPSB!$A$3:$I$74,4,FALSE)","v":499},{"$f":"VLOOKUP($A69,[4]OPSB!$A$3:$I$74,4,FALSE)","v":496},-3,{"$f":"#REF!*0.5","v":{"$error":"#REF!"}},{"$error":"#REF!"}]
["WZE001",398009,"John F. Kennedy High School",{"$f":"VLOOKUP($A70,[3]OPSB!$A$3:$I$74,4,FALSE)","v":590},{"$f":"VLOOKUP($A70,[4]OPSB!$A$3:$I$74,4,FALSE)","v":575},-15,{"$f":"#REF!*0.5","v":{"$error":"#REF!"}},{"$error":"#REF!"}]
["WZF001","WZF001","Pierre A. Capdau Charter School",{"$f":"VLOOKUP($A71,[3]OPSB!$A$3:$I$74,4,FALSE)","v":0},{"$f":"VLOOKUP($A71,[4]OPSB!$A$3:$I$74,4,FALSE)","v":{"$error":"#N/A"}},{"$error":"#N/A"},{"$f":"#REF!*0.5","v":{"$error":"#REF!"}},{"$error":"#N/A"}]
["WZG001","3C3001","Foundation Preparatory Academy",{"$f":"VLOOKUP($A72,[3]OPSB!$A$3:$I$74,4,FALSE)","v":204},{"$f":"VLOOKUP($A72,[4]OPSB!$A$3:$I$74,4,FALSE)","v":205},{"$f":"E72-D72","v":1},{"$f":"#REF!*0.5","v":{"$error":"#REF!"}},{"$f":"ROUND(F72*G72,0)","v":{"$error":"#REF!"}}]
["WZH001","3C3002","Lafayette Academy Charter School",{"$f":"VLOOKUP($A73,[3]OPSB!$A$3:$I$74,4,FALSE)","v":476},{"$f":"VLOOKUP($A73,[4]OPSB!$A$3:$I$74,4,FALSE)","v":475},-1,{"$f":"#REF!*0.5","v":{"$error":"#REF!"}},{"$error":"#REF!"}]
["WZJ001",null,"Hynes Parkview",{"$f":"VLOOKUP($A74,[3]OPSB!$A$3:$I$74,4,FALSE)","v":504},{"$f":"VLOOKUP($A74,[4]OPSB!$A$3:$I$74,4,FALSE)","v":500},{"$f":"E74-D74","v":-4},{"$f":"#REF!*0.5","v":{"$error":"#REF!"}},{"$f":"ROUND(F74*G74,0)","v":{"$error":"#REF!"}}]
["WZK001",null,"Homer Plessy Community School",{"$f":"VLOOKUP($A75,[3]OPSB!$A$3:$I$74,4,FALSE)","v":694},{"$f":"VLOOKUP($A75,[4]OPSB!$A$3:$I$74,4,FALSE)","v":701},7,{"$f":"#REF!*0.5","v":{"$error":"#REF!"}},{"$error":"#REF!"}]
["WZL001",null,"YACS at Lawrence D. Crocker",{"$f":"VLOOKUP($A76,[3]OPSB!$A$3:$I$74,4,FALSE)","v":425},{"$f":"VLOOKUP($A76,[4]OPSB!$A$3:$I$74,4,FALSE)","v":424},{"$f":"E76-D76","v":-1},{"$f":"#REF!*0.5","v":{"$error":"#REF!"}},{"$f":"ROUND(F76*G76,0)","v":{"$error":"#REF!"}}]
["WZM001",null,"Rooted School",{"$f":"VLOOKUP($A77,[3]OPSB!$A$3:$I$74,4,FALSE)","v":131},{"$f":"VLOOKUP($A77,[4]OPSB!$A$3:$I$74,4,FALSE)","v":133},2,{"$f":"#REF!*0.5","v":{"$error":"#REF!"}},{"$error":"#REF!"}]
["WZI001","3C3003","Esperanza Charter School",{"$f":"VLOOKUP($A78,[3]OPSB!$A$3:$I$74,4,FALSE)","v":480},{"$f":"VLOOKUP($A78,[4]OPSB!$A$3:$I$74,4,FALSE)","v":497},17,{"$f":"#REF!*0.5","v":{"$error":"#REF!"}},{"$error":"#REF!"}]
[null,null,"Placeholder for Closed LEAs",null,null,0,{"$f":"#REF!*0.5","v":{"$error":"#REF!"}},{"$error":"#REF!"}]
[null,null,"Total Orleans Parish",{"$f":"SUM(D7:D79)","v":{"$error":"#N/A"}},{"$f":"SUM(E7:E79)","v":{"$error":"#N/A"}},{"$f":"SUM(F7:F79)","v":{"$error":"#N/A"}},{"$f":"#REF!*0.5","v":{"$error":"#REF!"}},{"$f":"SUM(H7:H79)","v":{"$error":"#REF!"}}]
["FY2022-23 Feb MYA (3/4/23)",null,null,42609,42541,-68,2398,-163064]
[]
[]
[]
[]
[]
[]
[]
[]
[]
[]
[]
[null,null,"checks to SIS file (mlb) 3/4/23",{"$f":"D80=[3]OPSB!$D$75","v":{"$error":"#N/A"}},{"$f":"E80=[4]OPSB!$D$75","v":{"$error":"#N/A"}}]
[null,null,"checks to tabs in this file (mlb) 3/4/23","n/a","n/a"]
[null,null,"checks to Oct_MidYear Adj (mlb) 3/4/23",{"$f":"D80='Feb_MidYear Adj'!D42","v":{"$error":"#N/A"}},{"$f":"E80='Feb_MidYear Adj'!E42","v":{"$error":"#N/A"}}]
[]
[]
[]
[]
[]
[null,null,null,"DB 3/7/23","DB 3/7/23",null,"DB 3/7/23","DB 3/7/23"]

{"sheet":"Oct_MidYear Adj","index":3,"n_rows":141,"n_cols":14,"rows_kept":141,"cut":false,"hidden":false,"merged":[[0,0,0,2]]}
["School\nSystem",null,null,"Feb. 1, 2023\nMFP Funded\nMembership\n(Per SIS)\n\n*Includes students from closed Type 2 Charter Schools as placeholder","Oct. 1, 2023\nMFP Funded\nMembership\n\n(Per SIS)","Change in\nMFP Funded\nMembership\n\n(Feb. 1, 2023\nto\nOct. 1, 2023)","MFP Funded\nMembership\nIncreases","MFP Funded\nMembership\nDecreases","City/Parish\nPer Pupil\n\n(After State\nCost Allocations\nto Other Public\nSchools)","Change in\nTotal\nState Cost\nAllocation","Total\nState Cost\nAllocation\nIncreases","Total\nState Cost\nAllocation\nDecreases","Final\nFY2023-24\nLocal Revenue\nRepresentation\nPer Pupil\n(per charter law)","Change in\nLocal Revenue\nRepresentation"]
[]
[]
[null,null,null,1,2,3,4,5,4,5,6,7,6,7]
[null,null,null,"C1","C1","C2-C1","If C3>0,C3,0","If C3<0,C3,0","C14","C3*C4","If C5>0,C5,0","If C5<0,C5,0"]
[null,null,null,"Link to SIS","Link to SIS","Formula","Formult","Formula","Link to Per Pupil Summary","Formula","Input","Per Pupil ($L$3)\nResolution"]
[1,1,"Acadia",8804,8811,7,7,0,6229,43603,43603,0]
[2,2,"Allen",3787,3716,-71,0,-71,7418,-526678,0,-526678]
[3,3,"Ascension",23353,23464,111,111,0,4907,544677,544677,0]
[4,4,"Assumption",2698,2609,-89,0,-89,6780,-603420,0,-603420]
[5,5,"Avoyelles",4722,4714,-8,0,-8,6682,-53456,0,-53456]
[6,6,"Beauregard",5472,5517,45,45,0,6124,275580,275580,0]
[7,7,"Bienville",1825,1790,-35,0,-35,4596,-160860,0,-160860]
[8,8,"Bossier",22060,21902,-158,0,-158,6027,-952266,0,-952266]
[9,9,"Caddo",33178,32407,-771,0,-771,5427,-4184217,0,-4184217]
[10,10,"Calcasieu",27094,27367,273,273,0,4381,1196013,1196013,0]
[11,11,"Caldwell",1445,1423,-22,0,-22,8114,-178508,0,-178508]
[12,12,"Cameron",1046,1063,17,17,0,2800,47600,47600,0]
[13,13,"Catahoula",959,908,-51,0,-51,7470,-380970,0,-380970]
[14,14,"Claiborne",1592,1552,-40,0,-40,8014,-320560,0,-320560]
[15,15,"Concordia",2813,2814,1,1,0,6975,6975,6975,0]
[16,16,"DeSoto",4708,4698,-10,0,-10,3190,-31900,0,-31900]
[17,17,"East Baton Rouge",38734,38728,-6,0,-6,4158,-24948,0,-24948]
[18,18,"East Carroll",752,726,-26,0,-26,7386,-192036,0,-192036]
[19,19,"East Feliciana",1582,1596,14,14,0,5631,78834,78834,0]
[20,20,"Evangeline",5291,5209,-82,0,-82,7079,-580478,0,-580478]
[21,21,"Franklin",2578,2463,-115,0,-115,7430,-854450,0,-854450]
[22,22,"Grant",2676,2699,23,23,0,7959,183057,183057,0]
[23,23,"Iberia",10861,10699,-162,0,-162,6271,-1015902,0,-1015902]
[24,24,"Iberville",3932,3748,-184,0,-184,2858,-525872,0,-525872]
[25,25,"Jackson",2026,1979,-47,0,-47,6241,-293327,0,-293327]
[26,26,"Jefferson",45810,45817,7,7,0,4758,33306,33306,0]
[27,27,"Jefferson Davis",5120,5108,-12,0,-12,6841,-82092,0,-82092]
[28,28,"Lafayette",30342,29444,-898,0,-898,4677,-4199946,0,-4199946]
[29,29,"Lafourche",13093,13079,-14,0,-14,5642,-78988,0,-78988]
[30,30,"LaSalle",2389,2388,-1,0,-1,7002,-7002,0,-7002]
[31,31,"Lincoln",5579,5624,45,45,0,5550,249750,249750,0]
[32,32,"Livingston",26237,26528,291,291,0,6738,1960758,1960758,0]
[33,33,"Madison",1172,1177,5,5,0,6669,33345,33345,0]
[34,34,"Morehouse",3107,3102,-5,0,-5,7083,-35415,0,-35415]
[35,35,"Natchitoches",4974,4797,-177,0,-177,5425,-960225,0,-960225]
[36,36,"Orleans",42541,42271,-270,0,-270,4733,-1277910,0,-1277910]
[37,37,"Ouachita",17597,17302,-295,0,-295,6385,-1883575,0,-1883575]
[38,38,"Plaquemines",3551,3556,5,5,0,3257,16285,16285,0]
[39,39,"Pointe Coupee",2375,2245,-130,0,-130,4244,-551720,0,-551720]
[40,40,"Rapides",20507,20556,49,49,0,6159,301791,301791,0]
[41,41,"Red River",1176,1138,-38,0,-38,3735,-141930,0,-141930]
[42,42,"Richland",2682,2637,-45,0,-45,5974,-268830,0,-268830]
[43,43,"Sabine",3686,3573,-113,0,-113,6029,-681277,0,-681277]
[44,44,"St. Bernard",7443,7389,-54,0,-54,6049,-326646,0,-326646]
[45,45,"St. Charles",8998,8942,-56,0,-56,3154,-176624,0,-176624]
[46,46,"St. Helena",1033,984,-49,0,-49,8272,-405328,0,-405328]
[47,47,"St. James",3178,3098,-80,0,-80,3715,-297200,0,-297200]
[48,48,"St. John the Baptist",4804,4871,67,67,0,3898,261166,261166,0]
[49,49,"St. Landry",11362,11028,-334,0,-334,6257,-2089838,0,-2089838]
[50,50,"St. Martin",6829,6658,-171,0,-171,5903,-1009413,0,-1009413]
[51,51,"St. Mary",7458,7238,-220,0,-220,6147,-1352340,0,-1352340]
[52,52,"St. Tammany",35999,35732,-267,0,-267,5421,-1447407,0,-1447407]
[53,53,"Tangipahoa",18622,18700,78,78,0,6227,485706,485706,0]
[54,54,"Tensas",339,315,-24,0,-24,6150,-147600,0,-147600]
[55,55,"Terrebonne",14435,14282,-153,0,-153,5302,-811206,0,-811206]
[56,56,"Union",1703,1612,-91,0,-91,7155,-651105,0,-651105]
[57,57,"Vermilion",9025,9007,-18,0,-18,6545,-117810,0,-117810]
[58,58,"Vernon",7573,7576,3,3,0,6711,20133,20133,0]
[59,59,"Washington",4574,4392,-182,0,-182,7751,-1410682,0,-1410682]
[60,60,"Webster",5070,4982,-88,0,-88,6399,-563112,0,-563112]
[61,61,"West Baton Rouge",3893,3989,96,96,0,3898,374208,374208,0]
[62,62,"West Carroll",1627,1489,-138,0,-138,7377,-1018026,0,-1018026]
[63,63,"West Feliciana",2067,2068,1,1,0,4317,4317,4317,0]
[64,64,"Winn",1869,1744,-125,0,-125,7291,-911375,0,-911375]
[65,65,"City of Monroe",7775,7803,28,28,0,5962,166936,166936,0]
[66,66,"City of Bogalusa",1803,1834,31,31,0,6868,212908,212908,0]
[67,67,"Zachary Community",5413,5403,-10,0,-10,6407,-64070,0,-64070]
[68,68,"City of Baker",947,886,-61,0,-61,7190,-438590,0,-438590]
[69,69,"Central Community",4713,4600,-113,0,-113,6922,-782186,0,-782186]
[null,null,"Total City/Parish",624478,619566,-4912,1197,-6109,null,-28572368,6496948,-35069316]
[]
[318,318001,"LSU Lab School",1463,1468,5,5,0,5362.2884019594258,26811,26811,0]
[319,319001,"Southern Lab School",764,789,25,25,0,5456.2184019594251,136405,136405,0]
[302006,302006,"LA School for Math, Science and the Arts",270,281,11,11,0,null,104803,104803,0]
[334001,334001,"New Orleans Center for Creative Arts",223,227,4,4,0,null,36684,36684,0]
["3C1001","3C1001","Thrive",165,178,13,13,0,null,122756,122756,0]
[101001,null,"SSD",265,256,-9,0,-9,null,-89916,0,-89916]
[null,null,"Total Lab & State Approved Schools",3150,3199,49,58,-9,null,337543,427459,-89916]
[]
[321001,321001,"New Vision Learning",172,205,33,33,0,null,392424,392424,0]
[329001,329001,"Glencoe Charter School",433,461,28,28,0,null,355083,355083,0]
[331001,331001,"International School of LA",1139,1074,-65,0,-65,null,-752764,0,-752764]
[333001,333001,"Avoyelles Public Charter School",701,711,10,10,0,null,111137,111137,0]
[336001,336001,"Delhi Charter School",656,642,-14,0,-14,null,-157577,0,-157577]
[337001,337001,"Belle Chasse Academy",781,789,8,8,0,null,252659,252659,0]
[340001,340001,"The MAX Charter School",102,99,-3,0,-3,null,-27508,0,-27508]
[null,null,"Total Legacy Type 2 Charter Schools",3984,3981,-3,79,-82,null,173454,1111303,-937849]
[]
[341001,341001,"D'Arbonne Woods ",973,983,10,10,0,null,100768,100768,0,null,60075]
[343001,343001,"Madison Prep",569,594,25,25,0,null,98192,98192,0,null,224155]
[344001,344001,"Int'l High School of N. O. ",379,397,18,18,0,null,65531,65531,0,null,131643]
[345001,345001,"University View Academy",3608,3716,108,108,0,null,598457,598457,0,null,343000]
[346001,346001,"Lake Charles Charter Academy ",931,876,-55,0,-55,null,-247907,0,-247907,null,-489551]
[347001,347001,"Lycee Francois de la Nouvelle Orleans ",911,852,-59,0,-59,null,-132789,0,-132789,null,-455461]
[348001,348001,"New Orleans Military/Maritime Acdmy ",864,903,39,39,0,null,254139,254139,0,null,318238]
["3C5001",31,"St Landry Charter School",259,306,47,47,0,null,300971,300971,0,null,218727]
["W18001","W18001","Noble Minds",140,148,8,8,0,null,-10482,0,-10482,null,53823]
["W1A001","W1A001","JCFA - East",133,143,10,10,0,null,66085,66085,0,null,90090]
["W1B001","W1B001","Advantage Charter Academy",509,599,90,90,0,null,405643,405643,0,null,816821]
["W1D001","W1D001","JCFA - Lafayette",58,60,2,2,0,null,5015,5015,0,null,21755]
["W2B001","W2B001","Willow Charter Academy",646,619,-27,0,-27,null,-207126,0,-207126,null,-173921]
["W33001","W33001","Lincoln Prep School",681,717,36,36,0,null,240838,240838,0,null,278574]
["W3B001","W3B001","Iberville Charter Academy",497,474,-23,0,-23,null,-125673,0,-125673,null,312444]
["W4A001","W4A001","Delta Charter School ",488,485,-3,0,-3,null,-8912,0,-8912,null,-17811]
["W4B001","W4B001","Lake Charles College Prep",559,598,39,39,0,null,136986,136986,0,null,319975]
["W5B001","W5B001","Northeast Claiborne Charter",202,200,-2,0,-2,null,-56658,0,-56658,null,-16282]
["W6B001","W6B001","Acadiana Renaissance",1820,2885,1065,1065,0,null,4739970,4739970,0,null,6988881]
["W7A001","W7A001","Louisiana Key Academy ",426,428,2,2,0,null,-638,0,-638,null,-26123]
["W7B001","W7B001","Lafayette Renaissance",1330,1724,394,394,0,null,1850952,1850952,0,null,2569311]
["W8A001","W8A001","Impact Charter",422,434,12,12,0,null,92702,92702,0,null,141037]
["WAG001","WAG001","Louisiana Virtual Charter Academy",1915,1920,5,5,0,null,17827,17827,0,null,73]
["WAK001","WAK001","Southwest LA Charter School ",696,734,38,38,0,null,200121,200121,0,null,316293]
["WAL001","WAL001","J. S. Clark Leadership Academy ",327,407,80,80,0,null,443276,443276,0,null,318921]
["WAU001","WAU001","GEO Prep Academy",749,777,28,28,0,null,186018,186018,0,null,318754]
["WBQ001","WBQ001","New Harmony High School",278,312,34,34,0,null,146258,146258,0,null,278467]
["WBR001","WBR001","Athlos Academy",1101,1084,-17,0,-17,null,-70160,0,-70160,null,-109075]
["WBX001","WBX001","GEO Next Generation HS",379,445,66,66,0,null,309245,309245,0,null,644826]
["WBY001","WBY001","Red River Charter Academy",173,134,-39,0,-39,null,-209013,0,-209013,null,-128544]
["WJ5001","WJ5001","Collegiate Academy (EBR)",464,480,16,16,0,null,81798,81798,0,null,156795]
["WZ8001","WZ8001","GEO Prep Mid-City of Greater B. R.",656,682,26,26,0,null,136132,136132,0,null,285343]
["WZN001",null,"GEO Prep Baker",65,91,26,26,0,null,163427,163427,0,null,207845]
["WZO001",null,"Louisiana Key Academy Northshore",115,246,131,131,0,null,872220,872220,0,null,968527]
["WZP001",null,"Discovery Ochsner BR",0,128,128,128,0,null,561016,561016,0,null,1121089]
["WZQ001",null,"Kenilworth Science and Technology",0,709,709,709,0,null,2925565,2925565,0,null,6674689]
["WZT001",null,"LaKey Caddo",0,70,70,70,0,null,362076,362076,0,null,563684]
[null,null,"Total New Type 2 Charter Schools",23323,26360,3037,3262,-225,null,14291870,15361228,-1069358,null,23327087]
[]
[396211,396211,"Linwood Public Charter (RSD Operated)",951,1022,71,71,0,5428.228495719527,385404,385404,0,6563,465973]
["WZV001","WA7001","Prescott Academy",0,324,324,324,0,4188,1356912,1356912,0,8289,2685636]
["WAO001","3AP003","Redesign Dalton Charter School",172,151,-21,0,-21,4187.5336336196888,-87938,0,-87938,8289,-174069]
["WAP001","3AP001","Redesign Lanier Charter School",170,161,-9,0,-9,4187.5336336196888,-37688,0,-37688,8289,-74601]
["WYA001","3AP004","Redesign Glen Oaks",76,65,-11,0,-11,4187.5336336196888,-46063,0,-46063,8289,-91179]
[null,null,"Total Type 5 Charters - LA",1369,1723,354,395,-41,null,1570627,1742316,-171689,null,2811760]
[]
[null,null,"Total Statewide",656304,654829,-1475,4991,-6466,null,-12198874,25139254,-37338128,null,26138847]

{"sheet":"Oct_Legacy","index":4,"n_rows":14,"n_cols":25,"rows_kept":14,"cut":false,"hidden":false,"merged":[[0,14,0,18],[0,19,0,23],[0,24,1,24],[13,0,13,1],[0,0,1,1],[0,2,1,2],[0,3,1,3],[0,4,1,4],[0,5,0,8],[0,9,0,13]]}
["Table 5A2\nLegacy Type 2\nCharter Schools",null,"Feb. 1, 2023\nMFP Funded\nMembership\n\n(Per SIS)","Oct. 1, 2023\nMFP Funded\nMembership\n\n(Per SIS)","Change in\nMFP Funded\nMembership","Unweighted Legacy Type 2 Charter School\n(Includes Final Local Revenue Representation)",null,null,null,"Economically Disadvantaged",null,null,null,null,"Students with Disabilities",null,null,null,null,"Gifted & Talented",null,null,null,null,"Change in\nTotal MFP\nState Cost\nAllocation\n\n(Levels 1,\n2, & 3)"]
[null,null,null,null,null,"Per Pupil\nWithout\nContinuation\nof Prior Year\nPay Raises","Change in\nState Cost\nAllocation","Continuation\nof Prior Year\nPay Raises\nPer Pupil","Change in\nState Cost\nAllocation","2/1/23\nStudent\nCount","10/1/23\nStudent\nCount","Change\nin\nStudent\nCount","Per\nPupil","Change in\nState Cost\nAllocation","2/1/23\nStudent\nCount","10/1/23\nStudent\nCount","Change\nin\nStudent\nCount","Per\nPupil","Change in\nState Cost\nAllocation","2/1/23\nStudent\nCount","10/1/23\nStudent\nCount","Change\nin\nStudent\nCount","Per\nPupil","Change in\nState Cost\nAllocation"]
[]
[null,null,1,2,3,4,5,6,7,8,9,10,11,12,13,14,15,16,17,18,19,20,21,22,23]
[null,null,"C1","C1","C2-C1",null,"Link in File",null,"Link in File","Link to SIS","Link to SIS","C9-C8",null,"Link in File","Link to SIS","Link to SIS","C14-C13",null,"Link in File","Link to SIS","Link to SIS","C19-C18",null,"Link in File","T5A2, C19"]
[null,null,"Link to SIS","Link to SIS","Formula",null,"Link in File",null,null,"Link in File","Link in File",null,null,"Link in File","Link in File","Link in File","Link in File",null,"Link in File","Link in File","Link in File","Link in File","Link in File","Link in File","Link in File"]
[321001,"New Vision Learning",172,205,0,null,332965.71795005683,null,23637.9,153,192,39,null,25235.150451224228,28,30,2,null,10584.435064415862,0,0,0,null,0,392424]
[329001,"Glencoe Charter School",433,461,28,null,272234.54742747726,null,16755.2,309,323,14,null,9152.6068268299568,34,47,13,null,55147.498796745866,1,2,1,null,1793.5681555474393,355083]
[331001,"International School of LA",1139,1074,-65,null,-696601.36097318563,null,-46462.649999999994,718,673,-45,null,-24426.340011111733,100,105,5,null,14725.326247964,0,0,0,null,0,-752764]
[333001,"Avoyelles Public Charter",701,711,10,null,76635.60129744951,null,5361.2,429,415,-14,null,-9772.2404204907361,51,56,5,null,23620.694998018844,35,43,8,null,15291.810474621347,111137]
[336001,"Delhi Charter School",656,642,-14,null,-129783.97829266403,null,-7378.2800000000016,507,493,-14,null,-8969.9209413370118,52,50,-2,null,-7796.0448356572761,6,4,-2,null,-3647.6460774446177,-157577]
[337001,"Belle Chasse Academy",781,789,8,null,218937.98305928224,null,6311.2,313,349,36,null,12442.204333829861,99,103,4,null,13837.013454111589,52,52,0,null,1130.228591736686,252659]
[340001,"The MAX",102,99,-3,null,-26556.291347660612,null,-1977.63,98,82,-16,null,-9582.3986993579656,23,25,2,null,10609.100577955007,0,0,0,null,0,-27508]
["State Total",null,3984,3981,-36,null,47832.219120755566,null,-3753.0599999999904,2527,2527,0,null,-5920.9384604134048,387,416,29,null,120728.02430355389,94,101,7,null,14567.961144460856,173454]

{"sheet":"Oct_NOCCA","index":5,"n_rows":76,"n_cols":7,"rows_kept":76,"cut":false,"hidden":false,"merged":[[0,0,1,1],[0,2,0,6],[75,0,75,1]]}
["Table 5A4\nNew Orleans\nCenter\nfor Creative Arts\n(NOCCA)\n\n(Site Code 334001)",null,"MFP State Cost Allocation"]
[null,null,"Feb. 1, 2023\nMFP Funded\nMembership\n\n(Per SIS)","Oct. 1, 2023\nMFP Funded\nMembership\n\n(Per SIS)","Change in\nMFP Funded\nMembership","Total\nState Cost &\nLocal Cost\nAllocation\n(With\nContinuation\nof Prior Year\nPay Raises)","Change in\nTotal MFP\nCost\nAllocation"]
[]
[null,null,1,2,3,4,5]
[null,null,"Link to SIS","Link to SIS","C2-C1","PPS C17","C3*C4"]
[null,null,"Link to SIS","Link to SIS","Formula","Link to Per Pupil Summary","Formula"]
[1,"Acadia",0,0,0,9436.6069718704457,0]
[2,"Allen",0,0,0,10400.879789750328,0]
[3,"Ascension",0,0,0,8647.8907243673966,0]
[4,"Assumption",0,0,0,10416.786564885497,0]
[5,"Avoyelles",0,0,0,9734.7906451612907,0]
[6,"Beauregard",0,0,0,9728.5974813737957,0]
[7,"Bienville",0,0,0,10027.964261057174,0]
[8,"Bossier",0,0,0,9521.1805320587973,0]
[9,"Caddo",0,0,0,9294.8884957195278,0]
[10,"Calcasieu",0,0,0,8955.2164447167743,0]
[11,"Caldwell",0,0,0,11566.295137362638,0]
[12,"Cameron",0,0,0,9608.1985578747626,0]
[13,"Catahoula",0,0,0,10839.42625,0]
[14,"Claiborne",0,0,0,11835.074328358209,0]
[15,"Concordia",0,0,0,10252.386478342751,0]
[16,"DeSoto",0,0,0,8638.9130953885033,0]
[17,"East Baton Rouge",1,1,0,8964.2236336196875,0]
[18,"East Carroll",0,0,0,11118.494867724869,0]
[19,"East Feliciana",0,0,0,10274.595783650891,0]
[20,"Evangeline",0,0,0,10315.180290861324,0]
[21,"Franklin",0,0,0,10911.187982355197,0]
[22,"Grant",0,0,0,10793.737959791511,0]
[23,"Iberia",0,0,0,9708.5891119342305,0]
[24,"Iberville",0,0,0,9304.0743812061028,0]
[25,"Jackson",0,0,0,10223.688982725529,0]
[26,"Jefferson",42,42,0,9363.0294957427468,0]
[27,"Jefferson Davis",0,0,0,10262.288648018646,0]
[28,"Lafayette",0,0,0,8695.1154433708598,0]
[29,"Lafourche",1,1,0,9120.6983914714074,0]
[30,"LaSalle",0,0,0,10210.333246160233,0]
[31,"Lincoln",0,0,0,9658.6717707662592,0]
[32,"Livingston",0,0,0,9676.8946776611701,0]
[33,"Madison",0,0,0,10812.214356435645,0]
[34,"Morehouse",0,0,0,10616.887090680102,0]
[35,"Natchitoches",0,0,0,9540.631609034579,0]
[36,"Orleans",134,138,4,9198.1015885451852,36792]
[37,"Ouachita",0,0,0,9544.4360698344535,0]
[38,"Plaquemines",4,3,-1,9567.3298887652945,-9567]
[39,"Pointe Coupee",0,0,0,10117.650215857204,0]
[40,"Rapides",0,0,0,9717.8650240163024,0]
[41,"Red River",0,0,0,9798.1103378378375,0]
[42,"Richland",0,0,0,10081.560200148258,0]
[43,"Sabine",0,0,0,9899.7617678812421,0]
[44,"St. Bernard",5,5,0,9374.6650665956313,0]
[45,"St. Charles",6,6,0,8645.6877684396768,0]
[46,"St. Helena",0,0,0,11732.398060263655,0]
[47,"St. James",0,0,0,9693.264866562009,0]
[48,"St. John the Baptist",4,5,1,9271.7157435897443,9272]
[49,"St. Landry",0,0,0,9678.3017481096012,0]
[50,"St. Martin",0,0,0,9362.0888590414252,0]
[51,"St. Mary",0,0,0,9945.4422872340419,0]
[52,"St. Tammany",22,23,1,9409.6142599475297,9410]
[53,"Tangipahoa",3,3,0,9635.0593185779944,0]
[54,"Tensas",0,0,0,11526.857678100263,0]
[55,"Terrebonne",1,0,-1,9222.6189723696752,-9223]
[56,"Union",0,0,0,10201.477698803659,0]
[57,"Vermilion",0,0,0,9560.73832696715,0]
[58,"Vernon",0,0,0,9573.7782950819674,0]
[59,"Washington",0,0,0,10052.554033722439,0]
[60,"Webster",0,0,0,10103.295505397447,0]
[61,"West Baton Rouge",0,0,0,9358.0649548645943,0]
[62,"West Carroll",0,0,0,10807.133580998781,0]
[63,"West Feliciana",0,0,0,9894.3565261140393,0]
[64,"Winn",0,0,0,10881.04730748805,0]
[65,"City of Monroe",0,0,0,9894.5822131147543,0]
[66,"City of Bogalusa",0,0,0,11236.097866018368,0]
[67,"Zachary Community",0,0,0,9627.9857685352617,0]
[68,"City of Baker",0,0,0,10367.684412532637,0]
[69,"Central Community",0,0,0,10037.375911431514,0]
["State Subtotal",null,223,227,4,null,36684]

{"sheet":"Oct_LSMSA","index":6,"n_rows":76,"n_cols":7,"rows_kept":76,"cut":false,"hidden":false,"merged":[[0,0,1,1],[0,2,0,6],[75,0,75,1]]}
["Table 5A5\nLouisiana School\nfor Math, Science\nand the Arts\n(LSMSA)\n\n(Site Code 302006)",null,"MFP State Cost Allocation"]
[null,null,"Feb. 1, 2023\nMFP Funded\nMembership\n\n(Per SIS)","Oct. 1, 2023\nMFP Funded\nMembership\n\n(Per SIS)","Change in\nMFP Funded\nMembership","Total\nState Cost &\nLocal Cost\nAllocation\n(With\nContinuation\nof Prior Year\nPay Raises)","Change in\nTotal MFP\nCost\nAllocation"]
[]
[null,null,1,2,3,4,5]
[null,null,"Link to SIS","Link to SIS","C2-C1","PPS C17","C3*C4"]
[null,null,"Link to SIS","Link to SIS","Formula","Link to Per Pupil Summary","Formula"]
[1,"Acadia",2,2,0,9436.6069718704457,0]
[2,"Allen",3,2,-1,10400.879789750328,-10401]
[3,"Ascension",8,6,-2,8647.8907243673966,-17296]
[4,"Assumption",1,1,0,10416.786564885497,0]
[5,"Avoyelles",1,1,0,9734.7906451612907,0]
[6,"Beauregard",3,5,2,9728.5974813737957,19457]
[7,"Bienville",2,3,1,10027.964261057174,10028]
[8,"Bossier",9,9,0,9521.1805320587973,0]
[9,"Caddo",2,4,2,9294.8884957195278,18590]
[10,"Calcasieu",18,20,2,8955.2164447167743,17910]
[11,"Caldwell",1,2,1,11566.295137362638,11566]
[12,"Cameron",0,0,0,9608.1985578747626,0]
[13,"Catahoula",0,1,1,10839.42625,10839]
[14,"Claiborne",1,1,0,11835.074328358209,0]
[15,"Concordia",0,0,0,10252.386478342751,0]
[16,"DeSoto",2,3,1,8638.9130953885033,8639]
[17,"East Baton Rouge",8,9,1,8964.2236336196875,8964]
[18,"East Carroll",0,0,0,11118.494867724869,0]
[19,"East Feliciana",0,0,0,10274.595783650891,0]
[20,"Evangeline",4,4,0,10315.180290861324,0]
[21,"Franklin",3,3,0,10911.187982355197,0]
[22,"Grant",1,2,1,10793.737959791511,10794]
[23,"Iberia",4,2,-2,9708.5891119342305,-19417]
[24,"Iberville",0,2,2,9304.0743812061028,18608]
[25,"Jackson",0,0,0,10223.688982725529,0]
[26,"Jefferson",4,7,3,9363.0294957427468,28089]
[27,"Jefferson Davis",1,2,1,10262.288648018646,10262]
[28,"Lafayette",11,10,-1,8695.1154433708598,-8695]
[29,"Lafourche",8,5,-3,9120.6983914714074,-27362]
[30,"LaSalle",1,2,1,10210.333246160233,10210]
[31,"Lincoln",8,3,-5,9658.6717707662592,-48293]
[32,"Livingston",8,12,4,9676.8946776611701,38708]
[33,"Madison",0,0,0,10812.214356435645,0]
[34,"Morehouse",0,0,0,10616.887090680102,0]
[35,"Natchitoches",21,25,4,9540.631609034579,38163]
[36,"Orleans",2,1,-1,9198.1015885451852,-9198]
[37,"Ouachita",6,6,0,9544.4360698344535,0]
[38,"Plaquemines",0,1,1,9567.3298887652945,9567]
[39,"Pointe Coupee",4,3,-1,10117.650215857204,-10118]
[40,"Rapides",17,11,-6,9717.8650240163024,-58307]
[41,"Red River",1,1,0,9798.1103378378375,0]
[42,"Richland",0,0,0,10081.560200148258,0]
[43,"Sabine",3,2,-1,9899.7617678812421,-9900]
[44,"St. Bernard",0,2,2,9374.6650665956313,18749]
[45,"St. Charles",10,11,1,8645.6877684396768,8646]
[46,"St. Helena",0,0,0,11732.398060263655,0]
[47,"St. James",1,1,0,9693.264866562009,0]
[48,"St. John the Baptist",1,1,0,9271.7157435897443,0]
[49,"St. Landry",9,9,0,9678.3017481096012,0]
[50,"St. Martin",2,4,2,9362.0888590414252,18724]
[51,"St. Mary",5,3,-2,9945.4422872340419,-19891]
[52,"St. Tammany",15,13,-2,9409.6142599475297,-18819]
[53,"Tangipahoa",12,9,-3,9635.0593185779944,-28905]
[54,"Tensas",0,0,0,11526.857678100263,0]
[55,"Terrebonne",16,19,3,9222.6189723696752,27668]
[56,"Union",1,1,0,10201.477698803659,0]
[57,"Vermilion",2,2,0,9560.73832696715,0]
[58,"Vernon",7,12,5,9573.7782950819674,47869]
[59,"Washington",2,3,1,10052.554033722439,10053]
[60,"Webster",1,1,0,10103.295505397447,0]
[61,"West Baton Rouge",2,3,1,9358.0649548645943,9358]
[62,"West Carroll",0,0,0,10807.133580998781,0]
[63,"West Feliciana",3,1,-2,9894.3565261140393,-19789]
[64,"Winn",0,0,0,10881.04730748805,0]
[65,"City of Monroe",2,1,-1,9894.5822131147543,-9895]
[66,"City of Bogalusa",1,1,0,11236.097866018368,0]
[67,"Zachary Community",4,5,1,9627.9857685352617,9628]
[68,"City of Baker",0,0,0,10367.684412532637,0]
[69,"Central Community",6,6,0,10037.375911431514,0]
["State Subtotal",null,270,281,11,null,104803]

{"sheet":"Oct_Thrive","index":7,"n_rows":76,"n_cols":7,"rows_kept":76,"cut":false,"hidden":false,"merged":[[0,0,1,1],[0,2,0,6],[75,0,75,1]]}
["Table 5A6\nThrive Academy of Baton Rouge\n\n(Site Code 3C1001)",null,"MFP State Cost Allocation"]
[null,null,"Feb. 1, 2023\nMFP Funded\nMembership\n\n(Per SIS)","Oct. 1, 2023\nMFP Funded\nMembership\n\n(Per SIS)","Change in\nMFP Funded\nMembership","Total\nState Cost &\nLocal Cost\nAllocation\n(With\nContinuation\nof Prior Year\nPay Raises)","Change in\nTotal MFP\nCost\nAllocation"]
[]
[null,null,1,2,3,4,5]
[null,null,"Link to SIS","Link to SIS","C2-C1","PPS C17","C3*C4"]
[null,null,"Link to SIS","Link to SIS","Formula","Link to Per Pupil Summary","Formula"]
[1,"Acadia",0,0,0,9436.6069718704457,0]
[2,"Allen",0,0,0,10400.879789750328,0]
[3,"Ascension",15,8,-7,8647.8907243673966,-60535]
[4,"Assumption",3,1,-2,10416.786564885497,-20834]
[5,"Avoyelles",0,0,0,9734.7906451612907,0]
[6,"Beauregard",0,0,0,9728.5974813737957,0]
[7,"Bienville",0,0,0,10027.964261057174,0]
[8,"Bossier",0,0,0,9521.1805320587973,0]
[9,"Caddo",0,0,0,9294.8884957195278,0]
[10,"Calcasieu",0,0,0,8955.2164447167743,0]
[11,"Caldwell",0,0,0,11566.295137362638,0]
[12,"Cameron",0,0,0,9608.1985578747626,0]
[13,"Catahoula",0,0,0,10839.42625,0]
[14,"Claiborne",0,0,0,11835.074328358209,0]
[15,"Concordia",0,0,0,10252.386478342751,0]
[16,"DeSoto",0,0,0,8638.9130953885033,0]
[17,"East Baton Rouge",88,105,17,8964.2236336196875,152392]
[18,"East Carroll",0,0,0,11118.494867724869,0]
[19,"East Feliciana",0,0,0,10274.595783650891,0]
[20,"Evangeline",0,0,0,10315.180290861324,0]
[21,"Franklin",0,0,0,10911.187982355197,0]
[22,"Grant",0,0,0,10793.737959791511,0]
[23,"Iberia",1,1,0,9708.5891119342305,0]
[24,"Iberville",3,1,-2,9304.0743812061028,-18608]
[25,"Jackson",0,0,0,10223.688982725529,0]
[26,"Jefferson",11,7,-4,9363.0294957427468,-37452]
[27,"Jefferson Davis",0,0,0,10262.288648018646,0]
[28,"Lafayette",1,3,2,8695.1154433708598,17390]
[29,"Lafourche",1,0,-1,9120.6983914714074,-9121]
[30,"LaSalle",0,0,0,10210.333246160233,0]
[31,"Lincoln",0,0,0,9658.6717707662592,0]
[32,"Livingston",4,4,0,9676.8946776611701,0]
[33,"Madison",0,0,0,10812.214356435645,0]
[34,"Morehouse",0,0,0,10616.887090680102,0]
[35,"Natchitoches",0,0,0,9540.631609034579,0]
[36,"Orleans",6,4,-2,9198.1015885451852,-18396]
[37,"Ouachita",0,0,0,9544.4360698344535,0]
[38,"Plaquemines",0,0,0,9567.3298887652945,0]
[39,"Pointe Coupee",0,1,1,10117.650215857204,10118]
[40,"Rapides",0,0,0,9717.8650240163024,0]
[41,"Red River",0,0,0,9798.1103378378375,0]
[42,"Richland",0,0,0,10081.560200148258,0]
[43,"Sabine",0,0,0,9899.7617678812421,0]
[44,"St. Bernard",0,0,0,9374.6650665956313,0]
[45,"St. Charles",0,1,1,8645.6877684396768,8646]
[46,"St. Helena",0,0,0,11732.398060263655,0]
[47,"St. James",3,1,-2,9693.264866562009,-19387]
[48,"St. John the Baptist",1,4,3,9271.7157435897443,27815]
[49,"St. Landry",4,8,4,9678.3017481096012,38713]
[50,"St. Martin",0,1,1,9362.0888590414252,9362]
[51,"St. Mary",0,0,0,9945.4422872340419,0]
[52,"St. Tammany",5,2,-3,9409.6142599475297,-28229]
[53,"Tangipahoa",5,2,-3,9635.0593185779944,-28905]
[54,"Tensas",0,0,0,11526.857678100263,0]
[55,"Terrebonne",0,3,3,9222.6189723696752,27668]
[56,"Union",0,0,0,10201.477698803659,0]
[57,"Vermilion",1,0,-1,9560.73832696715,-9561]
[58,"Vernon",0,0,0,9573.7782950819674,0]
[59,"Washington",1,1,0,10052.554033722439,0]
[60,"Webster",0,0,0,10103.295505397447,0]
[61,"West Baton Rouge",5,6,1,9358.0649548645943,9358]
[62,"West Carroll",0,0,0,10807.133580998781,0]
[63,"West Feliciana",0,0,0,9894.3565261140393,0]
[64,"Winn",0,0,0,10881.04730748805,0]
[65,"City of Monroe",0,0,0,9894.5822131147543,0]
[66,"City of Bogalusa",0,0,0,11236.097866018368,0]
[67,"Zachary Community",1,0,-1,9627.9857685352617,-9628]
[68,"City of Baker",4,9,5,10367.684412532637,51838]
[69,"Central Community",2,5,3,10037.375911431514,30112]
["State Subtotal",null,165,178,13,null,122756]

{"sheet":"Oct_SSD","index":8,"n_rows":76,"n_cols":7,"rows_kept":76,"cut":false,"hidden":false,"merged":[[0,0,1,1],[0,2,0,6],[75,0,75,1]]}
["Table 5A7\nSpecial School District \n\n\n(Site Code 101001)\n(Added in 22-23)",null,"MFP State Cost Allocation"]
[null,null,"Feb. 1, 2023\nMFP Funded\nMembership\n\n(Per SIS)","Oct. 1, 2023\nMFP Funded\nMembership\n\n(Per SIS)","Change in\nMFP Funded\nMembership","Total\nState Cost &\nLocal Cost\nAllocation\n(With\nContinuation\nof Prior Year\nPay Raises)","Change in\nTotal MFP\nCost\nAllocation"]
[]
[null,null,1,2,3,4,5]
[null,null,"Link to SIS","Link to SIS","C2-C1","PPS C17","C3*C4"]
[null,null,"Link to SIS","Link to SIS","Formula","Link to Per Pupil Summary","Formula"]
[1,"Acadia",7,9,2,9436.6069718704457,18873]
[2,"Allen",1,1,0,10400.879789750328,0]
[3,"Ascension",19,20,1,8647.8907243673966,8648]
[4,"Assumption",0,1,1,10416.786564885497,10417]
[5,"Avoyelles",5,5,0,9734.7906451612907,0]
[6,"Beauregard",1,0,-1,9728.5974813737957,-9729]
[7,"Bienville",1,1,0,10027.964261057174,0]
[8,"Bossier",0,1,1,9521.1805320587973,9521]
[9,"Caddo",6,4,-2,9294.8884957195278,-18590]
[10,"Calcasieu",5,7,2,8955.2164447167743,17910]
[11,"Caldwell",0,0,0,11566.295137362638,0]
[12,"Cameron",0,0,0,9608.1985578747626,0]
[13,"Catahoula",0,0,0,10839.42625,0]
[14,"Claiborne",1,0,-1,11835.074328358209,-11835]
[15,"Concordia",1,1,0,10252.386478342751,0]
[16,"DeSoto",0,0,0,8638.9130953885033,0]
[17,"East Baton Rouge",54,57,3,8964.2236336196875,26893]
[18,"East Carroll",1,1,0,11118.494867724869,0]
[19,"East Feliciana",1,1,0,10274.595783650891,0]
[20,"Evangeline",2,2,0,10315.180290861324,0]
[21,"Franklin",0,0,0,10911.187982355197,0]
[22,"Grant",2,2,0,10793.737959791511,0]
[23,"Iberia",1,1,0,9708.5891119342305,0]
[24,"Iberville",3,2,-1,9304.0743812061028,-9304]
[25,"Jackson",0,0,0,10223.688982725529,0]
[26,"Jefferson",10,14,4,9363.0294957427468,37452]
[27,"Jefferson Davis",3,5,2,10262.288648018646,20525]
[28,"Lafayette",12,11,-1,8695.1154433708598,-8695]
[29,"Lafourche",2,2,0,9120.6983914714074,0]
[30,"LaSalle",0,0,0,10210.333246160233,0]
[31,"Lincoln",3,1,-2,9658.6717707662592,-19317]
[32,"Livingston",13,13,0,9676.8946776611701,0]
[33,"Madison",0,0,0,10812.214356435645,0]
[34,"Morehouse",0,0,0,10616.887090680102,0]
[35,"Natchitoches",3,1,-2,9540.631609034579,-19081]
[36,"Orleans",6,4,-2,9198.1015885451852,-18396]
[37,"Ouachita",4,3,-1,9544.4360698344535,-9544]
[38,"Plaquemines",0,0,0,9567.3298887652945,0]
[39,"Pointe Coupee",2,2,0,10117.650215857204,0]
[40,"Rapides",53,43,-10,9717.8650240163024,-97179]
[41,"Red River",0,0,0,9798.1103378378375,0]
[42,"Richland",0,0,0,10081.560200148258,0]
[43,"Sabine",1,1,0,9899.7617678812421,0]
[44,"St. Bernard",0,0,0,9374.6650665956313,0]
[45,"St. Charles",0,0,0,8645.6877684396768,0]
[46,"St. Helena",0,0,0,11732.398060263655,0]
[47,"St. James",0,0,0,9693.264866562009,0]
[48,"St. John the Baptist",1,1,0,9271.7157435897443,0]
[49,"St. Landry",3,1,-2,9678.3017481096012,-19357]
[50,"St. Martin",0,0,0,9362.0888590414252,0]
[51,"St. Mary",2,1,-1,9945.4422872340419,-9945]
[52,"St. Tammany",3,3,0,9409.6142599475297,0]
[53,"Tangipahoa",5,6,1,9635.0593185779944,9635]
[54,"Tensas",1,1,0,11526.857678100263,0]
[55,"Terrebonne",9,7,-2,9222.6189723696752,-18445]
[56,"Union",2,2,0,10201.477698803659,0]
[57,"Vermilion",1,1,0,9560.73832696715,0]
[58,"Vernon",0,1,1,9573.7782950819674,9574]
[59,"Washington",2,3,1,10052.554033722439,10053]
[60,"Webster",0,0,0,10103.295505397447,0]
[61,"West Baton Rouge",6,6,0,9358.0649548645943,0]
[62,"West Carroll",0,0,0,10807.133580998781,0]
[63,"West Feliciana",1,1,0,9894.3565261140393,0]
[64,"Winn",1,1,0,10881.04730748805,0]
[65,"City of Monroe",2,2,0,9894.5822131147543,0]
[66,"City of Bogalusa",1,1,0,11236.097866018368,0]
[67,"Zachary Community",2,2,0,9627.9857685352617,0]
[68,"City of Baker",0,0,0,10367.684412532637,0]
[69,"Central Community",0,0,0,10037.375911431514,0]
["State Subtotal",null,265,256,-9,null,-89916]

{"sheet":"Oct_New Type 2","index":9,"n_rows":45,"n_cols":26,"rows_kept":45,"cut":false,"hidden":false,"merged":[[0,24,1,24],[0,25,1,25],[44,0,44,2],[0,0,1,2],[0,3,1,3],[0,4,1,4],[0,5,1,5],[0,6,0,7],[0,8,0,12],[45,3,47,3],[45,4,47,4],[0,13,0,17],[0,18,0,22],[0,23,1,23]]}
["Table 5C1\nNew Type 2\nCharter Schools",null,null,"Feb. 1, 2023\nMFP Funded\nMembership\n\n(Per SIS)","Oct. 1, 2023\nMFP Funded\nMembership\n\n(Per SIS)","Change in\nMFP Funded\nMembership","Unweighted",null,"Economically Disadvantaged",null,null,null,null,"Students with Disabilities",null,null,null,null,"Gifted & Talented",null,null,null,null,"Change in\nTotal MFP\nState Cost\nAllocation\n\n(Levels 1,\n2, & 3)","Final\nFY2023-24\nLocal Revenue\nRepresentation\nPer Pupil\n(per charter law)","Change in\nLocal Revenue\nRepresentation"]
[null,null,null,null,null,null,"Per Pupil\n(With\nContinuation\nof Prior Year\nPay Raises)","Change in\nState Cost\nAllocation","2/1/23\nStudent\nCount","10/1/23\nStudent\nCount","Change\nin\nStudent\nCount","Per\nPupil","Change in\nState Cost\nAllocation","2/1/23\nStudent\nCount","10/1/23\nStudent\nCount","Change\nin\nStudent\nCount","Per\nPupil","Change in\nState Cost\nAllocation","2/1/23\nStudent\nCount","10/1/23\nStudent\nCount","Change\nin\nStudent\nCount","Per\nPupil","Change in\nState Cost\nAllocation"]
[]
[null,null,null,1,2,3,4,5,6,7,8,9,10,11,12,13,14,15,16,17,18,19,20,21,22,23]
[null,null,null,"Link to SIS","Link to SIS","C2-C1",null,"Link in File","Link to SIS","Link to 10.1.23  SIS","C7-C6",null,"Link in File","Link to SIS","Link to 10.1.23  SIS","C12-C11",null,"Link in File","Link to SIS","Link to 10.1.23  SIS","C17-C16",null,"Link in File","T5C1, C17","Link in File","T5C1, C32"]
[null,null,null,"Link to SIS","Link to SIS","Formula",null,"Link in File","Link in File","Link in File","Formula",null,"Link in File",null,"Link in File","Link in File",null,"Link in File","Link in File","Link in File","Link in File",null,"Link in File","Link in File","Link in File","Link in File"]
[341001,null,"D'Arbonne Woods ",973,983,10,null,50011.799039926002,573,589,16,null,10769.295353453568,100,112,12,null,55079.63523301237,38,30,-8,null,-15091.864928154953,100768,null,60075]
[343001,null,"Madison Prep",569,594,25,null,86246.4141097135,462,459,-3,null,-2766.7232165783016,27,32,5,null,14712.458318822048,0,0,0,null,0,98192,null,224155]
[344001,null,"Int'l High School of N. O. ",379,397,18,null,67324.040517730144,300,338,38,null,18410.809343836892,21,15,-6,null,-20204.486298029205,0,0,0,null,0,65531,null,131643]
[345001,null,"University View Academy (90%)",3608,3716,108,null,520904.75635225087,2327,2479,152,null,97197.493756479322,471,474,3,null,21297.106593568387,174,150,-24,null,-40939.595601120433,598457,null,343000]
[346001,null,"Lake Charles Charter Academy ",931,876,-55,null,-177053.78100339134,824,768,-56,null,-26915.458072310663,91,79,-12,null,-41301.997208754401,11,9,-2,null,-2634.3151837083487,-247907,null,-489551]
[347001,null,"Lycee Francois de la Nouvelle Orleans ",911,852,-59,null,-220666.72706713009,489,514,25,null,12598.247601679404,75,95,20,null,69526.693744400822,74,78,4,null,5752.6062754813111,-132789,null,-455461]
[348001,null,"New Orleans Military/Maritime Academy ",864,903,39,null,147880.46677342514,698,762,64,null,31587.963461158331,89,112,23,null,74671.206515956714,0,0,0,null,0,254139,null,318238]
["3C5001",null,"St Landry Charter School",259,306,47,null,224280.24445251195,228,284,56,null,36137.687749504294,13,22,9,null,40553.387142679458,0,0,0,null,0,300971,null,218727]
["W18001",null,"Noble Minds",140,148,8,null,33066.541404831602,121,124,3,null,1982.6981625000208,40,27,-13,null,-44442.99115149468,1,0,-1,null,-1088.3279832462215,-10482,null,53823]
["W1A001",null,"JCFA - East",133,143,10,null,36563.632502519882,117,138,21,null,9917.5091397075903,21,27,6,null,19604.54254284094,0,0,0,null,0,66085,null,90090]
["W1B001",null,"Advantage Charter Academy",509,599,90,null,320580.52799039963,487,586,99,null,45331.85384941654,42,55,13,null,39730.849550819417,0,0,0,null,0,405643,null,816821]
["W1D001",null,"JCFA - Lafayette",58,60,2,null,4956.9061820269426,52,53,1,null,57.52642693507471,6,6,0,null,0,0,0,0,null,0,5015,null,21755]
["W2B001",null,"Willow Charter Academy",646,619,-27,null,-106476.00131119826,642,611,-31,null,-16593.877233353305,70,48,-22,null,-84055.445153315028,0,0,0,null,0,-207126,null,-173921]
["W33001",null,"Lincoln Prep School",681,717,36,null,166180.30503451734,598,650,52,null,31183.447455859034,132,142,10,null,43473.033704238827,4,4,0,null,0,240838,null,278574]
["W3B001",null,"Iberville Charter Academy",497,474,-23,null,-156553.10883831029,310,334,24,null,3827.6325248785852,47,61,14,null,25507.511367612009,0,1,1,null,1545.8549469175052,-125673,null,312444]
["W4A001",null,"Delta Charter School ",488,485,-3,null,-14927.072454945295,346,322,-24,null,-16708.471462109334,56,61,5,null,22723.351451636801,5,5,0,null,0,-8912,null,-17811]
["W4B001",null,"Lake Charles College Prep",559,598,39,null,139750.16950678878,451,495,44,null,22261.937261284038,67,59,-8,null,-26343.151837083493,6,7,1,null,1317.1575918541744,136986,null,319975]
["W5B001",null,"Northeast Claiborne Charter",202,200,-2,null,-8794.4802074305335,178,170,-8,null,-5418.0117660509877,25,16,-9,null,-42445.870110435804,0,0,0,null,0,-56658,null,-16282]
["W6B001",null,"Acadiana Renaissance",1820,2885,1065,null,4310929.9221771471,790,1207,417,null,230056.63045007832,138,178,40,null,149054.88818508878,89,123,34,null,49928.70810614081,4739970,null,6988881]
["W7A001",null,"Louisiana Key Academy ",426,428,2,null,9716.3778108753122,308,325,17,null,7426.6909227614797,289,286,-3,null,-17781.372260656775,0,0,0,null,0,-638,null,-26123]
["W7B001",null,"Lafayette Renaissance",1330,1724,394,null,1596517.6431253273,1135,1448,313,null,172300.3436861689,87,112,25,null,90039.32764206428,33,28,-5,null,-7903.0287534275994,1850952,null,2569311]
["W8A001",null,"Impact Charter",422,434,12,null,28495.83040543579,375,388,13,null,5634.0593367433285,14,30,16,null,58572.580974113065,0,0,0,null,0,92702,null,141037]
["WAG001",null,"Louisiana Virtual Charter Academy (90%)",1915,1920,5,null,41328.599362332032,1592,1579,-13,null,-5854.3528444215908,248,239,-9,null,-25600.184324750338,27,33,6,null,7949.4676358957386,17827,null,73]
["WAK001",null,"Southwest LA Charter School ",696,734,38,null,134337.32887380107,649,661,12,null,6512.7156447487559,70,88,18,null,59272.091633437856,1,1,0,null,0,200121,null,316293]
["WAL001",null,"J. S. Clark Leadership Academy ",327,407,80,null,385595.77967596002,320,378,58,null,37854.772690170488,21,25,4,null,18023.727618968649,3,4,1,null,1802.3727618968646,443276,null,318921]
["WAU001",null,"GEO Prep Academy",749,777,28,null,78001.402048951306,652,695,43,null,16990.974710893377,67,95,28,null,86315.806749865529,2,6,4,null,4707.9866620230541,186018,null,318754]
["WBQ001",null,"New Harmony High School",278,312,34,null,129957.81542286019,185,210,25,null,13066.729951113059,30,31,1,null,3234.0935485185864,0,0,0,null,0,146258,null,278467]
["WBR001",null,"Athlos Academy of Jefferson Parish",1101,1084,-17,null,-66235.679161160035,977,957,-20,null,-9471.9029851969863,97,102,5,null,17271.088254359594,12,3,-9,null,-11722.729275358679,-70160,null,-109075]
["WBX001",null,"GEO Next Generation HS",379,445,66,null,217890.50845299734,314,384,70,null,29562.321101654503,43,64,21,null,61792.324939052603,0,0,0,null,0,309245,null,644826]
["WBY001",null,"Red River Charter Academy",173,134,-39,null,-197948.58789133831,173,116,-57,null,-39737.218226770266,8,14,6,null,28672.144639915023,0,0,0,null,0,-209013,null,-128544]
["WJ5001",null,"Collegiate Academies",464,480,16,null,53437.91976806899,442,453,11,null,4410.7850005034616,85,92,7,null,23948.68708083051,0,0,0,null,0,81798,null,156795]
["WZ8001",null,"GEO Prep Mid-City of Great BR",656,682,26,null,80024.989350876116,619,650,31,null,11969.521101726712,73,88,15,null,44137.374956466141,0,0,0,null,0,136132,null,285343]
["WZN001",null,"GEO Prep Baker",65,91,26,null,106210.76876983148,56,85,29,null,15339.108053985217,0,12,12,null,41877.165310248631,0,0,0,null,0,163427,null,207845]
["WZO001",null,"Louisiana Key Academy Northshore",115,246,131,null,573787.79336142819,37,107,70,null,41737.013292790994,79,145,66,null,258270.05763611323,1,0,-1,null,-1573.9006227305631,872220,null,968527]
["WZP001",null,"Discovery Ochsner BR",0,128,128,null,475794.46975807153,0,100,100,null,47359.094886748113,0,11,11,null,37862.581009367525,0,0,0,null,0,561016,null,1121089]
["WZQ001",null,"Kenilworth Science and Technology",0,709,709,null,2443847.6801872426,0,625,625,null,272647.16223667318,0,70,70,null,207894.15270247293,0,1,1,null,1176.9966655057635,2925565,null,6674689]
["WZT001",null,"LaKey Caddo",0,70,70,null,301791.33504591067,0,33,33,null,18614.43206832424,0,10,10,null,41670.660626499804,0,0,0,null,0,362076,null,563684]
[]
["State Total",null,null,23323,26360,3037,null,11816756.529528853,17827,20077,2250,null,1129280.4414149851,2742,3135,393,null,1352613.0313284507,481,483,2,null,-6772.6117020315796,14291870,null,23327087]

{"sheet":"Feb_MidYear Adj","index":10,"n_rows":141,"n_cols":14,"rows_kept":141,"cut":false,"hidden":false,"merged":[[0,0,0,2]]}
["School\nSystem",null,null,"Oct. 1, 2023\nMFP Funded\nMembership\n\n(Per SIS)","Feb. 1, 2024\nMFP Funded\nMembership\n\n(Per SIS)","Change in\nMFP Funded\nMembership\n\n(Oct. 1, 2023\nto\nFeb. 1, 2024)","MFP Funded\nMembership\nIncreases","MFP Funded\nMembership\nDecreases","Half\nCity/Parish\nPer Pupil\n\n(After State\nCost Allocations\nto Other Public\nSchools)","Change in\nTotal\nState Cost\nAllocation","Total\nState Cost\nAllocation\nIncreases","Total\nState Cost\nAllocation\nDecreases","Half Final\nFY2023-24\nLocal Revenue\nRepresentation\nPer Pupil\n(per charter law)","Change in\nLocal Revenue\nRepresentation"]
[]
[]
[null,null,null,1,2,3,4,5,4,5,6,7,6,7]
[null,null,null,"C1","C1","C2-C1","If C3>0,C3,0","If C3<0,C3,0","C14 * 0.50","C3*C4"]
[null,null,null,"Link to SIS","Link to SIS","Formula","Formult","Formula","Link to Per Pupil Summary","Formula","Input","Per Pupil ($L$3)\nResolution"]
[1,1,"Acadia",8811,8773,-38,0,-38,3114.5,-118351,0,-118351]
[2,2,"Allen",3716,3702,-14,0,-14,3709,-51926,0,-51926]
[3,3,"Ascension",23464,23503,39,39,0,2453.5,95687,95687,0]
[4,4,"Assumption",2609,2613,4,4,0,3390,13560,13560,0]
[5,5,"Avoyelles",4714,4651,-63,0,-63,3341,-210483,0,-210483]
[6,6,"Beauregard",5517,5519,2,2,0,3062,6124,6124,0]
[7,7,"Bienville",1790,1762,-28,0,-28,2298,-64344,0,-64344]
[8,8,"Bossier",21902,21764,-138,0,-138,3013.5,-415863,0,-415863]
[9,9,"Caddo",32407,32422,15,15,0,2713.5,40703,40703,0]
[10,10,"Calcasieu",27367,27438,71,71,0,2190.5,155526,155526,0]
[11,11,"Caldwell",1423,1385,-38,0,-38,4057,-154166,0,-154166]
[12,12,"Cameron",1063,1066,3,3,0,1400,4200,4200,0]
[13,13,"Catahoula",908,912,4,4,0,3735,14940,14940,0]
[14,14,"Claiborne",1552,1529,-23,0,-23,4007,-92161,0,-92161]
[15,15,"Concordia",2814,2825,11,11,0,3487.5,38363,38363,0]
[16,16,"DeSoto",4698,4698,0,0,0,1595,0,0,0]
[17,17,"East Baton Rouge",38728,38555,-173,0,-173,2079,-359667,0,-359667]
[18,18,"East Carroll",726,729,3,3,0,3693,11079,11079,0]
[19,19,"East Feliciana",1596,1602,6,6,0,2815.5,16893,16893,0]
[20,20,"Evangeline",5209,5197,-12,0,-12,3539.5,-42474,0,-42474]
[21,21,"Franklin",2463,2432,-31,0,-31,3715,-115165,0,-115165]
[22,22,"Grant",2699,2657,-42,0,-42,3979.5,-167139,0,-167139]
[23,23,"Iberia",10699,10645,-54,0,-54,3135.5,-169317,0,-169317]
[24,24,"Iberville",3748,3730,-18,0,-18,1429,-25722,0,-25722]
[25,25,"Jackson",1979,1962,-17,0,-17,3120.5,-53049,0,-53049]
[26,26,"Jefferson",45817,46035,218,218,0,2379,518622,518622,0]
[27,27,"Jefferson Davis",5108,5092,-16,0,-16,3420.5,-54728,0,-54728]
[28,28,"Lafayette",29444,29439,-5,0,-5,2338.5,-11693,0,-11693]
[29,29,"Lafourche",13079,13017,-62,0,-62,2821,-174902,0,-174902]
[30,30,"LaSalle",2388,2364,-24,0,-24,3501,-84024,0,-84024]
[31,31,"Lincoln",5624,5629,5,5,0,2775,13875,13875,0]
[32,32,"Livingston",26528,26411,-117,0,-117,3369,-394173,0,-394173]
[33,33,"Madison",1177,1189,12,12,0,3334.5,40014,40014,0]
[34,34,"Morehouse",3102,3103,1,1,0,3541.5,3542,3542,0]
[35,35,"Natchitoches",4797,4772,-25,0,-25,2712.5,-67813,0,-67813]
[36,36,"Orleans",42271,42428,157,157,0,2366.5,371541,371541,0]
[37,37,"Ouachita",17302,17246,-56,0,-56,3192.5,-178780,0,-178780]
[38,38,"Plaquemines",3556,3525,-31,0,-31,1628.5,-50484,0,-50484]
[39,39,"Pointe Coupee",2245,2237,-8,0,-8,2122,-16976,0,-16976]
[40,40,"Rapides",20556,20610,54,54,0,3079.5,166293,166293,0]
[41,41,"Red River",1138,1146,8,8,0,1867.5,14940,14940,0]
[42,42,"Richland",2637,2665,28,28,0,2987,83636,83636,0]
[43,43,"Sabine",3573,3561,-12,0,-12,3014.5,-36174,0,-36174]
[44,44,"St. Bernard",7389,7354,-35,0,-35,3024.5,-105858,0,-105858]
[45,45,"St. Charles",8942,8840,-102,0,-102,1577,-160854,0,-160854]
[46,46,"St. Helena",984,996,12,12,0,4136,49632,49632,0]
[47,47,"St. James",3098,3115,17,17,0,1857.5,31578,31578,0]
[48,48,"St. John the Baptist",4871,4945,74,74,0,1949,144226,144226,0]
[49,49,"St. Landry",11028,10983,-45,0,-45,3128.5,-140783,0,-140783]
[50,50,"St. Martin",6658,6613,-45,0,-45,2951.5,-132818,0,-132818]
[51,51,"St. Mary",7238,7256,18,18,0,3073.5,55323,55323,0]
[52,52,"St. Tammany",35732,35725,-7,0,-7,2710.5,-18974,0,-18974]
[53,53,"Tangipahoa",18700,18656,-44,0,-44,3113.5,-136994,0,-136994]
[54,54,"Tensas",315,318,3,3,0,3075,9225,9225,0]
[55,55,"Terrebonne",14282,14288,6,6,0,2651,15906,15906,0]
[56,56,"Union",1612,1615,3,3,0,3577.5,10733,10733,0]
[57,57,"Vermilion",9007,8927,-80,0,-80,3272.5,-261800,0,-261800]
[58,58,"Vernon",7576,7551,-25,0,-25,3355.5,-83888,0,-83888]
[59,59,"Washington",4392,4378,-14,0,-14,3875.5,-54257,0,-54257]
[60,60,"Webster",4982,4914,-68,0,-68,3199.5,-217566,0,-217566]
[61,61,"West Baton Rouge",3989,3948,-41,0,-41,1949,-79909,0,-79909]
[62,62,"West Carroll",1489,1484,-5,0,-5,3688.5,-18443,0,-18443]
[63,63,"West Feliciana",2068,2077,9,9,0,2158.5,19427,19427,0]
[64,64,"Winn",1744,1717,-27,0,-27,3645.5,-98429,0,-98429]
[65,65,"City of Monroe",7803,7890,87,87,0,2981,259347,259347,0]
[66,66,"City of Bogalusa",1834,1833,-1,0,-1,3434,-3434,0,-3434]
[67,67,"Zachary Community",5403,5396,-7,0,-7,3203.5,-22425,0,-22425]
[68,68,"City of Baker",886,922,36,36,0,3595,129420,129420,0]
[69,69,"Central Community",4600,4580,-20,0,-20,3461,-69220,0,-69220]
[null,null,"Total City/Parish",619566,618861,-705,906,-1611,null,-2380871,2334355,-4715226]
[]
[318,318001,"LSU Lab School",1468,1461,-7,0,-7,2681.1442009797129,-18768,0,-18768]
[319,319001,"Southern Lab School",789,740,-49,0,-49,2728.1092009797126,-133677,0,-133677]
[302006,302006,"LA School for Math, Science and the Arts",281,263,-18,0,-18,null,-86653,0,-86653]
[334001,334001,"New Orleans Center for Creative Arts",227,226,-1,0,-1,null,-4629,0,-4629]
["3C1001",17137,"Thrive",178,180,2,2,0,null,10881,10881,0]
[101001,null,"SSD",256,265,9,9,0,null,44738]
[null,null,"Total Lab & State Approved Schools",3199,3135,-64,11,-75,null,-188108,10881,-243727]
[]
[321001,321001,"New Vision Learning",205,196,-9,0,-9,null,-62762,0,-62762]
[329001,329001,"Glencoe Charter School",461,450,-11,0,-11,null,-85016,0,-85016]
[331001,331001,"International School of LA",1074,1068,-6,0,-6,null,-37204,0,-37204]
[333001,333001,"Avoyelles Public Charter School",711,691,-20,0,-20,null,-91811,0,-91811]
[336001,336001,"Delhi Charter School",642,603,-39,0,-39,null,-206242,0,-206242]
[337001,337001,"Belle Chasse Academy",789,782,-7,0,-7,null,-19939,0,-19939]
[340001,340001,"The MAX Charter School",99,98,-1,0,-1,null,-3799,0,-3799]
[null,null,"Total Legacy Type 2 Charter Schools",3981,3888,-93,0,-93,null,-506773,0,-506773]
[]
[341001,341001,"D'Arbonne Woods ",983,971,-12,0,-12,null,-27062,0,-27062,null,-35181]
[343001,343001,"Madison Prep",594,585,-9,0,-9,null,-20397,0,-20397,null,-40535]
[344001,344001,"Int'l High School of N. O. ",397,408,11,11,0,null,31883,31883,0,null,41726]
[345001,345001,"University View Academy",3716,3693,-23,0,-23,null,-64126,0,-64126,null,19538]
[346001,346001,"Lake Charles Charter Academy ",876,856,-20,0,-20,null,-41034,0,-41034,null,-86245]
[347001,347001,"Lycee Francois de la Nouvelle Orleans ",852,838,-14,0,-14,null,-39125,0,-39125,null,-54630]
[348001,348001,"New Orleans Military/Maritime Acdmy ",903,893,-10,0,-10,null,-28535,0,-28535,null,-46179]
["3C5001",null,"St Landry Charter School",306,291,-15,0,-15,null,-44368,0,-44368,null,-28658]
["W18001","W18001","Noble Minds",148,159,11,11,0,null,21034,21034,0,null,41220]
["W1A001","3A1001","JCFA - East",143,131,-12,0,-12,null,-30375,0,-30375,null,-52830]
["W1B001","3B1001","Advantage Charter Academy",599,580,-19,0,-19,null,-55577,0,-55577,null,-75844]
["W1D001","W1D001","JCFA - Lafayette",60,58,-2,0,-2,null,-8887,0,-8887,null,-3362]
["W2B001","3B1002","Willow Charter Academy",619,571,-48,0,-48,null,-118246,0,-118246,null,-158330]
["W33001","W33001","Lincoln Prep School",717,638,-79,0,-79,null,-214951,0,-214951,null,-317076]
["W3B001","3A3002","Iberville Charter Academy",474,485,11,11,0,null,22469,22469,0,null,77094]
["W4A001","3A4001","Delta Charter School ",485,477,-8,0,-8,null,-18315,0,-18315,null,-30754]
["W4B001",328002,"Lake Charles College Prep",598,584,-14,0,-14,null,-34248,0,-34248,null,-60046]
["W5B001","3B5001","Northeast Claiborne Charter",200,198,-2,0,-2,null,-17387,0,-17387,null,-6351]
["W6B001","3B6001","Acadiana Renaissance",2885,2851,-34,0,-34,null,-92947,0,-92947,null,-81849]
["W7A001","3A7001","Louisiana Key Academy ",428,442,14,14,0,null,101203,101203,0,null,59477]
["W7B001","3B6002","Lafayette Renaissance",1724,1688,-36,0,-36,null,-90514,0,-90514,null,-100026]
["W8A001","3A8001","Impact Charter",434,420,-14,0,-14,null,-41633,0,-41633,null,-61761]
["WAG001",343002,"Louisiana Virtual Charter Academy",1920,1895,-25,0,-25,null,-65296,0,-65296,null,-56517]
["WAK001",328001,"Southwest LA Charter School ",734,714,-20,0,-20,null,-70518,0,-70518,null,-71851]
["WAL001",349001,"J. S. Clark Leadership Academy ",407,381,-26,0,-26,null,-76137,0,-76137,null,-52896]
["WAU001","WAU001","GEO Prep Academy",777,767,-10,0,-10,null,-22057,0,-22057,null,-41653]
["WBQ001","WBQ001","New Harmony High School",312,333,21,21,0,null,60181,60181,0,null,87264]
["WBR001","WBR001","Athlos Academy",1084,1067,-17,0,-17,null,-18118,0,-18118,null,-83376]
["WBX001","WBX001","GEO Next Generation HS",445,433,-12,0,-12,null,-25120,null,null,null,-57048]
["WBY001","WBY001","Red River Charter Academy",134,127,-7,0,-7,null,-17566,null,null,null,-10738]
["WJ5001","WJ5001","Collegiate Academy (EBR)",480,501,21,21,0,null,60310,60310,0,null,92927]
["WZ8001","W3A001","GEO Prep Mid-City of Greater B. R.",682,662,-20,0,-20,null,-35670,0,-35670,null,-101833]
["WZN001",null,"GEO Prep Baker",91,86,-5,0,-5,null,-13624,0,-13624,null,-21120]
["WZO001",null,"Louisiana Key Academy Northshore",246,257,11,11,0,null,35057,35057,0,null,38970]
["WZP001",null,"Discovery Ochsner BR",128,127,-1,0,-1,null,-2127,0,-2127,null,13468]
["WZQ001",null,"Kenilworth Science and Technology",709,688,-21,0,-21,null,-38168,0,-38168,null,-92856]
["WZT001",null,"LaKey Caddo",70,90,20,20,0,null,98235,98235,0,null,74642]
[null,null,"Total New Type 2 Charter Schools",26360,25945,-415,120,-535,null,-941756,332137,-1289147,null,-1283219]
[]
[396211,396211,"Linwood Public Charter (RSD Operated)",1022,991,-31,0,-31,2713.9942478597636,-84134,0,-84134,3281.5,-101727]
["WZV001","WA7001","Prescott Academy",324,300,-24,0,-24,2093.7668168098444,-50250,0,-50250,4144.5,-99468]
["WAO001","3AP003","Redesign Dalton Charter School",151,161,10,10,0,2093.7668168098444,20938,20938,0,4144.5,41445]
["WAP001","3AP001","Redesign Lanier Charter School",161,161,0,0,0,2093.7668168098444,0,0,0,4144.5,0]
["WYA001","3AP004","Redesign Glen Oaks",65,62,-3,0,-3,2093.7668168098444,-6281,0,-6281,4144.5,-12434]
[null,null,"Total Type 5 Charters - LA",1723,1675,-48,10,-58,null,-119727,20938,-140665,null,-172184]
[]
[null,null,"Total Statewide",654829,653504,-1325,1047,-2372,null,-4137235,{"$error":"#REF!"},{"$error":"#REF!"},null,-1455403]

{"sheet":"Feb_Legacy","index":11,"n_rows":94,"n_cols":25,"rows_kept":94,"cut":false,"hidden":false,"merged":[[0,14,0,18],[0,19,0,23],[0,24,1,24],[0,5,0,8],[0,9,0,13],[0,0,1,1],[13,0,13,1],[0,2,1,2],[0,3,1,3],[0,4,1,4]]}
["Table 5A2\nLegacy Type 2\nCharter Schools",null,"Oct. 1, 2023\nMFP Funded\nMembership\n\n(Per SIS)","Feb. 1, 2024\nMFP Funded\nMembership\n\n(Per SIS)","Change in\nMFP Funded\nMembership","Unweighted Legacy Type 2 Charter School\n(Includes Final Local Revenue Representation)",null,null,null,"Economically Disadvantaged",null,null,null,null,"Students with Disabilities",null,null,null,null,"Gifted & Talented",null,null,null,null,"Change in\nTotal MFP\nState Cost\nAllocation\n\n(Levels 1,\n2, & 3)"]
[null,null,null,null,null,"Half\nPer Pupil\nWithout\nContinuation\nof Prior Year\nPay Raises","Change in\nState Cost\nAllocation","Half\nContinuation\nof Prior Year\nPay Raises\nPer Pupil","Change in\nState Cost\nAllocation","10/1/23\nStudent\nCount","2/1/24\nStudent\nCount","Change\nin\nStudent\nCount","Half\nPer\nPupil","Change in\nState Cost\nAllocation","10/1/23\nStudent\nCount","2/1/24\nStudent\nCount","Change\nin\nStudent\nCount","Half\nPer\nPupil","Change in\nState Cost\nAllocation","10/1/23\nStudent\nCount","2/1/24\nStudent\nCount","Change\nin\nStudent\nCount","Half\nPer\nPupil","Change in\nState Cost\nAllocation"]
[]
[null,null,1,2,3,4,5,6,7,8,9,10,11,12,13,14,15,16,17,18,19,20,21,22,23]
[null,null,"Link to SIS","Link to SIS","C2-C1",null,"Link in File",null,"Link in File","Link to SIS","Link to SIS","C9-C8",null,"Link in File","Link to SIS","Link to SIS","C14-C13",null,"Link in File","Link to SIS","Link to SIS","C19-C18",null,"Link in File","T5A2, C20"]
[null,null,"Link to SIS","Link to SIS","Formula",null,"Link in File",null,null,"Link in File","Link in File",null,null,"Link in File",null,"Link in File","Link in File",null,"Link in File","Link in File","Link in File","Link in File","Link in File","Link in File","Link in File"]
[321001,"New Vision Learning",205,196,-9,null,-45130.412220537743,null,-3223.3499999999995,192,182,-10,null,-3270.3941192806406,30,25,-5,null,-11137.733722613691,0,0,0,null,0,-62762]
[329001,"Glencoe Charter School",461,450,-11,null,-56558.008545049466,null,-3291.2,323,321,-2,null,-625.06898019653272,47,36,-11,null,-23645.045091962209,2,1,-1,null,-896.78407777371967,-85016]
[331001,"International School of LA",1074,1068,-6,null,-31821.440136551799,null,-2144.4299999999998,673,673,0,null,195.41330702181594,105,103,-2,null,-3434.0748002480082,0,0,0,null,0,-37204]
[333001,"Avoyelles Public Charter",711,691,-20,null,-76127.440504923507,null,-5361.2,415,406,-9,null,-3153.9359103906527,56,53,-3,null,-7168.0361599787557,43,43,0,null,0,-91811]
[336001,"Delhi Charter School",642,603,-39,null,-185150.93083884768,null,-10276.89,493,465,-28,null,-8798.7439774382856,50,50,0,null,-85.790682494078283,4,1,-3,null,-1930.4097664930862,-206242]
[337001,"Belle Chasse Academy",789,782,-7,null,-60682.390530676799,null,-2761.15,349,345,-4,null,-785.45474112753254,103,132,29,null,37214.556916249509,52,66,14,null,7074.9785047998594,-19939]
[340001,"The MAX",99,98,-1,null,-4960.5625013971439,null,-329.60500000000002,82,80,-2,null,-619.11845669098818,25,26,1,null,2110.6311023556414,0,0,0,null,0,-3799]
["State Total",null,3981,3888,-93,null,-460431.18527798419,null,-27387.825000000001,2527,2472,-55,null,-17057.302878102815,416,425,9,null,-6145.4924386915955,101,111,10,null,4247.7846605330533,-506773]
[]
[]
[]
[]
[]
[]
[]
[]
[]
[]
[]
[]
[]
[]
[]
[]
[]
[]
[]
[]
[]
[]
[]
[]
[]
[]
[]
[]
[]
[]
[]
[]
[]
[]
[]
[]
[]
[]
[]
[]
[]
[]
[]
[]
[]
[]
[]
[]
[]
[]
[]
[]
[]
[]
[]
[]
["12Legacy"]
[]
[]
[]
[]
[]
[]
[]
[]
[]
[]
[]
[]
[]
[]
[]
[]
[]
[]
[]
[]
[]
[]
[null,null,"=C76='J:\\mf\\EFS\\MFPAdm\\MFP Budget Letter\\2022-2023\\Budget Letter\\Mid-Year Adjustments\\[FY2022-23 MFP Midyear Adjustments_Oct.xlsm]Oct_LSMSA'!$D$76"]

{"sheet":"for incrementing rows (DNCHG)","index":12,"n_rows":0,"n_cols":0,"rows_kept":0,"cut":false,"hidden":true,"merged":[]}

{"sheet":"Feb_LSMSA","index":13,"n_rows":76,"n_cols":7,"rows_kept":76,"cut":false,"hidden":false,"merged":[[75,0,75,1],[0,2,0,6],[0,0,1,1],[1,2,2,2],[1,3,2,3]]}
["Table 5A5\nLouisiana School\nfor Math, Science\nand the Arts\n(LSMSA)\n\n(Site Code 302006)",null,"MFP State Cost Allocation"]
[null,null,"Oct. 1, 2023\nMFP Funded\nMembership\n\n(Per SIS)","Feb. 1, 2024\nMFP Funded\nMembership\n\n(Per SIS)","Change in\nMFP Funded\nMembership","Half Total\nState Cost &\nLocal Cost\nAllocation\n(With\nContinuation\nof Prior Year\nPay Raises)\nPer Pupil","Change in\nTotal MFP\nCost\nAllocation"]
[]
[null,null,1,2,3,4,5]
[null,null,"Link to SIS","Link to SIS","C2-C1","PPS C17 * 0.50","C3*C4"]
[null,null,"Link to SIS","Link to SIS","Formula","Link to Per Pupil Summary","Formula"]
[1,"Acadia",2,1,-1,4718.3034859352229,-4718]
[2,"Allen",2,2,0,5200.4398948751641,0]
[3,"Ascension",6,6,0,4323.9453621836983,0]
[4,"Assumption",1,1,0,5208.3932824427484,0]
[5,"Avoyelles",1,1,0,4867.3953225806454,0]
[6,"Beauregard",5,5,0,4864.2987406868979,0]
[7,"Bienville",3,3,0,5013.9821305285868,0]
[8,"Bossier",9,8,-1,4760.5902660293987,-4761]
[9,"Caddo",4,4,0,4647.4442478597639,0]
[10,"Calcasieu",20,20,0,4477.6082223583871,0]
[11,"Caldwell",2,2,0,5783.1475686813192,0]
[12,"Cameron",0,0,0,4804.0992789373813,0]
[13,"Catahoula",1,1,0,5419.7131250000002,0]
[14,"Claiborne",1,1,0,5917.5371641791044,0]
[15,"Concordia",0,0,0,5126.1932391713754,0]
[16,"DeSoto",3,3,0,4319.4565476942516,0]
[17,"East Baton Rouge",9,9,0,4482.1118168098437,0]
[18,"East Carroll",0,0,0,5559.2474338624343,0]
[19,"East Feliciana",0,0,0,5137.2978918254457,0]
[20,"Evangeline",4,2,-2,5157.5901454306622,-10315]
[21,"Franklin",3,3,0,5455.5939911775986,0]
[22,"Grant",2,1,-1,5396.8689798957557,-5397]
[23,"Iberia",2,3,1,4854.2945559671152,4854]
[24,"Iberville",2,2,0,4652.0371906030514,0]
[25,"Jackson",0,0,0,5111.8444913627645,0]
[26,"Jefferson",7,7,0,4681.5147478713734,0]
[27,"Jefferson Davis",2,2,0,5131.1443240093231,0]
[28,"Lafayette",10,9,-1,4347.5577216854299,-4348]
[29,"Lafourche",5,5,0,4560.3491957357037,0]
[30,"LaSalle",2,2,0,5105.1666230801166,0]
[31,"Lincoln",3,3,0,4829.3358853831296,0]
[32,"Livingston",12,11,-1,4838.4473388305851,-4838]
[33,"Madison",0,0,0,5406.1071782178224,0]
[34,"Morehouse",0,0,0,5308.4435453400511,0]
[35,"Natchitoches",25,20,-5,4770.3158045172895,-23852]
[36,"Orleans",1,1,0,4599.0507942725926,0]
[37,"Ouachita",6,6,0,4772.2180349172268,0]
[38,"Plaquemines",1,1,0,4783.6649443826473,0]
[39,"Pointe Coupee",3,4,1,5058.8251079286019,5059]
[40,"Rapides",11,11,0,4858.9325120081512,0]
[41,"Red River",1,1,0,4899.0551689189188,0]
[42,"Richland",0,0,0,5040.7801000741292,0]
[43,"Sabine",2,2,0,4949.8808839406211,0]
[44,"St. Bernard",2,0,-2,4687.3325332978156,-9375]
[45,"St. Charles",11,11,0,4322.8438842198384,0]
[46,"St. Helena",0,0,0,5866.1990301318274,0]
[47,"St. James",1,1,0,4846.6324332810045,0]
[48,"St. John the Baptist",1,1,0,4635.8578717948722,0]
[49,"St. Landry",9,8,-1,4839.1508740548006,-4839]
[50,"St. Martin",4,4,0,4681.0444295207126,0]
[51,"St. Mary",3,3,0,4972.721143617021,0]
[52,"St. Tammany",13,12,-1,4704.8071299737649,-4705]
[53,"Tangipahoa",9,8,-1,4817.5296592889972,-4818]
[54,"Tensas",0,0,0,5763.4288390501315,0]
[55,"Terrebonne",19,19,0,4611.3094861848376,0]
[56,"Union",1,1,0,5100.7388494018296,0]
[57,"Vermilion",2,2,0,4780.369163483575,0]
[58,"Vernon",12,10,-2,4786.8891475409837,-9574]
[59,"Washington",3,2,-1,5026.2770168612196,-5026]
[60,"Webster",1,1,0,5051.6477526987237,0]
[61,"West Baton Rouge",3,3,0,4679.0324774322971,0]
[62,"West Carroll",0,0,0,5403.5667904993907,0]
[63,"West Feliciana",1,1,0,4947.1782630570196,0]
[64,"Winn",0,0,0,5440.5236537440251,0]
[65,"City of Monroe",1,1,0,4947.2911065573771,0]
[66,"City of Bogalusa",1,1,0,5618.0489330091841,0]
[67,"Zachary Community",5,5,0,4813.9928842676309,0]
[68,"City of Baker",0,0,0,5183.8422062663185,0]
[69,"Central Community",6,6,0,5018.6879557157572,0]
["State Subtotal",null,281,263,-18,0,-86653]

{"sheet":"Feb_NOCCA","index":14,"n_rows":76,"n_cols":7,"rows_kept":76,"cut":false,"hidden":false,"merged":[[75,0,75,1],[0,2,0,6],[0,0,1,1],[1,2,2,2],[1,3,2,3]]}
["Table 5A4\nNew Orleans\nCenter\nfor Creative Arts\n(NOCCA)\n\n(Site Code 334001)",null,"MFP State Cost Allocation"]
[null,null,"Oct. 1, 2023\nMFP Funded\nMembership\n\n(Per SIS)","Feb. 1, 2024\nMFP Funded\nMembership\n\n(Per SIS)","Change in\nMFP Funded\nMembership","Half Total\nState Cost &\nLocal Cost\nAllocation\n(With\nContinuation\nof Prior Year\nPay Raises)\nPer Pupil","Change in\nTotal MFP\nCost\nAllocation"]
[]
[null,null,1,2,3,4,5]
[null,null,"Link to SIS","Link to SIS","C2-C1","PPS C17 * 0.50","C3*C4"]
[null,null,"Link to SIS","Link to SIS","Formula","Link to Per Pupil Summary","Formula"]
[1,"Acadia",0,0,0,4718.3034859352229,0]
[2,"Allen",0,0,0,5200.4398948751641,0]
[3,"Ascension",0,0,0,4323.9453621836983,0]
[4,"Assumption",0,0,0,5208.3932824427484,0]
[5,"Avoyelles",0,0,0,4867.3953225806454,0]
[6,"Beauregard",0,0,0,4864.2987406868979,0]
[7,"Bienville",0,0,0,5013.9821305285868,0]
[8,"Bossier",0,0,0,4760.5902660293987,0]
[9,"Caddo",0,0,0,4647.4442478597639,0]
[10,"Calcasieu",0,0,0,4477.6082223583871,0]
[11,"Caldwell",0,0,0,5783.1475686813192,0]
[12,"Cameron",0,0,0,4804.0992789373813,0]
[13,"Catahoula",0,0,0,5419.7131250000002,0]
[14,"Claiborne",0,0,0,5917.5371641791044,0]
[15,"Concordia",0,0,0,5126.1932391713754,0]
[16,"DeSoto",0,0,0,4319.4565476942516,0]
[17,"East Baton Rouge",1,1,0,4482.1118168098437,0]
[18,"East Carroll",0,0,0,5559.2474338624343,0]
[19,"East Feliciana",0,0,0,5137.2978918254457,0]
[20,"Evangeline",0,0,0,5157.5901454306622,0]
[21,"Franklin",0,0,0,5455.5939911775986,0]
[22,"Grant",0,0,0,5396.8689798957557,0]
[23,"Iberia",0,0,0,4854.2945559671152,0]
[24,"Iberville",0,0,0,4652.0371906030514,0]
[25,"Jackson",0,0,0,5111.8444913627645,0]
[26,"Jefferson",42,43,1,4681.5147478713734,4682]
[27,"Jefferson Davis",0,0,0,5131.1443240093231,0]
[28,"Lafayette",0,0,0,4347.5577216854299,0]
[29,"Lafourche",1,1,0,4560.3491957357037,0]
[30,"LaSalle",0,0,0,5105.1666230801166,0]
[31,"Lincoln",0,0,0,4829.3358853831296,0]
[32,"Livingston",0,0,0,4838.4473388305851,0]
[33,"Madison",0,0,0,5406.1071782178224,0]
[34,"Morehouse",0,0,0,5308.4435453400511,0]
[35,"Natchitoches",0,0,0,4770.3158045172895,0]
[36,"Orleans",138,136,-2,4599.0507942725926,-9198]
[37,"Ouachita",0,0,0,4772.2180349172268,0]
[38,"Plaquemines",3,3,0,4783.6649443826473,0]
[39,"Pointe Coupee",0,0,0,5058.8251079286019,0]
[40,"Rapides",0,0,0,4858.9325120081512,0]
[41,"Red River",0,0,0,4899.0551689189188,0]
[42,"Richland",0,0,0,5040.7801000741292,0]
[43,"Sabine",0,0,0,4949.8808839406211,0]
[44,"St. Bernard",5,5,0,4687.3325332978156,0]
[45,"St. Charles",6,6,0,4322.8438842198384,0]
[46,"St. Helena",0,0,0,5866.1990301318274,0]
[47,"St. James",0,0,0,4846.6324332810045,0]
[48,"St. John the Baptist",5,5,0,4635.8578717948722,0]
[49,"St. Landry",0,0,0,4839.1508740548006,0]
[50,"St. Martin",0,0,0,4681.0444295207126,0]
[51,"St. Mary",0,0,0,4972.721143617021,0]
[52,"St. Tammany",23,24,1,4704.8071299737649,4705]
[53,"Tangipahoa",3,2,-1,4817.5296592889972,-4818]
[54,"Tensas",0,0,0,5763.4288390501315,0]
[55,"Terrebonne",0,0,0,4611.3094861848376,0]
[56,"Union",0,0,0,5100.7388494018296,0]
[57,"Vermilion",0,0,0,4780.369163483575,0]
[58,"Vernon",0,0,0,4786.8891475409837,0]
[59,"Washington",0,0,0,5026.2770168612196,0]
[60,"Webster",0,0,0,5051.6477526987237,0]
[61,"West Baton Rouge",0,0,0,4679.0324774322971,0]
[62,"West Carroll",0,0,0,5403.5667904993907,0]
[63,"West Feliciana",0,0,0,4947.1782630570196,0]
[64,"Winn",0,0,0,5440.5236537440251,0]
[65,"City of Monroe",0,0,0,4947.2911065573771,0]
[66,"City of Bogalusa",0,0,0,5618.0489330091841,0]
[67,"Zachary Community",0,0,0,4813.9928842676309,0]
[68,"City of Baker",0,0,0,5183.8422062663185,0]
[69,"Central Community",0,0,0,5018.6879557157572,0]
["State Subtotal",null,227,226,-1,0,-4629]

{"sheet":"Feb_Thrive","index":15,"n_rows":76,"n_cols":7,"rows_kept":76,"cut":false,"hidden":false,"merged":[[75,0,75,1],[0,2,0,6],[0,0,1,1],[1,2,2,2],[1,3,2,3]]}
["Table 5A6\nThrive Academy of Baton Rouge\n\n(Site Code 3C1001)",null,"MFP State Cost Allocation"]
[null,null,"Oct. 1, 2023\nMFP Funded\nMembership\n\n(Per SIS)","Feb. 1, 2024\nMFP Funded\nMembership\n\n(Per SIS)","Change in\nMFP Funded\nMembership","Half Total\nState Cost &\nLocal Cost\nAllocation\n(With\nContinuation\nof Prior Year\nPay Raises)\nPer Pupil","Change in\nTotal MFP\nCost\nAllocation"]
[]
[null,null,1,2,3,4,5]
[null,null,"Link to SIS","Link to SIS","C2-C1","PPS C17 * 0.50","C3*C4"]
[null,null,"Link to SIS","Link to SIS","Formula","Link to Per Pupil Summary","Formula"]
[1,"Acadia",0,0,0,4718.3034859352229,0]
[2,"Allen",0,0,0,5200.4398948751641,0]
[3,"Ascension",8,9,1,4323.9453621836983,4324]
[4,"Assumption",1,1,0,5208.3932824427484,0]
[5,"Avoyelles",0,0,0,4867.3953225806454,0]
[6,"Beauregard",0,0,0,4864.2987406868979,0]
[7,"Bienville",0,0,0,5013.9821305285868,0]
[8,"Bossier",0,0,0,4760.5902660293987,0]
[9,"Caddo",0,0,0,4647.4442478597639,0]
[10,"Calcasieu",0,0,0,4477.6082223583871,0]
[11,"Caldwell",0,0,0,5783.1475686813192,0]
[12,"Cameron",0,0,0,4804.0992789373813,0]
[13,"Catahoula",0,0,0,5419.7131250000002,0]
[14,"Claiborne",0,0,0,5917.5371641791044,0]
[15,"Concordia",0,0,0,5126.1932391713754,0]
[16,"DeSoto",0,0,0,4319.4565476942516,0]
[17,"East Baton Rouge",105,99,-6,4482.1118168098437,-26893]
[18,"East Carroll",0,0,0,5559.2474338624343,0]
[19,"East Feliciana",0,0,0,5137.2978918254457,0]
[20,"Evangeline",0,0,0,5157.5901454306622,0]
[21,"Franklin",0,0,0,5455.5939911775986,0]
[22,"Grant",0,0,0,5396.8689798957557,0]
[23,"Iberia",1,1,0,4854.2945559671152,0]
[24,"Iberville",1,1,0,4652.0371906030514,0]
[25,"Jackson",0,0,0,5111.8444913627645,0]
[26,"Jefferson",7,7,0,4681.5147478713734,0]
[27,"Jefferson Davis",0,0,0,5131.1443240093231,0]
[28,"Lafayette",3,3,0,4347.5577216854299,0]
[29,"Lafourche",0,1,1,4560.3491957357037,4560]
[30,"LaSalle",0,0,0,5105.1666230801166,0]
[31,"Lincoln",0,0,0,4829.3358853831296,0]
[32,"Livingston",4,5,1,4838.4473388305851,4838]
[33,"Madison",0,0,0,5406.1071782178224,0]
[34,"Morehouse",0,0,0,5308.4435453400511,0]
[35,"Natchitoches",0,0,0,4770.3158045172895,0]
[36,"Orleans",4,5,1,4599.0507942725926,4599]
[37,"Ouachita",0,0,0,4772.2180349172268,0]
[38,"Plaquemines",0,1,1,4783.6649443826473,4784]
[39,"Pointe Coupee",1,1,0,5058.8251079286019,0]
[40,"Rapides",0,0,0,4858.9325120081512,0]
[41,"Red River",0,0,0,4899.0551689189188,0]
[42,"Richland",0,0,0,5040.7801000741292,0]
[43,"Sabine",0,0,0,4949.8808839406211,0]
[44,"St. Bernard",0,0,0,4687.3325332978156,0]
[45,"St. Charles",1,0,-1,4322.8438842198384,-4323]
[46,"St. Helena",0,0,0,5866.1990301318274,0]
[47,"St. James",1,1,0,4846.6324332810045,0]
[48,"St. John the Baptist",4,7,3,4635.8578717948722,13908]
[49,"St. Landry",8,4,-4,4839.1508740548006,-19357]
[50,"St. Martin",1,0,-1,4681.0444295207126,-4681]
[51,"St. Mary",0,0,0,4972.721143617021,0]
[52,"St. Tammany",2,3,1,4704.8071299737649,4705]
[53,"Tangipahoa",2,4,2,4817.5296592889972,9635]
[54,"Tensas",0,0,0,5763.4288390501315,0]
[55,"Terrebonne",3,3,0,4611.3094861848376,0]
[56,"Union",0,0,0,5100.7388494018296,0]
[57,"Vermilion",0,0,0,4780.369163483575,0]
[58,"Vernon",0,0,0,4786.8891475409837,0]
[59,"Washington",1,1,0,5026.2770168612196,0]
[60,"Webster",0,0,0,5051.6477526987237,0]
[61,"West Baton Rouge",6,5,-1,4679.0324774322971,-4679]
[62,"West Carroll",0,0,0,5403.5667904993907,0]
[63,"West Feliciana",0,0,0,4947.1782630570196,0]
[64,"Winn",0,0,0,5440.5236537440251,0]
[65,"City of Monroe",0,0,0,4947.2911065573771,0]
[66,"City of Bogalusa",0,0,0,5618.0489330091841,0]
[67,"Zachary Community",0,3,3,4813.9928842676309,14442]
[68,"City of Baker",9,9,0,5183.8422062663185,0]
[69,"Central Community",5,6,1,5018.6879557157572,5019]
["State Subtotal",null,178,180,2,0,10881]

{"sheet":"Feb_SSD","index":16,"n_rows":76,"n_cols":7,"rows_kept":76,"cut":false,"hidden":false,"merged":[[0,0,1,1],[0,2,0,6],[1,2,2,2],[1,3,2,3],[75,0,75,1]]}
["Table 5A7\nSpecial School District \nPreliminary\n\n(Site Code 101001)\n(Added in 22-23)",null,"MFP State Cost Allocation"]
[null,null,"Oct. 1, 2023\nMFP Funded\nMembership\n\n(Per SIS)","Feb. 1, 2024\nMFP Funded\nMembership\n\n(Per SIS)","Change in\nMFP Funded\nMembership","Half Total\nState Cost &\nLocal Cost\nAllocation\n(With\nContinuation\nof Prior Year\nPay Raises)\nPer Pupil","Change in\nTotal MFP\nCost\nAllocation"]
[]
[null,null,1,2,3,4,5]
[null,null,"Link to SIS","Link to SIS","C2-C1","PPS C17 * 0.50","C3*C4"]
[null,null,"Link to SIS","Link to SIS","Formula","Link to Per Pupil Summary","Formula"]
[1,"Acadia",9,9,0,4718.3034859352229,0]
[2,"Allen",1,2,1,5200.4398948751641,5200]
[3,"Ascension",20,20,0,4323.9453621836983,0]
[4,"Assumption",1,1,0,5208.3932824427484,0]
[5,"Avoyelles",5,5,0,4867.3953225806454,0]
[6,"Beauregard",0,0,0,4864.2987406868979,0]
[7,"Bienville",1,1,0,5013.9821305285868,0]
[8,"Bossier",1,1,0,4760.5902660293987,0]
[9,"Caddo",4,6,2,4647.4442478597639,9295]
[10,"Calcasieu",7,7,0,4477.6082223583871,0]
[11,"Caldwell",0,0,0,5783.1475686813192,0]
[12,"Cameron",0,0,0,4804.0992789373813,0]
[13,"Catahoula",0,0,0,5419.7131250000002,0]
[14,"Claiborne",0,0,0,5917.5371641791044,0]
[15,"Concordia",1,2,1,5126.1932391713754,5126]
[16,"DeSoto",0,0,0,4319.4565476942516,0]
[17,"East Baton Rouge",57,55,-2,4482.1118168098437,-8964]
[18,"East Carroll",1,1,0,5559.2474338624343,0]
[19,"East Feliciana",1,1,0,5137.2978918254457,0]
[20,"Evangeline",2,3,1,5157.5901454306622,5158]
[21,"Franklin",0,0,0,5455.5939911775986,0]
[22,"Grant",2,3,1,5396.8689798957557,5397]
[23,"Iberia",1,1,0,4854.2945559671152,0]
[24,"Iberville",2,2,0,4652.0371906030514,0]
[25,"Jackson",0,0,0,5111.8444913627645,0]
[26,"Jefferson",14,14,0,4681.5147478713734,0]
[27,"Jefferson Davis",5,4,-1,5131.1443240093231,-5131]
[28,"Lafayette",11,10,-1,4347.5577216854299,-4348]
[29,"Lafourche",2,2,0,4560.3491957357037,0]
[30,"LaSalle",0,0,0,5105.1666230801166,0]
[31,"Lincoln",1,2,1,4829.3358853831296,4829]
[32,"Livingston",13,13,0,4838.4473388305851,0]
[33,"Madison",0,0,0,5406.1071782178224,0]
[34,"Morehouse",0,0,0,5308.4435453400511,0]
[35,"Natchitoches",1,1,0,4770.3158045172895,0]
[36,"Orleans",4,5,1,4599.0507942725926,4599]
[37,"Ouachita",3,3,0,4772.2180349172268,0]
[38,"Plaquemines",0,0,0,4783.6649443826473,0]
[39,"Pointe Coupee",2,3,1,5058.8251079286019,5059]
[40,"Rapides",43,42,-1,4858.9325120081512,-4859]
[41,"Red River",0,0,0,4899.0551689189188,0]
[42,"Richland",0,1,1,5040.7801000741292,5041]
[43,"Sabine",1,1,0,4949.8808839406211,0]
[44,"St. Bernard",0,1,1,4687.3325332978156,4687]
[45,"St. Charles",0,0,0,4322.8438842198384,0]
[46,"St. Helena",0,0,0,5866.1990301318274,0]
[47,"St. James",0,0,0,4846.6324332810045,0]
[48,"St. John the Baptist",1,0,-1,4635.8578717948722,-4636]
[49,"St. Landry",1,1,0,4839.1508740548006,0]
[50,"St. Martin",0,0,0,4681.0444295207126,0]
[51,"St. Mary",1,1,0,4972.721143617021,0]
[52,"St. Tammany",3,5,2,4704.8071299737649,9410]
[53,"Tangipahoa",6,5,-1,4817.5296592889972,-4818]
[54,"Tensas",1,1,0,5763.4288390501315,0]
[55,"Terrebonne",7,8,1,4611.3094861848376,4611]
[56,"Union",2,2,0,5100.7388494018296,0]
[57,"Vermilion",1,2,1,4780.369163483575,4780]
[58,"Vernon",1,1,0,4786.8891475409837,0]
[59,"Washington",3,5,2,5026.2770168612196,10053]
[60,"Webster",0,0,0,5051.6477526987237,0]
[61,"West Baton Rouge",6,6,0,4679.0324774322971,0]
[62,"West Carroll",0,0,0,5403.5667904993907,0]
[63,"West Feliciana",1,1,0,4947.1782630570196,0]
[64,"Winn",1,1,0,5440.5236537440251,0]
[65,"City of Monroe",2,1,-1,4947.2911065573771,-4947]
[66,"City of Bogalusa",1,0,-1,5618.0489330091841,-5618]
[67,"Zachary Community",2,3,1,4813.9928842676309,4814]
[68,"City of Baker",0,0,0,5183.8422062663185,0]
[69,"Central Community",0,0,0,5018.6879557157572,0]
["State Subtotal",null,256,265,9,0,44738]

{"sheet":"Feb_Williams","index":17,"n_rows":112,"n_cols":27,"rows_kept":112,"cut":false,"hidden":true,"merged":[[0,5,0,6],[0,7,0,11],[0,12,0,16],[75,0,75,1],[0,0,2,1],[0,2,1,2],[0,3,1,3],[0,4,1,4],[0,17,0,21],[0,22,1,22],[0,23,1,23],[0,24,1,24],[78,9,79,9],[78,12,79,12],[78,15,79,15]]}
["Table 5C1-AM\nWilliams Scholar Academy\n\n(Site Code 3C4001)\n(Opened 21/22)\n(Not in a District Building)",null,"Oct. 1, 2023\nMFP Funded\nMembership\n\n(Per SIS)","Feb. 1, 2024\nMFP Funded\nMembership\n\n(Per SIS)","Change in\nMFP Funded\nMembership","Unweighted",null,"Economically Disadvantaged",null,null,null,null,"Students with Disabilities",null,null,null,null,"Gifted & Talented",null,null,null,null,"Change in\nTotal MFP\nState Cost\nAllocation\n\n(Levels 1,\n2, & 3)","Half Final\nFY2023-24\nLocal Revenue\nRepresentation\nPer Pupil\n(per charter law)","Change in\nLocal Revenue\nRepresentation",null,"changed dates in column headers (mb 3/2/24)"]
[null,null,null,null,null,"Half the\nUnweighted\nPer Pupil\nWith\nContinuation\nof Prior Year\nPay Raises","Change in\nState Cost\nAllocation","10/1/23\nStudent\nCount","2/1/24\nStudent\nCount","Change\nin\nStudent\nCount","Half\nPer\nPupil","Change in\nState Cost\nAllocation","10/1/23\nStudent\nCount","\n2/1/24\nStudent\nCount\n","Change\nin\nStudent\nCount","Half\nPer\nPupil","Change in\nState Cost\nAllocation","10/1/23\nStudent\nCount","2/1/24\nStudent\nCount","Change\nin\nStudent\nCount","Half\nPer\nPupil","Change in\nState Cost\nAllocation"]
[]
[null,null,1,{"$f":"C4+1","v":2},{"$f":"D4+1","v":3},4,5,6,7,8,9,10,11,12,13,14,15,16,17,18,19,20,21,22,23]
[null,null,"Link to SIS","Link to SIS","C2-C1","PPS C6 * 0.50","C3*C4","Link to SIS","Link to SIS","C7-C6","PPS C7","C8*C9","Link to SIS","Link to SIS","C12-C11","PPS C9","C13*C14","Link to SIS","Link to SIS","C17-C16","PPS C10","C18*C19","C5+C10+C15+C20","PPS C12 * 0.50","C3*C22","formulas corrected mb 3/22/23"]
[null,null,"Link to SIS","Link to SIS","Formula","Link to Per Pupil Summary","Formula","Link to SIS","Link to SIS","Formula","Link to Per Pupil Summary","Formula","Link to SIS","Link to SIS","Formula","Link to Per Pupil Summary","Formula","Link to SIS","Link to SIS","Formula","Link to Per Pupil Summary","Formula","Formula","Link to Per Pupil Summary","Formula"]
[1,"Acadia",{"$f":"HLOOKUP($B$83,[3]Base!$E$4:$BJ$75,ROW('for incrementing rows (DNCHG)'!A4),FALSE)","v":{"$error":"#N/A"}},{"$f":"HLOOKUP($B$83,[4]Base!$E$4:$BJ$75,ROW('for incrementing rows (DNCHG)'!A4),FALSE)","v":{"$error":"#N/A"}},{"$f":"D7-C7","v":{"$error":"#N/A"}},{"$f":"#REF!*0.5","v":{"$error":"#REF!"}},{"$f":"E7*F7","v":{"$error":"#N/A"}},{"$f":"HLOOKUP($B$83,'[3]Econ. Disad.'!$E$4:$BJ$75,ROW('for incrementing rows (DNCHG)'!F4),FALSE)","v":{"$error":"#N/A"}},{"$f":"HLOOKUP($B$83,'[4]Econ. Disad.'!$E$4:$BJ$75,ROW('for incrementing rows (DNCHG)'!F4),FALSE)","v":{"$error":"#N/A"}},{"$f":"I7-H7","v":{"$error":"#N/A"}},{"$f":"#REF!*0.5","v":{"$error":"#REF!"}},{"$f":"J7*K7","v":{"$error":"#N/A"}},{"$f":"HLOOKUP($B$83,[3]SWD!$E$4:$BJ$75,ROW('for incrementing rows (DNCHG)'!K4),FALSE)","v":{"$error":"#N/A"}},{"$f":"HLOOKUP($B$83,[4]SWD!$E$4:$BJ$75,ROW('for incrementing rows (DNCHG)'!K4),FALSE)","v":{"$error":"#N/A"}},{"$f":"N7-M7","v":{"$error":"#N/A"}},{"$f":"#REF!*0.5","v":{"$error":"#REF!"}},{"$f":"O7*P7","v":{"$error":"#N/A"}},{"$f":"HLOOKUP($B$83,[3]GT!$E$4:$BJ$75,ROW('for incrementing rows (DNCHG)'!P4),FALSE)","v":{"$error":"#N/A"}},{"$f":"HLOOKUP($B$83,[4]GT!$E$4:$BJ$75,ROW('for incrementing rows (DNCHG)'!P4),FALSE)","v":{"$error":"#N/A"}},{"$f":"S7-R7","v":{"$error":"#N/A"}},{"$f":"#REF!*0.5","v":{"$error":"#REF!"}},{"$f":"T7*U7","v":{"$error":"#N/A"}},{"$f":"ROUND(G7+L7+Q7+V7,0)","v":{"$error":"#N/A"}},{"$f":"#REF!*0.5","v":{"$error":"#REF!"}},{"$f":"ROUND(E7*X7,0)","v":{"$error":"#N/A"}}]
[2,"Allen",{"$f":"HLOOKUP($B$83,[3]Base!$E$4:$BJ$75,ROW('for incrementing rows (DNCHG)'!A5),FALSE)","v":{"$error":"#N/A"}},{"$f":"HLOOKUP($B$83,[4]Base!$E$4:$BJ$75,ROW('for incrementing rows (DNCHG)'!A5),FALSE)","v":{"$error":"#N/A"}},{"$error":"#N/A"},{"$f":"#REF!*0.5","v":{"$error":"#REF!"}},{"$error":"#N/A"},{"$f":"HLOOKUP($B$83,'[3]Econ. Disad.'!$E$4:$BJ$75,ROW('for incrementing rows (DNCHG)'!F5),FALSE)","v":{"$error":"#N/A"}},{"$f":"HLOOKUP($B$83,'[4]Econ. Disad.'!$E$4:$BJ$75,ROW('for incrementing rows (DNCHG)'!F5),FALSE)","v":{"$error":"#N/A"}},{"$error":"#N/A"},{"$f":"#REF!*0.5","v":{"$error":"#REF!"}},{"$error":"#N/A"},{"$f":"HLOOKUP($B$83,[3]SWD!$E$4:$BJ$75,ROW('for incrementing rows (DNCHG)'!K5),FALSE)","v":{"$error":"#N/A"}},{"$f":"HLOOKUP($B$83,[4]SWD!$E$4:$BJ$75,ROW('for incrementing rows (DNCHG)'!K5),FALSE)","v":{"$error":"#N/A"}},{"$error":"#N/A"},{"$f":"#REF!*0.5","v":{"$error":"#REF!"}},{"$error":"#N/A"},{"$f":"HLOOKUP($B$83,[3]GT!$E$4:$BJ$75,ROW('for incrementing rows (DNCHG)'!P5),FALSE)","v":{"$error":"#N/A"}},{"$f":"HLOOKUP($B$83,[4]GT!$E$4:$BJ$75,ROW('for incrementing rows (DNCHG)'!P5),FALSE)","v":{"$error":"#N/A"}},{"$error":"#N/A"},{"$f":"#REF!*0.5","v":{"$error":"#REF!"}},{"$error":"#N/A"},{"$error":"#N/A"},{"$f":"#REF!*0.5","v":{"$error":"#REF!"}},{"$f":"ROUND(E8*X8,0)","v":{"$error":"#N/A"}}]
[3,"Ascension",{"$f":"HLOOKUP($B$83,[3]Base!$E$4:$BJ$75,ROW('for incrementing rows (DNCHG)'!A6),FALSE)","v":{"$error":"#N/A"}},{"$f":"HLOOKUP($B$83,[4]Base!$E$4:$BJ$75,ROW('for incrementing rows (DNCHG)'!A6),FALSE)","v":{"$error":"#N/A"}},{"$error":"#N/A"},{"$f":"#REF!*0.5","v":{"$error":"#REF!"}},{"$error":"#N/A"},{"$f":"HLOOKUP($B$83,'[3]Econ. Disad.'!$E$4:$BJ$75,ROW('for incrementing rows (DNCHG)'!F6),FALSE)","v":{"$error":"#N/A"}},{"$f":"HLOOKUP($B$83,'[4]Econ. Disad.'!$E$4:$BJ$75,ROW('for incrementing rows (DNCHG)'!F6),FALSE)","v":{"$error":"#N/A"}},{"$error":"#N/A"},{"$f":"#REF!*0.5","v":{"$error":"#REF!"}},{"$error":"#N/A"},{"$f":"HLOOKUP($B$83,[3]SWD!$E$4:$BJ$75,ROW('for incrementing rows (DNCHG)'!K6),FALSE)","v":{"$error":"#N/A"}},{"$f":"HLOOKUP($B$83,[4]SWD!$E$4:$BJ$75,ROW('for incrementing rows (DNCHG)'!K6),FALSE)","v":{"$error":"#N/A"}},{"$error":"#N/A"},{"$f":"#REF!*0.5","v":{"$error":"#REF!"}},{"$error":"#N/A"},{"$f":"HLOOKUP($B$83,[3]GT!$E$4:$BJ$75,ROW('for incrementing rows (DNCHG)'!P6),FALSE)","v":{"$error":"#N/A"}},{"$f":"HLOOKUP($B$83,[4]GT!$E$4:$BJ$75,ROW('for incrementing rows (DNCHG)'!P6),FALSE)","v":{"$error":"#N/A"}},{"$error":"#N/A"},{"$f":"#REF!*0.5","v":{"$error":"#REF!"}},{"$error":"#N/A"},{"$error":"#N/A"},{"$f":"#REF!*0.5","v":{"$error":"#REF!"}},{"$error":"#N/A"}]
[4,"Assumption",{"$f":"HLOOKUP($B$83,[3]Base!$E$4:$BJ$75,ROW('for incrementing rows (DNCHG)'!A7),FALSE)","v":{"$error":"#N/A"}},{"$f":"HLOOKUP($B$83,[4]Base!$E$4:$BJ$75,ROW('for incrementing rows (DNCHG)'!A7),FALSE)","v":{"$error":"#N/A"}},{"$error":"#N/A"},{"$f":"#REF!*0.5","v":{"$error":"#REF!"}},{"$error":"#N/A"},{"$f":"HLOOKUP($B$83,'[3]Econ. Disad.'!$E$4:$BJ$75,ROW('for incrementing rows (DNCHG)'!F7),FALSE)","v":{"$error":"#N/A"}},{"$f":"HLOOKUP($B$83,'[4]Econ. Disad.'!$E$4:$BJ$75,ROW('for incrementing rows (DNCHG)'!F7),FALSE)","v":{"$error":"#N/A"}},{"$error":"#N/A"},{"$f":"#REF!*0.5","v":{"$error":"#REF!"}},{"$error":"#N/A"},{"$f":"HLOOKUP($B$83,[3]SWD!$E$4:$BJ$75,ROW('for incrementing rows (DNCHG)'!K7),FALSE)","v":{"$error":"#N/A"}},{"$f":"HLOOKUP($B$83,[4]SWD!$E$4:$BJ$75,ROW('for incrementing rows (DNCHG)'!K7),FALSE)","v":{"$error":"#N/A"}},{"$error":"#N/A"},{"$f":"#REF!*0.5","v":{"$error":"#REF!"}},{"$error":"#N/A"},{"$f":"HLOOKUP($B$83,[3]GT!$E$4:$BJ$75,ROW('for incrementing rows (DNCHG)'!P7),FALSE)","v":{"$error":"#N/A"}},{"$f":"HLOOKUP($B$83,[4]GT!$E$4:$BJ$75,ROW('for incrementing rows (DNCHG)'!P7),FALSE)","v":{"$error":"#N/A"}},{"$error":"#N/A"},{"$f":"#REF!*0.5","v":{"$error":"#REF!"}},{"$error":"#N/A"},{"$error":"#N/A"},{"$f":"#REF!*0.5","v":{"$error":"#REF!"}},{"$error":"#N/A"}]
[5,"Avoyelles",{"$f":"HLOOKUP($B$83,[3]Base!$E$4:$BJ$75,ROW('for incrementing rows (DNCHG)'!A8),FALSE)","v":{"$error":"#N/A"}},{"$f":"HLOOKUP($B$83,[4]Base!$E$4:$BJ$75,ROW('for incrementing rows (DNCHG)'!A8),FALSE)","v":{"$error":"#N/A"}},{"$error":"#N/A"},{"$f":"#REF!*0.5","v":{"$error":"#REF!"}},{"$error":"#N/A"},{"$f":"HLOOKUP($B$83,'[3]Econ. Disad.'!$E$4:$BJ$75,ROW('for incrementing rows (DNCHG)'!F8),FALSE)","v":{"$error":"#N/A"}},{"$f":"HLOOKUP($B$83,'[4]Econ. Disad.'!$E$4:$BJ$75,ROW('for incrementing rows (DNCHG)'!F8),FALSE)","v":{"$error":"#N/A"}},{"$error":"#N/A"},{"$f":"#REF!*0.5","v":{"$error":"#REF!"}},{"$error":"#N/A"},{"$f":"HLOOKUP($B$83,[3]SWD!$E$4:$BJ$75,ROW('for incrementing rows (DNCHG)'!K8),FALSE)","v":{"$error":"#N/A"}},{"$f":"HLOOKUP($B$83,[4]SWD!$E$4:$BJ$75,ROW('for incrementing rows (DNCHG)'!K8),FALSE)","v":{"$error":"#N/A"}},{"$error":"#N/A"},{"$f":"#REF!*0.5","v":{"$error":"#REF!"}},{"$error":"#N/A"},{"$f":"HLOOKUP($B$83,[3]GT!$E$4:$BJ$75,ROW('for incrementing rows (DNCHG)'!P8),FALSE)","v":{"$error":"#N/A"}},{"$f":"HLOOKUP($B$83,[4]GT!$E$4:$BJ$75,ROW('for incrementing rows (DNCHG)'!P8),FALSE)","v":{"$error":"#N/A"}},{"$error":"#N/A"},{"$f":"#REF!*0.5","v":{"$error":"#REF!"}},{"$error":"#N/A"},{"$error":"#N/A"},{"$f":"#REF!*0.5","v":{"$error":"#REF!"}},{"$error":"#N/A"}]
[6,"Beauregard",{"$f":"HLOOKUP($B$83,[3]Base!$E$4:$BJ$75,ROW('for incrementing rows (DNCHG)'!A9),FALSE)","v":{"$error":"#N/A"}},{"$f":"HLOOKUP($B$83,[4]Base!$E$4:$BJ$75,ROW('for incrementing rows (DNCHG)'!A9),FALSE)","v":{"$error":"#N/A"}},{"$error":"#N/A"},{"$f":"#REF!*0.5","v":{"$error":"#REF!"}},{"$error":"#N/A"},{"$f":"HLOOKUP($B$83,'[3]Econ. Disad.'!$E$4:$BJ$75,ROW('for incrementing rows (DNCHG)'!F9),FALSE)","v":{"$error":"#N/A"}},{"$f":"HLOOKUP($B$83,'[4]Econ. Disad.'!$E$4:$BJ$75,ROW('for incrementing rows (DNCHG)'!F9),FALSE)","v":{"$error":"#N/A"}},{"$error":"#N/A"},{"$f":"#REF!*0.5","v":{"$error":"#REF!"}},{"$error":"#N/A"},{"$f":"HLOOKUP($B$83,[3]SWD!$E$4:$BJ$75,ROW('for incrementing rows (DNCHG)'!K9),FALSE)","v":{"$error":"#N/A"}},{"$f":"HLOOKUP($B$83,[4]SWD!$E$4:$BJ$75,ROW('for incrementing rows (DNCHG)'!K9),FALSE)","v":{"$error":"#N/A"}},{"$error":"#N/A"},{"$f":"#REF!*0.5","v":{"$error":"#REF!"}},{"$error":"#N/A"},{"$f":"HLOOKUP($B$83,[3]GT!$E$4:$BJ$75,ROW('for incrementing rows (DNCHG)'!P9),FALSE)","v":{"$error":"#N/A"}},{"$f":"HLOOKUP($B$83,[4]GT!$E$4:$BJ$75,ROW('for incrementing rows (DNCHG)'!P9),FALSE)","v":{"$error":"#N/A"}},{"$error":"#N/A"},{"$f":"#REF!*0.5","v":{"$error":"#REF!"}},{"$error":"#N/A"},{"$error":"#N/A"},{"$f":"#REF!*0.5","v":{"$error":"#REF!"}},{"$error":"#N/A"}]
[7,"Bienville",{"$f":"HLOOKUP($B$83,[3]Base!$E$4:$BJ$75,ROW('for incrementing rows (DNCHG)'!A10),FALSE)","v":{"$error":"#N/A"}},{"$f":"HLOOKUP($B$83,[4]Base!$E$4:$BJ$75,ROW('for incrementing rows (DNCHG)'!A10),FALSE)","v":{"$error":"#N/A"}},{"$error":"#N/A"},{"$f":"#REF!*0.5","v":{"$error":"#REF!"}},{"$error":"#N/A"},{"$f":"HLOOKUP($B$83,'[3]Econ. Disad.'!$E$4:$BJ$75,ROW('for incrementing rows (DNCHG)'!F10),FALSE)","v":{"$error":"#N/A"}},{"$f":"HLOOKUP($B$83,'[4]Econ. Disad.'!$E$4:$BJ$75,ROW('for incrementing rows (DNCHG)'!F10),FALSE)","v":{"$error":"#N/A"}},{"$error":"#N/A"},{"$f":"#REF!*0.5","v":{"$error":"#REF!"}},{"$error":"#N/A"},{"$f":"HLOOKUP($B$83,[3]SWD!$E$4:$BJ$75,ROW('for incrementing rows (DNCHG)'!K10),FALSE)","v":{"$error":"#N/A"}},{"$f":"HLOOKUP($B$83,[4]SWD!$E$4:$BJ$75,ROW('for incrementing rows (DNCHG)'!K10),FALSE)","v":{"$error":"#N/A"}},{"$error":"#N/A"},{"$f":"#REF!*0.5","v":{"$error":"#REF!"}},{"$error":"#N/A"},{"$f":"HLOOKUP($B$83,[3]GT!$E$4:$BJ$75,ROW('for incrementing rows (DNCHG)'!P10),FALSE)","v":{"$error":"#N/A"}},{"$f":"HLOOKUP($B$83,[4]GT!$E$4:$BJ$75,ROW('for incrementing rows (DNCHG)'!P10),FALSE)","v":{"$error":"#N/A"}},{"$error":"#N/A"},{"$f":"#REF!*0.5","v":{"$error":"#REF!"}},{"$error":"#N/A"},{"$error":"#N/A"},{"$f":"#REF!*0.5","v":{"$error":"#REF!"}},{"$error":"#N/A"}]
[8,"Bossier",{"$f":"HLOOKUP($B$83,[3]Base!$E$4:$BJ$75,ROW('for incrementing rows (DNCHG)'!A11),FALSE)","v":{"$error":"#N/A"}},{"$f":"HLOOKUP($B$83,[4]Base!$E$4:$BJ$75,ROW('for incrementing rows (DNCHG)'!A11),FALSE)","v":{"$error":"#N/A"}},{"$error":"#N/A"},{"$f":"#REF!*0.5","v":{"$error":"#REF!"}},{"$error":"#N/A"},{"$f":"HLOOKUP($B$83,'[3]Econ. Disad.'!$E$4:$BJ$75,ROW('for incrementing rows (DNCHG)'!F11),FALSE)","v":{"$error":"#N/A"}},{"$f":"HLOOKUP($B$83,'[4]Econ. Disad.'!$E$4:$BJ$75,ROW('for incrementing rows (DNCHG)'!F11),FALSE)","v":{"$error":"#N/A"}},{"$error":"#N/A"},{"$f":"#REF!*0.5","v":{"$error":"#REF!"}},{"$error":"#N/A"},{"$f":"HLOOKUP($B$83,[3]SWD!$E$4:$BJ$75,ROW('for incrementing rows (DNCHG)'!K11),FALSE)","v":{"$error":"#N/A"}},{"$f":"HLOOKUP($B$83,[4]SWD!$E$4:$BJ$75,ROW('for incrementing rows (DNCHG)'!K11),FALSE)","v":{"$error":"#N/A"}},{"$error":"#N/A"},{"$f":"#REF!*0.5","v":{"$error":"#REF!"}},{"$error":"#N/A"},{"$f":"HLOOKUP($B$83,[3]GT!$E$4:$BJ$75,ROW('for incrementing rows (DNCHG)'!P11),FALSE)","v":{"$error":"#N/A"}},{"$f":"HLOOKUP($B$83,[4]GT!$E$4:$BJ$75,ROW('for incrementing rows (DNCHG)'!P11),FALSE)","v":{"$error":"#N/A"}},{"$error":"#N/A"},{"$f":"#REF!*0.5","v":{"$error":"#REF!"}},{"$error":"#N/A"},{"$error":"#N/A"},{"$f":"#REF!*0.5","v":{"$error":"#REF!"}},{"$error":"#N/A"}]
[9,"Caddo",{"$f":"HLOOKUP($B$83,[3]Base!$E$4:$BJ$75,ROW('for incrementing rows (DNCHG)'!A12),FALSE)","v":{"$error":"#N/A"}},{"$f":"HLOOKUP($B$83,[4]Base!$E$4:$BJ$75,ROW('for incrementing rows (DNCHG)'!A12),FALSE)","v":{"$error":"#N/A"}},{"$error":"#N/A"},{"$f":"#REF!*0.5","v":{"$error":"#REF!"}},{"$error":"#N/A"},{"$f":"HLOOKUP($B$83,'[3]Econ. Disad.'!$E$4:$BJ$75,ROW('for incrementing rows (DNCHG)'!F12),FALSE)","v":{"$error":"#N/A"}},{"$f":"HLOOKUP($B$83,'[4]Econ. Disad.'!$E$4:$BJ$75,ROW('for incrementing rows (DNCHG)'!F12),FALSE)","v":{"$error":"#N/A"}},{"$error":"#N/A"},{"$f":"#REF!*0.5","v":{"$error":"#REF!"}},{"$error":"#N/A"},{"$f":"HLOOKUP($B$83,[3]SWD!$E$4:$BJ$75,ROW('for incrementing rows (DNCHG)'!K12),FALSE)","v":{"$error":"#N/A"}},{"$f":"HLOOKUP($B$83,[4]SWD!$E$4:$BJ$75,ROW('for incrementing rows (DNCHG)'!K12),FALSE)","v":{"$error":"#N/A"}},{"$error":"#N/A"},{"$f":"#REF!*0.5","v":{"$error":"#REF!"}},{"$error":"#N/A"},{"$f":"HLOOKUP($B$83,[3]GT!$E$4:$BJ$75,ROW('for incrementing rows (DNCHG)'!P12),FALSE)","v":{"$error":"#N/A"}},{"$f":"HLOOKUP($B$83,[4]GT!$E$4:$BJ$75,ROW('for incrementing rows (DNCHG)'!P12),FALSE)","v":{"$error":"#N/A"}},{"$error":"#N/A"},{"$f":"#REF!*0.5","v":{"$error":"#REF!"}},{"$error":"#N/A"},{"$error":"#N/A"},{"$f":"#REF!*0.5","v":{"$error":"#REF!"}},{"$error":"#N/A"}]
[10,"Calcasieu",{"$f":"HLOOKUP($B$83,[3]Base!$E$4:$BJ$75,ROW('for incrementing rows (DNCHG)'!A13),FALSE)","v":{"$error":"#N/A"}},{"$f":"HLOOKUP($B$83,[4]Base!$E$4:$BJ$75,ROW('for incrementing rows (DNCHG)'!A13),FALSE)","v":{"$error":"#N/A"}},{"$error":"#N/A"},{"$f":"#REF!*0.5","v":{"$error":"#REF!"}},{"$error":"#N/A"},{"$f":"HLOOKUP($B$83,'[3]Econ. Disad.'!$E$4:$BJ$75,ROW('for incrementing rows (DNCHG)'!F13),FALSE)","v":{"$error":"#N/A"}},{"$f":"HLOOKUP($B$83,'[4]Econ. Disad.'!$E$4:$BJ$75,ROW('for incrementing rows (DNCHG)'!F13),FALSE)","v":{"$error":"#N/A"}},{"$error":"#N/A"},{"$f":"#REF!*0.5","v":{"$error":"#REF!"}},{"$error":"#N/A"},{"$f":"HLOOKUP($B$83,[3]SWD!$E$4:$BJ$75,ROW('for incrementing rows (DNCHG)'!K13),FALSE)","v":{"$error":"#N/A"}},{"$f":"HLOOKUP($B$83,[4]SWD!$E$4:$BJ$75,ROW('for incrementing rows (DNCHG)'!K13),FALSE)","v":{"$error":"#N/A"}},{"$error":"#N/A"},{"$f":"#REF!*0.5","v":{"$error":"#REF!"}},{"$error":"#N/A"},{"$f":"HLOOKUP($B$83,[3]GT!$E$4:$BJ$75,ROW('for incrementing rows (DNCHG)'!P13),FALSE)","v":{"$error":"#N/A"}},{"$f":"HLOOKUP($B$83,[4]GT!$E$4:$BJ$75,ROW('for incrementing rows (DNCHG)'!P13),FALSE)","v":{"$error":"#N/A"}},{"$error":"#N/A"},{"$f":"#REF!*0.5","v":{"$error":"#REF!"}},{"$error":"#N/A"},{"$error":"#N/A"},{"$f":"#REF!*0.5","v":{"$error":"#REF!"}},{"$error":"#N/A"}]
[11,"Caldwell",{"$f":"HLOOKUP($B$83,[3]Base!$E$4:$BJ$75,ROW('for incrementing rows (DNCHG)'!A14),FALSE)","v":{"$error":"#N/A"}},{"$f":"HLOOKUP($B$83,[4]Base!$E$4:$BJ$75,ROW('for incrementing rows (DNCHG)'!A14),FALSE)","v":{"$error":"#N/A"}},{"$error":"#N/A"},{"$f":"#REF!*0.5","v":{"$error":"#REF!"}},{"$error":"#N/A"},{"$f":"HLOOKUP($B$83,'[3]Econ. Disad.'!$E$4:$BJ$75,ROW('for incrementing rows (DNCHG)'!F14),FALSE)","v":{"$error":"#N/A"}},{"$f":"HLOOKUP($B$83,'[4]Econ. Disad.'!$E$4:$BJ$75,ROW('for incrementing rows (DNCHG)'!F14),FALSE)","v":{"$error":"#N/A"}},{"$error":"#N/A"},{"$f":"#REF!*0.5","v":{"$error":"#REF!"}},{"$error":"#N/A"},{"$f":"HLOOKUP($B$83,[3]SWD!$E$4:$BJ$75,ROW('for incrementing rows (DNCHG)'!K14),FALSE)","v":{"$error":"#N/A"}},{"$f":"HLOOKUP($B$83,[4]SWD!$E$4:$BJ$75,ROW('for incrementing rows (DNCHG)'!K14),FALSE)","v":{"$error":"#N/A"}},{"$error":"#N/A"},{"$f":"#REF!*0.5","v":{"$error":"#REF!"}},{"$error":"#N/A"},{"$f":"HLOOKUP($B$83,[3]GT!$E$4:$BJ$75,ROW('for incrementing rows (DNCHG)'!P14),FALSE)","v":{"$error":"#N/A"}},{"$f":"HLOOKUP($B$83,[4]GT!$E$4:$BJ$75,ROW('for incrementing rows (DNCHG)'!P14),FALSE)","v":{"$error":"#N/A"}},{"$error":"#N/A"},{"$f":"#REF!*0.5","v":{"$error":"#REF!"}},{"$error":"#N/A"},{"$error":"#N/A"},{"$f":"#REF!*0.5","v":{"$error":"#REF!"}},{"$error":"#N/A"}]
[12,"Cameron",{"$f":"HLOOKUP($B$83,[3]Base!$E$4:$BJ$75,ROW('for incrementing rows (DNCHG)'!A15),FALSE)","v":{"$error":"#N/A"}},{"$f":"HLOOKUP($B$83,[4]Base!$E$4:$BJ$75,ROW('for incrementing rows (DNCHG)'!A15),FALSE)","v":{"$error":"#N/A"}},{"$error":"#N/A"},{"$f":"#REF!*0.5","v":{"$error":"#REF!"}},{"$error":"#N/A"},{"$f":"HLOOKUP($B$83,'[3]Econ. Disad.'!$E$4:$BJ$75,ROW('for incrementing rows (DNCHG)'!F15),FALSE)","v":{"$error":"#N/A"}},{"$f":"HLOOKUP($B$83,'[4]Econ. Disad.'!$E$4:$BJ$75,ROW('for incrementing rows (DNCHG)'!F15),FALSE)","v":{"$error":"#N/A"}},{"$error":"#N/A"},{"$f":"#REF!*0.5","v":{"$error":"#REF!"}},{"$error":"#N/A"},{"$f":"HLOOKUP($B$83,[3]SWD!$E$4:$BJ$75,ROW('for incrementing rows (DNCHG)'!K15),FALSE)","v":{"$error":"#N/A"}},{"$f":"HLOOKUP($B$83,[4]SWD!$E$4:$BJ$75,ROW('for incrementing rows (DNCHG)'!K15),FALSE)","v":{"$error":"#N/A"}},{"$error":"#N/A"},{"$f":"#REF!*0.5","v":{"$error":"#REF!"}},{"$error":"#N/A"},{"$f":"HLOOKUP($B$83,[3]GT!$E$4:$BJ$75,ROW('for incrementing rows (DNCHG)'!P15),FALSE)","v":{"$error":"#N/A"}},{"$f":"HLOOKUP($B$83,[4]GT!$E$4:$BJ$75,ROW('for incrementing rows (DNCHG)'!P15),FALSE)","v":{"$error":"#N/A"}},{"$error":"#N/A"},{"$f":"#REF!*0.5","v":{"$error":"#REF!"}},{"$error":"#N/A"},{"$error":"#N/A"},{"$f":"#REF!*0.5","v":{"$error":"#REF!"}},{"$error":"#N/A"}]
[13,"Catahoula",{"$f":"HLOOKUP($B$83,[3]Base!$E$4:$BJ$75,ROW('for incrementing rows (DNCHG)'!A16),FALSE)","v":{"$error":"#N/A"}},{"$f":"HLOOKUP($B$83,[4]Base!$E$4:$BJ$75,ROW('for incrementing rows (DNCHG)'!A16),FALSE)","v":{"$error":"#N/A"}},{"$error":"#N/A"},{"$f":"#REF!*0.5","v":{"$error":"#REF!"}},{"$error":"#N/A"},{"$f":"HLOOKUP($B$83,'[3]Econ. Disad.'!$E$4:$BJ$75,ROW('for incrementing rows (DNCHG)'!F16),FALSE)","v":{"$error":"#N/A"}},{"$f":"HLOOKUP($B$83,'[4]Econ. Disad.'!$E$4:$BJ$75,ROW('for incrementing rows (DNCHG)'!F16),FALSE)","v":{"$error":"#N/A"}},{"$error":"#N/A"},{"$f":"#REF!*0.5","v":{"$error":"#REF!"}},{"$error":"#N/A"},{"$f":"HLOOKUP($B$83,[3]SWD!$E$4:$BJ$75,ROW('for incrementing rows (DNCHG)'!K16),FALSE)","v":{"$error":"#N/A"}},{"$f":"HLOOKUP($B$83,[4]SWD!$E$4:$BJ$75,ROW('for incrementing rows (DNCHG)'!K16),FALSE)","v":{"$error":"#N/A"}},{"$error":"#N/A"},{"$f":"#REF!*0.5","v":{"$error":"#REF!"}},{"$error":"#N/A"},{"$f":"HLOOKUP($B$83,[3]GT!$E$4:$BJ$75,ROW('for incrementing rows (DNCHG)'!P16),FALSE)","v":{"$error":"#N/A"}},{"$f":"HLOOKUP($B$83,[4]GT!$E$4:$BJ$75,ROW('for incrementing rows (DNCHG)'!P16),FALSE)","v":{"$error":"#N/A"}},{"$error":"#N/A"},{"$f":"#REF!*0.5","v":{"$error":"#REF!"}},{"$error":"#N/A"},{"$error":"#N/A"},{"$f":"#REF!*0.5","v":{"$error":"#REF!"}},{"$error":"#N/A"}]
[14,"Claiborne",{"$f":"HLOOKUP($B$83,[3]Base!$E$4:$BJ$75,ROW('for incrementing rows (DNCHG)'!A17),FALSE)","v":{"$error":"#N/A"}},{"$f":"HLOOKUP($B$83,[4]Base!$E$4:$BJ$75,ROW('for incrementing rows (DNCHG)'!A17),FALSE)","v":{"$error":"#N/A"}},{"$error":"#N/A"},{"$f":"#REF!*0.5","v":{"$error":"#REF!"}},{"$error":"#N/A"},{"$f":"HLOOKUP($B$83,'[3]Econ. Disad.'!$E$4:$BJ$75,ROW('for incrementing rows (DNCHG)'!F17),FALSE)","v":{"$error":"#N/A"}},{"$f":"HLOOKUP($B$83,'[4]Econ. Disad.'!$E$4:$BJ$75,ROW('for incrementing rows (DNCHG)'!F17),FALSE)","v":{"$error":"#N/A"}},{"$error":"#N/A"},{"$f":"#REF!*0.5","v":{"$error":"#REF!"}},{"$error":"#N/A"},{"$f":"HLOOKUP($B$83,[3]SWD!$E$4:$BJ$75,ROW('for incrementing rows (DNCHG)'!K17),FALSE)","v":{"$error":"#N/A"}},{"$f":"HLOOKUP($B$83,[4]SWD!$E$4:$BJ$75,ROW('for incrementing rows (DNCHG)'!K17),FALSE)","v":{"$error":"#N/A"}},{"$error":"#N/A"},{"$f":"#REF!*0.5","v":{"$error":"#REF!"}},{"$error":"#N/A"},{"$f":"HLOOKUP($B$83,[3]GT!$E$4:$BJ$75,ROW('for incrementing rows (DNCHG)'!P17),FALSE)","v":{"$error":"#N/A"}},{"$f":"HLOOKUP($B$83,[4]GT!$E$4:$BJ$75,ROW('for incrementing rows (DNCHG)'!P17),FALSE)","v":{"$error":"#N/A"}},{"$error":"#N/A"},{"$f":"#REF!*0.5","v":{"$error":"#REF!"}},{"$error":"#N/A"},{"$error":"#N/A"},{"$f":"#REF!*0.5","v":{"$error":"#REF!"}},{"$error":"#N/A"}]
[15,"Concordia",{"$f":"HLOOKUP($B$83,[3]Base!$E$4:$BJ$75,ROW('for incrementing rows (DNCHG)'!A18),FALSE)","v":{"$error":"#N/A"}},{"$f":"HLOOKUP($B$83,[4]Base!$E$4:$BJ$75,ROW('for incrementing rows (DNCHG)'!A18),FALSE)","v":{"$error":"#N/A"}},{"$error":"#N/A"},{"$f":"#REF!*0.5","v":{"$error":"#REF!"}},{"$error":"#N/A"},{"$f":"HLOOKUP($B$83,'[3]Econ. Disad.'!$E$4:$BJ$75,ROW('for incrementing rows (DNCHG)'!F18),FALSE)","v":{"$error":"#N/A"}},{"$f":"HLOOKUP($B$83,'[4]Econ. Disad.'!$E$4:$BJ$75,ROW('for incrementing rows (DNCHG)'!F18),FALSE)","v":{"$error":"#N/A"}},{"$error":"#N/A"},{"$f":"#REF!*0.5","v":{"$error":"#REF!"}},{"$error":"#N/A"},{"$f":"HLOOKUP($B$83,[3]SWD!$E$4:$BJ$75,ROW('for incrementing rows (DNCHG)'!K18),FALSE)","v":{"$error":"#N/A"}},{"$f":"HLOOKUP($B$83,[4]SWD!$E$4:$BJ$75,ROW('for incrementing rows (DNCHG)'!K18),FALSE)","v":{"$error":"#N/A"}},{"$error":"#N/A"},{"$f":"#REF!*0.5","v":{"$error":"#REF!"}},{"$error":"#N/A"},{"$f":"HLOOKUP($B$83,[3]GT!$E$4:$BJ$75,ROW('for incrementing rows (DNCHG)'!P18),FALSE)","v":{"$error":"#N/A"}},{"$f":"HLOOKUP($B$83,[4]GT!$E$4:$BJ$75,ROW('for incrementing rows (DNCHG)'!P18),FALSE)","v":{"$error":"#N/A"}},{"$error":"#N/A"},{"$f":"#REF!*0.5","v":{"$error":"#REF!"}},{"$error":"#N/A"},{"$error":"#N/A"},{"$f":"#REF!*0.5","v":{"$error":"#REF!"}},{"$error":"#N/A"}]
[16,"DeSoto",{"$f":"HLOOKUP($B$83,[3]Base!$E$4:$BJ$75,ROW('for incrementing rows (DNCHG)'!A19),FALSE)","v":{"$error":"#N/A"}},{"$f":"HLOOKUP($B$83,[4]Base!$E$4:$BJ$75,ROW('for incrementing rows (DNCHG)'!A19),FALSE)","v":{"$error":"#N/A"}},{"$error":"#N/A"},{"$f":"#REF!*0.5","v":{"$error":"#REF!"}},{"$error":"#N/A"},{"$f":"HLOOKUP($B$83,'[3]Econ. Disad.'!$E$4:$BJ$75,ROW('for incrementing rows (DNCHG)'!F19),FALSE)","v":{"$error":"#N/A"}},{"$f":"HLOOKUP($B$83,'[4]Econ. Disad.'!$E$4:$BJ$75,ROW('for incrementing rows (DNCHG)'!F19),FALSE)","v":{"$error":"#N/A"}},{"$error":"#N/A"},{"$f":"#REF!*0.5","v":{"$error":"#REF!"}},{"$error":"#N/A"},{"$f":"HLOOKUP($B$83,[3]SWD!$E$4:$BJ$75,ROW('for incrementing rows (DNCHG)'!K19),FALSE)","v":{"$error":"#N/A"}},{"$f":"HLOOKUP($B$83,[4]SWD!$E$4:$BJ$75,ROW('for incrementing rows (DNCHG)'!K19),FALSE)","v":{"$error":"#N/A"}},{"$error":"#N/A"},{"$f":"#REF!*0.5","v":{"$error":"#REF!"}},{"$error":"#N/A"},{"$f":"HLOOKUP($B$83,[3]GT!$E$4:$BJ$75,ROW('for incrementing rows (DNCHG)'!P19),FALSE)","v":{"$error":"#N/A"}},{"$f":"HLOOKUP($B$83,[4]GT!$E$4:$BJ$75,ROW('for incrementing rows (DNCHG)'!P19),FALSE)","v":{"$error":"#N/A"}},{"$error":"#N/A"},{"$f":"#REF!*0.5","v":{"$error":"#REF!"}},{"$error":"#N/A"},{"$error":"#N/A"},{"$f":"#REF!*0.5","v":{"$error":"#REF!"}},{"$error":"#N/A"}]
[17,"East Baton Rouge",{"$f":"HLOOKUP($B$83,[3]Base!$E$4:$BJ$75,ROW('for incrementing rows (DNCHG)'!A20),FALSE)","v":{"$error":"#N/A"}},{"$f":"HLOOKUP($B$83,[4]Base!$E$4:$BJ$75,ROW('for incrementing rows (DNCHG)'!A20),FALSE)","v":{"$error":"#N/A"}},{"$error":"#N/A"},{"$f":"#REF!*0.5","v":{"$error":"#REF!"}},{"$error":"#N/A"},{"$f":"HLOOKUP($B$83,'[3]Econ. Disad.'!$E$4:$BJ$75,ROW('for incrementing rows (DNCHG)'!F20),FALSE)","v":{"$error":"#N/A"}},{"$f":"HLOOKUP($B$83,'[4]Econ. Disad.'!$E$4:$BJ$75,ROW('for incrementing rows (DNCHG)'!F20),FALSE)","v":{"$error":"#N/A"}},{"$error":"#N/A"},{"$f":"#REF!*0.5","v":{"$error":"#REF!"}},{"$error":"#N/A"},{"$f":"HLOOKUP($B$83,[3]SWD!$E$4:$BJ$75,ROW('for incrementing rows (DNCHG)'!K20),FALSE)","v":{"$error":"#N/A"}},{"$f":"HLOOKUP($B$83,[4]SWD!$E$4:$BJ$75,ROW('for incrementing rows (DNCHG)'!K20),FALSE)","v":{"$error":"#N/A"}},{"$error":"#N/A"},{"$f":"#REF!*0.5","v":{"$error":"#REF!"}},{"$error":"#N/A"},{"$f":"HLOOKUP($B$83,[3]GT!$E$4:$BJ$75,ROW('for incrementing rows (DNCHG)'!P20),FALSE)","v":{"$error":"#N/A"}},{"$f":"HLOOKUP($B$83,[4]GT!$E$4:$BJ$75,ROW('for incrementing rows (DNCHG)'!P20),FALSE)","v":{"$error":"#N/A"}},{"$error":"#N/A"},{"$f":"#REF!*0.5","v":{"$error":"#REF!"}},{"$error":"#N/A"},{"$error":"#N/A"},{"$f":"#REF!*0.5","v":{"$error":"#REF!"}},{"$error":"#N/A"}]
[18,"East Carroll",{"$f":"HLOOKUP($B$83,[3]Base!$E$4:$BJ$75,ROW('for incrementing rows (DNCHG)'!A21),FALSE)","v":{"$error":"#N/A"}},{"$f":"HLOOKUP($B$83,[4]Base!$E$4:$BJ$75,ROW('for incrementing rows (DNCHG)'!A21),FALSE)","v":{"$error":"#N/A"}},{"$error":"#N/A"},{"$f":"#REF!*0.5","v":{"$error":"#REF!"}},{"$error":"#N/A"},{"$f":"HLOOKUP($B$83,'[3]Econ. Disad.'!$E$4:$BJ$75,ROW('for incrementing rows (DNCHG)'!F21),FALSE)","v":{"$error":"#N/A"}},{"$f":"HLOOKUP($B$83,'[4]Econ. Disad.'!$E$4:$BJ$75,ROW('for incrementing rows (DNCHG)'!F21),FALSE)","v":{"$error":"#N/A"}},{"$error":"#N/A"},{"$f":"#REF!*0.5","v":{"$error":"#REF!"}},{"$error":"#N/A"},{"$f":"HLOOKUP($B$83,[3]SWD!$E$4:$BJ$75,ROW('for incrementing rows (DNCHG)'!K21),FALSE)","v":{"$error":"#N/A"}},{"$f":"HLOOKUP($B$83,[4]SWD!$E$4:$BJ$75,ROW('for incrementing rows (DNCHG)'!K21),FALSE)","v":{"$error":"#N/A"}},{"$error":"#N/A"},{"$f":"#REF!*0.5","v":{"$error":"#REF!"}},{"$error":"#N/A"},{"$f":"HLOOKUP($B$83,[3]GT!$E$4:$BJ$75,ROW('for incrementing rows (DNCHG)'!P21),FALSE)","v":{"$error":"#N/A"}},{"$f":"HLOOKUP($B$83,[4]GT!$E$4:$BJ$75,ROW('for incrementing rows (DNCHG)'!P21),FALSE)","v":{"$error":"#N/A"}},{"$error":"#N/A"},{"$f":"#REF!*0.5","v":{"$error":"#REF!"}},{"$error":"#N/A"},{"$error":"#N/A"},{"$f":"#REF!*0.5","v":{"$error":"#REF!"}},{"$error":"#N/A"}]
[19,"East Feliciana",{"$f":"HLOOKUP($B$83,[3]Base!$E$4:$BJ$75,ROW('for incrementing rows (DNCHG)'!A22),FALSE)","v":{"$error":"#N/A"}},{"$f":"HLOOKUP($B$83,[4]Base!$E$4:$BJ$75,ROW('for incrementing rows (DNCHG)'!A22),FALSE)","v":{"$error":"#N/A"}},{"$error":"#N/A"},{"$f":"#REF!*0.5","v":{"$error":"#REF!"}},{"$error":"#N/A"},{"$f":"HLOOKUP($B$83,'[3]Econ. Disad.'!$E$4:$BJ$75,ROW('for incrementing rows (DNCHG)'!F22),FALSE)","v":{"$error":"#N/A"}},{"$f":"HLOOKUP($B$83,'[4]Econ. Disad.'!$E$4:$BJ$75,ROW('for incrementing rows (DNCHG)'!F22),FALSE)","v":{"$error":"#N/A"}},{"$error":"#N/A"},{"$f":"#REF!*0.5","v":{"$error":"#REF!"}},{"$error":"#N/A"},{"$f":"HLOOKUP($B$83,[3]SWD!$E$4:$BJ$75,ROW('for incrementing rows (DNCHG)'!K22),FALSE)","v":{"$error":"#N/A"}},{"$f":"HLOOKUP($B$83,[4]SWD!$E$4:$BJ$75,ROW('for incrementing rows (DNCHG)'!K22),FALSE)","v":{"$error":"#N/A"}},{"$error":"#N/A"},{"$f":"#REF!*0.5","v":{"$error":"#REF!"}},{"$error":"#N/A"},{"$f":"HLOOKUP($B$83,[3]GT!$E$4:$BJ$75,ROW('for incrementing rows (DNCHG)'!P22),FALSE)","v":{"$error":"#N/A"}},{"$f":"HLOOKUP($B$83,[4]GT!$E$4:$BJ$75,ROW('for incrementing rows (DNCHG)'!P22),FALSE)","v":{"$error":"#N/A"}},{"$error":"#N/A"},{"$f":"#REF!*0.5","v":{"$error":"#REF!"}},{"$error":"#N/A"},{"$error":"#N/A"},{"$f":"#REF!*0.5","v":{"$error":"#REF!"}},{"$error":"#N/A"}]
[20,"Evangeline",{"$f":"HLOOKUP($B$83,[3]Base!$E$4:$BJ$75,ROW('for incrementing rows (DNCHG)'!A23),FALSE)","v":{"$error":"#N/A"}},{"$f":"HLOOKUP($B$83,[4]Base!$E$4:$BJ$75,ROW('for incrementing rows (DNCHG)'!A23),FALSE)","v":{"$error":"#N/A"}},{"$error":"#N/A"},{"$f":"#REF!*0.5","v":{"$error":"#REF!"}},{"$error":"#N/A"},{"$f":"HLOOKUP($B$83,'[3]Econ. Disad.'!$E$4:$BJ$75,ROW('for incrementing rows (DNCHG)'!F23),FALSE)","v":{"$error":"#N/A"}},{"$f":"HLOOKUP($B$83,'[4]Econ. Disad.'!$E$4:$BJ$75,ROW('for incrementing rows (DNCHG)'!F23),FALSE)","v":{"$error":"#N/A"}},{"$error":"#N/A"},{"$f":"#REF!*0.5","v":{"$error":"#REF!"}},{"$error":"#N/A"},{"$f":"HLOOKUP($B$83,[3]SWD!$E$4:$BJ$75,ROW('for incrementing rows (DNCHG)'!K23),FALSE)","v":{"$error":"#N/A"}},{"$f":"HLOOKUP($B$83,[4]SWD!$E$4:$BJ$75,ROW('for incrementing rows (DNCHG)'!K23),FALSE)","v":{"$error":"#N/A"}},{"$error":"#N/A"},{"$f":"#REF!*0.5","v":{"$error":"#REF!"}},{"$error":"#N/A"},{"$f":"HLOOKUP($B$83,[3]GT!$E$4:$BJ$75,ROW('for incrementing rows (DNCHG)'!P23),FALSE)","v":{"$error":"#N/A"}},{"$f":"HLOOKUP($B$83,[4]GT!$E$4:$BJ$75,ROW('for incrementing rows (DNCHG)'!P23),FALSE)","v":{"$error":"#N/A"}},{"$error":"#N/A"},{"$f":"#REF!*0.5","v":{"$error":"#REF!"}},{"$error":"#N/A"},{"$error":"#N/A"},{"$f":"#REF!*0.5","v":{"$error":"#REF!"}},{"$error":"#N/A"}]
[21,"Franklin",{"$f":"HLOOKUP($B$83,[3]Base!$E$4:$BJ$75,ROW('for incrementing rows (DNCHG)'!A24),FALSE)","v":{"$error":"#N/A"}},{"$f":"HLOOKUP($B$83,[4]Base!$E$4:$BJ$75,ROW('for incrementing rows (DNCHG)'!A24),FALSE)","v":{"$error":"#N/A"}},{"$error":"#N/A"},{"$f":"#REF!*0.5","v":{"$error":"#REF!"}},{"$error":"#N/A"},{"$f":"HLOOKUP($B$83,'[3]Econ. Disad.'!$E$4:$BJ$75,ROW('for incrementing rows (DNCHG)'!F24),FALSE)","v":{"$error":"#N/A"}},{"$f":"HLOOKUP($B$83,'[4]Econ. Disad.'!$E$4:$BJ$75,ROW('for incrementing rows (DNCHG)'!F24),FALSE)","v":{"$error":"#N/A"}},{"$error":"#N/A"},{"$f":"#REF!*0.5","v":{"$error":"#REF!"}},{"$error":"#N/A"},{"$f":"HLOOKUP($B$83,[3]SWD!$E$4:$BJ$75,ROW('for incrementing rows (DNCHG)'!K24),FALSE)","v":{"$error":"#N/A"}},{"$f":"HLOOKUP($B$83,[4]SWD!$E$4:$BJ$75,ROW('for incrementing rows (DNCHG)'!K24),FALSE)","v":{"$error":"#N/A"}},{"$error":"#N/A"},{"$f":"#REF!*0.5","v":{"$error":"#REF!"}},{"$error":"#N/A"},{"$f":"HLOOKUP($B$83,[3]GT!$E$4:$BJ$75,ROW('for incrementing rows (DNCHG)'!P24),FALSE)","v":{"$error":"#N/A"}},{"$f":"HLOOKUP($B$83,[4]GT!$E$4:$BJ$75,ROW('for incrementing rows (DNCHG)'!P24),FALSE)","v":{"$error":"#N/A"}},{"$error":"#N/A"},{"$f":"#REF!*0.5","v":{"$error":"#REF!"}},{"$error":"#N/A"},{"$error":"#N/A"},{"$f":"#REF!*0.5","v":{"$error":"#REF!"}},{"$error":"#N/A"}]
[22,"Grant",{"$f":"HLOOKUP($B$83,[3]Base!$E$4:$BJ$75,ROW('for incrementing rows (DNCHG)'!A25),FALSE)","v":{"$error":"#N/A"}},{"$f":"HLOOKUP($B$83,[4]Base!$E$4:$BJ$75,ROW('for incrementing rows (DNCHG)'!A25),FALSE)","v":{"$error":"#N/A"}},{"$error":"#N/A"},{"$f":"#REF!*0.5","v":{"$error":"#REF!"}},{"$error":"#N/A"},{"$f":"HLOOKUP($B$83,'[3]Econ. Disad.'!$E$4:$BJ$75,ROW('for incrementing rows (DNCHG)'!F25),FALSE)","v":{"$error":"#N/A"}},{"$f":"HLOOKUP($B$83,'[4]Econ. Disad.'!$E$4:$BJ$75,ROW('for incrementing rows (DNCHG)'!F25),FALSE)","v":{"$error":"#N/A"}},{"$error":"#N/A"},{"$f":"#REF!*0.5","v":{"$error":"#REF!"}},{"$error":"#N/A"},{"$f":"HLOOKUP($B$83,[3]SWD!$E$4:$BJ$75,ROW('for incrementing rows (DNCHG)'!K25),FALSE)","v":{"$error":"#N/A"}},{"$f":"HLOOKUP($B$83,[4]SWD!$E$4:$BJ$75,ROW('for incrementing rows (DNCHG)'!K25),FALSE)","v":{"$error":"#N/A"}},{"$error":"#N/A"},{"$f":"#REF!*0.5","v":{"$error":"#REF!"}},{"$error":"#N/A"},{"$f":"HLOOKUP($B$83,[3]GT!$E$4:$BJ$75,ROW('for incrementing rows (DNCHG)'!P25),FALSE)","v":{"$error":"#N/A"}},{"$f":"HLOOKUP($B$83,[4]GT!$E$4:$BJ$75,ROW('for incrementing rows (DNCHG)'!P25),FALSE)","v":{"$error":"#N/A"}},{"$error":"#N/A"},{"$f":"#REF!*0.5","v":{"$error":"#REF!"}},{"$error":"#N/A"},{"$error":"#N/A"},{"$f":"#REF!*0.5","v":{"$error":"#REF!"}},{"$error":"#N/A"}]
[23,"Iberia",{"$f":"HLOOKUP($B$83,[3]Base!$E$4:$BJ$75,ROW('for incrementing rows (DNCHG)'!A26),FALSE)","v":{"$error":"#N/A"}},{"$f":"HLOOKUP($B$83,[4]Base!$E$4:$BJ$75,ROW('for incrementing rows (DNCHG)'!A26),FALSE)","v":{"$error":"#N/A"}},{"$error":"#N/A"},{"$f":"#REF!*0.5","v":{"$error":"#REF!"}},{"$error":"#N/A"},{"$f":"HLOOKUP($B$83,'[3]Econ. Disad.'!$E$4:$BJ$75,ROW('for incrementing rows (DNCHG)'!F26),FALSE)","v":{"$error":"#N/A"}},{"$f":"HLOOKUP($B$83,'[4]Econ. Disad.'!$E$4:$BJ$75,ROW('for incrementing rows (DNCHG)'!F26),FALSE)","v":{"$error":"#N/A"}},{"$error":"#N/A"},{"$f":"#REF!*0.5","v":{"$error":"#REF!"}},{"$error":"#N/A"},{"$f":"HLOOKUP($B$83,[3]SWD!$E$4:$BJ$75,ROW('for incrementing rows (DNCHG)'!K26),FALSE)","v":{"$error":"#N/A"}},{"$f":"HLOOKUP($B$83,[4]SWD!$E$4:$BJ$75,ROW('for incrementing rows (DNCHG)'!K26),FALSE)","v":{"$error":"#N/A"}},{"$error":"#N/A"},{"$f":"#REF!*0.5","v":{"$error":"#REF!"}},{"$error":"#N/A"},{"$f":"HLOOKUP($B$83,[3]GT!$E$4:$BJ$75,ROW('for incrementing rows (DNCHG)'!P26),FALSE)","v":{"$error":"#N/A"}},{"$f":"HLOOKUP($B$83,[4]GT!$E$4:$BJ$75,ROW('for incrementing rows (DNCHG)'!P26),FALSE)","v":{"$error":"#N/A"}},{"$error":"#N/A"},{"$f":"#REF!*0.5","v":{"$error":"#REF!"}},{"$error":"#N/A"},{"$error":"#N/A"},{"$f":"#REF!*0.5","v":{"$error":"#REF!"}},{"$error":"#N/A"}]
[24,"Iberville",{"$f":"HLOOKUP($B$83,[3]Base!$E$4:$BJ$75,ROW('for incrementing rows (DNCHG)'!A27),FALSE)","v":{"$error":"#N/A"}},{"$f":"HLOOKUP($B$83,[4]Base!$E$4:$BJ$75,ROW('for incrementing rows (DNCHG)'!A27),FALSE)","v":{"$error":"#N/A"}},{"$error":"#N/A"},{"$f":"#REF!*0.5","v":{"$error":"#REF!"}},{"$error":"#N/A"},{"$f":"HLOOKUP($B$83,'[3]Econ. Disad.'!$E$4:$BJ$75,ROW('for incrementing rows (DNCHG)'!F27),FALSE)","v":{"$error":"#N/A"}},{"$f":"HLOOKUP($B$83,'[4]Econ. Disad.'!$E$4:$BJ$75,ROW('for incrementing rows (DNCHG)'!F27),FALSE)","v":{"$error":"#N/A"}},{"$error":"#N/A"},{"$f":"#REF!*0.5","v":{"$error":"#REF!"}},{"$error":"#N/A"},{"$f":"HLOOKUP($B$83,[3]SWD!$E$4:$BJ$75,ROW('for incrementing rows (DNCHG)'!K27),FALSE)","v":{"$error":"#N/A"}},{"$f":"HLOOKUP($B$83,[4]SWD!$E$4:$BJ$75,ROW('for incrementing rows (DNCHG)'!K27),FALSE)","v":{"$error":"#N/A"}},{"$error":"#N/A"},{"$f":"#REF!*0.5","v":{"$error":"#REF!"}},{"$error":"#N/A"},{"$f":"HLOOKUP($B$83,[3]GT!$E$4:$BJ$75,ROW('for incrementing rows (DNCHG)'!P27),FALSE)","v":{"$error":"#N/A"}},{"$f":"HLOOKUP($B$83,[4]GT!$E$4:$BJ$75,ROW('for incrementing rows (DNCHG)'!P27),FALSE)","v":{"$error":"#N/A"}},{"$error":"#N/A"},{"$f":"#REF!*0.5","v":{"$error":"#REF!"}},{"$error":"#N/A"},{"$error":"#N/A"},{"$f":"#REF!*0.5","v":{"$error":"#REF!"}},{"$error":"#N/A"}]
[25,"Jackson",{"$f":"HLOOKUP($B$83,[3]Base!$E$4:$BJ$75,ROW('for incrementing rows (DNCHG)'!A28),FALSE)","v":{"$error":"#N/A"}},{"$f":"HLOOKUP($B$83,[4]Base!$E$4:$BJ$75,ROW('for incrementing rows (DNCHG)'!A28),FALSE)","v":{"$error":"#N/A"}},{"$error":"#N/A"},{"$f":"#REF!*0.5","v":{"$error":"#REF!"}},{"$error":"#N/A"},{"$f":"HLOOKUP($B$83,'[3]Econ. Disad.'!$E$4:$BJ$75,ROW('for incrementing rows (DNCHG)'!F28),FALSE)","v":{"$error":"#N/A"}},{"$f":"HLOOKUP($B$83,'[4]Econ. Disad.'!$E$4:$BJ$75,ROW('for incrementing rows (DNCHG)'!F28),FALSE)","v":{"$error":"#N/A"}},{"$error":"#N/A"},{"$f":"#REF!*0.5","v":{"$error":"#REF!"}},{"$error":"#N/A"},{"$f":"HLOOKUP($B$83,[3]SWD!$E$4:$BJ$75,ROW('for incrementing rows (DNCHG)'!K28),FALSE)","v":{"$error":"#N/A"}},{"$f":"HLOOKUP($B$83,[4]SWD!$E$4:$BJ$75,ROW('for incrementing rows (DNCHG)'!K28),FALSE)","v":{"$error":"#N/A"}},{"$error":"#N/A"},{"$f":"#REF!*0.5","v":{"$error":"#REF!"}},{"$error":"#N/A"},{"$f":"HLOOKUP($B$83,[3]GT!$E$4:$BJ$75,ROW('for incrementing rows (DNCHG)'!P28),FALSE)","v":{"$error":"#N/A"}},{"$f":"HLOOKUP($B$83,[4]GT!$E$4:$BJ$75,ROW('for incrementing rows (DNCHG)'!P28),FALSE)","v":{"$error":"#N/A"}},{"$error":"#N/A"},{"$f":"#REF!*0.5","v":{"$error":"#REF!"}},{"$error":"#N/A"},{"$error":"#N/A"},{"$f":"#REF!*0.5","v":{"$error":"#REF!"}},{"$error":"#N/A"}]
[26,"Jefferson",{"$f":"HLOOKUP($B$83,[3]Base!$E$4:$BJ$75,ROW('for incrementing rows (DNCHG)'!A29),FALSE)","v":{"$error":"#N/A"}},{"$f":"HLOOKUP($B$83,[4]Base!$E$4:$BJ$75,ROW('for incrementing rows (DNCHG)'!A29),FALSE)","v":{"$error":"#N/A"}},{"$error":"#N/A"},{"$f":"#REF!*0.5","v":{"$error":"#REF!"}},{"$error":"#N/A"},{"$f":"HLOOKUP($B$83,'[3]Econ. Disad.'!$E$4:$BJ$75,ROW('for incrementing rows (DNCHG)'!F29),FALSE)","v":{"$error":"#N/A"}},{"$f":"HLOOKUP($B$83,'[4]Econ. Disad.'!$E$4:$BJ$75,ROW('for incrementing rows (DNCHG)'!F29),FALSE)","v":{"$error":"#N/A"}},{"$error":"#N/A"},{"$f":"#REF!*0.5","v":{"$error":"#REF!"}},{"$error":"#N/A"},{"$f":"HLOOKUP($B$83,[3]SWD!$E$4:$BJ$75,ROW('for incrementing rows (DNCHG)'!K29),FALSE)","v":{"$error":"#N/A"}},{"$f":"HLOOKUP($B$83,[4]SWD!$E$4:$BJ$75,ROW('for incrementing rows (DNCHG)'!K29),FALSE)","v":{"$error":"#N/A"}},{"$error":"#N/A"},{"$f":"#REF!*0.5","v":{"$error":"#REF!"}},{"$error":"#N/A"},{"$f":"HLOOKUP($B$83,[3]GT!$E$4:$BJ$75,ROW('for incrementing rows (DNCHG)'!P29),FALSE)","v":{"$error":"#N/A"}},{"$f":"HLOOKUP($B$83,[4]GT!$E$4:$BJ$75,ROW('for incrementing rows (DNCHG)'!P29),FALSE)","v":{"$error":"#N/A"}},{"$error":"#N/A"},{"$f":"#REF!*0.5","v":{"$error":"#REF!"}},{"$error":"#N/A"},{"$error":"#N/A"},{"$f":"#REF!*0.5","v":{"$error":"#REF!"}},{"$error":"#N/A"}]
[27,"Jefferson Davis",{"$f":"HLOOKUP($B$83,[3]Base!$E$4:$BJ$75,ROW('for incrementing rows (DNCHG)'!A30),FALSE)","v":{"$error":"#N/A"}},{"$f":"HLOOKUP($B$83,[4]Base!$E$4:$BJ$75,ROW('for incrementing rows (DNCHG)'!A30),FALSE)","v":{"$error":"#N/A"}},{"$error":"#N/A"},{"$f":"#REF!*0.5","v":{"$error":"#REF!"}},{"$error":"#N/A"},{"$f":"HLOOKUP($B$83,'[3]Econ. Disad.'!$E$4:$BJ$75,ROW('for incrementing rows (DNCHG)'!F30),FALSE)","v":{"$error":"#N/A"}},{"$f":"HLOOKUP($B$83,'[4]Econ. Disad.'!$E$4:$BJ$75,ROW('for incrementing rows (DNCHG)'!F30),FALSE)","v":{"$error":"#N/A"}},{"$error":"#N/A"},{"$f":"#REF!*0.5","v":{"$error":"#REF!"}},{"$error":"#N/A"},{"$f":"HLOOKUP($B$83,[3]SWD!$E$4:$BJ$75,ROW('for incrementing rows (DNCHG)'!K30),FALSE)","v":{"$error":"#N/A"}},{"$f":"HLOOKUP($B$83,[4]SWD!$E$4:$BJ$75,ROW('for incrementing rows (DNCHG)'!K30),FALSE)","v":{"$error":"#N/A"}},{"$error":"#N/A"},{"$f":"#REF!*0.5","v":{"$error":"#REF!"}},{"$error":"#N/A"},{"$f":"HLOOKUP($B$83,[3]GT!$E$4:$BJ$75,ROW('for incrementing rows (DNCHG)'!P30),FALSE)","v":{"$error":"#N/A"}},{"$f":"HLOOKUP($B$83,[4]GT!$E$4:$BJ$75,ROW('for incrementing rows (DNCHG)'!P30),FALSE)","v":{"$error":"#N/A"}},{"$error":"#N/A"},{"$f":"#REF!*0.5","v":{"$error":"#REF!"}},{"$error":"#N/A"},{"$error":"#N/A"},{"$f":"#REF!*0.5","v":{"$error":"#REF!"}},{"$error":"#N/A"}]
[28,"Lafayette",{"$f":"HLOOKUP($B$83,[3]Base!$E$4:$BJ$75,ROW('for incrementing rows (DNCHG)'!A31),FALSE)","v":{"$error":"#N/A"}},{"$f":"HLOOKUP($B$83,[4]Base!$E$4:$BJ$75,ROW('for incrementing rows (DNCHG)'!A31),FALSE)","v":{"$error":"#N/A"}},{"$error":"#N/A"},{"$f":"#REF!*0.5","v":{"$error":"#REF!"}},{"$error":"#N/A"},{"$f":"HLOOKUP($B$83,'[3]Econ. Disad.'!$E$4:$BJ$75,ROW('for incrementing rows (DNCHG)'!F31),FALSE)","v":{"$error":"#N/A"}},{"$f":"HLOOKUP($B$83,'[4]Econ. Disad.'!$E$4:$BJ$75,ROW('for incrementing rows (DNCHG)'!F31),FALSE)","v":{"$error":"#N/A"}},{"$error":"#N/A"},{"$f":"#REF!*0.5","v":{"$error":"#REF!"}},{"$error":"#N/A"},{"$f":"HLOOKUP($B$83,[3]SWD!$E$4:$BJ$75,ROW('for incrementing rows (DNCHG)'!K31),FALSE)","v":{"$error":"#N/A"}},{"$f":"HLOOKUP($B$83,[4]SWD!$E$4:$BJ$75,ROW('for incrementing rows (DNCHG)'!K31),FALSE)","v":{"$error":"#N/A"}},{"$error":"#N/A"},{"$f":"#REF!*0.5","v":{"$error":"#REF!"}},{"$error":"#N/A"},{"$f":"HLOOKUP($B$83,[3]GT!$E$4:$BJ$75,ROW('for incrementing rows (DNCHG)'!P31),FALSE)","v":{"$error":"#N/A"}},{"$f":"HLOOKUP($B$83,[4]GT!$E$4:$BJ$75,ROW('for incrementing rows (DNCHG)'!P31),FALSE)","v":{"$error":"#N/A"}},{"$error":"#N/A"},{"$f":"#REF!*0.5","v":{"$error":"#REF!"}},{"$error":"#N/A"},{"$error":"#N/A"},{"$f":"#REF!*0.5","v":{"$error":"#REF!"}},{"$error":"#N/A"}]
[29,"Lafourche",{"$f":"HLOOKUP($B$83,[3]Base!$E$4:$BJ$75,ROW('for incrementing rows (DNCHG)'!A32),FALSE)","v":{"$error":"#N/A"}},{"$f":"HLOOKUP($B$83,[4]Base!$E$4:$BJ$75,ROW('for incrementing rows (DNCHG)'!A32),FALSE)","v":{"$error":"#N/A"}},{"$error":"#N/A"},{"$f":"#REF!*0.5","v":{"$error":"#REF!"}},{"$error":"#N/A"},{"$f":"HLOOKUP($B$83,'[3]Econ. Disad.'!$E$4:$BJ$75,ROW('for incrementing rows (DNCHG)'!F32),FALSE)","v":{"$error":"#N/A"}},{"$f":"HLOOKUP($B$83,'[4]Econ. Disad.'!$E$4:$BJ$75,ROW('for incrementing rows (DNCHG)'!F32),FALSE)","v":{"$error":"#N/A"}},{"$error":"#N/A"},{"$f":"#REF!*0.5","v":{"$error":"#REF!"}},{"$error":"#N/A"},{"$f":"HLOOKUP($B$83,[3]SWD!$E$4:$BJ$75,ROW('for incrementing rows (DNCHG)'!K32),FALSE)","v":{"$error":"#N/A"}},{"$f":"HLOOKUP($B$83,[4]SWD!$E$4:$BJ$75,ROW('for incrementing rows (DNCHG)'!K32),FALSE)","v":{"$error":"#N/A"}},{"$error":"#N/A"},{"$f":"#REF!*0.5","v":{"$error":"#REF!"}},{"$error":"#N/A"},{"$f":"HLOOKUP($B$83,[3]GT!$E$4:$BJ$75,ROW('for incrementing rows (DNCHG)'!P32),FALSE)","v":{"$error":"#N/A"}},{"$f":"HLOOKUP($B$83,[4]GT!$E$4:$BJ$75,ROW('for incrementing rows (DNCHG)'!P32),FALSE)","v":{"$error":"#N/A"}},{"$error":"#N/A"},{"$f":"#REF!*0.5","v":{"$error":"#REF!"}},{"$error":"#N/A"},{"$error":"#N/A"},{"$f":"#REF!*0.5","v":{"$error":"#REF!"}},{"$error":"#N/A"}]
[30,"LaSalle",{"$f":"HLOOKUP($B$83,[3]Base!$E$4:$BJ$75,ROW('for incrementing rows (DNCHG)'!A33),FALSE)","v":{"$error":"#N/A"}},{"$f":"HLOOKUP($B$83,[4]Base!$E$4:$BJ$75,ROW('for incrementing rows (DNCHG)'!A33),FALSE)","v":{"$error":"#N/A"}},{"$error":"#N/A"},{"$f":"#REF!*0.5","v":{"$error":"#REF!"}},{"$error":"#N/A"},{"$f":"HLOOKUP($B$83,'[3]Econ. Disad.'!$E$4:$BJ$75,ROW('for incrementing rows (DNCHG)'!F33),FALSE)","v":{"$error":"#N/A"}},{"$f":"HLOOKUP($B$83,'[4]Econ. Disad.'!$E$4:$BJ$75,ROW('for incrementing rows (DNCHG)'!F33),FALSE)","v":{"$error":"#N/A"}},{"$error":"#N/A"},{"$f":"#REF!*0.5","v":{"$error":"#REF!"}},{"$error":"#N/A"},{"$f":"HLOOKUP($B$83,[3]SWD!$E$4:$BJ$75,ROW('for incrementing rows (DNCHG)'!K33),FALSE)","v":{"$error":"#N/A"}},{"$f":"HLOOKUP($B$83,[4]SWD!$E$4:$BJ$75,ROW('for incrementing rows (DNCHG)'!K33),FALSE)","v":{"$error":"#N/A"}},{"$error":"#N/A"},{"$f":"#REF!*0.5","v":{"$error":"#REF!"}},{"$error":"#N/A"},{"$f":"HLOOKUP($B$83,[3]GT!$E$4:$BJ$75,ROW('for incrementing rows (DNCHG)'!P33),FALSE)","v":{"$error":"#N/A"}},{"$f":"HLOOKUP($B$83,[4]GT!$E$4:$BJ$75,ROW('for incrementing rows (DNCHG)'!P33),FALSE)","v":{"$error":"#N/A"}},{"$error":"#N/A"},{"$f":"#REF!*0.5","v":{"$error":"#REF!"}},{"$error":"#N/A"},{"$error":"#N/A"},{"$f":"#REF!*0.5","v":{"$error":"#REF!"}},{"$error":"#N/A"}]
[31,"Lincoln",{"$f":"HLOOKUP($B$83,[3]Base!$E$4:$BJ$75,ROW('for incrementing rows (DNCHG)'!A34),FALSE)","v":{"$error":"#N/A"}},{"$f":"HLOOKUP($B$83,[4]Base!$E$4:$BJ$75,ROW('for incrementing rows (DNCHG)'!A34),FALSE)","v":{"$error":"#N/A"}},{"$error":"#N/A"},{"$f":"#REF!*0.5","v":{"$error":"#REF!"}},{"$error":"#N/A"},{"$f":"HLOOKUP($B$83,'[3]Econ. Disad.'!$E$4:$BJ$75,ROW('for incrementing rows (DNCHG)'!F34),FALSE)","v":{"$error":"#N/A"}},{"$f":"HLOOKUP($B$83,'[4]Econ. Disad.'!$E$4:$BJ$75,ROW('for incrementing rows (DNCHG)'!F34),FALSE)","v":{"$error":"#N/A"}},{"$error":"#N/A"},{"$f":"#REF!*0.5","v":{"$error":"#REF!"}},{"$error":"#N/A"},{"$f":"HLOOKUP($B$83,[3]SWD!$E$4:$BJ$75,ROW('for incrementing rows (DNCHG)'!K34),FALSE)","v":{"$error":"#N/A"}},{"$f":"HLOOKUP($B$83,[4]SWD!$E$4:$BJ$75,ROW('for incrementing rows (DNCHG)'!K34),FALSE)","v":{"$error":"#N/A"}},{"$error":"#N/A"},{"$f":"#REF!*0.5","v":{"$error":"#REF!"}},{"$error":"#N/A"},{"$f":"HLOOKUP($B$83,[3]GT!$E$4:$BJ$75,ROW('for incrementing rows (DNCHG)'!P34),FALSE)","v":{"$error":"#N/A"}},{"$f":"HLOOKUP($B$83,[4]GT!$E$4:$BJ$75,ROW('for incrementing rows (DNCHG)'!P34),FALSE)","v":{"$error":"#N/A"}},{"$error":"#N/A"},{"$f":"#REF!*0.5","v":{"$error":"#REF!"}},{"$error":"#N/A"},{"$error":"#N/A"},{"$f":"#REF!*0.5","v":{"$error":"#REF!"}},{"$error":"#N/A"}]
[32,"Livingston",{"$f":"HLOOKUP($B$83,[3]Base!$E$4:$BJ$75,ROW('for incrementing rows (DNCHG)'!A35),FALSE)","v":{"$error":"#N/A"}},{"$f":"HLOOKUP($B$83,[4]Base!$E$4:$BJ$75,ROW('for incrementing rows (DNCHG)'!A35),FALSE)","v":{"$error":"#N/A"}},{"$error":"#N/A"},{"$f":"#REF!*0.5","v":{"$error":"#REF!"}},{"$error":"#N/A"},{"$f":"HLOOKUP($B$83,'[3]Econ. Disad.'!$E$4:$BJ$75,ROW('for incrementing rows (DNCHG)'!F35),FALSE)","v":{"$error":"#N/A"}},{"$f":"HLOOKUP($B$83,'[4]Econ. Disad.'!$E$4:$BJ$75,ROW('for incrementing rows (DNCHG)'!F35),FALSE)","v":{"$error":"#N/A"}},{"$error":"#N/A"},{"$f":"#REF!*0.5","v":{"$error":"#REF!"}},{"$error":"#N/A"},{"$f":"HLOOKUP($B$83,[3]SWD!$E$4:$BJ$75,ROW('for incrementing rows (DNCHG)'!K35),FALSE)","v":{"$error":"#N/A"}},{"$f":"HLOOKUP($B$83,[4]SWD!$E$4:$BJ$75,ROW('for incrementing rows (DNCHG)'!K35),FALSE)","v":{"$error":"#N/A"}},{"$error":"#N/A"},{"$f":"#REF!*0.5","v":{"$error":"#REF!"}},{"$error":"#N/A"},{"$f":"HLOOKUP($B$83,[3]GT!$E$4:$BJ$75,ROW('for incrementing rows (DNCHG)'!P35),FALSE)","v":{"$error":"#N/A"}},{"$f":"HLOOKUP($B$83,[4]GT!$E$4:$BJ$75,ROW('for incrementing rows (DNCHG)'!P35),FALSE)","v":{"$error":"#N/A"}},{"$error":"#N/A"},{"$f":"#REF!*0.5","v":{"$error":"#REF!"}},{"$error":"#N/A"},{"$error":"#N/A"},{"$f":"#REF!*0.5","v":{"$error":"#REF!"}},{"$error":"#N/A"}]
[33,"Madison",{"$f":"HLOOKUP($B$83,[3]Base!$E$4:$BJ$75,ROW('for incrementing rows (DNCHG)'!A36),FALSE)","v":{"$error":"#N/A"}},{"$f":"HLOOKUP($B$83,[4]Base!$E$4:$BJ$75,ROW('for incrementing rows (DNCHG)'!A36),FALSE)","v":{"$error":"#N/A"}},{"$error":"#N/A"},{"$f":"#REF!*0.5","v":{"$error":"#REF!"}},{"$error":"#N/A"},{"$f":"HLOOKUP($B$83,'[3]Econ. Disad.'!$E$4:$BJ$75,ROW('for incrementing rows (DNCHG)'!F36),FALSE)","v":{"$error":"#N/A"}},{"$f":"HLOOKUP($B$83,'[4]Econ. Disad.'!$E$4:$BJ$75,ROW('for incrementing rows (DNCHG)'!F36),FALSE)","v":{"$error":"#N/A"}},{"$error":"#N/A"},{"$f":"#REF!*0.5","v":{"$error":"#REF!"}},{"$error":"#N/A"},{"$f":"HLOOKUP($B$83,[3]SWD!$E$4:$BJ$75,ROW('for incrementing rows (DNCHG)'!K36),FALSE)","v":{"$error":"#N/A"}},{"$f":"HLOOKUP($B$83,[4]SWD!$E$4:$BJ$75,ROW('for incrementing rows (DNCHG)'!K36),FALSE)","v":{"$error":"#N/A"}},{"$error":"#N/A"},{"$f":"#REF!*0.5","v":{"$error":"#REF!"}},{"$error":"#N/A"},{"$f":"HLOOKUP($B$83,[3]GT!$E$4:$BJ$75,ROW('for incrementing rows (DNCHG)'!P36),FALSE)","v":{"$error":"#N/A"}},{"$f":"HLOOKUP($B$83,[4]GT!$E$4:$BJ$75,ROW('for incrementing rows (DNCHG)'!P36),FALSE)","v":{"$error":"#N/A"}},{"$error":"#N/A"},{"$f":"#REF!*0.5","v":{"$error":"#REF!"}},{"$error":"#N/A"},{"$error":"#N/A"},{"$f":"#REF!*0.5","v":{"$error":"#REF!"}},{"$error":"#N/A"}]
[34,"Morehouse",{"$f":"HLOOKUP($B$83,[3]Base!$E$4:$BJ$75,ROW('for incrementing rows (DNCHG)'!A37),FALSE)","v":{"$error":"#N/A"}},{"$f":"HLOOKUP($B$83,[4]Base!$E$4:$BJ$75,ROW('for incrementing rows (DNCHG)'!A37),FALSE)","v":{"$error":"#N/A"}},{"$error":"#N/A"},{"$f":"#REF!*0.5","v":{"$error":"#REF!"}},{"$error":"#N/A"},{"$f":"HLOOKUP($B$83,'[3]Econ. Disad.'!$E$4:$BJ$75,ROW('for incrementing rows (DNCHG)'!F37),FALSE)","v":{"$error":"#N/A"}},{"$f":"HLOOKUP($B$83,'[4]Econ. Disad.'!$E$4:$BJ$75,ROW('for incrementing rows (DNCHG)'!F37),FALSE)","v":{"$error":"#N/A"}},{"$error":"#N/A"},{"$f":"#REF!*0.5","v":{"$error":"#REF!"}},{"$error":"#N/A"},{"$f":"HLOOKUP($B$83,[3]SWD!$E$4:$BJ$75,ROW('for incrementing rows (DNCHG)'!K37),FALSE)","v":{"$error":"#N/A"}},{"$f":"HLOOKUP($B$83,[4]SWD!$E$4:$BJ$75,ROW('for incrementing rows (DNCHG)'!K37),FALSE)","v":{"$error":"#N/A"}},{"$error":"#N/A"},{"$f":"#REF!*0.5","v":{"$error":"#REF!"}},{"$error":"#N/A"},{"$f":"HLOOKUP($B$83,[3]GT!$E$4:$BJ$75,ROW('for incrementing rows (DNCHG)'!P37),FALSE)","v":{"$error":"#N/A"}},{"$f":"HLOOKUP($B$83,[4]GT!$E$4:$BJ$75,ROW('for incrementing rows (DNCHG)'!P37),FALSE)","v":{"$error":"#N/A"}},{"$error":"#N/A"},{"$f":"#REF!*0.5","v":{"$error":"#REF!"}},{"$error":"#N/A"},{"$error":"#N/A"},{"$f":"#REF!*0.5","v":{"$error":"#REF!"}},{"$error":"#N/A"}]
[35,"Natchitoches",{"$f":"HLOOKUP($B$83,[3]Base!$E$4:$BJ$75,ROW('for incrementing rows (DNCHG)'!A38),FALSE)","v":{"$error":"#N/A"}},{"$f":"HLOOKUP($B$83,[4]Base!$E$4:$BJ$75,ROW('for incrementing rows (DNCHG)'!A38),FALSE)","v":{"$error":"#N/A"}},{"$error":"#N/A"},{"$f":"#REF!*0.5","v":{"$error":"#REF!"}},{"$error":"#N/A"},{"$f":"HLOOKUP($B$83,'[3]Econ. Disad.'!$E$4:$BJ$75,ROW('for incrementing rows (DNCHG)'!F38),FALSE)","v":{"$error":"#N/A"}},{"$f":"HLOOKUP($B$83,'[4]Econ. Disad.'!$E$4:$BJ$75,ROW('for incrementing rows (DNCHG)'!F38),FALSE)","v":{"$error":"#N/A"}},{"$error":"#N/A"},{"$f":"#REF!*0.5","v":{"$error":"#REF!"}},{"$error":"#N/A"},{"$f":"HLOOKUP($B$83,[3]SWD!$E$4:$BJ$75,ROW('for incrementing rows (DNCHG)'!K38),FALSE)","v":{"$error":"#N/A"}},{"$f":"HLOOKUP($B$83,[4]SWD!$E$4:$BJ$75,ROW('for incrementing rows (DNCHG)'!K38),FALSE)","v":{"$error":"#N/A"}},{"$error":"#N/A"},{"$f":"#REF!*0.5","v":{"$error":"#REF!"}},{"$error":"#N/A"},{"$f":"HLOOKUP($B$83,[3]GT!$E$4:$BJ$75,ROW('for incrementing rows (DNCHG)'!P38),FALSE)","v":{"$error":"#N/A"}},{"$f":"HLOOKUP($B$83,[4]GT!$E$4:$BJ$75,ROW('for incrementing rows (DNCHG)'!P38),FALSE)","v":{"$error":"#N/A"}},{"$error":"#N/A"},{"$f":"#REF!*0.5","v":{"$error":"#REF!"}},{"$error":"#N/A"},{"$error":"#N/A"},{"$f":"#REF!*0.5","v":{"$error":"#REF!"}},{"$error":"#N/A"}]
[36,"Orleans",{"$f":"HLOOKUP($B$83,[3]Base!$E$4:$BJ$75,ROW('for incrementing rows (DNCHG)'!A39),FALSE)","v":{"$error":"#N/A"}},{"$f":"HLOOKUP($B$83,[4]Base!$E$4:$BJ$75,ROW('for incrementing rows (DNCHG)'!A39),FALSE)","v":{"$error":"#N/A"}},{"$error":"#N/A"},{"$f":"#REF!*0.5","v":{"$error":"#REF!"}},{"$error":"#N/A"},{"$f":"HLOOKUP($B$83,'[3]Econ. Disad.'!$E$4:$BJ$75,ROW('for incrementing rows (DNCHG)'!F39),FALSE)","v":{"$error":"#N/A"}},{"$f":"HLOOKUP($B$83,'[4]Econ. Disad.'!$E$4:$BJ$75,ROW('for incrementing rows (DNCHG)'!F39),FALSE)","v":{"$error":"#N/A"}},{"$error":"#N/A"},{"$f":"#REF!*0.5","v":{"$error":"#REF!"}},{"$error":"#N/A"},{"$f":"HLOOKUP($B$83,[3]SWD!$E$4:$BJ$75,ROW('for incrementing rows (DNCHG)'!K39),FALSE)","v":{"$error":"#N/A"}},{"$f":"HLOOKUP($B$83,[4]SWD!$E$4:$BJ$75,ROW('for incrementing rows (DNCHG)'!K39),FALSE)","v":{"$error":"#N/A"}},{"$error":"#N/A"},{"$f":"#REF!*0.5","v":{"$error":"#REF!"}},{"$error":"#N/A"},{"$f":"HLOOKUP($B$83,[3]GT!$E$4:$BJ$75,ROW('for incrementing rows (DNCHG)'!P39),FALSE)","v":{"$error":"#N/A"}},{"$f":"HLOOKUP($B$83,[4]GT!$E$4:$BJ$75,ROW('for incrementing rows (DNCHG)'!P39),FALSE)","v":{"$error":"#N/A"}},{"$error":"#N/A"},{"$f":"#REF!*0.5","v":{"$error":"#REF!"}},{"$error":"#N/A"},{"$error":"#N/A"},{"$f":"#REF!*0.5","v":{"$error":"#REF!"}},{"$error":"#N/A"}]
[37,"Ouachita",{"$f":"HLOOKUP($B$83,[3]Base!$E$4:$BJ$75,ROW('for incrementing rows (DNCHG)'!A40),FALSE)","v":{"$error":"#N/A"}},{"$f":"HLOOKUP($B$83,[4]Base!$E$4:$BJ$75,ROW('for incrementing rows (DNCHG)'!A40),FALSE)","v":{"$error":"#N/A"}},{"$error":"#N/A"},{"$f":"#REF!*0.5","v":{"$error":"#REF!"}},{"$error":"#N/A"},{"$f":"HLOOKUP($B$83,'[3]Econ. Disad.'!$E$4:$BJ$75,ROW('for incrementing rows (DNCHG)'!F40),FALSE)","v":{"$error":"#N/A"}},{"$f":"HLOOKUP($B$83,'[4]Econ. Disad.'!$E$4:$BJ$75,ROW('for incrementing rows (DNCHG)'!F40),FALSE)","v":{"$error":"#N/A"}},{"$error":"#N/A"},{"$f":"#REF!*0.5","v":{"$error":"#REF!"}},{"$error":"#N/A"},{"$f":"HLOOKUP($B$83,[3]SWD!$E$4:$BJ$75,ROW('for incrementing rows (DNCHG)'!K40),FALSE)","v":{"$error":"#N/A"}},{"$f":"HLOOKUP($B$83,[4]SWD!$E$4:$BJ$75,ROW('for incrementing rows (DNCHG)'!K40),FALSE)","v":{"$error":"#N/A"}},{"$error":"#N/A"},{"$f":"#REF!*0.5","v":{"$error":"#REF!"}},{"$error":"#N/A"},{"$f":"HLOOKUP($B$83,[3]GT!$E$4:$BJ$75,ROW('for incrementing rows (DNCHG)'!P40),FALSE)","v":{"$error":"#N/A"}},{"$f":"HLOOKUP($B$83,[4]GT!$E$4:$BJ$75,ROW('for incrementing rows (DNCHG)'!P40),FALSE)","v":{"$error":"#N/A"}},{"$error":"#N/A"},{"$f":"#REF!*0.5","v":{"$error":"#REF!"}},{"$error":"#N/A"},{"$error":"#N/A"},{"$f":"#REF!*0.5","v":{"$error":"#REF!"}},{"$error":"#N/A"}]
[38,"Plaquemines",{"$f":"HLOOKUP($B$83,[3]Base!$E$4:$BJ$75,ROW('for incrementing rows (DNCHG)'!A41),FALSE)","v":{"$error":"#N/A"}},{"$f":"HLOOKUP($B$83,[4]Base!$E$4:$BJ$75,ROW('for incrementing rows (DNCHG)'!A41),FALSE)","v":{"$error":"#N/A"}},{"$error":"#N/A"},{"$f":"#REF!*0.5","v":{"$error":"#REF!"}},{"$error":"#N/A"},{"$f":"HLOOKUP($B$83,'[3]Econ. Disad.'!$E$4:$BJ$75,ROW('for incrementing rows (DNCHG)'!F41),FALSE)","v":{"$error":"#N/A"}},{"$f":"HLOOKUP($B$83,'[4]Econ. Disad.'!$E$4:$BJ$75,ROW('for incrementing rows (DNCHG)'!F41),FALSE)","v":{"$error":"#N/A"}},{"$error":"#N/A"},{"$f":"#REF!*0.5","v":{"$error":"#REF!"}},{"$error":"#N/A"},{"$f":"HLOOKUP($B$83,[3]SWD!$E$4:$BJ$75,ROW('for incrementing rows (DNCHG)'!K41),FALSE)","v":{"$error":"#N/A"}},{"$f":"HLOOKUP($B$83,[4]SWD!$E$4:$BJ$75,ROW('for incrementing rows (DNCHG)'!K41),FALSE)","v":{"$error":"#N/A"}},{"$error":"#N/A"},{"$f":"#REF!*0.5","v":{"$error":"#REF!"}},{"$error":"#N/A"},{"$f":"HLOOKUP($B$83,[3]GT!$E$4:$BJ$75,ROW('for incrementing rows (DNCHG)'!P41),FALSE)","v":{"$error":"#N/A"}},{"$f":"HLOOKUP($B$83,[4]GT!$E$4:$BJ$75,ROW('for incrementing rows (DNCHG)'!P41),FALSE)","v":{"$error":"#N/A"}},{"$error":"#N/A"},{"$f":"#REF!*0.5","v":{"$error":"#REF!"}},{"$error":"#N/A"},{"$error":"#N/A"},{"$f":"#REF!*0.5","v":{"$error":"#REF!"}},{"$error":"#N/A"}]
[39,"Pointe Coupee",{"$f":"HLOOKUP($B$83,[3]Base!$E$4:$BJ$75,ROW('for incrementing rows (DNCHG)'!A42),FALSE)","v":{"$error":"#N/A"}},{"$f":"HLOOKUP($B$83,[4]Base!$E$4:$BJ$75,ROW('for incrementing rows (DNCHG)'!A42),FALSE)","v":{"$error":"#N/A"}},{"$error":"#N/A"},{"$f":"#REF!*0.5","v":{"$error":"#REF!"}},{"$error":"#N/A"},{"$f":"HLOOKUP($B$83,'[3]Econ. Disad.'!$E$4:$BJ$75,ROW('for incrementing rows (DNCHG)'!F42),FALSE)","v":{"$error":"#N/A"}},{"$f":"HLOOKUP($B$83,'[4]Econ. Disad.'!$E$4:$BJ$75,ROW('for incrementing rows (DNCHG)'!F42),FALSE)","v":{"$error":"#N/A"}},{"$error":"#N/A"},{"$f":"#REF!*0.5","v":{"$error":"#REF!"}},{"$error":"#N/A"},{"$f":"HLOOKUP($B$83,[3]SWD!$E$4:$BJ$75,ROW('for incrementing rows (DNCHG)'!K42),FALSE)","v":{"$error":"#N/A"}},{"$f":"HLOOKUP($B$83,[4]SWD!$E$4:$BJ$75,ROW('for incrementing rows (DNCHG)'!K42),FALSE)","v":{"$error":"#N/A"}},{"$error":"#N/A"},{"$f":"#REF!*0.5","v":{"$error":"#REF!"}},{"$error":"#N/A"},{"$f":"HLOOKUP($B$83,[3]GT!$E$4:$BJ$75,ROW('for incrementing rows (DNCHG)'!P42),FALSE)","v":{"$error":"#N/A"}},{"$f":"HLOOKUP($B$83,[4]GT!$E$4:$BJ$75,ROW('for incrementing rows (DNCHG)'!P42),FALSE)","v":{"$error":"#N/A"}},{"$error":"#N/A"},{"$f":"#REF!*0.5","v":{"$error":"#REF!"}},{"$error":"#N/A"},{"$error":"#N/A"},{"$f":"#REF!*0.5","v":{"$error":"#REF!"}},{"$error":"#N/A"}]
[40,"Rapides",{"$f":"HLOOKUP($B$83,[3]Base!$E$4:$BJ$75,ROW('for incrementing rows (DNCHG)'!A43),FALSE)","v":{"$error":"#N/A"}},{"$f":"HLOOKUP($B$83,[4]Base!$E$4:$BJ$75,ROW('for incrementing rows (DNCHG)'!A43),FALSE)","v":{"$error":"#N/A"}},{"$error":"#N/A"},{"$f":"#REF!*0.5","v":{"$error":"#REF!"}},{"$error":"#N/A"},{"$f":"HLOOKUP($B$83,'[3]Econ. Disad.'!$E$4:$BJ$75,ROW('for incrementing rows (DNCHG)'!F43),FALSE)","v":{"$error":"#N/A"}},{"$f":"HLOOKUP($B$83,'[4]Econ. Disad.'!$E$4:$BJ$75,ROW('for incrementing rows (DNCHG)'!F43),FALSE)","v":{"$error":"#N/A"}},{"$error":"#N/A"},{"$f":"#REF!*0.5","v":{"$error":"#REF!"}},{"$error":"#N/A"},{"$f":"HLOOKUP($B$83,[3]SWD!$E$4:$BJ$75,ROW('for incrementing rows (DNCHG)'!K43),FALSE)","v":{"$error":"#N/A"}},{"$f":"HLOOKUP($B$83,[4]SWD!$E$4:$BJ$75,ROW('for incrementing rows (DNCHG)'!K43),FALSE)","v":{"$error":"#N/A"}},{"$error":"#N/A"},{"$f":"#REF!*0.5","v":{"$error":"#REF!"}},{"$error":"#N/A"},{"$f":"HLOOKUP($B$83,[3]GT!$E$4:$BJ$75,ROW('for incrementing rows (DNCHG)'!P43),FALSE)","v":{"$error":"#N/A"}},{"$f":"HLOOKUP($B$83,[4]GT!$E$4:$BJ$75,ROW('for incrementing rows (DNCHG)'!P43),FALSE)","v":{"$error":"#N/A"}},{"$error":"#N/A"},{"$f":"#REF!*0.5","v":{"$error":"#REF!"}},{"$error":"#N/A"},{"$error":"#N/A"},{"$f":"#REF!*0.5","v":{"$error":"#REF!"}},{"$error":"#N/A"}]
[41,"Red River",{"$f":"HLOOKUP($B$83,[3]Base!$E$4:$BJ$75,ROW('for incrementing rows (DNCHG)'!A44),FALSE)","v":{"$error":"#N/A"}},{"$f":"HLOOKUP($B$83,[4]Base!$E$4:$BJ$75,ROW('for incrementing rows (DNCHG)'!A44),FALSE)","v":{"$error":"#N/A"}},{"$error":"#N/A"},{"$f":"#REF!*0.5","v":{"$error":"#REF!"}},{"$error":"#N/A"},{"$f":"HLOOKUP($B$83,'[3]Econ. Disad.'!$E$4:$BJ$75,ROW('for incrementing rows (DNCHG)'!F44),FALSE)","v":{"$error":"#N/A"}},{"$f":"HLOOKUP($B$83,'[4]Econ. Disad.'!$E$4:$BJ$75,ROW('for incrementing rows (DNCHG)'!F44),FALSE)","v":{"$error":"#N/A"}},{"$error":"#N/A"},{"$f":"#REF!*0.5","v":{"$error":"#REF!"}},{"$error":"#N/A"},{"$f":"HLOOKUP($B$83,[3]SWD!$E$4:$BJ$75,ROW('for incrementing rows (DNCHG)'!K44),FALSE)","v":{"$error":"#N/A"}},{"$f":"HLOOKUP($B$83,[4]SWD!$E$4:$BJ$75,ROW('for incrementing rows (DNCHG)'!K44),FALSE)","v":{"$error":"#N/A"}},{"$error":"#N/A"},{"$f":"#REF!*0.5","v":{"$error":"#REF!"}},{"$error":"#N/A"},{"$f":"HLOOKUP($B$83,[3]GT!$E$4:$BJ$75,ROW('for incrementing rows (DNCHG)'!P44),FALSE)","v":{"$error":"#N/A"}},{"$f":"HLOOKUP($B$83,[4]GT!$E$4:$BJ$75,ROW('for incrementing rows (DNCHG)'!P44),FALSE)","v":{"$error":"#N/A"}},{"$error":"#N/A"},{"$f":"#REF!*0.5","v":{"$error":"#REF!"}},{"$error":"#N/A"},{"$error":"#N/A"},{"$f":"#REF!*0.5","v":{"$error":"#REF!"}},{"$error":"#N/A"}]
[42,"Richland",{"$f":"HLOOKUP($B$83,[3]Base!$E$4:$BJ$75,ROW('for incrementing rows (DNCHG)'!A45),FALSE)","v":{"$error":"#N/A"}},{"$f":"HLOOKUP($B$83,[4]Base!$E$4:$BJ$75,ROW('for incrementing rows (DNCHG)'!A45),FALSE)","v":{"$error":"#N/A"}},{"$error":"#N/A"},{"$f":"#REF!*0.5","v":{"$error":"#REF!"}},{"$error":"#N/A"},{"$f":"HLOOKUP($B$83,'[3]Econ. Disad.'!$E$4:$BJ$75,ROW('for incrementing rows (DNCHG)'!F45),FALSE)","v":{"$error":"#N/A"}},{"$f":"HLOOKUP($B$83,'[4]Econ. Disad.'!$E$4:$BJ$75,ROW('for incrementing rows (DNCHG)'!F45),FALSE)","v":{"$error":"#N/A"}},{"$error":"#N/A"},{"$f":"#REF!*0.5","v":{"$error":"#REF!"}},{"$error":"#N/A"},{"$f":"HLOOKUP($B$83,[3]SWD!$E$4:$BJ$75,ROW('for incrementing rows (DNCHG)'!K45),FALSE)","v":{"$error":"#N/A"}},{"$f":"HLOOKUP($B$83,[4]SWD!$E$4:$BJ$75,ROW('for incrementing rows (DNCHG)'!K45),FALSE)","v":{"$error":"#N/A"}},{"$error":"#N/A"},{"$f":"#REF!*0.5","v":{"$error":"#REF!"}},{"$error":"#N/A"},{"$f":"HLOOKUP($B$83,[3]GT!$E$4:$BJ$75,ROW('for incrementing rows (DNCHG)'!P45),FALSE)","v":{"$error":"#N/A"}},{"$f":"HLOOKUP($B$83,[4]GT!$E$4:$BJ$75,ROW('for incrementing rows (DNCHG)'!P45),FALSE)","v":{"$error":"#N/A"}},{"$error":"#N/A"},{"$f":"#REF!*0.5","v":{"$error":"#REF!"}},{"$error":"#N/A"},{"$error":"#N/A"},{"$f":"#REF!*0.5","v":{"$error":"#REF!"}},{"$error":"#N/A"}]
[43,"Sabine",{"$f":"HLOOKUP($B$83,[3]Base!$E$4:$BJ$75,ROW('for incrementing rows (DNCHG)'!A46),FALSE)","v":{"$error":"#N/A"}},{"$f":"HLOOKUP($B$83,[4]Base!$E$4:$BJ$75,ROW('for incrementing rows (DNCHG)'!A46),FALSE)","v":{"$error":"#N/A"}},{"$error":"#N/A"},{"$f":"#REF!*0.5","v":{"$error":"#REF!"}},{"$error":"#N/A"},{"$f":"HLOOKUP($B$83,'[3]Econ. Disad.'!$E$4:$BJ$75,ROW('for incrementing rows (DNCHG)'!F46),FALSE)","v":{"$error":"#N/A"}},{"$f":"HLOOKUP($B$83,'[4]Econ. Disad.'!$E$4:$BJ$75,ROW('for incrementing rows (DNCHG)'!F46),FALSE)","v":{"$error":"#N/A"}},{"$error":"#N/A"},{"$f":"#REF!*0.5","v":{"$error":"#REF!"}},{"$error":"#N/A"},{"$f":"HLOOKUP($B$83,[3]SWD!$E$4:$BJ$75,ROW('for incrementing rows (DNCHG)'!K46),FALSE)","v":{"$error":"#N/A"}},{"$f":"HLOOKUP($B$83,[4]SWD!$E$4:$BJ$75,ROW('for incrementing rows (DNCHG)'!K46),FALSE)","v":{"$error":"#N/A"}},{"$error":"#N/A"},{"$f":"#REF!*0.5","v":{"$error":"#REF!"}},{"$error":"#N/A"},{"$f":"HLOOKUP($B$83,[3]GT!$E$4:$BJ$75,ROW('for incrementing rows (DNCHG)'!P46),FALSE)","v":{"$error":"#N/A"}},{"$f":"HLOOKUP($B$83,[4]GT!$E$4:$BJ$75,ROW('for incrementing rows (DNCHG)'!P46),FALSE)","v":{"$error":"#N/A"}},{"$error":"#N/A"},{"$f":"#REF!*0.5","v":{"$error":"#REF!"}},{"$error":"#N/A"},{"$error":"#N/A"},{"$f":"#REF!*0.5","v":{"$error":"#REF!"}},{"$error":"#N/A"}]
[44,"St. Bernard",{"$f":"HLOOKUP($B$83,[3]Base!$E$4:$BJ$75,ROW('for incrementing rows (DNCHG)'!A47),FALSE)","v":{"$error":"#N/A"}},{"$f":"HLOOKUP($B$83,[4]Base!$E$4:$BJ$75,ROW('for incrementing rows (DNCHG)'!A47),FALSE)","v":{"$error":"#N/A"}},{"$error":"#N/A"},{"$f":"#REF!*0.5","v":{"$error":"#REF!"}},{"$error":"#N/A"},{"$f":"HLOOKUP($B$83,'[3]Econ. Disad.'!$E$4:$BJ$75,ROW('for incrementing rows (DNCHG)'!F47),FALSE)","v":{"$error":"#N/A"}},{"$f":"HLOOKUP($B$83,'[4]Econ. Disad.'!$E$4:$BJ$75,ROW('for incrementing rows (DNCHG)'!F47),FALSE)","v":{"$error":"#N/A"}},{"$error":"#N/A"},{"$f":"#REF!*0.5","v":{"$error":"#REF!"}},{"$error":"#N/A"},{"$f":"HLOOKUP($B$83,[3]SWD!$E$4:$BJ$75,ROW('for incrementing rows (DNCHG)'!K47),FALSE)","v":{"$error":"#N/A"}},{"$f":"HLOOKUP($B$83,[4]SWD!$E$4:$BJ$75,ROW('for incrementing rows (DNCHG)'!K47),FALSE)","v":{"$error":"#N/A"}},{"$error":"#N/A"},{"$f":"#REF!*0.5","v":{"$error":"#REF!"}},{"$error":"#N/A"},{"$f":"HLOOKUP($B$83,[3]GT!$E$4:$BJ$75,ROW('for incrementing rows (DNCHG)'!P47),FALSE)","v":{"$error":"#N/A"}},{"$f":"HLOOKUP($B$83,[4]GT!$E$4:$BJ$75,ROW('for incrementing rows (DNCHG)'!P47),FALSE)","v":{"$error":"#N/A"}},{"$error":"#N/A"},{"$f":"#REF!*0.5","v":{"$error":"#REF!"}},{"$error":"#N/A"},{"$error":"#N/A"},{"$f":"#REF!*0.5","v":{"$error":"#REF!"}},{"$error":"#N/A"}]
[45,"St. Charles",{"$f":"HLOOKUP($B$83,[3]Base!$E$4:$BJ$75,ROW('for incrementing rows (DNCHG)'!A48),FALSE)","v":{"$error":"#N/A"}},{"$f":"HLOOKUP($B$83,[4]Base!$E$4:$BJ$75,ROW('for incrementing rows (DNCHG)'!A48),FALSE)","v":{"$error":"#N/A"}},{"$error":"#N/A"},{"$f":"#REF!*0.5","v":{"$error":"#REF!"}},{"$error":"#N/A"},{"$f":"HLOOKUP($B$83,'[3]Econ. Disad.'!$E$4:$BJ$75,ROW('for incrementing rows (DNCHG)'!F48),FALSE)","v":{"$error":"#N/A"}},{"$f":"HLOOKUP($B$83,'[4]Econ. Disad.'!$E$4:$BJ$75,ROW('for incrementing rows (DNCHG)'!F48),FALSE)","v":{"$error":"#N/A"}},{"$error":"#N/A"},{"$f":"#REF!*0.5","v":{"$error":"#REF!"}},{"$error":"#N/A"},{"$f":"HLOOKUP($B$83,[3]SWD!$E$4:$BJ$75,ROW('for incrementing rows (DNCHG)'!K48),FALSE)","v":{"$error":"#N/A"}},{"$f":"HLOOKUP($B$83,[4]SWD!$E$4:$BJ$75,ROW('for incrementing rows (DNCHG)'!K48),FALSE)","v":{"$error":"#N/A"}},{"$error":"#N/A"},{"$f":"#REF!*0.5","v":{"$error":"#REF!"}},{"$error":"#N/A"},{"$f":"HLOOKUP($B$83,[3]GT!$E$4:$BJ$75,ROW('for incrementing rows (DNCHG)'!P48),FALSE)","v":{"$error":"#N/A"}},{"$f":"HLOOKUP($B$83,[4]GT!$E$4:$BJ$75,ROW('for incrementing rows (DNCHG)'!P48),FALSE)","v":{"$error":"#N/A"}},{"$error":"#N/A"},{"$f":"#REF!*0.5","v":{"$error":"#REF!"}},{"$error":"#N/A"},{"$error":"#N/A"},{"$f":"#REF!*0.5","v":{"$error":"#REF!"}},{"$error":"#N/A"}]
[46,"St. Helena",{"$f":"HLOOKUP($B$83,[3]Base!$E$4:$BJ$75,ROW('for incrementing rows (DNCHG)'!A49),FALSE)","v":{"$error":"#N/A"}},{"$f":"HLOOKUP($B$83,[4]Base!$E$4:$BJ$75,ROW('for incrementing rows (DNCHG)'!A49),FALSE)","v":{"$error":"#N/A"}},{"$error":"#N/A"},{"$f":"#REF!*0.5","v":{"$error":"#REF!"}},{"$error":"#N/A"},{"$f":"HLOOKUP($B$83,'[3]Econ. Disad.'!$E$4:$BJ$75,ROW('for incrementing rows (DNCHG)'!F49),FALSE)","v":{"$error":"#N/A"}},{"$f":"HLOOKUP($B$83,'[4]Econ. Disad.'!$E$4:$BJ$75,ROW('for incrementing rows (DNCHG)'!F49),FALSE)","v":{"$error":"#N/A"}},{"$error":"#N/A"},{"$f":"#REF!*0.5","v":{"$error":"#REF!"}},{"$error":"#N/A"},{"$f":"HLOOKUP($B$83,[3]SWD!$E$4:$BJ$75,ROW('for incrementing rows (DNCHG)'!K49),FALSE)","v":{"$error":"#N/A"}},{"$f":"HLOOKUP($B$83,[4]SWD!$E$4:$BJ$75,ROW('for incrementing rows (DNCHG)'!K49),FALSE)","v":{"$error":"#N/A"}},{"$error":"#N/A"},{"$f":"#REF!*0.5","v":{"$error":"#REF!"}},{"$error":"#N/A"},{"$f":"HLOOKUP($B$83,[3]GT!$E$4:$BJ$75,ROW('for incrementing rows (DNCHG)'!P49),FALSE)","v":{"$error":"#N/A"}},{"$f":"HLOOKUP($B$83,[4]GT!$E$4:$BJ$75,ROW('for incrementing rows (DNCHG)'!P49),FALSE)","v":{"$error":"#N/A"}},{"$error":"#N/A"},{"$f":"#REF!*0.5","v":{"$error":"#REF!"}},{"$error":"#N/A"},{"$error":"#N/A"},{"$f":"#REF!*0.5","v":{"$error":"#REF!"}},{"$error":"#N/A"}]
[47,"St. James",{"$f":"HLOOKUP($B$83,[3]Base!$E$4:$BJ$75,ROW('for incrementing rows (DNCHG)'!A50),FALSE)","v":{"$error":"#N/A"}},{"$f":"HLOOKUP($B$83,[4]Base!$E$4:$BJ$75,ROW('for incrementing rows (DNCHG)'!A50),FALSE)","v":{"$error":"#N/A"}},{"$error":"#N/A"},{"$f":"#REF!*0.5","v":{"$error":"#REF!"}},{"$error":"#N/A"},{"$f":"HLOOKUP($B$83,'[3]Econ. Disad.'!$E$4:$BJ$75,ROW('for incrementing rows (DNCHG)'!F50),FALSE)","v":{"$error":"#N/A"}},{"$f":"HLOOKUP($B$83,'[4]Econ. Disad.'!$E$4:$BJ$75,ROW('for incrementing rows (DNCHG)'!F50),FALSE)","v":{"$error":"#N/A"}},{"$error":"#N/A"},{"$f":"#REF!*0.5","v":{"$error":"#REF!"}},{"$error":"#N/A"},{"$f":"HLOOKUP($B$83,[3]SWD!$E$4:$BJ$75,ROW('for incrementing rows (DNCHG)'!K50),FALSE)","v":{"$error":"#N/A"}},{"$f":"HLOOKUP($B$83,[4]SWD!$E$4:$BJ$75,ROW('for incrementing rows (DNCHG)'!K50),FALSE)","v":{"$error":"#N/A"}},{"$error":"#N/A"},{"$f":"#REF!*0.5","v":{"$error":"#REF!"}},{"$error":"#N/A"},{"$f":"HLOOKUP($B$83,[3]GT!$E$4:$BJ$75,ROW('for incrementing rows (DNCHG)'!P50),FALSE)","v":{"$error":"#N/A"}},{"$f":"HLOOKUP($B$83,[4]GT!$E$4:$BJ$75,ROW('for incrementing rows (DNCHG)'!P50),FALSE)","v":{"$error":"#N/A"}},{"$error":"#N/A"},{"$f":"#REF!*0.5","v":{"$error":"#REF!"}},{"$error":"#N/A"},{"$error":"#N/A"},{"$f":"#REF!*0.5","v":{"$error":"#REF!"}},{"$error":"#N/A"}]
[48,"St. John the Baptist",{"$f":"HLOOKUP($B$83,[3]Base!$E$4:$BJ$75,ROW('for incrementing rows (DNCHG)'!A51),FALSE)","v":{"$error":"#N/A"}},{"$f":"HLOOKUP($B$83,[4]Base!$E$4:$BJ$75,ROW('for incrementing rows (DNCHG)'!A51),FALSE)","v":{"$error":"#N/A"}},{"$error":"#N/A"},{"$f":"#REF!*0.5","v":{"$error":"#REF!"}},{"$error":"#N/A"},{"$f":"HLOOKUP($B$83,'[3]Econ. Disad.'!$E$4:$BJ$75,ROW('for incrementing rows (DNCHG)'!F51),FALSE)","v":{"$error":"#N/A"}},{"$f":"HLOOKUP($B$83,'[4]Econ. Disad.'!$E$4:$BJ$75,ROW('for incrementing rows (DNCHG)'!F51),FALSE)","v":{"$error":"#N/A"}},{"$error":"#N/A"},{"$f":"#REF!*0.5","v":{"$error":"#REF!"}},{"$error":"#N/A"},{"$f":"HLOOKUP($B$83,[3]SWD!$E$4:$BJ$75,ROW('for incrementing rows (DNCHG)'!K51),FALSE)","v":{"$error":"#N/A"}},{"$f":"HLOOKUP($B$83,[4]SWD!$E$4:$BJ$75,ROW('for incrementing rows (DNCHG)'!K51),FALSE)","v":{"$error":"#N/A"}},{"$error":"#N/A"},{"$f":"#REF!*0.5","v":{"$error":"#REF!"}},{"$error":"#N/A"},{"$f":"HLOOKUP($B$83,[3]GT!$E$4:$BJ$75,ROW('for incrementing rows (DNCHG)'!P51),FALSE)","v":{"$error":"#N/A"}},{"$f":"HLOOKUP($B$83,[4]GT!$E$4:$BJ$75,ROW('for incrementing rows (DNCHG)'!P51),FALSE)","v":{"$error":"#N/A"}},{"$error":"#N/A"},{"$f":"#REF!*0.5","v":{"$error":"#REF!"}},{"$error":"#N/A"},{"$error":"#N/A"},{"$f":"#REF!*0.5","v":{"$error":"#REF!"}},{"$error":"#N/A"}]
[49,"St. Landry",{"$f":"HLOOKUP($B$83,[3]Base!$E$4:$BJ$75,ROW('for incrementing rows (DNCHG)'!A52),FALSE)","v":{"$error":"#N/A"}},{"$f":"HLOOKUP($B$83,[4]Base!$E$4:$BJ$75,ROW('for incrementing rows (DNCHG)'!A52),FALSE)","v":{"$error":"#N/A"}},{"$error":"#N/A"},{"$f":"#REF!*0.5","v":{"$error":"#REF!"}},{"$error":"#N/A"},{"$f":"HLOOKUP($B$83,'[3]Econ. Disad.'!$E$4:$BJ$75,ROW('for incrementing rows (DNCHG)'!F52),FALSE)","v":{"$error":"#N/A"}},{"$f":"HLOOKUP($B$83,'[4]Econ. Disad.'!$E$4:$BJ$75,ROW('for incrementing rows (DNCHG)'!F52),FALSE)","v":{"$error":"#N/A"}},{"$error":"#N/A"},{"$f":"#REF!*0.5","v":{"$error":"#REF!"}},{"$error":"#N/A"},{"$f":"HLOOKUP($B$83,[3]SWD!$E$4:$BJ$75,ROW('for incrementing rows (DNCHG)'!K52),FALSE)","v":{"$error":"#N/A"}},{"$f":"HLOOKUP($B$83,[4]SWD!$E$4:$BJ$75,ROW('for incrementing rows (DNCHG)'!K52),FALSE)","v":{"$error":"#N/A"}},{"$error":"#N/A"},{"$f":"#REF!*0.5","v":{"$error":"#REF!"}},{"$error":"#N/A"},{"$f":"HLOOKUP($B$83,[3]GT!$E$4:$BJ$75,ROW('for incrementing rows (DNCHG)'!P52),FALSE)","v":{"$error":"#N/A"}},{"$f":"HLOOKUP($B$83,[4]GT!$E$4:$BJ$75,ROW('for incrementing rows (DNCHG)'!P52),FALSE)","v":{"$error":"#N/A"}},{"$error":"#N/A"},{"$f":"#REF!*0.5","v":{"$error":"#REF!"}},{"$error":"#N/A"},{"$error":"#N/A"},{"$f":"#REF!*0.5","v":{"$error":"#REF!"}},{"$error":"#N/A"}]
[50,"St. Martin",{"$f":"HLOOKUP($B$83,[3]Base!$E$4:$BJ$75,ROW('for incrementing rows (DNCHG)'!A53),FALSE)","v":{"$error":"#N/A"}},{"$f":"HLOOKUP($B$83,[4]Base!$E$4:$BJ$75,ROW('for incrementing rows (DNCHG)'!A53),FALSE)","v":{"$error":"#N/A"}},{"$error":"#N/A"},{"$f":"#REF!*0.5","v":{"$error":"#REF!"}},{"$error":"#N/A"},{"$f":"HLOOKUP($B$83,'[3]Econ. Disad.'!$E$4:$BJ$75,ROW('for incrementing rows (DNCHG)'!F53),FALSE)","v":{"$error":"#N/A"}},{"$f":"HLOOKUP($B$83,'[4]Econ. Disad.'!$E$4:$BJ$75,ROW('for incrementing rows (DNCHG)'!F53),FALSE)","v":{"$error":"#N/A"}},{"$error":"#N/A"},{"$f":"#REF!*0.5","v":{"$error":"#REF!"}},{"$error":"#N/A"},{"$f":"HLOOKUP($B$83,[3]SWD!$E$4:$BJ$75,ROW('for incrementing rows (DNCHG)'!K53),FALSE)","v":{"$error":"#N/A"}},{"$f":"HLOOKUP($B$83,[4]SWD!$E$4:$BJ$75,ROW('for incrementing rows (DNCHG)'!K53),FALSE)","v":{"$error":"#N/A"}},{"$error":"#N/A"},{"$f":"#REF!*0.5","v":{"$error":"#REF!"}},{"$error":"#N/A"},{"$f":"HLOOKUP($B$83,[3]GT!$E$4:$BJ$75,ROW('for incrementing rows (DNCHG)'!P53),FALSE)","v":{"$error":"#N/A"}},{"$f":"HLOOKUP($B$83,[4]GT!$E$4:$BJ$75,ROW('for incrementing rows (DNCHG)'!P53),FALSE)","v":{"$error":"#N/A"}},{"$error":"#N/A"},{"$f":"#REF!*0.5","v":{"$error":"#REF!"}},{"$error":"#N/A"},{"$error":"#N/A"},{"$f":"#REF!*0.5","v":{"$error":"#REF!"}},{"$error":"#N/A"}]
[51,"St. Mary",{"$f":"HLOOKUP($B$83,[3]Base!$E$4:$BJ$75,ROW('for incrementing rows (DNCHG)'!A54),FALSE)","v":{"$error":"#N/A"}},{"$f":"HLOOKUP($B$83,[4]Base!$E$4:$BJ$75,ROW('for incrementing rows (DNCHG)'!A54),FALSE)","v":{"$error":"#N/A"}},{"$error":"#N/A"},{"$f":"#REF!*0.5","v":{"$error":"#REF!"}},{"$error":"#N/A"},{"$f":"HLOOKUP($B$83,'[3]Econ. Disad.'!$E$4:$BJ$75,ROW('for incrementing rows (DNCHG)'!F54),FALSE)","v":{"$error":"#N/A"}},{"$f":"HLOOKUP($B$83,'[4]Econ. Disad.'!$E$4:$BJ$75,ROW('for incrementing rows (DNCHG)'!F54),FALSE)","v":{"$error":"#N/A"}},{"$error":"#N/A"},{"$f":"#REF!*0.5","v":{"$error":"#REF!"}},{"$error":"#N/A"},{"$f":"HLOOKUP($B$83,[3]SWD!$E$4:$BJ$75,ROW('for incrementing rows (DNCHG)'!K54),FALSE)","v":{"$error":"#N/A"}},{"$f":"HLOOKUP($B$83,[4]SWD!$E$4:$BJ$75,ROW('for incrementing rows (DNCHG)'!K54),FALSE)","v":{"$error":"#N/A"}},{"$error":"#N/A"},{"$f":"#REF!*0.5","v":{"$error":"#REF!"}},{"$error":"#N/A"},{"$f":"HLOOKUP($B$83,[3]GT!$E$4:$BJ$75,ROW('for incrementing rows (DNCHG)'!P54),FALSE)","v":{"$error":"#N/A"}},{"$f":"HLOOKUP($B$83,[4]GT!$E$4:$BJ$75,ROW('for incrementing rows (DNCHG)'!P54),FALSE)","v":{"$error":"#N/A"}},{"$error":"#N/A"},{"$f":"#REF!*0.5","v":{"$error":"#REF!"}},{"$error":"#N/A"},{"$error":"#N/A"},{"$f":"#REF!*0.5","v":{"$error":"#REF!"}},{"$error":"#N/A"}]
[52,"St. Tammany",{"$f":"HLOOKUP($B$83,[3]Base!$E$4:$BJ$75,ROW('for incrementing rows (DNCHG)'!A55),FALSE)","v":{"$error":"#N/A"}},{"$f":"HLOOKUP($B$83,[4]Base!$E$4:$BJ$75,ROW('for incrementing rows (DNCHG)'!A55),FALSE)","v":{"$error":"#N/A"}},{"$error":"#N/A"},{"$f":"#REF!*0.5","v":{"$error":"#REF!"}},{"$error":"#N/A"},{"$f":"HLOOKUP($B$83,'[3]Econ. Disad.'!$E$4:$BJ$75,ROW('for incrementing rows (DNCHG)'!F55),FALSE)","v":{"$error":"#N/A"}},{"$f":"HLOOKUP($B$83,'[4]Econ. Disad.'!$E$4:$BJ$75,ROW('for incrementing rows (DNCHG)'!F55),FALSE)","v":{"$error":"#N/A"}},{"$error":"#N/A"},{"$f":"#REF!*0.5","v":{"$error":"#REF!"}},{"$error":"#N/A"},{"$f":"HLOOKUP($B$83,[3]SWD!$E$4:$BJ$75,ROW('for incrementing rows (DNCHG)'!K55),FALSE)","v":{"$error":"#N/A"}},{"$f":"HLOOKUP($B$83,[4]SWD!$E$4:$BJ$75,ROW('for incrementing rows (DNCHG)'!K55),FALSE)","v":{"$error":"#N/A"}},{"$error":"#N/A"},{"$f":"#REF!*0.5","v":{"$error":"#REF!"}},{"$error":"#N/A"},{"$f":"HLOOKUP($B$83,[3]GT!$E$4:$BJ$75,ROW('for incrementing rows (DNCHG)'!P55),FALSE)","v":{"$error":"#N/A"}},{"$f":"HLOOKUP($B$83,[4]GT!$E$4:$BJ$75,ROW('for incrementing rows (DNCHG)'!P55),FALSE)","v":{"$error":"#N/A"}},{"$error":"#N/A"},{"$f":"#REF!*0.5","v":{"$error":"#REF!"}},{"$error":"#N/A"},{"$error":"#N/A"},{"$f":"#REF!*0.5","v":{"$error":"#REF!"}},{"$error":"#N/A"}]
[53,"Tangipahoa",{"$f":"HLOOKUP($B$83,[3]Base!$E$4:$BJ$75,ROW('for incrementing rows (DNCHG)'!A56),FALSE)","v":{"$error":"#N/A"}},{"$f":"HLOOKUP($B$83,[4]Base!$E$4:$BJ$75,ROW('for incrementing rows (DNCHG)'!A56),FALSE)","v":{"$error":"#N/A"}},{"$error":"#N/A"},{"$f":"#REF!*0.5","v":{"$error":"#REF!"}},{"$error":"#N/A"},{"$f":"HLOOKUP($B$83,'[3]Econ. Disad.'!$E$4:$BJ$75,ROW('for incrementing rows (DNCHG)'!F56),FALSE)","v":{"$error":"#N/A"}},{"$f":"HLOOKUP($B$83,'[4]Econ. Disad.'!$E$4:$BJ$75,ROW('for incrementing rows (DNCHG)'!F56),FALSE)","v":{"$error":"#N/A"}},{"$error":"#N/A"},{"$f":"#REF!*0.5","v":{"$error":"#REF!"}},{"$error":"#N/A"},{"$f":"HLOOKUP($B$83,[3]SWD!$E$4:$BJ$75,ROW('for incrementing rows (DNCHG)'!K56),FALSE)","v":{"$error":"#N/A"}},{"$f":"HLOOKUP($B$83,[4]SWD!$E$4:$BJ$75,ROW('for incrementing rows (DNCHG)'!K56),FALSE)","v":{"$error":"#N/A"}},{"$error":"#N/A"},{"$f":"#REF!*0.5","v":{"$error":"#REF!"}},{"$error":"#N/A"},{"$f":"HLOOKUP($B$83,[3]GT!$E$4:$BJ$75,ROW('for incrementing rows (DNCHG)'!P56),FALSE)","v":{"$error":"#N/A"}},{"$f":"HLOOKUP($B$83,[4]GT!$E$4:$BJ$75,ROW('for incrementing rows (DNCHG)'!P56),FALSE)","v":{"$error":"#N/A"}},{"$error":"#N/A"},{"$f":"#REF!*0.5","v":{"$error":"#REF!"}},{"$error":"#N/A"},{"$error":"#N/A"},{"$f":"#REF!*0.5","v":{"$error":"#REF!"}},{"$error":"#N/A"}]
[54,"Tensas",{"$f":"HLOOKUP($B$83,[3]Base!$E$4:$BJ$75,ROW('for incrementing rows (DNCHG)'!A57),FALSE)","v":{"$error":"#N/A"}},{"$f":"HLOOKUP($B$83,[4]Base!$E$4:$BJ$75,ROW('for incrementing rows (DNCHG)'!A57),FALSE)","v":{"$error":"#N/A"}},{"$error":"#N/A"},{"$f":"#REF!*0.5","v":{"$error":"#REF!"}},{"$error":"#N/A"},{"$f":"HLOOKUP($B$83,'[3]Econ. Disad.'!$E$4:$BJ$75,ROW('for incrementing rows (DNCHG)'!F57),FALSE)","v":{"$error":"#N/A"}},{"$f":"HLOOKUP($B$83,'[4]Econ. Disad.'!$E$4:$BJ$75,ROW('for incrementing rows (DNCHG)'!F57),FALSE)","v":{"$error":"#N/A"}},{"$error":"#N/A"},{"$f":"#REF!*0.5","v":{"$error":"#REF!"}},{"$error":"#N/A"},{"$f":"HLOOKUP($B$83,[3]SWD!$E$4:$BJ$75,ROW('for incrementing rows (DNCHG)'!K57),FALSE)","v":{"$error":"#N/A"}},{"$f":"HLOOKUP($B$83,[4]SWD!$E$4:$BJ$75,ROW('for incrementing rows (DNCHG)'!K57),FALSE)","v":{"$error":"#N/A"}},{"$error":"#N/A"},{"$f":"#REF!*0.5","v":{"$error":"#REF!"}},{"$error":"#N/A"},{"$f":"HLOOKUP($B$83,[3]GT!$E$4:$BJ$75,ROW('for incrementing rows (DNCHG)'!P57),FALSE)","v":{"$error":"#N/A"}},{"$f":"HLOOKUP($B$83,[4]GT!$E$4:$BJ$75,ROW('for incrementing rows (DNCHG)'!P57),FALSE)","v":{"$error":"#N/A"}},{"$error":"#N/A"},{"$f":"#REF!*0.5","v":{"$error":"#REF!"}},{"$error":"#N/A"},{"$error":"#N/A"},{"$f":"#REF!*0.5","v":{"$error":"#REF!"}},{"$error":"#N/A"}]
[55,"Terrebonne",{"$f":"HLOOKUP($B$83,[3]Base!$E$4:$BJ$75,ROW('for incrementing rows (DNCHG)'!A58),FALSE)","v":{"$error":"#N/A"}},{"$f":"HLOOKUP($B$83,[4]Base!$E$4:$BJ$75,ROW('for incrementing rows (DNCHG)'!A58),FALSE)","v":{"$error":"#N/A"}},{"$error":"#N/A"},{"$f":"#REF!*0.5","v":{"$error":"#REF!"}},{"$error":"#N/A"},{"$f":"HLOOKUP($B$83,'[3]Econ. Disad.'!$E$4:$BJ$75,ROW('for incrementing rows (DNCHG)'!F58),FALSE)","v":{"$error":"#N/A"}},{"$f":"HLOOKUP($B$83,'[4]Econ. Disad.'!$E$4:$BJ$75,ROW('for incrementing rows (DNCHG)'!F58),FALSE)","v":{"$error":"#N/A"}},{"$error":"#N/A"},{"$f":"#REF!*0.5","v":{"$error":"#REF!"}},{"$error":"#N/A"},{"$f":"HLOOKUP($B$83,[3]SWD!$E$4:$BJ$75,ROW('for incrementing rows (DNCHG)'!K58),FALSE)","v":{"$error":"#N/A"}},{"$f":"HLOOKUP($B$83,[4]SWD!$E$4:$BJ$75,ROW('for incrementing rows (DNCHG)'!K58),FALSE)","v":{"$error":"#N/A"}},{"$error":"#N/A"},{"$f":"#REF!*0.5","v":{"$error":"#REF!"}},{"$error":"#N/A"},{"$f":"HLOOKUP($B$83,[3]GT!$E$4:$BJ$75,ROW('for incrementing rows (DNCHG)'!P58),FALSE)","v":{"$error":"#N/A"}},{"$f":"HLOOKUP($B$83,[4]GT!$E$4:$BJ$75,ROW('for incrementing rows (DNCHG)'!P58),FALSE)","v":{"$error":"#N/A"}},{"$error":"#N/A"},{"$f":"#REF!*0.5","v":{"$error":"#REF!"}},{"$error":"#N/A"},{"$error":"#N/A"},{"$f":"#REF!*0.5","v":{"$error":"#REF!"}},{"$error":"#N/A"}]
[56,"Union",{"$f":"HLOOKUP($B$83,[3]Base!$E$4:$BJ$75,ROW('for incrementing rows (DNCHG)'!A59),FALSE)","v":{"$error":"#N/A"}},{"$f":"HLOOKUP($B$83,[4]Base!$E$4:$BJ$75,ROW('for incrementing rows (DNCHG)'!A59),FALSE)","v":{"$error":"#N/A"}},{"$error":"#N/A"},{"$f":"#REF!*0.5","v":{"$error":"#REF!"}},{"$error":"#N/A"},{"$f":"HLOOKUP($B$83,'[3]Econ. Disad.'!$E$4:$BJ$75,ROW('for incrementing rows (DNCHG)'!F59),FALSE)","v":{"$error":"#N/A"}},{"$f":"HLOOKUP($B$83,'[4]Econ. Disad.'!$E$4:$BJ$75,ROW('for incrementing rows (DNCHG)'!F59),FALSE)","v":{"$error":"#N/A"}},{"$error":"#N/A"},{"$f":"#REF!*0.5","v":{"$error":"#REF!"}},{"$error":"#N/A"},{"$f":"HLOOKUP($B$83,[3]SWD!$E$4:$BJ$75,ROW('for incrementing rows (DNCHG)'!K59),FALSE)","v":{"$error":"#N/A"}},{"$f":"HLOOKUP($B$83,[4]SWD!$E$4:$BJ$75,ROW('for incrementing rows (DNCHG)'!K59),FALSE)","v":{"$error":"#N/A"}},{"$error":"#N/A"},{"$f":"#REF!*0.5","v":{"$error":"#REF!"}},{"$error":"#N/A"},{"$f":"HLOOKUP($B$83,[3]GT!$E$4:$BJ$75,ROW('for incrementing rows (DNCHG)'!P59),FALSE)","v":{"$error":"#N/A"}},{"$f":"HLOOKUP($B$83,[4]GT!$E$4:$BJ$75,ROW('for incrementing rows (DNCHG)'!P59),FALSE)","v":{"$error":"#N/A"}},{"$error":"#N/A"},{"$f":"#REF!*0.5","v":{"$error":"#REF!"}},{"$error":"#N/A"},{"$error":"#N/A"},{"$f":"#REF!*0.5","v":{"$error":"#REF!"}},{"$error":"#N/A"}]
[57,"Vermilion",{"$f":"HLOOKUP($B$83,[3]Base!$E$4:$BJ$75,ROW('for incrementing rows (DNCHG)'!A60),FALSE)","v":{"$error":"#N/A"}},{"$f":"HLOOKUP($B$83,[4]Base!$E$4:$BJ$75,ROW('for incrementing rows (DNCHG)'!A60),FALSE)","v":{"$error":"#N/A"}},{"$error":"#N/A"},{"$f":"#REF!*0.5","v":{"$error":"#REF!"}},{"$error":"#N/A"},{"$f":"HLOOKUP($B$83,'[3]Econ. Disad.'!$E$4:$BJ$75,ROW('for incrementing rows (DNCHG)'!F60),FALSE)","v":{"$error":"#N/A"}},{"$f":"HLOOKUP($B$83,'[4]Econ. Disad.'!$E$4:$BJ$75,ROW('for incrementing rows (DNCHG)'!F60),FALSE)","v":{"$error":"#N/A"}},{"$error":"#N/A"},{"$f":"#REF!*0.5","v":{"$error":"#REF!"}},{"$error":"#N/A"},{"$f":"HLOOKUP($B$83,[3]SWD!$E$4:$BJ$75,ROW('for incrementing rows (DNCHG)'!K60),FALSE)","v":{"$error":"#N/A"}},{"$f":"HLOOKUP($B$83,[4]SWD!$E$4:$BJ$75,ROW('for incrementing rows (DNCHG)'!K60),FALSE)","v":{"$error":"#N/A"}},{"$error":"#N/A"},{"$f":"#REF!*0.5","v":{"$error":"#REF!"}},{"$error":"#N/A"},{"$f":"HLOOKUP($B$83,[3]GT!$E$4:$BJ$75,ROW('for incrementing rows (DNCHG)'!P60),FALSE)","v":{"$error":"#N/A"}},{"$f":"HLOOKUP($B$83,[4]GT!$E$4:$BJ$75,ROW('for incrementing rows (DNCHG)'!P60),FALSE)","v":{"$error":"#N/A"}},{"$error":"#N/A"},{"$f":"#REF!*0.5","v":{"$error":"#REF!"}},{"$error":"#N/A"},{"$error":"#N/A"},{"$f":"#REF!*0.5","v":{"$error":"#REF!"}},{"$error":"#N/A"}]
[58,"Vernon",{"$f":"HLOOKUP($B$83,[3]Base!$E$4:$BJ$75,ROW('for incrementing rows (DNCHG)'!A61),FALSE)","v":{"$error":"#N/A"}},{"$f":"HLOOKUP($B$83,[4]Base!$E$4:$BJ$75,ROW('for incrementing rows (DNCHG)'!A61),FALSE)","v":{"$error":"#N/A"}},{"$error":"#N/A"},{"$f":"#REF!*0.5","v":{"$error":"#REF!"}},{"$error":"#N/A"},{"$f":"HLOOKUP($B$83,'[3]Econ. Disad.'!$E$4:$BJ$75,ROW('for incrementing rows (DNCHG)'!F61),FALSE)","v":{"$error":"#N/A"}},{"$f":"HLOOKUP($B$83,'[4]Econ. Disad.'!$E$4:$BJ$75,ROW('for incrementing rows (DNCHG)'!F61),FALSE)","v":{"$error":"#N/A"}},{"$error":"#N/A"},{"$f":"#REF!*0.5","v":{"$error":"#REF!"}},{"$error":"#N/A"},{"$f":"HLOOKUP($B$83,[3]SWD!$E$4:$BJ$75,ROW('for incrementing rows (DNCHG)'!K61),FALSE)","v":{"$error":"#N/A"}},{"$f":"HLOOKUP($B$83,[4]SWD!$E$4:$BJ$75,ROW('for incrementing rows (DNCHG)'!K61),FALSE)","v":{"$error":"#N/A"}},{"$error":"#N/A"},{"$f":"#REF!*0.5","v":{"$error":"#REF!"}},{"$error":"#N/A"},{"$f":"HLOOKUP($B$83,[3]GT!$E$4:$BJ$75,ROW('for incrementing rows (DNCHG)'!P61),FALSE)","v":{"$error":"#N/A"}},{"$f":"HLOOKUP($B$83,[4]GT!$E$4:$BJ$75,ROW('for incrementing rows (DNCHG)'!P61),FALSE)","v":{"$error":"#N/A"}},{"$error":"#N/A"},{"$f":"#REF!*0.5","v":{"$error":"#REF!"}},{"$error":"#N/A"},{"$error":"#N/A"},{"$f":"#REF!*0.5","v":{"$error":"#REF!"}},{"$error":"#N/A"}]
[59,"Washington",{"$f":"HLOOKUP($B$83,[3]Base!$E$4:$BJ$75,ROW('for incrementing rows (DNCHG)'!A62),FALSE)","v":{"$error":"#N/A"}},{"$f":"HLOOKUP($B$83,[4]Base!$E$4:$BJ$75,ROW('for incrementing rows (DNCHG)'!A62),FALSE)","v":{"$error":"#N/A"}},{"$error":"#N/A"},{"$f":"#REF!*0.5","v":{"$error":"#REF!"}},{"$error":"#N/A"},{"$f":"HLOOKUP($B$83,'[3]Econ. Disad.'!$E$4:$BJ$75,ROW('for incrementing rows (DNCHG)'!F62),FALSE)","v":{"$error":"#N/A"}},{"$f":"HLOOKUP($B$83,'[4]Econ. Disad.'!$E$4:$BJ$75,ROW('for incrementing rows (DNCHG)'!F62),FALSE)","v":{"$error":"#N/A"}},{"$error":"#N/A"},{"$f":"#REF!*0.5","v":{"$error":"#REF!"}},{"$error":"#N/A"},{"$f":"HLOOKUP($B$83,[3]SWD!$E$4:$BJ$75,ROW('for incrementing rows (DNCHG)'!K62),FALSE)","v":{"$error":"#N/A"}},{"$f":"HLOOKUP($B$83,[4]SWD!$E$4:$BJ$75,ROW('for incrementing rows (DNCHG)'!K62),FALSE)","v":{"$error":"#N/A"}},{"$error":"#N/A"},{"$f":"#REF!*0.5","v":{"$error":"#REF!"}},{"$error":"#N/A"},{"$f":"HLOOKUP($B$83,[3]GT!$E$4:$BJ$75,ROW('for incrementing rows (DNCHG)'!P62),FALSE)","v":{"$error":"#N/A"}},{"$f":"HLOOKUP($B$83,[4]GT!$E$4:$BJ$75,ROW('for incrementing rows (DNCHG)'!P62),FALSE)","v":{"$error":"#N/A"}},{"$error":"#N/A"},{"$f":"#REF!*0.5","v":{"$error":"#REF!"}},{"$error":"#N/A"},{"$error":"#N/A"},{"$f":"#REF!*0.5","v":{"$error":"#REF!"}},{"$error":"#N/A"}]
[60,"Webster",{"$f":"HLOOKUP($B$83,[3]Base!$E$4:$BJ$75,ROW('for incrementing rows (DNCHG)'!A63),FALSE)","v":{"$error":"#N/A"}},{"$f":"HLOOKUP($B$83,[4]Base!$E$4:$BJ$75,ROW('for incrementing rows (DNCHG)'!A63),FALSE)","v":{"$error":"#N/A"}},{"$error":"#N/A"},{"$f":"#REF!*0.5","v":{"$error":"#REF!"}},{"$error":"#N/A"},{"$f":"HLOOKUP($B$83,'[3]Econ. Disad.'!$E$4:$BJ$75,ROW('for incrementing rows (DNCHG)'!F63),FALSE)","v":{"$error":"#N/A"}},{"$f":"HLOOKUP($B$83,'[4]Econ. Disad.'!$E$4:$BJ$75,ROW('for incrementing rows (DNCHG)'!F63),FALSE)","v":{"$error":"#N/A"}},{"$error":"#N/A"},{"$f":"#REF!*0.5","v":{"$error":"#REF!"}},{"$error":"#N/A"},{"$f":"HLOOKUP($B$83,[3]SWD!$E$4:$BJ$75,ROW('for incrementing rows (DNCHG)'!K63),FALSE)","v":{"$error":"#N/A"}},{"$f":"HLOOKUP($B$83,[4]SWD!$E$4:$BJ$75,ROW('for incrementing rows (DNCHG)'!K63),FALSE)","v":{"$error":"#N/A"}},{"$error":"#N/A"},{"$f":"#REF!*0.5","v":{"$error":"#REF!"}},{"$error":"#N/A"},{"$f":"HLOOKUP($B$83,[3]GT!$E$4:$BJ$75,ROW('for incrementing rows (DNCHG)'!P63),FALSE)","v":{"$error":"#N/A"}},{"$f":"HLOOKUP($B$83,[4]GT!$E$4:$BJ$75,ROW('for incrementing rows (DNCHG)'!P63),FALSE)","v":{"$error":"#N/A"}},{"$error":"#N/A"},{"$f":"#REF!*0.5","v":{"$error":"#REF!"}},{"$error":"#N/A"},{"$error":"#N/A"},{"$f":"#REF!*0.5","v":{"$error":"#REF!"}},{"$error":"#N/A"}]
[61,"West Baton Rouge",{"$f":"HLOOKUP($B$83,[3]Base!$E$4:$BJ$75,ROW('for incrementing rows (DNCHG)'!A64),FALSE)","v":{"$error":"#N/A"}},{"$f":"HLOOKUP($B$83,[4]Base!$E$4:$BJ$75,ROW('for incrementing rows (DNCHG)'!A64),FALSE)","v":{"$error":"#N/A"}},{"$error":"#N/A"},{"$f":"#REF!*0.5","v":{"$error":"#REF!"}},{"$error":"#N/A"},{"$f":"HLOOKUP($B$83,'[3]Econ. Disad.'!$E$4:$BJ$75,ROW('for incrementing rows (DNCHG)'!F64),FALSE)","v":{"$error":"#N/A"}},{"$f":"HLOOKUP($B$83,'[4]Econ. Disad.'!$E$4:$BJ$75,ROW('for incrementing rows (DNCHG)'!F64),FALSE)","v":{"$error":"#N/A"}},{"$error":"#N/A"},{"$f":"#REF!*0.5","v":{"$error":"#REF!"}},{"$error":"#N/A"},{"$f":"HLOOKUP($B$83,[3]SWD!$E$4:$BJ$75,ROW('for incrementing rows (DNCHG)'!K64),FALSE)","v":{"$error":"#N/A"}},{"$f":"HLOOKUP($B$83,[4]SWD!$E$4:$BJ$75,ROW('for incrementing rows (DNCHG)'!K64),FALSE)","v":{"$error":"#N/A"}},{"$error":"#N/A"},{"$f":"#REF!*0.5","v":{"$error":"#REF!"}},{"$error":"#N/A"},{"$f":"HLOOKUP($B$83,[3]GT!$E$4:$BJ$75,ROW('for incrementing rows (DNCHG)'!P64),FALSE)","v":{"$error":"#N/A"}},{"$f":"HLOOKUP($B$83,[4]GT!$E$4:$BJ$75,ROW('for incrementing rows (DNCHG)'!P64),FALSE)","v":{"$error":"#N/A"}},{"$error":"#N/A"},{"$f":"#REF!*0.5","v":{"$error":"#REF!"}},{"$error":"#N/A"},{"$error":"#N/A"},{"$f":"#REF!*0.5","v":{"$error":"#REF!"}},{"$error":"#N/A"}]
[62,"West Carroll",{"$f":"HLOOKUP($B$83,[3]Base!$E$4:$BJ$75,ROW('for incrementing rows (DNCHG)'!A65),FALSE)","v":{"$error":"#N/A"}},{"$f":"HLOOKUP($B$83,[4]Base!$E$4:$BJ$75,ROW('for incrementing rows (DNCHG)'!A65),FALSE)","v":{"$error":"#N/A"}},{"$error":"#N/A"},{"$f":"#REF!*0.5","v":{"$error":"#REF!"}},{"$error":"#N/A"},{"$f":"HLOOKUP($B$83,'[3]Econ. Disad.'!$E$4:$BJ$75,ROW('for incrementing rows (DNCHG)'!F65),FALSE)","v":{"$error":"#N/A"}},{"$f":"HLOOKUP($B$83,'[4]Econ. Disad.'!$E$4:$BJ$75,ROW('for incrementing rows (DNCHG)'!F65),FALSE)","v":{"$error":"#N/A"}},{"$error":"#N/A"},{"$f":"#REF!*0.5","v":{"$error":"#REF!"}},{"$error":"#N/A"},{"$f":"HLOOKUP($B$83,[3]SWD!$E$4:$BJ$75,ROW('for incrementing rows (DNCHG)'!K65),FALSE)","v":{"$error":"#N/A"}},{"$f":"HLOOKUP($B$83,[4]SWD!$E$4:$BJ$75,ROW('for incrementing rows (DNCHG)'!K65),FALSE)","v":{"$error":"#N/A"}},{"$error":"#N/A"},{"$f":"#REF!*0.5","v":{"$error":"#REF!"}},{"$error":"#N/A"},{"$f":"HLOOKUP($B$83,[3]GT!$E$4:$BJ$75,ROW('for incrementing rows (DNCHG)'!P65),FALSE)","v":{"$error":"#N/A"}},{"$f":"HLOOKUP($B$83,[4]GT!$E$4:$BJ$75,ROW('for incrementing rows (DNCHG)'!P65),FALSE)","v":{"$error":"#N/A"}},{"$error":"#N/A"},{"$f":"#REF!*0.5","v":{"$error":"#REF!"}},{"$error":"#N/A"},{"$error":"#N/A"},{"$f":"#REF!*0.5","v":{"$error":"#REF!"}},{"$error":"#N/A"}]
[63,"West Feliciana",{"$f":"HLOOKUP($B$83,[3]Base!$E$4:$BJ$75,ROW('for incrementing rows (DNCHG)'!A66),FALSE)","v":{"$error":"#N/A"}},{"$f":"HLOOKUP($B$83,[4]Base!$E$4:$BJ$75,ROW('for incrementing rows (DNCHG)'!A66),FALSE)","v":{"$error":"#N/A"}},{"$error":"#N/A"},{"$f":"#REF!*0.5","v":{"$error":"#REF!"}},{"$error":"#N/A"},{"$f":"HLOOKUP($B$83,'[3]Econ. Disad.'!$E$4:$BJ$75,ROW('for incrementing rows (DNCHG)'!F66),FALSE)","v":{"$error":"#N/A"}},{"$f":"HLOOKUP($B$83,'[4]Econ. Disad.'!$E$4:$BJ$75,ROW('for incrementing rows (DNCHG)'!F66),FALSE)","v":{"$error":"#N/A"}},{"$error":"#N/A"},{"$f":"#REF!*0.5","v":{"$error":"#REF!"}},{"$error":"#N/A"},{"$f":"HLOOKUP($B$83,[3]SWD!$E$4:$BJ$75,ROW('for incrementing rows (DNCHG)'!K66),FALSE)","v":{"$error":"#N/A"}},{"$f":"HLOOKUP($B$83,[4]SWD!$E$4:$BJ$75,ROW('for incrementing rows (DNCHG)'!K66),FALSE)","v":{"$error":"#N/A"}},{"$error":"#N/A"},{"$f":"#REF!*0.5","v":{"$error":"#REF!"}},{"$error":"#N/A"},{"$f":"HLOOKUP($B$83,[3]GT!$E$4:$BJ$75,ROW('for incrementing rows (DNCHG)'!P66),FALSE)","v":{"$error":"#N/A"}},{"$f":"HLOOKUP($B$83,[4]GT!$E$4:$BJ$75,ROW('for incrementing rows (DNCHG)'!P66),FALSE)","v":{"$error":"#N/A"}},{"$error":"#N/A"},{"$f":"#REF!*0.5","v":{"$error":"#REF!"}},{"$error":"#N/A"},{"$error":"#N/A"},{"$f":"#REF!*0.5","v":{"$error":"#REF!"}},{"$error":"#N/A"}]
[64,"Winn",{"$f":"HLOOKUP($B$83,[3]Base!$E$4:$BJ$75,ROW('for incrementing rows (DNCHG)'!A67),FALSE)","v":{"$error":"#N/A"}},{"$f":"HLOOKUP($B$83,[4]Base!$E$4:$BJ$75,ROW('for incrementing rows (DNCHG)'!A67),FALSE)","v":{"$error":"#N/A"}},{"$error":"#N/A"},{"$f":"#REF!*0.5","v":{"$error":"#REF!"}},{"$error":"#N/A"},{"$f":"HLOOKUP($B$83,'[3]Econ. Disad.'!$E$4:$BJ$75,ROW('for incrementing rows (DNCHG)'!F67),FALSE)","v":{"$error":"#N/A"}},{"$f":"HLOOKUP($B$83,'[4]Econ. Disad.'!$E$4:$BJ$75,ROW('for incrementing rows (DNCHG)'!F67),FALSE)","v":{"$error":"#N/A"}},{"$error":"#N/A"},{"$f":"#REF!*0.5","v":{"$error":"#REF!"}},{"$error":"#N/A"},{"$f":"HLOOKUP($B$83,[3]SWD!$E$4:$BJ$75,ROW('for incrementing rows (DNCHG)'!K67),FALSE)","v":{"$error":"#N/A"}},{"$f":"HLOOKUP($B$83,[4]SWD!$E$4:$BJ$75,ROW('for incrementing rows (DNCHG)'!K67),FALSE)","v":{"$error":"#N/A"}},{"$error":"#N/A"},{"$f":"#REF!*0.5","v":{"$error":"#REF!"}},{"$error":"#N/A"},{"$f":"HLOOKUP($B$83,[3]GT!$E$4:$BJ$75,ROW('for incrementing rows (DNCHG)'!P67),FALSE)","v":{"$error":"#N/A"}},{"$f":"HLOOKUP($B$83,[4]GT!$E$4:$BJ$75,ROW('for incrementing rows (DNCHG)'!P67),FALSE)","v":{"$error":"#N/A"}},{"$error":"#N/A"},{"$f":"#REF!*0.5","v":{"$error":"#REF!"}},{"$error":"#N/A"},{"$error":"#N/A"},{"$f":"#REF!*0.5","v":{"$error":"#REF!"}},{"$error":"#N/A"}]
[65,"City of Monroe",{"$f":"HLOOKUP($B$83,[3]Base!$E$4:$BJ$75,ROW('for incrementing rows (DNCHG)'!A68),FALSE)","v":{"$error":"#N/A"}},{"$f":"HLOOKUP($B$83,[4]Base!$E$4:$BJ$75,ROW('for incrementing rows (DNCHG)'!A68),FALSE)","v":{"$error":"#N/A"}},{"$f":"D71-C71","v":{"$error":"#N/A"}},{"$f":"#REF!*0.5","v":{"$error":"#REF!"}},{"$f":"E71*F71","v":{"$error":"#N/A"}},{"$f":"HLOOKUP($B$83,'[3]Econ. Disad.'!$E$4:$BJ$75,ROW('for incrementing rows (DNCHG)'!F68),FALSE)","v":{"$error":"#N/A"}},{"$f":"HLOOKUP($B$83,'[4]Econ. Disad.'!$E$4:$BJ$75,ROW('for incrementing rows (DNCHG)'!F68),FALSE)","v":{"$error":"#N/A"}},{"$f":"I71-H71","v":{"$error":"#N/A"}},{"$f":"#REF!*0.5","v":{"$error":"#REF!"}},{"$f":"J71*K71","v":{"$error":"#N/A"}},{"$f":"HLOOKUP($B$83,[3]SWD!$E$4:$BJ$75,ROW('for incrementing rows (DNCHG)'!K68),FALSE)","v":{"$error":"#N/A"}},{"$f":"HLOOKUP($B$83,[4]SWD!$E$4:$BJ$75,ROW('for incrementing rows (DNCHG)'!K68),FALSE)","v":{"$error":"#N/A"}},{"$f":"N71-M71","v":{"$error":"#N/A"}},{"$f":"#REF!*0.5","v":{"$error":"#REF!"}},{"$f":"O71*P71","v":{"$error":"#N/A"}},{"$f":"HLOOKUP($B$83,[3]GT!$E$4:$BJ$75,ROW('for incrementing rows (DNCHG)'!P68),FALSE)","v":{"$error":"#N/A"}},{"$f":"HLOOKUP($B$83,[4]GT!$E$4:$BJ$75,ROW('for incrementing rows (DNCHG)'!P68),FALSE)","v":{"$error":"#N/A"}},{"$f":"S71-R71","v":{"$error":"#N/A"}},{"$f":"#REF!*0.5","v":{"$error":"#REF!"}},{"$f":"T71*U71","v":{"$error":"#N/A"}},{"$f":"ROUND(G71+L71+Q71+V71,0)","v":{"$error":"#N/A"}},{"$f":"#REF!*0.5","v":{"$error":"#REF!"}},{"$error":"#N/A"}]
[66,"City of Bogalusa",{"$f":"HLOOKUP($B$83,[3]Base!$E$4:$BJ$75,ROW('for incrementing rows (DNCHG)'!A69),FALSE)","v":{"$error":"#N/A"}},{"$f":"HLOOKUP($B$83,[4]Base!$E$4:$BJ$75,ROW('for incrementing rows (DNCHG)'!A69),FALSE)","v":{"$error":"#N/A"}},{"$error":"#N/A"},{"$f":"#REF!*0.5","v":{"$error":"#REF!"}},{"$error":"#N/A"},{"$f":"HLOOKUP($B$83,'[3]Econ. Disad.'!$E$4:$BJ$75,ROW('for incrementing rows (DNCHG)'!F69),FALSE)","v":{"$error":"#N/A"}},{"$f":"HLOOKUP($B$83,'[4]Econ. Disad.'!$E$4:$BJ$75,ROW('for incrementing rows (DNCHG)'!F69),FALSE)","v":{"$error":"#N/A"}},{"$error":"#N/A"},{"$f":"#REF!*0.5","v":{"$error":"#REF!"}},{"$error":"#N/A"},{"$f":"HLOOKUP($B$83,[3]SWD!$E$4:$BJ$75,ROW('for incrementing rows (DNCHG)'!K69),FALSE)","v":{"$error":"#N/A"}},{"$f":"HLOOKUP($B$83,[4]SWD!$E$4:$BJ$75,ROW('for incrementing rows (DNCHG)'!K69),FALSE)","v":{"$error":"#N/A"}},{"$error":"#N/A"},{"$f":"#REF!*0.5","v":{"$error":"#REF!"}},{"$error":"#N/A"},{"$f":"HLOOKUP($B$83,[3]GT!$E$4:$BJ$75,ROW('for incrementing rows (DNCHG)'!P69),FALSE)","v":{"$error":"#N/A"}},{"$f":"HLOOKUP($B$83,[4]GT!$E$4:$BJ$75,ROW('for incrementing rows (DNCHG)'!P69),FALSE)","v":{"$error":"#N/A"}},{"$error":"#N/A"},{"$f":"#REF!*0.5","v":{"$error":"#REF!"}},{"$error":"#N/A"},{"$error":"#N/A"},{"$f":"#REF!*0.5","v":{"$error":"#REF!"}},{"$f":"ROUND(E72*X72,0)","v":{"$error":"#N/A"}}]
[67,"Zachary Community",{"$f":"HLOOKUP($B$83,[3]Base!$E$4:$BJ$75,ROW('for incrementing rows (DNCHG)'!A70),FALSE)","v":{"$error":"#N/A"}},{"$f":"HLOOKUP($B$83,[4]Base!$E$4:$BJ$75,ROW('for incrementing rows (DNCHG)'!A70),FALSE)","v":{"$error":"#N/A"}},{"$error":"#N/A"},{"$f":"#REF!*0.5","v":{"$error":"#REF!"}},{"$error":"#N/A"},{"$f":"HLOOKUP($B$83,'[3]Econ. Disad.'!$E$4:$BJ$75,ROW('for incrementing rows (DNCHG)'!F70),FALSE)","v":{"$error":"#N/A"}},{"$f":"HLOOKUP($B$83,'[4]Econ. Disad.'!$E$4:$BJ$75,ROW('for incrementing rows (DNCHG)'!F70),FALSE)","v":{"$error":"#N/A"}},{"$error":"#N/A"},{"$f":"#REF!*0.5","v":{"$error":"#REF!"}},{"$error":"#N/A"},{"$f":"HLOOKUP($B$83,[3]SWD!$E$4:$BJ$75,ROW('for incrementing rows (DNCHG)'!K70),FALSE)","v":{"$error":"#N/A"}},{"$f":"HLOOKUP($B$83,[4]SWD!$E$4:$BJ$75,ROW('for incrementing rows (DNCHG)'!K70),FALSE)","v":{"$error":"#N/A"}},{"$error":"#N/A"},{"$f":"#REF!*0.5","v":{"$error":"#REF!"}},{"$error":"#N/A"},{"$f":"HLOOKUP($B$83,[3]GT!$E$4:$BJ$75,ROW('for incrementing rows (DNCHG)'!P70),FALSE)","v":{"$error":"#N/A"}},{"$f":"HLOOKUP($B$83,[4]GT!$E$4:$BJ$75,ROW('for incrementing rows (DNCHG)'!P70),FALSE)","v":{"$error":"#N/A"}},{"$error":"#N/A"},{"$f":"#REF!*0.5","v":{"$error":"#REF!"}},{"$error":"#N/A"},{"$error":"#N/A"},{"$f":"#REF!*0.5","v":{"$error":"#REF!"}},{"$error":"#N/A"}]
[68,"City of Baker",{"$f":"HLOOKUP($B$83,[3]Base!$E$4:$BJ$75,ROW('for incrementing rows (DNCHG)'!A71),FALSE)","v":{"$error":"#N/A"}},{"$f":"HLOOKUP($B$83,[4]Base!$E$4:$BJ$75,ROW('for incrementing rows (DNCHG)'!A71),FALSE)","v":{"$error":"#N/A"}},{"$error":"#N/A"},{"$f":"#REF!*0.5","v":{"$error":"#REF!"}},{"$error":"#N/A"},{"$f":"HLOOKUP($B$83,'[3]Econ. Disad.'!$E$4:$BJ$75,ROW('for incrementing rows (DNCHG)'!F71),FALSE)","v":{"$error":"#N/A"}},{"$f":"HLOOKUP($B$83,'[4]Econ. Disad.'!$E$4:$BJ$75,ROW('for incrementing rows (DNCHG)'!F71),FALSE)","v":{"$error":"#N/A"}},{"$error":"#N/A"},{"$f":"#REF!*0.5","v":{"$error":"#REF!"}},{"$error":"#N/A"},{"$f":"HLOOKUP($B$83,[3]SWD!$E$4:$BJ$75,ROW('for incrementing rows (DNCHG)'!K71),FALSE)","v":{"$error":"#N/A"}},{"$f":"HLOOKUP($B$83,[4]SWD!$E$4:$BJ$75,ROW('for incrementing rows (DNCHG)'!K71),FALSE)","v":{"$error":"#N/A"}},{"$error":"#N/A"},{"$f":"#REF!*0.5","v":{"$error":"#REF!"}},{"$error":"#N/A"},{"$f":"HLOOKUP($B$83,[3]GT!$E$4:$BJ$75,ROW('for incrementing rows (DNCHG)'!P71),FALSE)","v":{"$error":"#N/A"}},{"$f":"HLOOKUP($B$83,[4]GT!$E$4:$BJ$75,ROW('for incrementing rows (DNCHG)'!P71),FALSE)","v":{"$error":"#N/A"}},{"$error":"#N/A"},{"$f":"#REF!*0.5","v":{"$error":"#REF!"}},{"$error":"#N/A"},{"$error":"#N/A"},{"$f":"#REF!*0.5","v":{"$error":"#REF!"}},{"$error":"#N/A"}]
[69,"Central Community",{"$f":"HLOOKUP($B$83,[3]Base!$E$4:$BJ$75,ROW('for incrementing rows (DNCHG)'!A72),FALSE)","v":{"$error":"#N/A"}},{"$f":"HLOOKUP($B$83,[4]Base!$E$4:$BJ$75,ROW('for incrementing rows (DNCHG)'!A72),FALSE)","v":{"$error":"#N/A"}},{"$error":"#N/A"},{"$f":"#REF!*0.5","v":{"$error":"#REF!"}},{"$error":"#N/A"},{"$f":"HLOOKUP($B$83,'[3]Econ. Disad.'!$E$4:$BJ$75,ROW('for incrementing rows (DNCHG)'!F72),FALSE)","v":{"$error":"#N/A"}},{"$f":"HLOOKUP($B$83,'[4]Econ. Disad.'!$E$4:$BJ$75,ROW('for incrementing rows (DNCHG)'!F72),FALSE)","v":{"$error":"#N/A"}},{"$error":"#N/A"},{"$f":"#REF!*0.5","v":{"$error":"#REF!"}},{"$error":"#N/A"},{"$f":"HLOOKUP($B$83,[3]SWD!$E$4:$BJ$75,ROW('for incrementing rows (DNCHG)'!K72),FALSE)","v":{"$error":"#N/A"}},{"$f":"HLOOKUP($B$83,[4]SWD!$E$4:$BJ$75,ROW('for incrementing rows (DNCHG)'!K72),FALSE)","v":{"$error":"#N/A"}},{"$error":"#N/A"},{"$f":"#REF!*0.5","v":{"$error":"#REF!"}},{"$error":"#N/A"},{"$f":"HLOOKUP($B$83,[3]GT!$E$4:$BJ$75,ROW('for incrementing rows (DNCHG)'!P72),FALSE)","v":{"$error":"#N/A"}},{"$f":"HLOOKUP($B$83,[4]GT!$E$4:$BJ$75,ROW('for incrementing rows (DNCHG)'!P72),FALSE)","v":{"$error":"#N/A"}},{"$error":"#N/A"},{"$f":"#REF!*0.5","v":{"$error":"#REF!"}},{"$error":"#N/A"},{"$error":"#N/A"},{"$f":"#REF!*0.5","v":{"$error":"#REF!"}},{"$error":"#N/A"}]
["State Subtotal",null,{"$f":"SUM(C7:C75)","v":{"$error":"#N/A"}},{"$f":"SUM(D7:D75)","v":{"$error":"#N/A"}},{"$f":"SUM(E7:E75)","v":{"$error":"#N/A"}},null,{"$f":"SUM(G7:G75)","v":{"$error":"#N/A"}},{"$f":"SUM(H7:H75)","v":{"$error":"#N/A"}},{"$f":"SUM(I7:I75)","v":{"$error":"#N/A"}},{"$f":"SUM(J7:J75)","v":{"$error":"#N/A"}},null,{"$f":"SUM(L7:L75)","v":{"$error":"#N/A"}},{"$f":"SUM(M7:M75)","v":{"$error":"#N/A"}},{"$f":"SUM(N7:N75)","v":{"$error":"#N/A"}},{"$f":"SUM(O7:O75)","v":{"$error":"#N/A"}},null,{"$f":"SUM(Q7:Q75)","v":{"$error":"#N/A"}},{"$f":"SUM(R7:R75)","v":{"$error":"#N/A"}},{"$f":"SUM(S7:S75)","v":{"$error":"#N/A"}},{"$f":"SUM(T7:T75)","v":{"$error":"#N/A"}},null,{"$f":"SUM(V7:V75)","v":{"$error":"#N/A"}},{"$f":"SUM(W7:W75)","v":{"$error":"#N/A"}},null,{"$f":"SUM(Y7:Y75)","v":{"$error":"#N/A"}}]
["N/A","N/A","N/A","N/A","N/A"]
["N/A","N/A","N/A","N/A","N/A"]
["N/A","N/A","N/A","N/A","N/A"]
["N/A","N/A","N/A","N/A","N/A"]
["N/A","N/A","N/A","N/A","N/A"]
[]
[null,"3C4001"]
[null,"_Williams Scholar"]
[null,{"$f":"LEFT(MID(CELL(\"filename\",A1),FIND(\"[\",CELL(\"filename\",A1))+1,FIND(\"]\", CELL(\"filename\",A1))-FIND(\"[\",CELL(\"filename\",A1))-1),FIND(\".\",MID(CELL(\"filename\",A1),FIND(\"[\",CELL(\"filename\",A1))+1,FIND(\"]\", CELL(\"filename\",A1))-FIND(\"[\",CELL(\"filename\",A1))-1))-1)","v":"BF"}]
[null,{"$f":"CONCATENATE(\"Z:\\users\\\",B83,B84,\"\\Budget Letter\\\",B83,\"_\",B85)","v":"Z:\\users\\3C4001_Williams Scholar\\Budget Letter\\3C4001_BF"}]
[]
[]
[]
[]
[]
[]
[]
[]
[]
[]
[]
[]
[]
[]
[]
[]
[]
[null,null,"Ck (mb 3/2/24)","Ck (mb 3/2/24)",null,null,null,"Ck (mb 3/2/24)","Ck (mb 3/2/24)",null,null,null,"Ck (mb 3/2/24)","Ck (mb 3/2/24)",null,null,null,"Ck (mb 3/2/24)","Ck (mb 3/2/24)"]
[null,null,{"$f":"C76=(HLOOKUP($B83,[3]Base!$E$4:$BH$76,73,FALSE))","v":{"$error":"#N/A"}},{"$f":"D76=(HLOOKUP($B83,[4]Base!$E$4:$BH$76,73,FALSE))","v":{"$error":"#N/A"}},null,null,null,{"$f":"H76=(HLOOKUP($B83,'[3]Econ. Disad.'!$E$4:$BH$76,73,FALSE))","v":{"$error":"#N/A"}},{"$f":"I76=(HLOOKUP($B83,'[4]Econ. Disad.'!$E$4:$BH$76,73,FALSE))","v":{"$error":"#N/A"}},null,null,null,{"$f":"M76=(HLOOKUP($B83,[3]SWD!$E$4:$BH$76,73,FALSE))","v":{"$error":"#N/A"}},{"$f":"N76=(HLOOKUP($B83,[4]SWD!$E$4:$BH$76,73,FALSE))","v":{"$error":"#N/A"}},null,null,null,{"$f":"R76=(HLOOKUP($B83,[3]GT!$E$4:$BH$76,73,FALSE))","v":{"$error":"#N/A"}},{"$f":"S76=(HLOOKUP($B83,[4]GT!$E$4:$BH$76,73,FALSE))","v":{"$error":"#N/A"}}]
[]
[]
[]
[]
[]
[null,null,"ck to 10.1 MYA file (mb 3/2/24)",null,null,null,null,"ck to 10.1 MYA file (mb 3/2/24)",null,null,null,null,"ck to 10.1 MYA file (mb 3/2/24)",null,null,null,null,"ck to 10.1 MYA file (mb 3/2/24)"]
[null,null,{"$f":"C76=[5]Oct_Williams!$D$76","v":{"$error":"#N/A"}},null,null,null,null,{"$f":"H76=[5]Oct_Williams!$I$76","v":{"$error":"#N/A"}},null,null,null,null,{"$f":"M76=[5]Oct_Williams!$N$76","v":{"$error":"#N/A"}},null,null,null,null,{"$f":"R76=[5]Oct_Williams!$S$76","v":{"$error":"#N/A"}}]

{"sheet":"2.1.22 MFP Base Count","index":18,"n_rows":76,"n_cols":61,"rows_kept":76,"cut":false,"hidden":true,"merged":[[0,0,0,1],[75,0,75,1]]}
["MFP Base_2.1.22"]
[]
["LEA","School\nSystem","City/Parish","RSD\nOperated\n&\nType 5\nCharters","Madison\nPreparatory\nAcademy","D'Arbonne\nWoods\nCharter\nSchool","Int'l\nHigh\nSchool\nof New\nOrleans","New\nOrleans\nMilitary/\nMaritime\nAcademy","Lycee\nFrancais\nde la\nNouvelle-\nOrleans","Lake\nCharles\nCharter\nAcademy","JS Clark\nLeadership\nAcademy","Southwest\nLouisiana\nCharter\nSchool","Louisiana\nKey\nAcademy","JCFA -\nEast","GEO Prep \nMid-City of \nGreater \nBaton Rouge","Delta\nCharter\nSchool","Impact\nCharter","Advantage\nCharter\nAcademy","Iberville\nCharter\nAcademy","Lake\nCharles\nCollege\nPrep","Northeast\nClaiborne\nCharter","Acadiana\nRenaissance\nCharter\nAcademy","Lafayette\nRenaissance\nCharter\nAcademy","Willow\nCharter\nAcademy","GEO Prep\nAcademy","Lincoln\nPrep\nSchool","Noble\nMinds","JCFA\nLafayette","Collegiate\nAcademy","New Harmony\nHigh School","Athlos\nAcademy\nof Jefferson\nParish","GEO Next\nGeneration\nHigh\nSchool","Red River\nCharter\nAcademy","Williams Scholar Academy","St Landry Charter School","LEAVE\nBLANK","LEAVE\nBLANK","LEAVE\nBLANK","LEAVE\nBLANK","LEAVE\nBLANK","LEAVE\nBLANK","LEAVE\nBLANK","LEAVE\nBLANK","LEAVE\nBLANK","LEAVE\nBLANK","Louisiana\nVirtual\nCharter\nAcademy","University\nView\nAcademy","Total\nTable 3","Legacy\nNew\nVision\nLearning\nAcademy","Legacy\nVB \nGlencoe\nCharter\nSchool","Legacy\nInt'l\nSchool of\nLouisiana","Legacy\nAvoyelles\nPublic\nCharter\nSchool","Legacy\nDelhi\nCharter\nSchool","Legacy\nBelle\nChasse\nAcademy","Legacy\nThe MAX\nCharter\nSchool","LSU \nLab\nSchool","Southern\nUniversity\nLab\nSchool","Louisiana\nSchool\nfor Math\nScience\n& the Arts","New\nOrleans\nCenter for\nCreative\nArts","Thrive Academy","Total\nMFP\nFunded"]
[null,null,null,null,343001,341001,344001,348001,347001,346001,"WAL001","WAK001","W7A001","W1A001","WZ8001","W4A001","W8A001","W1B001","W3B001","W4B001","W5B001","W6B001","W7B001","W2B001","WAU001","W33001","W18001","W1D001","WJ5001","WBQ001","WBR001","WBX001","WBY001","3C4001","3C5001","N/A","N/A","N/A","N/A","N/A","N/A","N/A","N/A","N/A","N/A","WAG001",345001,null,321001,329001,331001,333001,336001,337001,340001,318,319,302006,334001,"3C1001"]
[null,null,1,{"$f":"C5+1","v":2},{"$f":"D5+1","v":3},4,5,6,7,8,9,10,11,12,13,14,15,16,17,18,19,20,21,22,23,24,25,26,27,28,29,30,31,32,33,33,33,33,33,33,33,33,33,33,33,34,35,36,37,38,39,40,41,42,43,44,45,46,47,48,49]
[]
[1,"Acadia",null,null,null,null,null,null,null,null,null,null,null,null,null,null,null,null,null,null,null,null,null,null,null,null,null,null,null,null,null,null,null,null,null,null,null,null,null,null,null,null,null,null,null,null,null,{"$f":"SUM(C7:AU7)","v":0},null,null,null,null,null,null,null,null,null,null,null,null,{"$f":"SUM(AV7:BH7)","v":0}]
[2,"Allen",null,null,null,null,null,null,null,null,null,null,null,null,null,null,null,null,null,null,null,null,null,null,null,null,null,null,null,null,null,null,null,null,null,null,null,null,null,null,null,null,null,null,null,null,null,0,null,null,null,null,null,null,null,null,null,null,null,null,0]
[3,"Ascension",null,null,null,null,null,null,null,null,null,null,null,null,null,null,null,null,null,null,null,null,null,null,null,null,null,null,null,null,null,null,null,null,null,null,null,null,null,null,null,null,null,null,null,null,null,0,null,null,null,null,null,null,null,null,null,null,null,null,0]
[4,"Assumption",null,null,null,null,null,null,null,null,null,null,null,null,null,null,null,null,null,null,null,null,null,null,null,null,null,null,null,null,null,null,null,null,null,null,null,null,null,null,null,null,null,null,null,null,null,0,null,null,null,null,null,null,null,null,null,null,null,null,0]
[5,"Avoyelles",null,null,null,null,null,null,null,null,null,null,null,null,null,null,null,null,null,null,null,null,null,null,null,null,null,null,null,null,null,null,null,null,null,null,null,null,null,null,null,null,null,null,null,null,null,0,null,null,null,null,null,null,null,null,null,null,null,null,0]
[6,"Beauregard",null,null,null,null,null,null,null,null,null,null,null,null,null,null,null,null,null,null,null,null,null,null,null,null,null,null,null,null,null,null,null,null,null,null,null,null,null,null,null,null,null,null,null,null,null,0,null,null,null,null,null,null,null,null,null,null,null,null,0]
[7,"Bienville",null,null,null,null,null,null,null,null,null,null,null,null,null,null,null,null,null,null,null,null,null,null,null,null,null,null,null,null,null,null,null,null,null,null,null,null,null,null,null,null,null,null,null,null,null,0,null,null,null,null,null,null,null,null,null,null,null,null,0]
[8,"Bossier",null,null,null,null,null,null,null,null,null,null,null,null,null,null,null,null,null,null,null,null,null,null,null,null,null,null,null,null,null,null,null,null,null,null,null,null,null,null,null,null,null,null,null,null,null,0,null,null,null,null,null,null,null,null,null,null,null,null,0]
[9,"Caddo",null,null,null,null,null,null,null,null,null,null,null,null,null,null,null,null,null,null,null,null,null,null,null,null,null,null,null,null,null,null,null,null,null,null,null,null,null,null,null,null,null,null,null,null,null,0,null,null,null,null,null,null,null,null,null,null,null,null,0]
[10,"Calcasieu",null,null,null,null,null,null,null,null,null,null,null,null,null,null,null,null,null,null,null,null,null,null,null,null,null,null,null,null,null,null,null,null,null,null,null,null,null,null,null,null,null,null,null,null,null,0,null,null,null,null,null,null,null,null,null,null,null,null,0]
[11,"Caldwell",null,null,null,null,null,null,null,null,null,null,null,null,null,null,null,null,null,null,null,null,null,null,null,null,null,null,null,null,null,null,null,null,null,null,null,null,null,null,null,null,null,null,null,null,null,0,null,null,null,null,null,null,null,null,null,null,null,null,0]
[12,"Cameron",null,null,null,null,null,null,null,null,null,null,null,null,null,null,null,null,null,null,null,null,null,null,null,null,null,null,null,null,null,null,null,null,null,null,null,null,null,null,null,null,null,null,null,null,null,0,null,null,null,null,null,null,null,null,null,null,null,null,0]
[13,"Catahoula",null,null,null,null,null,null,null,null,null,null,null,null,null,null,null,null,null,null,null,null,null,null,null,null,null,null,null,null,null,null,null,null,null,null,null,null,null,null,null,null,null,null,null,null,null,0,null,null,null,null,null,null,null,null,null,null,null,null,0]
[14,"Claiborne",null,null,null,null,null,null,null,null,null,null,null,null,null,null,null,null,null,null,null,null,null,null,null,null,null,null,null,null,null,null,null,null,null,null,null,null,null,null,null,null,null,null,null,null,null,0,null,null,null,null,null,null,null,null,null,null,null,null,0]
[15,"Concordia",null,null,null,null,null,null,null,null,null,null,null,null,null,null,null,null,null,null,null,null,null,null,null,null,null,null,null,null,null,null,null,null,null,null,null,null,null,null,null,null,null,null,null,null,null,0,null,null,null,null,null,null,null,null,null,null,null,null,0]
[16,"DeSoto",null,null,null,null,null,null,null,null,null,null,null,null,null,null,null,null,null,null,null,null,null,null,null,null,null,null,null,null,null,null,null,null,null,null,null,null,null,null,null,null,null,null,null,null,null,0,null,null,null,null,null,null,null,null,null,null,null,null,0]
[17,"East Baton Rouge",null,null,null,null,null,null,null,null,null,null,null,null,null,null,null,null,null,null,null,null,null,null,null,null,null,null,null,null,null,null,null,null,null,null,null,null,null,null,null,null,null,null,null,null,null,0,null,null,null,null,null,null,null,null,null,null,null,null,0]
[18,"East Carroll",null,null,null,null,null,null,null,null,null,null,null,null,null,null,null,null,null,null,null,null,null,null,null,null,null,null,null,null,null,null,null,null,null,null,null,null,null,null,null,null,null,null,null,null,null,0,null,null,null,null,null,null,null,null,null,null,null,null,0]
[19,"East Feliciana",null,null,null,null,null,null,null,null,null,null,null,null,null,null,null,null,null,null,null,null,null,null,null,null,null,null,null,null,null,null,null,null,null,null,null,null,null,null,null,null,null,null,null,null,null,0,null,null,null,null,null,null,null,null,null,null,null,null,0]
[20,"Evangeline",null,null,null,null,null,null,null,null,null,null,null,null,null,null,null,null,null,null,null,null,null,null,null,null,null,null,null,null,null,null,null,null,null,null,null,null,null,null,null,null,null,null,null,null,null,0,null,null,null,null,null,null,null,null,null,null,null,null,0]
[21,"Franklin",null,null,null,null,null,null,null,null,null,null,null,null,null,null,null,null,null,null,null,null,null,null,null,null,null,null,null,null,null,null,null,null,null,null,null,null,null,null,null,null,null,null,null,null,null,0,null,null,null,null,null,null,null,null,null,null,null,null,0]
[22,"Grant",null,null,null,null,null,null,null,null,null,null,null,null,null,null,null,null,null,null,null,null,null,null,null,null,null,null,null,null,null,null,null,null,null,null,null,null,null,null,null,null,null,null,null,null,null,0,null,null,null,null,null,null,null,null,null,null,null,null,0]
[23,"Iberia",null,null,null,null,null,null,null,null,null,null,null,null,null,null,null,null,null,null,null,null,null,null,null,null,null,null,null,null,null,null,null,null,null,null,null,null,null,null,null,null,null,null,null,null,null,0,null,null,null,null,null,null,null,null,null,null,null,null,0]
[24,"Iberville",null,null,null,null,null,null,null,null,null,null,null,null,null,null,null,null,null,null,null,null,null,null,null,null,null,null,null,null,null,null,null,null,null,null,null,null,null,null,null,null,null,null,null,null,null,0,null,null,null,null,null,null,null,null,null,null,null,null,0]
[25,"Jackson",null,null,null,null,null,null,null,null,null,null,null,null,null,null,null,null,null,null,null,null,null,null,null,null,null,null,null,null,null,null,null,null,null,null,null,null,null,null,null,null,null,null,null,null,null,0,null,null,null,null,null,null,null,null,null,null,null,null,0]
[26,"Jefferson",null,null,null,null,null,null,null,null,null,null,null,null,null,null,null,null,null,null,null,null,null,null,null,null,null,null,null,null,null,null,null,null,null,null,null,null,null,null,null,null,null,null,null,null,null,0,null,null,null,null,null,null,null,null,null,null,null,null,0]
[27,"Jefferson Davis",null,null,null,null,null,null,null,null,null,null,null,null,null,null,null,null,null,null,null,null,null,null,null,null,null,null,null,null,null,null,null,null,null,null,null,null,null,null,null,null,null,null,null,null,null,0,null,null,null,null,null,null,null,null,null,null,null,null,0]
[28,"Lafayette",null,null,null,null,null,null,null,null,null,null,null,null,null,null,null,null,null,null,null,null,null,null,null,null,null,null,null,null,null,null,null,null,null,null,null,null,null,null,null,null,null,null,null,null,null,0,null,null,null,null,null,null,null,null,null,null,null,null,0]
[29,"Lafourche",null,null,null,null,null,null,null,null,null,null,null,null,null,null,null,null,null,null,null,null,null,null,null,null,null,null,null,null,null,null,null,null,null,null,null,null,null,null,null,null,null,null,null,null,null,0,null,null,null,null,null,null,null,null,null,null,null,null,0]
[30,"LaSalle",null,null,null,null,null,null,null,null,null,null,null,null,null,null,null,null,null,null,null,null,null,null,null,null,null,null,null,null,null,null,null,null,null,null,null,null,null,null,null,null,null,null,null,null,null,0,null,null,null,null,null,null,null,null,null,null,null,null,0]
[31,"Lincoln",null,null,null,null,null,null,null,null,null,null,null,null,null,null,null,null,null,null,null,null,null,null,null,null,null,null,null,null,null,null,null,null,null,null,null,null,null,null,null,null,null,null,null,null,null,0,null,null,null,null,null,null,null,null,null,null,null,null,0]
[32,"Livingston",null,null,null,null,null,null,null,null,null,null,null,null,null,null,null,null,null,null,null,null,null,null,null,null,null,null,null,null,null,null,null,null,null,null,null,null,null,null,null,null,null,null,null,null,null,0,null,null,null,null,null,null,null,null,null,null,null,null,0]
[33,"Madison",null,null,null,null,null,null,null,null,null,null,null,null,null,null,null,null,null,null,null,null,null,null,null,null,null,null,null,null,null,null,null,null,null,null,null,null,null,null,null,null,null,null,null,null,null,{"$f":"SUM(C39:AU39)","v":0},null,null,null,null,null,null,null,null,null,null,null,null,0]
[34,"Morehouse",null,null,null,null,null,null,null,null,null,null,null,null,null,null,null,null,null,null,null,null,null,null,null,null,null,null,null,null,null,null,null,null,null,null,null,null,null,null,null,null,null,null,null,null,null,0,null,null,null,null,null,null,null,null,null,null,null,null,0]
[35,"Natchitoches",null,null,null,null,null,null,null,null,null,null,null,null,null,null,null,null,null,null,null,null,null,null,null,null,null,null,null,null,null,null,null,null,null,null,null,null,null,null,null,null,null,null,null,null,null,0,null,null,null,null,null,null,null,null,null,null,null,null,0]
[36,"Orleans (With Independents)",null,null,null,null,null,null,null,null,null,null,null,null,null,null,null,null,null,null,null,null,null,null,null,null,null,null,null,null,null,null,null,null,null,null,null,null,null,null,null,null,null,null,null,null,null,0,null,null,null,null,null,null,null,null,null,null,null,null,0]
[37,"Ouachita",null,null,null,null,null,null,null,null,null,null,null,null,null,null,null,null,null,null,null,null,null,null,null,null,null,null,null,null,null,null,null,null,null,null,null,null,null,null,null,null,null,null,null,null,null,0,null,null,null,null,null,null,null,null,null,null,null,null,0]
[38,"Plaquemines",null,null,null,null,null,null,null,null,null,null,null,null,null,null,null,null,null,null,null,null,null,null,null,null,null,null,null,null,null,null,null,null,null,null,null,null,null,null,null,null,null,null,null,null,null,0,null,null,null,null,null,null,null,null,null,null,null,null,0]
[39,"Pointe Coupee",null,null,null,null,null,null,null,null,null,null,null,null,null,null,null,null,null,null,null,null,null,null,null,null,null,null,null,null,null,null,null,null,null,null,null,null,null,null,null,null,null,null,null,null,null,0,null,null,null,null,null,null,null,null,null,null,null,null,0]
[40,"Rapides",null,null,null,null,null,null,null,null,null,null,null,null,null,null,null,null,null,null,null,null,null,null,null,null,null,null,null,null,null,null,null,null,null,null,null,null,null,null,null,null,null,null,null,null,null,0,null,null,null,null,null,null,null,null,null,null,null,null,0]
[41,"Red River",null,null,null,null,null,null,null,null,null,null,null,null,null,null,null,null,null,null,null,null,null,null,null,null,null,null,null,null,null,null,null,null,null,null,null,null,null,null,null,null,null,null,null,null,null,0,null,null,null,null,null,null,null,null,null,null,null,null,0]
[42,"Richland",null,null,null,null,null,null,null,null,null,null,null,null,null,null,null,null,null,null,null,null,null,null,null,null,null,null,null,null,null,null,null,null,null,null,null,null,null,null,null,null,null,null,null,null,null,0,null,null,null,null,null,null,null,null,null,null,null,null,0]
[43,"Sabine",null,null,null,null,null,null,null,null,null,null,null,null,null,null,null,null,null,null,null,null,null,null,null,null,null,null,null,null,null,null,null,null,null,null,null,null,null,null,null,null,null,null,null,null,null,0,null,null,null,null,null,null,null,null,null,null,null,null,0]
[44,"St. Bernard",null,null,null,null,null,null,null,null,null,null,null,null,null,null,null,null,null,null,null,null,null,null,null,null,null,null,null,null,null,null,null,null,null,null,null,null,null,null,null,null,null,null,null,null,null,0,null,null,null,null,null,null,null,null,null,null,null,null,0]
[45,"St. Charles",null,null,null,null,null,null,null,null,null,null,null,null,null,null,null,null,null,null,null,null,null,null,null,null,null,null,null,null,null,null,null,null,null,null,null,null,null,null,null,null,null,null,null,null,null,0,null,null,null,null,null,null,null,null,null,null,null,null,0]
[46,"St. Helena",null,null,null,null,null,null,null,null,null,null,null,null,null,null,null,null,null,null,null,null,null,null,null,null,null,null,null,null,null,null,null,null,null,null,null,null,null,null,null,null,null,null,null,null,null,0,null,null,null,null,null,null,null,null,null,null,null,null,0]
[47,"St. James",null,null,null,null,null,null,null,null,null,null,null,null,null,null,null,null,null,null,null,null,null,null,null,null,null,null,null,null,null,null,null,null,null,null,null,null,null,null,null,null,null,null,null,null,null,0,null,null,null,null,null,null,null,null,null,null,null,null,0]
[48,"St. John the Baptist",null,null,null,null,null,null,null,null,null,null,null,null,null,null,null,null,null,null,null,null,null,null,null,null,null,null,null,null,null,null,null,null,null,null,null,null,null,null,null,null,null,null,null,null,null,0,null,null,null,null,null,null,null,null,null,null,null,null,0]
[49,"St. Landry",null,null,null,null,null,null,null,null,null,null,null,null,null,null,null,null,null,null,null,null,null,null,null,null,null,null,null,null,null,null,null,null,null,null,null,null,null,null,null,null,null,null,null,null,null,0,null,null,null,null,null,null,null,null,null,null,null,null,0]
[50,"St. Martin",null,null,null,null,null,null,null,null,null,null,null,null,null,null,null,null,null,null,null,null,null,null,null,null,null,null,null,null,null,null,null,null,null,null,null,null,null,null,null,null,null,null,null,null,null,0,null,null,null,null,null,null,null,null,null,null,null,null,0]
[51,"St. Mary",null,null,null,null,null,null,null,null,null,null,null,null,null,null,null,null,null,null,null,null,null,null,null,null,null,null,null,null,null,null,null,null,null,null,null,null,null,null,null,null,null,null,null,null,null,0,null,null,null,null,null,null,null,null,null,null,null,null,0]
[52,"St. Tammany",null,null,null,null,null,null,null,null,null,null,null,null,null,null,null,null,null,null,null,null,null,null,null,null,null,null,null,null,null,null,null,null,null,null,null,null,null,null,null,null,null,null,null,null,null,0,null,null,null,null,null,null,null,null,null,null,null,null,0]
[53,"Tangipahoa",null,null,null,null,null,null,null,null,null,null,null,null,null,null,null,null,null,null,null,null,null,null,null,null,null,null,null,null,null,null,null,null,null,null,null,null,null,null,null,null,null,null,null,null,null,0,null,null,null,null,null,null,null,null,null,null,null,null,0]
[54,"Tensas",null,null,null,null,null,null,null,null,null,null,null,null,null,null,null,null,null,null,null,null,null,null,null,null,null,null,null,null,null,null,null,null,null,null,null,null,null,null,null,null,null,null,null,null,null,0,null,null,null,null,null,null,null,null,null,null,null,null,0]
[55,"Terrebonne",null,null,null,null,null,null,null,null,null,null,null,null,null,null,null,null,null,null,null,null,null,null,null,null,null,null,null,null,null,null,null,null,null,null,null,null,null,null,null,null,null,null,null,null,null,0,null,null,null,null,null,null,null,null,null,null,null,null,0]
[56,"Union",null,null,null,null,null,null,null,null,null,null,null,null,null,null,null,null,null,null,null,null,null,null,null,null,null,null,null,null,null,null,null,null,null,null,null,null,null,null,null,null,null,null,null,null,null,0,null,null,null,null,null,null,null,null,null,null,null,null,0]
[57,"Vermilion",null,null,null,null,null,null,null,null,null,null,null,null,null,null,null,null,null,null,null,null,null,null,null,null,null,null,null,null,null,null,null,null,null,null,null,null,null,null,null,null,null,null,null,null,null,0,null,null,null,null,null,null,null,null,null,null,null,null,0]
[58,"Vernon",null,null,null,null,null,null,null,null,null,null,null,null,null,null,null,null,null,null,null,null,null,null,null,null,null,null,null,null,null,null,null,null,null,null,null,null,null,null,null,null,null,null,null,null,null,0,null,null,null,null,null,null,null,null,null,null,null,null,0]
[59,"Washington",null,null,null,null,null,null,null,null,null,null,null,null,null,null,null,null,null,null,null,null,null,null,null,null,null,null,null,null,null,null,null,null,null,null,null,null,null,null,null,null,null,null,null,null,null,0,null,null,null,null,null,null,null,null,null,null,null,null,0]
[60,"Webster",null,null,null,null,null,null,null,null,null,null,null,null,null,null,null,null,null,null,null,null,null,null,null,null,null,null,null,null,null,null,null,null,null,null,null,null,null,null,null,null,null,null,null,null,null,0,null,null,null,null,null,null,null,null,null,null,null,null,0]
[61,"West Baton Rouge",null,null,null,null,null,null,null,null,null,null,null,null,null,null,null,null,null,null,null,null,null,null,null,null,null,null,null,null,null,null,null,null,null,null,null,null,null,null,null,null,null,null,null,null,null,0,null,null,null,null,null,null,null,null,null,null,null,null,0]
[62,"West Carroll",null,null,null,null,null,null,null,null,null,null,null,null,null,null,null,null,null,null,null,null,null,null,null,null,null,null,null,null,null,null,null,null,null,null,null,null,null,null,null,null,null,null,null,null,null,0,null,null,null,null,null,null,null,null,null,null,null,null,0]
[63,"West Feliciana",null,null,null,null,null,null,null,null,null,null,null,null,null,null,null,null,null,null,null,null,null,null,null,null,null,null,null,null,null,null,null,null,null,null,null,null,null,null,null,null,null,null,null,null,null,0,null,null,null,null,null,null,null,null,null,null,null,null,0]
[64,"Winn",null,null,null,null,null,null,null,null,null,null,null,null,null,null,null,null,null,null,null,null,null,null,null,null,null,null,null,null,null,null,null,null,null,null,null,null,null,null,null,null,null,null,null,null,null,0,null,null,null,null,null,null,null,null,null,null,null,null,0]
[65,"City of Monroe",null,null,null,null,null,null,null,null,null,null,null,null,null,null,null,null,null,null,null,null,null,null,null,null,null,null,null,null,null,null,null,null,null,null,null,null,null,null,null,null,null,null,null,null,null,{"$f":"SUM(C71:AU71)","v":0},null,null,null,null,null,null,null,null,null,null,null,null,{"$f":"SUM(AV71:BH71)","v":0}]
[66,"City of Bogalusa",null,null,null,null,null,null,null,null,null,null,null,null,null,null,null,null,null,null,null,null,null,null,null,null,null,null,null,null,null,null,null,null,null,null,null,null,null,null,null,null,null,null,null,null,null,0,null,null,null,null,null,null,null,null,null,null,null,null,0]
[67,"Zachary Community",null,null,null,null,null,null,null,null,null,null,null,null,null,null,null,null,null,null,null,null,null,null,null,null,null,null,null,null,null,null,null,null,null,null,null,null,null,null,null,null,null,null,null,null,null,0,null,null,null,null,null,null,null,null,null,null,null,null,0]
[68,"City of Baker",null,null,null,null,null,null,null,null,null,null,null,null,null,null,null,null,null,null,null,null,null,null,null,null,null,null,null,null,null,null,null,null,null,null,null,null,null,null,null,null,null,null,null,null,null,0,null,null,null,null,null,null,null,null,null,null,null,null,0]
[69,"Central Community",null,null,null,null,null,null,null,null,null,null,null,null,null,null,null,null,null,null,null,null,null,null,null,null,null,null,null,null,null,null,null,null,null,null,null,null,null,null,null,null,null,null,null,null,null,0,null,null,null,null,null,null,null,null,null,null,null,null,0]
["Total",null,{"$f":"SUM(C7:C75)","v":0},0,{"$f":"SUM(E7:E75)","v":0},0,0,0,0,0,0,0,0,0,0,0,0,0,0,0,0,0,0,0,0,0,{"$f":"SUM(AA7:AA75)","v":0},0,0,0,0,0,{"$f":"SUM(AG7:AG75)","v":0},0,0,0,0,0,0,0,0,0,0,0,0,{"$f":"SUM(AT7:AT75)","v":0},{"$f":"SUM(AU7:AU75)","v":0},0,0,0,0,0,0,0,0,0,0,0,0,0,0]

{"sheet":"2.1.23 SIS","index":19,"n_rows":81,"n_cols":63,"rows_kept":81,"cut":false,"hidden":true,"merged":[[0,0,0,1],[75,0,75,1],[76,0,76,1],[77,0,77,1]]}
["MFP Base_2.1.23",null,"MFP Membership Count used In February Mid-Year Adjustments",null,null,null,null,null,null,null,null,null,null,null,null,null,null,null,null,null,null,null,null,null,null,null,null,null,null,null,null,null,null,null,null,"New in 22-22","New in 22-23"]
[]
["LEA","School\nSystem","City/Parish","RSD\nOperated\n&\nType 5\nCharters","Madison\nPreparatory\nAcademy","D'Arbonne\nWoods\nCharter\nSchool","Int'l\nHigh\nSchool\nof New\nOrleans","New\nOrleans\nMilitary/\nMaritime\nAcademy","Lycee\nFrancais\nde la\nNouvelle-\nOrleans","Lake\nCharles\nCharter\nAcademy","JS Clark\nLeadership\nAcademy","Southwest\nLouisiana\nCharter\nSchool","Louisiana\nKey\nAcademy","JCFA -\nEast","GEO Prep \nMid-City of \nGreater \nBaton Rouge","Delta\nCharter\nSchool","Impact\nCharter","Advantage\nCharter\nAcademy","Iberville\nCharter\nAcademy","Lake\nCharles\nCollege\nPrep","Northeast\nClaiborne\nCharter","Acadiana\nRenaissance\nCharter\nAcademy","Lafayette\nRenaissance\nCharter\nAcademy","Willow\nCharter\nAcademy","GEO Prep\nAcademy","Lincoln\nPrep\nSchool","Noble\nMinds","JCFA\nLafayette","Collegiate\nAcademy","New Harmony\nHigh School","Athlos\nAcademy\nof Jefferson\nParish","GEO Next\nGeneration\nHigh\nSchool","Red River\nCharter\nAcademy","Williams Scholar Academy","St Landry Charter School","GEO Prep Baker","LA Key Acadmey Northshore\n","LEAVE\nBLANK","LEAVE\nBLANK","LEAVE\nBLANK","LEAVE\nBLANK","LEAVE\nBLANK","LEAVE\nBLANK","LEAVE\nBLANK","LEAVE\nBLANK","Louisiana\nVirtual\nCharter\nAcademy","University\nView\nAcademy","Total\nTable 3","Legacy\nNew\nVision\nLearning\nAcademy","Legacy\nVB \nGlencoe\nCharter\nSchool","Legacy\nInt'l\nSchool of\nLouisiana","Legacy\nAvoyelles\nPublic\nCharter\nSchool","Legacy\nDelhi\nCharter\nSchool","Legacy\nBelle\nChasse\nAcademy","Legacy\nThe MAX\nCharter\nSchool","LSU \nLab\nSchool","Southern\nUniversity\nLab\nSchool","Louisiana\nSchool\nfor Math\nScience\n& the Arts","New\nOrleans\nCenter for\nCreative\nArts","Thrive Academy","Special School District\n (SSD +LSDVI)","Total\nMFP\nFunded"]
[null,null,null,null,343001,341001,344001,348001,347001,346001,"WAL001","WAK001","W7A001","W1A001","WZ8001","W4A001","W8A001","W1B001","W3B001","W4B001","W5B001","W6B001","W7B001","W2B001","WAU001","W33001","W18001","W1D001","WJ5001","WBQ001","WBR001","WBX001","WBY001","3C4001","3C5001","WZN001","WZO001","N/A","N/A","N/A","N/A","N/A","N/A","N/A","N/A","WAG001",345001,null,321001,329001,331001,333001,336001,337001,340001,318,319,302006,334001,"3C1001",101001]
[null,null,1,2,3,4,5,6,7,8,9,10,11,12,13,14,15,16,17,18,19,20,21,22,23,24,25,26,27,28,29,30,31,32,33,34,35,null,null,null,null,null,null,null,null,36,37,38,39,40,41,42,43,44,45,46,47,48,49,50,51,52]
[]
[1,"Acadia",8804,null,null,null,null,null,null,null,2,4,null,null,null,null,null,null,null,null,null,1,35,9,null,null,null,2,null,null,null,null,null,null,null,null,null,"","","","","","","","",28,38,8923,null,null,null,null,null,null,null,null,null,2,null,null,7,8932]
[2,"Allen",3787,null,null,null,null,null,null,null,null,null,null,null,null,null,null,null,null,1,null,null,null,null,null,null,null,null,null,null,null,null,null,null,null,null,null,"","","","","","","","",null,17,3805,null,null,null,null,null,null,null,null,null,3,null,null,1,3809]
[3,"Ascension",23353,null,5,null,null,null,null,null,null,null,17,null,3,null,null,null,72,null,null,null,null,null,2,null,null,null,null,null,null,null,null,null,null,null,null,"","","","","","","","",23,118,23593,null,null,null,null,null,null,null,null,null,8,null,15,19,23635]
[4,"Assumption",2698,null,null,null,null,null,null,null,null,null,null,null,null,null,null,null,16,null,null,1,2,null,null,null,null,null,null,null,null,null,null,null,null,null,null,"","","","","","","","",12,22,2751,null,null,null,null,null,null,3,null,null,1,null,3,0,2758]
[5,"Avoyelles",4722,null,null,null,null,null,null,null,null,null,null,null,null,null,null,null,null,null,null,null,null,null,null,null,null,null,null,null,null,null,169,null,null,null,null,"","","","","","","","",27,42,4960,null,null,null,696,null,null,null,null,null,1,null,null,5,5662]
[6,"Beauregard",5472,null,null,null,null,null,null,2,null,null,null,null,null,null,null,null,null,null,null,null,null,null,null,null,null,null,null,null,null,null,null,null,null,null,null,"","","","","","","","",18,11,5503,null,null,null,null,null,null,null,null,null,3,null,null,1,5507]
[7,"Bienville",1825,null,null,null,null,null,null,null,null,null,null,null,null,null,null,null,null,null,null,null,null,null,null,14,null,null,null,null,null,null,null,null,null,null,null,"","","","","","","","",5,10,1854,null,null,null,null,null,null,null,null,null,2,null,null,1,1857]
[8,"Bossier",22060,null,null,null,null,null,null,null,null,null,null,null,null,null,null,null,null,null,null,null,null,null,null,null,null,null,null,null,null,null,null,null,null,null,null,"","","","","","","","",72,46,22178,null,null,null,null,null,null,null,null,null,9,null,null,0,22187]
[9,"Caddo",33178,951,null,null,null,null,null,null,null,null,null,null,null,null,null,null,null,null,null,null,null,null,null,null,null,null,null,null,null,null,null,null,null,null,null,"","","","","","","","",130,83,34342,null,null,null,null,null,null,null,null,null,2,null,null,6,34350]
[10,"Calcasieu",27094,null,null,null,null,null,null,917,null,690,null,null,null,null,null,null,null,558,null,1,null,null,null,null,null,null,null,null,null,null,null,null,null,null,null,"","","","","","","","",51,65,29376,null,null,null,null,null,null,null,null,null,18,null,null,5,29399]
[11,"Caldwell",1445,null,null,null,null,null,null,null,null,null,null,null,null,null,null,null,null,null,null,null,null,null,null,null,null,null,null,null,null,null,null,null,null,null,null,"","","","","","","","",1,10,1456,null,null,null,null,null,null,null,null,null,1,null,null,0,1457]
[12,"Cameron",1046,null,null,null,null,null,null,8,null,null,null,null,null,null,null,null,null,null,null,null,null,null,null,null,null,null,null,null,null,null,null,null,null,null,null,"","","","","","","","",null,null,1054,null,null,null,null,null,null,null,null,null,null,null,null,0,1054]
[13,"Catahoula",959,null,null,null,null,null,null,null,null,null,null,null,null,89,null,null,null,null,null,null,null,null,null,null,null,null,null,null,null,null,null,null,null,null,null,"","","","","","","","",5,3,1056,null,null,null,null,null,null,null,null,null,null,null,null,0,1056]
[14,"Claiborne",1592,null,null,2,null,null,null,null,null,null,null,null,null,null,null,null,null,null,38,null,null,null,null,36,null,null,null,null,null,null,null,null,null,null,null,"","","","","","","","",4,3,1675,null,null,null,null,null,null,null,null,null,1,null,null,1,1677]
[15,"Concordia",2813,null,null,null,null,null,null,null,null,null,null,null,null,357,null,null,null,null,null,null,null,null,null,null,null,null,null,null,null,null,null,null,null,null,null,"","","","","","","","",12,4,3186,null,null,null,null,null,null,null,null,null,null,null,null,1,3187]
[16,"DeSoto",4708,null,null,null,null,null,null,null,null,null,null,null,null,null,null,null,null,null,null,null,null,null,null,null,null,null,null,null,null,null,null,null,null,null,null,"","","","","","","","",15,26,4749,null,null,null,null,null,null,null,null,null,2,null,null,0,4751]
[17,"East Baton Rouge",38734,1651,522,null,null,null,null,null,null,null,294,null,642,null,191,234,72,null,null,null,1,null,702,null,null,null,434,null,null,359,null,null,null,30,null,"","","","","","","","",120,317,44303,null,null,null,null,null,null,null,1463,764,8,1,88,54,46681]
[18,"East Carroll",752,null,null,null,null,null,null,null,null,null,null,null,null,null,null,null,null,null,null,null,null,null,null,null,null,null,null,null,null,null,null,null,null,null,null,"","","","","","","","",4,null,756,null,null,null,null,9,null,null,null,null,null,null,null,1,766]
[19,"East Feliciana",1582,null,null,null,null,null,null,null,null,null,5,null,null,null,null,11,null,null,null,null,null,null,null,null,null,null,null,null,null,2,null,null,null,null,null,"","","","","","","","",4,23,1627,null,null,null,null,null,null,null,null,null,null,null,null,1,1628]
[20,"Evangeline",5291,null,null,null,null,null,null,null,4,null,null,null,null,null,null,null,null,null,null,null,1,null,null,null,null,null,null,null,null,null,null,null,null,null,null,"","","","","","","","",14,19,5329,null,null,null,null,null,null,null,null,null,4,null,null,2,5335]
[21,"Franklin",2578,null,null,null,null,null,null,null,null,null,null,null,null,1,null,null,null,null,null,null,null,null,null,null,null,null,null,null,null,null,null,null,null,null,null,"","","","","","","","",4,24,2607,1,null,null,null,67,null,null,null,null,3,null,null,0,2678]
[22,"Grant",2676,null,null,null,null,null,null,null,null,null,null,null,null,null,null,null,null,null,null,null,null,null,null,null,null,null,null,null,null,null,null,null,null,null,null,"","","","","","","","",2,8,2686,null,null,null,null,null,null,null,null,null,1,null,null,2,2689]
[23,"Iberia",10861,null,null,null,null,null,null,null,null,null,null,null,null,null,null,null,null,null,null,121,3,2,null,1,null,null,null,null,null,null,null,14,null,null,null,"","","","","","","","",37,44,11083,null,117,null,null,null,null,null,null,null,4,null,1,1,11206]
[24,"Iberville",3932,null,3,null,null,null,null,null,null,null,7,null,2,null,null,null,173,null,null,null,null,null,null,null,null,null,null,null,null,null,null,null,null,null,null,"","","","","","","","",1,11,4129,null,null,null,null,null,null,null,null,null,null,null,3,3,4135]
[25,"Jackson",2026,null,null,1,null,null,null,null,null,null,null,null,null,null,null,null,null,null,null,null,null,null,null,28,null,null,null,null,null,null,null,null,null,null,null,"","","","","","","","",21,8,2084,null,null,null,null,null,null,null,null,null,null,null,null,0,2084]
[26,"Jefferson",45810,null,null,null,44,651,209,null,null,null,null,123,null,null,null,null,15,null,null,null,5,null,null,null,14,null,null,24,997,null,null,null,null,null,null,"","","","","","","","",205,291,48388,null,null,438,null,null,224,null,null,null,4,42,11,10,49117]
[27,"Jefferson Davis",5120,null,null,null,null,null,null,3,null,null,null,null,null,null,null,null,null,null,null,null,null,null,null,null,null,null,null,null,null,null,null,null,null,null,null,"","","","","","","","",14,11,5148,null,null,null,null,null,null,null,null,null,1,null,null,3,5152]
[28,"Lafayette",30342,null,null,null,null,null,null,1,1,1,1,null,null,null,null,null,null,null,null,1511,1081,597,null,null,null,51,null,null,null,null,null,1,1,null,null,"","","","","","","","",82,174,33844,null,1,null,null,null,null,null,null,null,11,null,1,12,33869]
[29,"Lafourche",13093,null,null,null,null,null,null,null,null,1,null,null,null,null,null,null,60,null,null,1,7,null,null,null,null,null,null,null,null,null,null,null,null,null,null,"","","","","","","","",32,79,13273,null,null,1,null,null,null,69,null,null,8,1,1,2,13355]
[30,"LaSalle",2389,null,null,null,null,null,null,null,null,null,null,null,null,null,null,null,null,null,null,null,null,null,null,null,null,null,null,null,null,null,null,null,null,null,null,"","","","","","","","",5,15,2409,null,null,null,null,null,null,null,null,null,1,null,null,0,2410]
[31,"Lincoln",5579,null,null,59,null,null,null,null,null,null,null,null,null,null,null,null,null,null,3,null,null,null,null,531,null,null,null,null,null,null,null,null,null,null,null,"","","","","","","","",18,22,6212,null,null,null,null,null,null,null,null,null,8,null,null,3,6223]
[32,"Livingston",26237,null,11,null,null,null,null,null,null,null,11,null,1,null,null,4,5,null,null,null,null,null,12,null,null,null,null,null,null,3,null,null,null,null,null,"","","","","","","","",68,328,26680,null,null,null,null,null,null,null,null,null,8,null,4,13,26705]
[33,"Madison",1172,null,null,null,null,null,null,null,null,null,null,null,null,null,null,null,null,null,null,null,null,null,null,null,null,null,null,null,null,null,null,null,null,1,null,"","","","","","","","",4,35,1212,null,null,null,null,222,null,null,null,null,null,null,null,0,1434]
[34,"Morehouse",3107,null,null,1,null,null,null,null,null,null,null,null,null,null,null,null,null,null,null,null,null,null,null,null,null,null,null,null,null,null,null,null,null,null,null,"","","","","","","","",30,38,3176,4,null,null,null,1,null,null,null,null,null,null,null,0,3181]
[35,"Natchitoches",4974,null,null,null,null,null,null,null,null,null,null,null,null,null,null,null,null,null,null,null,null,null,null,null,null,null,null,null,null,null,null,null,null,null,null,"","","","","","","","",23,6,5003,null,null,null,null,null,null,null,null,null,21,null,null,3,5027]
[36,"Orleans (With Independents)",42541,null,null,null,326,192,679,null,null,null,null,7,null,null,null,null,5,null,null,null,1,null,null,null,121,null,null,252,94,null,null,null,null,null,2,"","","","","","","","",105,93,44418,null,null,658,null,null,167,null,null,null,2,134,6,6,45391]
[37,"Ouachita",17597,null,null,10,null,null,null,null,null,null,null,null,null,null,null,null,null,null,null,null,null,null,null,2,null,null,null,null,null,null,null,null,null,null,null,"","","","","","","","",27,63,17699,54,null,null,null,2,null,null,null,null,6,null,null,4,17765]
[38,"Plaquemines",3551,null,null,null,null,14,2,null,null,null,null,1,null,null,null,null,null,null,null,null,null,null,null,null,null,null,null,null,5,null,null,null,null,null,null,"","","","","","","","",4,19,3596,null,null,8,null,null,371,null,null,null,null,4,null,0,3979]
[39,"Pointe Coupee",2375,null,null,null,null,null,null,null,null,null,6,null,null,null,null,null,1,null,null,null,null,null,null,null,null,null,null,null,null,null,null,null,null,null,null,"","","","","","","","",11,16,2409,null,null,null,null,null,null,null,null,null,4,null,null,2,2415]
[40,"Rapides",20507,null,null,null,null,null,null,null,null,null,null,null,null,null,null,null,null,null,null,null,null,null,null,null,null,null,null,null,null,null,3,null,null,null,null,"","","","","","","","",46,55,20611,null,null,null,null,2,null,null,null,null,17,null,null,53,20683]
[41,"Red River",1176,null,null,null,null,null,null,null,null,null,null,null,null,null,null,null,null,null,null,null,null,null,null,null,null,null,null,null,null,null,null,null,null,null,null,"","","","","","","","",6,2,1184,null,null,null,null,null,null,null,null,null,1,null,null,0,1185]
[42,"Richland",2682,null,null,null,null,null,null,null,null,null,null,null,null,null,null,null,null,null,null,null,null,null,null,null,null,null,null,null,null,null,null,null,null,null,null,"","","","","","","","",5,11,2698,3,null,null,null,303,null,null,null,null,null,null,null,0,3004]
[43,"Sabine",3686,null,null,null,null,null,null,null,null,null,null,null,null,null,null,null,null,null,null,null,null,null,null,null,null,null,null,null,null,null,null,null,null,null,null,"","","","","","","","",7,12,3705,null,null,null,null,null,null,null,null,null,3,null,null,1,3709]
[44,"St. Bernard",7443,null,null,null,6,5,5,null,null,null,null,1,null,null,null,null,null,null,null,null,null,null,null,null,1,null,null,null,3,null,null,null,null,null,1,"","","","","","","","",26,17,7508,null,null,22,null,null,6,null,null,null,null,5,null,0,7541]
[45,"St. Charles",8998,null,null,null,null,null,6,null,null,null,null,1,null,null,null,null,null,null,null,null,1,null,null,null,null,null,null,null,null,null,null,null,null,null,null,"","","","","","","","",16,21,9043,null,null,5,null,null,null,null,null,null,10,6,null,0,9064]
[46,"St. Helena",1033,null,null,null,null,null,null,null,null,null,null,null,null,null,null,null,null,null,null,null,null,null,null,null,null,null,null,null,null,null,null,null,null,null,null,"","","","","","","","",9,20,1062,null,null,null,null,null,null,null,null,null,null,null,null,0,1062]
[47,"St. James",3178,null,null,null,null,null,null,null,null,null,null,null,null,null,null,null,null,null,null,null,null,null,null,null,null,null,null,null,null,null,null,null,null,null,null,"","","","","","","","",3,4,3185,null,null,null,null,null,null,null,null,null,1,null,3,0,3189]
[48,"St. John the Baptist",4804,null,null,null,2,null,1,null,null,null,1,null,null,null,null,null,null,null,null,null,null,null,null,null,3,null,null,null,null,null,null,null,null,null,null,"","","","","","","","",17,47,4875,null,null,1,null,null,null,null,null,null,1,4,1,1,4883]
[49,"St. Landry",11362,null,null,null,null,null,null,null,318,null,3,null,null,null,null,null,null,null,null,11,126,28,null,1,null,2,null,null,null,null,1,null,258,null,null,"","","","","","","","",73,116,12299,null,null,null,5,null,null,null,null,null,9,null,4,3,12320]
[50,"St. Martin",6829,null,null,null,null,null,null,null,2,null,null,null,null,null,null,null,null,null,null,93,62,10,null,null,null,null,null,null,null,null,null,1,null,null,null,"","","","","","","","",34,43,7074,null,1,null,null,null,null,null,null,null,2,null,null,0,7077]
[51,"St. Mary",7458,null,null,null,null,null,null,null,null,null,null,null,null,null,null,null,2,null,null,null,null,null,null,null,null,null,null,null,null,null,null,null,null,null,null,"","","","","","","","",13,47,7520,null,314,null,null,null,null,null,null,null,5,null,null,2,7841]
[52,"St. Tammany",35999,null,null,null,1,2,9,null,null,null,1,null,null,null,null,null,null,null,null,null,null,null,null,null,1,null,null,2,2,null,null,null,null,null,99,"","","","","","","","",123,353,36592,null,null,6,null,null,13,null,null,null,15,22,5,3,36656]
[53,"Tangipahoa",18622,null,null,null,null,null,null,null,null,null,2,null,null,null,2,null,null,null,null,null,null,null,2,null,null,null,null,null,null,null,null,null,null,null,13,"","","","","","","","",59,231,18931,null,null,null,null,null,null,null,null,null,12,3,5,5,18956]
[54,"Tensas",339,null,null,null,null,null,null,null,null,null,null,null,null,39,null,null,null,null,null,null,null,null,null,null,null,null,null,null,null,null,null,null,null,null,null,"","","","","","","","",null,1,379,null,null,null,null,18,null,null,null,null,null,null,null,1,398]
[55,"Terrebonne",14435,null,null,null,null,null,null,null,null,null,null,null,null,null,null,null,48,null,null,3,3,null,null,null,null,null,null,null,null,null,null,null,null,null,null,"","","","","","","","",67,138,14694,null,null,null,null,null,null,30,null,null,16,1,null,9,14750]
[56,"Union",1703,null,null,898,null,null,null,null,null,null,null,null,null,null,null,null,null,null,161,null,null,null,null,63,null,null,null,null,null,null,null,null,null,null,null,"","","","","","","","",10,7,2842,null,null,null,null,null,null,null,null,null,1,null,null,2,2845]
[57,"Vermilion",9025,null,null,null,null,null,null,null,null,null,null,null,null,null,null,null,null,null,null,77,2,null,null,null,null,3,null,null,null,null,null,56,null,null,null,"","","","","","","","",32,24,9219,null,null,null,null,null,null,null,null,null,2,null,1,1,9223]
[58,"Vernon",7573,null,null,null,null,null,null,null,null,null,null,null,null,null,null,null,null,null,null,null,null,null,null,null,null,null,null,null,null,null,null,null,null,null,null,"","","","","","","","",29,23,7625,null,null,null,null,null,null,null,null,null,7,null,null,0,7632]
[59,"Washington",4574,null,null,null,null,null,null,null,null,null,null,null,null,null,null,null,null,null,null,null,null,null,null,null,null,null,null,null,null,null,null,null,null,null,null,"","","","","","","","",11,41,4626,null,null,null,null,null,null,null,null,null,2,null,1,2,4631]
[60,"Webster",5070,null,null,null,null,null,null,null,null,null,null,null,null,null,null,null,null,null,null,null,null,null,null,3,null,null,null,null,null,null,null,null,null,null,null,"","","","","","","","",4,18,5095,null,null,null,null,null,null,null,null,null,1,null,null,0,5096]
[61,"West Baton Rouge",3893,null,2,null,null,null,null,null,null,null,18,null,1,null,null,null,25,null,null,null,null,null,1,null,null,null,null,null,null,null,null,null,null,1,null,"","","","","","","","",8,39,3988,null,null,null,null,null,null,null,null,null,2,null,5,6,4001]
[62,"West Carroll",1627,null,null,null,null,null,null,null,null,null,null,null,null,null,null,null,null,null,null,null,null,null,null,null,null,null,null,null,null,null,null,null,null,null,null,"","","","","","","","",2,13,1642,null,null,null,null,31,null,null,null,null,null,null,null,0,1673]
[63,"West Feliciana",2067,null,null,null,null,null,null,null,null,null,null,null,null,null,null,1,null,null,null,null,null,null,null,null,null,null,null,null,null,null,null,null,null,null,null,"","","","","","","","",4,15,2087,null,null,null,null,null,null,null,null,null,3,null,null,1,2091]
[64,"Winn",1869,null,null,null,null,null,null,null,null,null,null,null,null,null,null,null,null,null,null,null,null,null,null,null,null,null,null,null,null,null,null,null,null,null,null,"","","","","","","","",8,6,1883,null,null,null,null,null,null,null,null,null,null,null,null,1,1884]
[65,"City of Monroe",7775,null,null,2,null,null,null,null,null,null,null,null,null,2,null,null,null,null,null,null,null,null,null,2,null,null,null,null,null,null,null,null,null,null,null,"","","","","","","","",15,12,7808,110,null,null,null,1,null,null,null,null,2,null,null,2,7923]
[66,"City of Bogalusa",1803,null,null,null,null,null,null,null,null,null,null,null,null,null,null,null,null,null,null,null,null,null,null,null,null,null,null,null,null,null,null,null,null,null,null,"","","","","","","","",14,34,1851,null,null,null,null,null,null,null,null,null,1,null,null,1,1853]
[67,"Zachary Community",5413,null,3,null,null,null,null,null,null,null,22,null,null,null,10,10,null,null,null,null,null,null,5,null,null,null,null,null,null,3,null,null,null,2,null,"","","","","","","","",17,45,5530,null,null,null,null,null,null,null,null,null,4,null,1,2,5537]
[68,"City of Baker",947,null,15,null,null,null,null,null,null,null,14,null,4,null,218,220,null,null,null,null,null,null,15,null,null,null,26,null,null,9,null,null,null,28,null,"","","","","","","","",12,24,1532,null,null,null,null,null,null,null,null,null,null,null,4,0,1536]
[69,"Central Community",4713,null,8,null,null,null,null,null,null,null,24,null,3,null,1,29,3,null,null,null,null,null,10,null,null,null,4,null,null,3,null,null,null,3,null,"","","","","","","","",7,47,4855,null,null,null,null,null,null,null,null,null,6,null,2,0,4863]
["Total",null,624478,2602,569,973,379,864,911,931,327,696,426,133,656,488,422,509,497,559,202,1820,1330,646,749,681,140,58,464,278,1101,379,173,72,259,65,115,0,0,0,0,0,0,0,0,1915,3608,650475,172,433,1139,701,656,781,102,1463,764,270,223,165,265,657609]
["120% of Max Counts",null,"N/A","N/A",576,1113.5999999999999,648,"N/A","N/A",1032,576,1032,652.79999999999995,360,756,676.8,540,912,756,690,216,3420,2648.4,912,990,756,630,180,564,378,1425.6,600,537.6,402,316.8,756,143,null,null,null,null,null,null,null,null,2304,3720,null,403.2,643.19999999999993,"N/A",900,960,1050,156,"N/A","N/A","N/A","N/A","N/A","N/A",null,"22-23 Max Counts Per School Choice, BS checked 12.27.22"]
["Count Removed from Base"]
[]
["2.1.22","Comparison",628243,2780,542,973,389,921,973,834,275,637,445,142,666,463,382,473,502,499,181,1651,1120,631,711,645,130,60,414,257,1159,286,168,95,189,0,0,0,0,0,0,0,0,0,0,1918,3708,653462,202,393,1167,694,713,848,113,1451,683,289,228,181,306,660730]
[null,null,-3765,-178,27,0,-10,-57,-62,97,52,59,-19,-9,-10,25,40,36,-5,60,21,169,210,15,38,36,10,-2,50,21,-58,93,5,-23,70,65,115,0,0,0,0,0,0,0,0,-3,-100,-2987,-30,40,-28,7,-57,-67,-11,12,81,-19,-5,-16,-41,-3121]

{"sheet":"Feb_New Type 2","index":20,"n_rows":67,"n_cols":26,"rows_kept":67,"cut":false,"hidden":false,"merged":[[0,6,0,7],[0,8,0,12],[0,13,0,17],[0,24,1,24],[0,25,1,25],[0,18,0,22],[0,23,1,23],[43,0,43,2],[0,0,1,2],[0,3,1,3],[0,4,1,4],[0,5,1,5]]}
["Table 5C1\nNew Type 2\nCharter Schools",null,null,"Oct. 1, 2023\nMFP Funded\nMembership\n\n(Per SIS)","Feb. 1, 2024\nMFP Funded\nMembership\n\n(Per SIS)","Change in\nMFP Funded\nMembership","Unweighted",null,"Economically Disadvantaged",null,null,null,null,"Students with Disabilities",null,null,null,null,"Gifted & Talented",null,null,null,null,"Change in\nTotal MFP\nState Cost\nAllocation\n\n(Levels 1,\n2, & 3)","Half Final\nFY2023-24\nLocal Revenue\nRepresentation\nPer Pupil\n(per charter law)","Change in\nLocal Revenue\nRepresentation"]
[null,null,null,null,null,null,"Half Per Pupil\n(With\nContinuation\nof Prior Year\nPay Raises)","Change in\nState Cost\nAllocation","10/1/23\nStudent\nCount","2/1/24\nStudent\nCount","Change\nin\nStudent\nCount","Half\nPer\nPupil","Change in\nState Cost\nAllocation","10/1/23\nStudent\nCount","2/1/24\nStudent\nCount","Change\nin\nStudent\nCount","Half\nPer\nPupil","Change in\nState Cost\nAllocation","10/1/23\nStudent\nCount","2/1/24\nStudent\nCount","Change\nin\nStudent\nCount","Half\nPer\nPupil","Change in\nState Cost\nAllocation"]
[]
[null,null,null,1,2,3,4,5,6,7,8,9,10,11,12,13,14,15,16,17,18,19,20,21,22,23]
[null,null,null,"Link to SIS","Link to SIS","C2-C1",null,"Link in File","Link to SIS","Link to SIS","C7-C6",null,"Link in File","Link to SIS","Link to SIS","C12-C11",null,"Link in File","Link to SIS","Link to SIS","C17-C16",null,"Link in File","T5C1, C18","Link in File","T5A2, C21"]
[null,null,null,"Link to SIS","Link to SIS","Formula",null,"Link in File","Link in File","Link in File","Formula",null,"Link in File",null,"Link in File","Link in File",null,"Link in File","Link in File","Link in File","Link in File","Link in File","Link in File","Link in File","Link in File","Link in File"]
[341001,341001,"D'Arbonne Woods ",983,971,-12,null,-30856.654587778638,589,580,-9,null,-3056.0638988362261,112,108,-4,null,-9818.5513250677559,30,48,18,null,16669.439448197594,-27062,null,-35181]
[343001,343001,"Madison Prep",594,585,-9,null,-16258.759259966877,459,456,-3,null,-374.86107762287685,32,30,-2,null,-3763.3998318988743,0,0,0,null,0,-20397,null,-40535]
[344001,344001,"Int'l High School of N. O. ",397,408,11,null,20511.703810189738,338,356,18,null,4503.6481527403903,15,19,4,null,6868.1496004960163,0,0,0,null,0,31883,null,41726]
[345001,345001,"University View Academy (90%)",3716,3693,-23,null,-73459.382943452569,2479,2481,2,null,-2414.4203681594636,474,481,7,null,10234.07174049252,150,150,0,null,1512.7950730003324,-64126,null,19538]
[346001,346001,"Lake Charles Charter Academy ",876,856,-20,null,-34092.131328115167,768,757,-11,null,-2630.5716404087102,79,76,-3,null,-5629.2010462963481,9,11,2,null,1317.1575918541744,-41034,null,-86245]
[347001,347001,"Lycee Francois de la Nouvelle Orleans ",852,838,-14,null,-26359.811189360993,514,510,-4,null,-1073.3754871421472,95,80,-15,null,-25955.542253589483,78,99,21,null,14263.129159658094,-39125,null,-54630]
[348001,348001,"New Orleans Military/Maritime Academy ",903,893,-10,null,-17495.567770258182,762,757,-5,null,-1238.1100674221261,112,106,-6,null,-9802.2712714204699,0,0,0,null,0,-28535,null,-46179]
["3C5001",null,"St Landry Charter School",306,291,-15,null,-36557.586322637551,284,274,-10,null,-3304.3500634775855,22,20,-2,null,-4505.9319047421623,0,0,0,null,0,-44368,null,-28658]
["W18001","W18001","Noble Minds",148,159,11,null,21576.696283449484,124,141,17,null,4352.1198590298873,27,24,-3,null,-4894.4754051704949,0,0,0,null,0,21034,null,41220]
["W1A001","3A1001","JCFA - East",143,131,-12,null,-21817.027396560552,138,122,-16,null,-3706.8733896609156,27,24,-3,null,-4851.1403227778792,0,0,0,null,0,-30375,null,-52830]
["W1B001","3B1001","Advantage Charter Academy",599,580,-19,null,-39095.40905554191,586,565,-21,null,-5361.8061412225043,55,48,-7,null,-11119.628991309899,0,0,0,null,0,-55577,null,-75844]
["W1D001","W1D001","JCFA - Lafayette",60,58,-2,null,-5221.1438024294912,53,53,0,null,-104.85642494172259,6,4,-2,null,-3561.3184601541639,0,0,0,null,0,-8887,null,-3362]
["W2B001","3B1002","Willow Charter Academy",619,571,-48,null,-96060.590373912433,611,562,-49,null,-13283.206076913306,48,43,-5,null,-8903.2961503854094,0,0,0,null,0,-118246,null,-158330]
["W33001","W33001","Lincoln Prep School",717,638,-79,null,-173930.89452916902,650,583,-67,null,-19726.851102837685,142,132,-10,null,-20663.209369704899,4,3,-1,null,-631.05265874064469,-214951,null,-317076]
["W3B001","3A3002","Iberville Charter Academy",474,485,11,null,18235.037028038707,334,361,27,null,5456.8877079845579,61,64,3,null,-1223.7294407659886,1,1,0,null,0,22469,null,77094]
["W4A001","3A4001","Delta Charter School ",485,477,-8,null,-19010.864112695788,322,314,-8,null,-2339.6438275605115,61,62,1,null,3035.8368132395854,5,5,0,null,0,-18315,null,-30754]
["W4B001",328002,"Lake Charles College Prep",598,584,-14,null,-23864.770192002405,495,482,-13,null,-3139.2255939191164,59,55,-4,null,-6585.7879592708732,7,6,-1,null,-658.57879592708719,-34248,null,-60046]
["W5B001","3B5001","Northeast Claiborne Charter",200,198,-2,null,-4944.5372215357929,170,168,-2,null,-636.28001115188295,16,11,-5,null,-11806.920991582618,0,0,0,null,0,-17387,null,-6351]
["W6B001","3B6001","Acadiana Renaissance",2885,2851,-34,null,-80661.757888592198,1207,1202,-5,null,-2258.8157263306098,178,172,-6,null,-12078.864031470928,123,126,3,null,2052.7911734834133,-92947,null,-81849]
["W7A001","3A7001","Louisiana Key Academy ",428,442,14,null,27456.31775158062,325,341,16,null,3871.5388784009301,286,329,43,null,69874.823455537728,0,0,0,null,0,101203,null,59477]
["W7B001","3B6002","Lafayette Renaissance",1724,1688,-36,null,-78323.97512498888,1448,1433,-15,null,-4546.3165635689029,112,104,-8,null,-14686.704216099562,28,38,10,null,7043.0393208739551,-90514,null,-100026]
["W8A001","3A8001","Impact Charter",434,420,-14,null,-25715.126128013402,388,379,-9,null,-2334.9314511495254,30,23,-7,null,-13582.353495713294,0,0,0,null,0,-41633,null,-61761]
["WAG001",343002,"Louisiana Virtual Charter Academy (90%)",1920,1895,-25,null,-59182.281908543271,1579,1587,8,null,467.7133820626683,239,236,-3,null,-6518.2911219838479,33,32,-1,null,-60.419661066041726,-65296,null,-56517]
["WAK001",328001,"Southwest LA Charter School ",734,714,-20,null,-39287.354822756621,661,657,-4,null,-1615.7795541082755,88,70,-18,null,-30273.441126083388,1,2,1,null,658.57879592708719,-70518,null,-71851]
["WAL001",349001,"J. S. Clark Leadership Academy ",407,381,-26,null,-62336.689996904366,378,359,-19,null,-6139.7218154011725,25,22,-3,null,-6758.8978571132429,4,3,-1,null,-901.18638094843232,-76137,null,-52896]
["WAU001","WAU001","GEO Prep Academy",777,767,-10,null,-19003.748681862358,695,693,-2,null,-578.69439855528776,95,94,-1,null,-2474.3977946311206,6,6,0,null,0,-22057,null,-41653]
["WBQ001","WBQ001","New Harmony High School",312,333,21,null,39200.930892281489,210,239,29,null,7244.4712413534689,31,39,8,null,13736.299200992033,0,0,0,null,0,60181,null,87264]
["WBR001","WBR001","Athlos Academy of Jefferson Parish",1084,1067,-17,null,-30400.646913622724,957,939,-18,null,-4187.3971341589076,102,112,10,null,16470.439620187062,3,3,0,null,0,-18118,null,-83376]
["WBX001","WBX001","GEO Next Generation HS",445,433,-12,null,-20450.747096199964,384,376,-8,null,-1726.2617760751202,64,62,-2,null,-2942.4916637644096,0,0,0,null,0,-25120,null,-57048]
["WBY001","WBY001","Red River Charter Academy",134,127,-7,null,-17852.289176723229,116,110,-6,null,-2102.6239402604351,14,15,1,null,2389.3453866595851,0,0,0,null,0,-17566,null,-10738]
["WJ5001","WJ5001","Collegiate Academies",480,501,21,null,39501.776523786051,453,485,32,null,7566.2015275994609,92,101,9,null,13241.212486939843,0,0,0,null,0,60310,null,92927]
["WZ8001","3A3001","GEO Prep Mid-City of Great BR",682,662,-20,null,-31322.481680215897,650,635,-15,null,-2875.5412361616854,88,87,-1,null,-1471.2458318822048,0,0,0,null,0,-35670,null,-101833]
["WZN001",null,"GEO Prep Baker",91,86,-5,null,-9487.3510341182118,85,80,-5,null,-1194.3552054976076,12,10,-2,null,-2942.4916637644096,0,0,0,null,0,-13624,null,-21120]
["WZO001",null,"Louisiana Key Academy Northshore",246,257,11,null,25330.999451484306,107,110,3,null,900.95355755813398,145,149,4,null,8825.5954412633582,0,0,0,null,0,35057,null,38970]
["WZP001",null,"Discovery Ochsner BR",128,127,-1,null,-4793.5753210597932,100,101,1,null,-276.51903594991808,11,13,2,null,2942.4916637644096,0,0,0,null,0,-2127,null,13468]
["WZQ001",null,"Kenilworth Science and Technology",709,688,-21,null,-37855.805105961277,625,623,-2,null,-312.55560716245833,70,70,0,null,0,1,1,0,null,0,-38168,null,-92856]
["WZT001",null,"LaKey Caddo",70,90,20,null,44687.33156082288,33,43,10,null,2966.413523766978,10,36,26,null,50581.384908474545,0,0,0,null,0,98235,null,74642]
["State Total",null,null,26360,25945,-415,null,-899198.16766334628,20077,19914,-163,0,-55210.060785160218,3135,3131,-4,null,-28613.933208597038,483,534,51,null,41265.693066312451,-941756,null,-1283219]
[]
[]
[]
[]
[]
[]
[]
[]
[]
[]
[]
[]
[]
[]
[]
[]
[]
[]
[]
[]
[]
[]
[null,null,"=C76='J:\\mf\\EFS\\MFPAdm\\MFP Budget Letter\\2022-2023\\Budget Letter\\Mid-Year Adjustments\\[FY2022-23 MFP Midyear Adjustments_Oct.xlsm]Oct_LSMSA'!$D$76"]

{"sheet":"Per Pupil Summary","index":21,"n_rows":78,"n_cols":19,"rows_kept":78,"cut":false,"hidden":false,"merged":[[1,11,2,11],[1,12,2,12],[1,13,2,13],[1,15,2,15],[0,0,2,1],[0,2,0,7],[0,8,0,11],[0,12,0,13],[0,15,0,18],[1,2,2,2],[1,3,2,3],[1,4,2,4],[1,6,2,6],[1,8,2,8],[1,16,2,16],[1,17,2,17],[1,9,2,9],[1,10,2,10]]}
["School System",null,"FY2023-24 Unweighted State Cost Allocation Per Pupils\nTypes 1, 2, 3, 3B, and 4 Charter Schools",null,null,null,null,null,"FY2023-24 Weighted State Cost Allocation Per Pupils\nTypes 1, 2, 3, 3B, and 4 Charter Schools",null,null,null,"FY2023-24 Final Initial Local Revenue Representation Per Pupils",null,"Legacy Type 2\nCharter Schools","July 2023 Budget Letter Per Pupils"]
[null,null,"Level 1\nBase","Level 2","Level 3\nHold\nHarmless &\nMandated\nCost Adjs.","Unweighted\nPer Pupil\nWithout\nContinuation\nof Prior Year\nPay Raises","Level 3\nContinuation\nof Prior Year\nPay Raises","Unweighted\nPer Pupil\nWith\nContinuation\nof Prior Year\nPay Raises","Economically\nDisadvantaged","Career &\nTechnical\nEducation","Students\nWith\nDisabilities","Gifted &\nTalented","In a District\nBuilding","Not In a\nDistrict\nBuilding","Unweighted\nPer Pupil\nWithout\nContinuation\nof Prior Year\nPay Raise\n(Includes Final\nFY2010-22\nLocal Revenue\nRepresentation)","City/Parish\nPer Pupil\n\n(After\nState Cost\nAllocations to\nOther Public\nSchools)","State Cost\nAllocation\nPer Pupil\n\n(Levels 1, 2,\n& 3 without\nContinuation\nof Prior Year\nPay Raises)","Levels 1 & 2\nLocal Cost\nAllocation\nPer Pupil","Total\nState Cost &\nLocal Cost\nAllocation\nPer Pupil\n\n(With\nContinuation\nof Prior Year\nPay Raises)"]
[]
[null,null,1,2,3,4,5,6,7,8,9,10,11,12,13,14,15,16,17]
[null,null,"Per Pupil, C1","Per Pupil, C6","Per Pupil, C7","C1 + C2 + C3","Historical Data","C4 + C5","Per Pupil, C2","Per Pupil, C3","Per Pupil, C4","Per Pupil, C5","Per Pupil, C9","Per Pupil, C12","C4 + C12","T2, C36","T3, C30","T3, C38","C5+C15+C16"]
[null,null,"Link to Charter Per Pupil","Link to Charter Per Pupil","Link to Charter Per Pupil","Formula","Values","Formula","Link to Charter Per Pupil","Link to Charter Per Pupil","Link to Charter Per Pupil","Link to Charter Per Pupil","Link to Charter Per Pupil","Link to Charter Per Pupil","Formula","Link in July 2023 BL","Link in July 2023 BL","Link in July 2023 BL","Formula"]
[1,"Acadia",3045.123065576232,1096,172.95024095035302,4314.0733065265849,777.48,5091.5533065265845,669.92707442677101,182.7073839345739,4567.6845983643479,1827.0738393457391,3313,3313,7627.0733065265849,6229,5451.7369718704467,3207.39,9436.6069718704457]
[2,"Allen",3356.8429288655911,1447,172.95032851511169,4976.7932573807029,842.32,5819.1132573807026,738.50544435043003,201.41057573193544,5035.2643932983874,2014.1057573193546,3948,4560,9536.7932573807029,7418,6572.9597897503281,2985.6,10400.879789750328]
[3,"Ascension",2576.4249115291755,699,172.95023947781121,3448.3751510069865,596.84,4045.2151510069866,566.81348053641864,154.58549469175051,3864.637367293763,1545.8549469175052,7407,8459,11907.375151006987,4907,4309.8707243673971,3741.18,8647.8907243673966]
[4,"Assumption",3043.1600124183469,1246,172.95019992729917,4462.1102123456458,585.76,5047.870212345646,669.49520273203632,182.58960074510082,4564.7400186275208,1825.8960074510078,6305,6305,10767.110212345646,6780,6176.9465648854966,3654.08,10416.786564885497]
[5,"Avoyelles",3185.7938488794471,1186,172.95020161290321,4544.7440504923507,555.91,5100.6540504923505,700.87464675347837,191.14763093276684,4778.6907733191701,1911.4763093276683,3068,3068,7612.7440504923507,6682,6104.0306451612905,3074.85,9734.7906451612907]
[6,"Beauregard",2936.1208252984925,1082,172.95020897692169,4191.0710342754146,545.4799999999999,4736.5510342754142,645.94658156566834,176.16724951790957,4404.1812379477387,1761.6724951790954,5307,6387,10578.071034275414,6124,5581.6174813737962,3601.5,9728.5974813737957]
[7,"Bienville",2039.5980757951468,342,172.95037756202805,2554.5484533571744,756.91999999999985,3311.4684533571744,448.71157667493225,122.37588454770881,3059.3971136927203,1223.758845477088,15082,16347,18901.548453357173,4596,3834.1542610571737,5436.89,10027.964261057174]
[8,"Bossier",2909.1767579112266,1016,172.95022093966995,4098.1269788508962,725.76,4823.8869788508964,640.01888674046984,174.55060547467357,4363.7651368668403,1745.5060547467356,5502,6196,10294.126978850896,6027,5301.9005320587967,3493.52,9521.1805320587973]
[9,"Caddo",2638.161842225345,790,172.9502067439287,3601.1120489692739,744.76,4345.8720489692741,580.39560528957588,158.28971053352072,3957.2427633380166,1582.8971053352068,6563,7514,11115.112048969273,5427,4683.228495719527,3866.9,9294.8884957195278]
[10,"Calcasieu",2195.2626530902908,433,172.9502314814815,2801.2128845717721,608.04000000000008,3409.252884571772,482.95778367986406,131.71575918541743,3292.8939796354366,1317.1575918541744,7939,8578,11379.212884571773,4381,3764.6864447167754,4582.49,8955.2164447167743]
[11,"Caldwell",3324.5822879739608,1620,172.95054945054946,5117.53283742451,706.55,5824.0828374245102,731.40810335427136,199.47493727843764,4986.8734319609412,1994.7493727843764,3778,4480,9597.5328374245109,8114,7395.6751373626375,3464.07,11566.295137362638]
[12,"Cameron",1003.7496843375184,0,172.95066413662238,1176.7003484741408,1063.31,2240.0103484741408,220.82493055425402,60.224981060251089,1505.6245265062773,602.24981060251093,15756,17065,18241.70034847414,2800,1734.8785578747629,6810.01,9608.1985578747626]
[13,"Catahoula",3198.2040957462573,1404,172.94981060606059,4775.1539063523187,749.43000000000006,5524.583906352319,703.6049010641766,191.89224574477544,4797.3061436193857,1918.9224574477539,4818,4854,9629.1539063523196,7470,6637.65625,3452.34,10839.42625]
[14,"Claiborne",3155.0728710066551,1499,172.95044776119403,4827.0233187678496,809.9799999999999,5637.0033187678491,694.11603162146412,189.3043722603993,4732.6093065099831,1893.0437226039928,4391,4391,9218.0233187678496,8014,7156.8943283582093,3868.2,11835.074328358209]
[15,"Concordia",3199.6958579328789,1360,100,4659.6958579328784,553.79999999999995,5213.4958579328786,703.93308874523325,191.98175147597269,4799.5437868993176,1919.8175147597267,3846,3846,8505.6958579328784,6975,6359.7664783427499,3338.82,10252.386478342751]
[16,"Desoto",1611.2521737203556,0,172.95030532743735,1784.2024790477928,686.73,2470.9324790477931,354.47547821847826,96.675130423221333,2416.8782605805332,966.75130423221333,15976,18328,20112.202479047792,3190,2502.7030953885028,5449.48,8638.9130953885033]
[17,"East Baton Rouge",1961.6611091762729,230,415.31674019038775,2606.9778493666608,801.48,3408.4578493666609,431.56544401878006,117.69966655057637,2942.4916637644096,1176.9966655057635,8289,9508,12114.97784936666,4158,3386.0536336196888,4776.6899999999996,8964.2236336196875]
[18,"East Carroll",3083.8617142892786,1337,172.94973544973544,4593.8114497390134,845.94999999999993,5439.7614497390132,678.44957714364136,185.03170285735675,4625.7925714339181,0,4595,4595,9188.8114497390125,7386,6532.4748677248681,3740.07,11118.494867724869]
[19,"East Feliciana",2439.233193068595,700,172.95021511985249,3312.1834081884476,905.43,4217.6134081884475,536.63130247509093,146.35399158411568,3658.849789602893,1463.5399158411569,6208,6208,9520.1834081884481,5631,4725.1757836508914,4643.99,10274.595783650891]
[20,"Evangeline",3263.0389180691213,1413,100,4776.0389180691218,586.16999999999996,5362.2089180691219,717.86856197520683,195.78233508414732,4894.5583771036827,1957.8233508414728,3288,3409,8185.0389180691218,7079,6496.0502908613253,3232.96,10315.180290861324]
[21,"Franklin",3217.349610821811,1449,172.95013425393174,4839.299745075743,610.35,5449.6497450757433,707.81691438079838,193.04097664930865,4826.0244162327162,1930.4097664930862,2575,3704,8543.299745075743,7430,6812.1779823551979,3488.66,10911.187982355197]
[22,"Grant",3494.513159113541,1542,172.95011169024571,5209.4632708037871,496.36,5705.8232708037867,768.79289500497907,209.67078954681244,5241.7697386703112,2096.7078954681242,1644,2760,7969.4632708037871,7959,7458.177959791512,2839.2,10793.737959791511]
[23,"Iberia",2989.2802592457324,1102,172.95022133887434,4264.230480584607,688.58,4952.8104805846069,657.64165703406115,179.35681555474395,4483.9203888685997,1793.5681555474393,3380,4629,8893.230480584607,6271,5578.0691119342309,3441.94,9708.5891119342305]
[24,"Iberville",1003.7500050343608,0,500.75902155485591,1504.5090265892168,854.24999999999989,2358.7590265892168,220.82500110755942,60.225000302061645,1505.6250075515413,602.25000302061642,22900,23645,25149.509026589218,2858,1983.7943812061033,6466.03,9304.0743812061028]
[25,"Jackson",2813.9148626382766,1031,172.95009596928983,4017.8649586075667,653.73,4671.5949586075667,619.06126978042096,168.83489175829661,4220.8722939574154,1688.3489175829659,5834,5834,9851.8649586075662,6241,5579.4289827255279,3990.53,10223.688982725529]
[26,"Jefferson",2156.0623656790576,399,407.88102422088122,2962.9433898999387,836.83,3799.7733898999386,474.33372044939267,129.36374194074347,3234.0935485185864,1293.6374194074344,7057,7632,10594.943389899938,4758,3900.2994957427463,4625.8999999999996,9363.0294957427468]
[27,"Jefferson Davis",3115.0760888812165,1268,172.95027195027194,4556.0263608314881,693.06,5249.0863608314885,685.31673955386759,186.90456533287301,4672.6141333218238,1869.0456533287297,4137,4861,9417.026360831489,6841,6147.0186480186476,3422.21,10262.288648018646]
[28,"Lafayette",2374.2123067694429,544,231.93957391484207,3150.1518806842851,694.4,3844.5518806842852,522.3267074892774,142.45273840616659,3561.3184601541639,1424.5273840616655,6394,7044,10194.151880684285,4677,3964.4654433708597,4036.25,8695.1154433708598]
[29,"Lafourche",2814.1748031408551,899,172.95019965343178,3886.125002794287,754.94999999999993,4641.0750027942868,619.11845669098818,168.85048818845129,4221.2622047112827,1688.504881884513,5334,6035,9921.1250027942879,5642,4886.9483914714083,3478.8,9120.6983914714074]
[30,"LaSalle",3214.4500620225795,1330,172.95018679950186,4717.4002488220813,727.17,5444.5702488220813,707.17901364496743,192.86700372135473,4821.6750930338685,1928.6700372135476,4222,5731,10448.400248822081,7002,6271.0232461602327,3212.14,10210.333246160233]
[31,"Lincoln",2629.2908667377351,829,172.95025756600128,3631.2411243037363,620.83000000000004,4252.0711243037367,578.44399068230177,157.75745200426411,3943.9363001066026,1577.5745200426411,7204,8309,11940.241124303737,5550,4929.0017707662591,4108.84,9658.6717707662592]
[32,"Livingston",3299.1970595081611,1338,172.95022488755623,4810.1472843957172,559.77,5369.9172843957167,725.82335309179541,197.95182357048964,4948.7955892622413,1979.5182357048966,3290,3621,8431.1472843957163,6738,6175.2446776611696,2941.88,9676.8946776611701]
[33,"Madison",2862.0605182525533,1136,172.95049504950495,4171.011013302058,655.31000000000006,4826.3210133020584,629.65331401556159,171.72363109515319,4293.0907773788304,1717.2363109515318,2831,5102,9273.0110133020571,6669,6015.8143564356433,4141.09,10812.214356435645]
[34,"Morehouse",3130.2770726407243,1334,172.95025188916875,4637.2273245298929,644.11000000000013,5281.3373245298935,688.66095598095944,187.81662435844345,4695.4156089610869,1878.1662435844341,4287,4996,9633.2273245298929,7083,6432.4870906801007,3540.29,10616.887090680102]
[35,"Natchitoches",2617.4645538864011,816,172.95022986208275,3606.4147837484838,537.96,4144.3747837484843,575.84220185500828,157.04787323318405,3926.1968308296014,1570.4787323318403,6522,7001,10607.414783748483,5425,4887.6516090345795,4115.0200000000004,9540.631609034579]
[36,"Orleans*",2289.3832001653386,514,172.95022288261515,2976.3334230479536,746.03,3722.3634230479538,503.66430403637469,137.36299200992033,3434.0748002480082,1373.629920099203,7582,8424,11400.333423047954,4733,3991.0815885451843,4460.99,9198.1015885451852]
[37,"Ouachita",3124.3487051556572,1183,172.95022317645063,4480.2989283321076,653.61,5133.9089283321073,687.3567151342445,187.4609223093394,4686.5230577334851,1874.6092230933943,4556,5588,10068.298928332108,6385,5731.4360698344535,3159.39,9544.4360698344535]
[38,"Plaquemines",1280.8656231416264,0,449.83982202447163,1730.7054451660981,829.92000000000007,2560.625445166098,281.7904370911578,76.851937388497589,1921.2984347124398,768.51937388497583,19704,19704,21434.705445166099,3257,2422.8998887652947,6314.51,9567.3298887652945]
[39,"Pointe Coupee",1823.9584233775829,139,307.73142382731425,2270.689847204897,779.66,3050.3498472048968,401.27085314306822,109.43750540265496,2735.9376350663742,1094.3750540265496,9767,9767,12037.689847204896,4244,3460.7202158572022,5877.27,10117.650215857204]
[40,"Rapides",2924.2302062733279,1053,172.95022075590705,4150.180427029235,700.2700000000001,4850.4504270292355,643.33064538013207,175.45381237639967,4386.3453094099914,1754.5381237639965,5182,5781,9931.1804270292341,6159,5460.9550240163016,3556.64,9717.8650240163024]
[41,"Red River",1644.5154162079129,0,172.95016891891891,1817.4655851268319,886.22,2703.6855851268319,361.79339156574082,98.670924972474765,2466.7731243118697,986.70924972474768,18397,20363,22180.465585126833,3735,2844.1503378378379,6067.74,9798.1103378378375]
[42,"Richland",2747.6729415937834,974,172.95033358042994,3894.6232751742132,534.28,4428.9032751742134,604.48804715063227,164.86037649562698,4121.5094123906738,1648.6037649562695,4720,6067,9961.6232751742136,5974,5437.2702001482576,4110.01,10081.560200148258]
[43,"Sabine",2822.0379005761738,1010,172.95033738191634,4004.9882379580899,574.6099999999999,4579.5982379580901,620.84833812675834,169.32227403457046,4233.0568508642609,1693.2227403457043,6137,6797,10801.98823795809,6029,5453.8917678812413,3871.26,9899.7617678812421]
[44,"St. Bernard",2986.1691942787324,1061,172.95018646776771,4220.1193807465006,663.16000000000008,4883.2793807465005,656.95722274132106,179.17015165672393,4479.2537914180984,1791.701516567239,5555,5555,9775.1193807465006,6049,5384.3750665956313,3327.13,9374.6650665956313]
[45,"St. Charles",1425.0563471445871,0,418.88554683180359,1843.9418939763907,753.96000000000015,2597.901893976391,313.51239637180907,85.503380828675205,2137.5845207168804,855.03380828675222,17056,19026,20869.941893976389,3154,2398.257768439677,5493.47,8645.6877684396768]
[46,"St. Helena",3329.5867523325564,1646,172.95009416195856,5148.536846494515,728.06,5876.5968464945145,732.50908551316218,199.77520513995336,4994.380128498834,1997.7520513995332,2403,4192,9340.536846494515,8272,7503.6280602636534,3500.71,11732.398060263655]
[47,"St. James",1527.9756199523397,0,433.00282574568291,1960.9784456980226,910.76,2871.7384456980226,336.15463638951474,91.678537197140372,2291.9634299285094,916.78537197140383,14628,16003,17963.978445698023,3715,2804.3048665620095,5978.2,9693.264866562009]
[48,"St. John",1813.8799720770357,117,172.95015384615385,2103.8301259231894,871.07,2974.9001259231895,399.05359385694783,108.83279832462213,2720.8199581155532,1088.3279832462215,9931,12493,14596.830125923188,3898,3024.7657435897436,5375.88,9271.7157435897443]
[49,"St. Landry",3003.9546031614414,1123,172.95023985689895,4299.9048430183402,574.43999999999994,4874.3448430183398,660.87001269551706,180.23727618968647,4505.9319047421623,1802.3727618968646,3821,3821,8120.9048430183402,6257,5655.501748109602,3448.36,9678.3017481096012]
[50,"St. Martin",2906.2881241806867,1006,172.95023328149301,4085.2383574621799,634.46,4719.69835746218,639.38338731975114,174.37728745084121,4359.4321862710303,1743.7728745084123,3766,5052,9137.2383574621799,5903,5256.5888590414252,3471.04,9362.0888590414252]
[51,"St. Mary",2841.2226372569671,1016,172.95026595744682,4030.172903214414,706.66,4736.8329032144138,625.06898019653272,170.473358235418,4261.8339558854505,1704.73358235418,6006,6562,10592.172903214414,6147,5439.8922872340427,3798.89,9945.4422872340419]
[52,"St. Tammany",2623.1677045509382,797,172.9502076956712,3593.1179122466092,658.37,4251.4879122466091,577.09689500120646,157.39006227305632,3934.7515568264075,1573.9006227305631,7210,8117,11710.117912246609,5421,4763.8642599475297,3987.38,9409.6142599475297]
[53,"Tangipahoa",2992.374898392191,1095,172.95024034652158,4260.3251387387127,689.74,4950.0651387387124,658.32247764628198,179.54249390353141,4488.5623475882858,1795.4249390353143,3823,4646,8906.3251387387136,6227,5537.8993185779937,3407.42,9635.0593185779944]
[54,"Tensas",2354.592822586219,710,172.94986807387863,3237.5426906600978,951.45,4188.9926906600977,518.01042096896811,141.27556935517313,3531.8892338793285,1412.7556935517312,9111,9111,12348.542690660099,6150,5124.7176781002636,5450.69,11526.857678100263]
[55,"Terrebonne",2576.5045893485835,732,172.95025180345721,3481.4548411520409,795.14,4276.5948411520412,566.83100965668848,154.59027536091503,3864.7568840228755,1545.9027536091503,5876,5876,9357.4548411520409,5302,4507.648972369675,3919.83,9222.6189723696752]
[56,"Union",3144.1385266989487,1292,172.95038705137227,4609.0889137503218,614.66000000000008,5223.7489137503217,691.71047587376881,188.64831160193691,4716.2077900484228,1886.4831160193692,4473,5641,10250.088913750322,7155,6211.3676988036596,3375.45,10201.477698803659]
[57,"Vermilion",3186.2877995443037,1206,172.95023463931028,4565.2380341836133,764.51,5329.7480341836135,700.9833158997468,191.1772679726582,4779.4316993164557,1911.7726797265821,3108,3108,7673.2380341836133,6545,5780.9083269671501,3015.32,9560.73832696715]
[58,"Vernon",3303.2450144188956,1305,172.95016393442623,4781.1951783533214,697.04,5478.2351783533213,726.71390317215707,198.19470086513374,4954.8675216283436,1981.9470086513375,2868,3252,8033.1951783533214,6711,6020.5582950819671,2856.18,9573.7782950819674]
[59,"Washington",3523.9124431887849,1193,172.95028102031992,4889.8627242091052,689.52,5579.3827242091047,775.26073750153273,211.43474659132707,5285.8686647831773,2114.3474659132712,2182,2399,7288.8627242091052,7751,7058.5940337224383,2304.44,10052.554033722439]
[60,"Webster",2952.9241748949048,1134,172.95014720314035,4259.874322098045,594.04,4853.914322098045,649.64331847687913,177.17545049369429,4429.3862623423565,1771.7545049369428,4787,6247,10506.874322098045,6399,5809.0155053974486,3700.24,10103.295505397447]
[61,"West Baton Rouge",1810.4182816780331,116,172.9501003009027,2099.3683819789358,833.70999999999992,2933.0783819789358,398.29202196916731,108.625096900682,2715.6274225170496,1086.2509690068198,12240,13718,15817.368381978937,3898,3060.2349548645939,5464.12,9358.0649548645943]
[62,"West Carroll",3245.890182574592,1471,172.95006090133984,4889.8402434759319,516.08000000000004,5405.9202434759318,714.0958401664102,194.75341095447553,4868.8352738618878,0,3728,3728,8617.8402434759319,7377,6860.8635809987818,3430.19,10807.133580998781]
[63,"West Feliciana",1864.1659894295935,170,425.90129372304744,2460.0672831526408,756.79,3216.8572831526408,410.11651767451059,111.8499593657756,2796.2489841443899,1118.4995936577559,11871,13546,16006.067283152641,4317,3555.7465261140392,5581.82,9894.3565261140393]
[64,"Winn",3160.9200311498307,1402,172.95007966011684,4735.8701108099476,592.66,5328.5301108099475,695.40240685296271,189.65520186898985,4741.3800467247447,1896.552018689898,4092,4291,9026.8701108099485,7291,6694.2873074880508,3594.1,10881.04730748805]
[65,"City Of Monroe",2729.5925730908339,910,172.9501793032787,3812.5427523941125,829.12,4641.6627523941124,600.51036607998344,163.77555438545005,4094.3888596362513,1637.7555438545,5800,6166,9978.5427523941125,5962,5132.8422131147545,3932.62,9894.5822131147543]
[66,"City Of Bogalusa",2814.1824272121789,1133,172.95029713668288,4120.1327243488622,730.06,4850.1927243488626,619.12013398667932,168.85094563273069,4221.2736408182673,1688.5094563273071,5637,5637,9757.1327243488631,6868,6118.4478660183686,4387.59,11236.097866018368]
[67,"Zachary Community",3101.2805079834147,1169,172.95027124773961,4443.230779231154,715.61,5158.8407792311536,682.28171175635123,186.07683047900488,4651.9207619751223,1860.7683047900487,4600,5803,10246.230779231155,6407,5705.7757685352626,3206.6,9627.9857685352617]
[68,"City Of Baker",3056.2053333555596,1222,172.95039164490862,4451.155725000468,798.7,5249.8557250004678,672.36517333822314,183.37232000133355,4584.3080000333393,1833.7232000133358,5006,5006,9457.155725000468,7190,6038.3244125326373,3530.66,10367.684412532637]
[69,"Central Community",3241.4852684857615,1328,172.95015447991761,4742.4354229656792,705.67,5448.1054229656793,713.12675906686752,194.4891161091457,4862.2279027286422,1944.8911610914565,3849,5423,10165.435422965678,6922,6219.065911431514,3112.64,10037.375911431514]
[null,"State Average"]
[]
[null,null,"* Continuation of prior year pay raise is $732 for Types 1, 3, 3B, and 4 Charter Schools in Orleans Parish"]

{"sheet":"10.1.23 Base Count","index":22,"n_rows":78,"n_cols":61,"rows_kept":78,"cut":false,"hidden":false,"merged":[[0,0,0,1],[75,0,75,1],[76,0,76,1],[77,0,77,1]]}
["MFP Base_10.1.23",null,null,null,null,null,null,null,null,null,null,null,null,null,null,null,null,null,null,null,null,null,null,null,null,null,null,null,null,null,null,null,null,null,"New in 22-22","New in 22-23","New in 23-24","New in 23-24","New in 23-24"]
[]
["LEA","School\nSystem","City/Parish","RSD\nOperated\n&\nType 5\nCharters","Madison\nPreparatory\nAcademy","D'Arbonne\nWoods\nCharter\nSchool","Int'l\nHigh\nSchool\nof New\nOrleans","New\nOrleans\nMilitary/\nMaritime\nAcademy","Lycee\nFrancais\nde la\nNouvelle-\nOrleans","Lake\nCharles\nCharter\nAcademy","JS Clark\nLeadership\nAcademy","Southwest\nLouisiana\nCharter\nSchool","Louisiana\nKey\nAcademy","JCFA -\nEast","GEO Prep \nMid-City of \nGreater \nBaton Rouge","Delta\nCharter\nSchool","Impact\nCharter","Advantage\nCharter\nAcademy","Iberville\nCharter\nAcademy","Lake\nCharles\nCollege\nPrep","Northeast\nClaiborne\nCharter","Acadiana\nRenaissance\nCharter\nAcademy","Lafayette\nRenaissance\nCharter\nAcademy","Willow\nCharter\nAcademy","GEO Prep\nAcademy","Lincoln\nPrep\nSchool","Noble\nMinds","JCFA\nLafayette","Collegiate\nAcademy","New Harmony\nHigh School","Athlos\nAcademy\nof Jefferson\nParish","GEO Next\nGeneration\nHigh\nSchool","Red River\nCharter\nAcademy","St Landry Charter School","GEO Prep Baker","LA Key Acadmey Northshore\n","Discovery Ochsner BR","Kenilworth Science and Technology","LaKey Caddo","LEAVE\nBLANK","LEAVE\nBLANK","LEAVE\nBLANK","LEAVE\nBLANK","LEAVE\nBLANK","Louisiana\nVirtual\nCharter\nAcademy","University\nView\nAcademy","Total\nTable 3","Legacy\nNew\nVision\nLearning\nAcademy","Legacy\nVB \nGlencoe\nCharter\nSchool","Legacy\nInt'l\nSchool of\nLouisiana","Legacy\nAvoyelles\nPublic\nCharter\nSchool","Legacy\nDelhi\nCharter\nSchool","Legacy\nBelle\nChasse\nAcademy","Legacy\nThe MAX\nCharter\nSchool","LSU \nLab\nSchool","Southern\nUniversity\nLab\nSchool","Louisiana\nSchool\nfor Math\nScience\n& the Arts","New\nOrleans\nCenter for\nCreative\nArts","Thrive Academy","Special School District\n (SSD +LSDVI)","Total\nMFP\nFunded"]
[null,null,null,null,343001,341001,344001,348001,347001,346001,"WAL001","WAK001","W7A001","W1A001","WZ8001","W4A001","W8A001","W1B001","W3B001","W4B001","W5B001","W6B001","W7B001","W2B001","WAU001","W33001","W18001","W1D001","WJ5001","WBQ001","WBR001","WBX001","WBY001","3C5001","WZN001","WZO001","WZP001","WZQ001","WZT001","N/A","N/A","N/A","N/A","N/A","WAG001",345001,null,321001,329001,331001,333001,336001,337001,340001,318,319,302006,334001,"3C1001",101001]
[null,null,1,2,3,4,5,6,7,8,9,10,11,12,13,14,15,16,17,18,19,20,21,22,23,24,25,26,27,28,29,30,31,32,33,34,35,36,37,null,null,null,null,null,38,39,40,41,42,43,44,45,46,47,48,49,50,51,52,53,54]
[]
[1,"Acadia",8811,null,null,null,null,null,null,null,2,6,null,null,null,null,null,null,null,null,null,null,54,10,null,null,null,1,null,null,null,null,null,1,null,null,null,null,null,"","","","","",20,32,8937,null,null,null,null,null,null,null,null,null,2,null,null,9,8948]
[2,"Allen",3716,null,null,null,null,null,null,1,null,null,null,null,null,null,null,null,null,null,null,null,null,null,null,null,null,null,null,null,null,null,null,null,null,null,null,null,null,"","","","","",4,17,3738,null,null,null,null,null,null,null,null,null,2,null,null,1,3741]
[3,"Ascension",23464,null,3,null,null,null,null,null,null,null,18,null,2,null,null,null,71,null,null,null,3,null,2,null,null,null,1,null,null,null,null,null,null,null,3,null,null,"","","","","",29,120,23716,null,null,null,null,null,null,null,null,null,6,null,8,20,23750]
[4,"Assumption",2609,null,null,null,null,null,null,null,null,null,null,null,null,null,null,null,8,null,null,null,5,null,null,null,null,null,null,null,null,null,null,null,null,null,null,null,null,"","","","","",12,22,2656,null,null,null,null,null,null,2,null,null,1,null,1,1,2661]
[5,"Avoyelles",4714,null,null,null,null,null,null,null,null,null,null,null,null,null,null,null,null,null,null,null,null,null,null,null,null,null,null,null,null,null,134,null,null,null,null,null,null,"","","","","",16,42,4906,null,null,null,705,null,null,null,null,null,1,null,null,5,5617]
[6,"Beauregard",5517,null,null,null,null,null,null,2,null,1,null,null,null,null,null,null,null,null,null,null,null,null,null,null,null,null,null,null,null,null,null,null,null,null,null,null,null,"","","","","",15,14,5549,null,null,null,null,null,null,null,null,null,5,null,null,0,5554]
[7,"Bienville",1790,null,null,null,null,null,null,null,null,null,null,null,null,null,null,null,null,null,null,null,null,null,null,16,null,null,null,null,null,null,null,null,null,null,null,null,null,"","","","","",4,6,1816,null,null,null,null,null,null,null,null,null,3,null,null,1,1820]
[8,"Bossier",21902,null,null,null,null,null,null,null,null,null,null,null,null,null,null,null,null,null,null,null,null,null,null,null,null,null,null,null,null,null,null,null,null,null,null,null,13,"","","","","",64,42,22021,null,null,null,null,null,null,null,null,null,9,null,null,1,22031]
[9,"Caddo",32407,1022,null,null,null,null,null,null,null,null,null,null,null,null,null,null,null,null,null,null,null,null,null,null,null,null,null,null,null,null,null,null,null,null,null,null,51,"","","","","",114,74,33668,null,null,null,null,null,null,null,null,null,4,null,null,4,33676]
[10,"Calcasieu",27367,null,null,null,null,null,null,854,null,724,null,null,null,null,null,null,null,593,null,null,null,null,null,null,null,null,null,null,null,null,null,null,null,null,null,null,null,"","","","","",57,79,29674,null,null,null,null,null,null,null,null,null,20,null,null,7,29701]
[11,"Caldwell",1423,null,null,null,null,null,null,null,null,null,null,null,null,null,null,null,null,null,null,null,null,null,null,null,null,null,null,null,null,null,null,null,null,null,null,null,null,"","","","","",4,13,1440,null,null,null,null,null,null,null,null,null,2,null,null,0,1442]
[12,"Cameron",1063,null,null,null,null,null,null,8,null,1,null,null,null,null,null,null,null,null,null,null,null,null,null,null,null,null,null,null,null,null,null,null,null,null,null,null,null,"","","","","",null,null,1072,null,null,null,null,null,null,null,null,null,null,null,null,0,1072]
[13,"Catahoula",908,null,null,null,null,null,null,null,null,null,null,null,null,88,null,null,null,null,null,null,null,null,null,null,null,null,null,null,null,null,null,null,null,null,null,null,null,"","","","","",2,5,1003,null,null,null,null,null,null,null,null,null,1,null,null,0,1004]
[14,"Claiborne",1552,null,null,2,null,null,null,null,null,null,null,null,null,null,null,null,null,null,42,null,null,null,null,40,null,null,null,null,null,null,null,null,null,null,null,null,null,"","","","","",8,3,1647,null,null,null,null,null,null,null,null,null,1,null,null,0,1648]
[15,"Concordia",2814,null,null,null,null,null,null,null,null,null,null,null,null,356,null,null,null,null,null,null,null,null,null,null,null,null,null,null,null,null,null,null,null,null,null,null,null,"","","","","",11,5,3186,null,null,null,null,null,null,null,null,null,null,null,null,1,3187]
[16,"DeSoto",4698,null,null,null,null,null,null,null,null,null,null,null,null,null,null,null,null,null,null,null,null,null,null,null,null,null,null,null,null,null,null,null,null,null,null,null,4,"","","","","",20,18,4740,null,null,null,null,null,null,null,null,null,3,null,null,0,4743]
[17,"East Baton Rouge",38728,701,548,null,null,null,null,1,null,null,302,null,668,null,210,316,71,null,null,null,null,null,738,null,null,null,450,null,null,430,null,null,47,3,103,695,null,"","","","","",124,320,44455,null,null,null,null,null,null,null,1468,789,9,1,105,57,46884]
[18,"East Carroll",726,null,null,null,null,null,null,null,null,null,null,null,null,null,null,null,null,null,null,null,null,null,null,null,null,null,null,null,null,null,null,null,null,null,null,null,null,"","","","","",2,null,728,null,null,null,null,9,null,null,null,null,null,null,null,1,738]
[19,"East Feliciana",1596,null,null,null,null,null,null,null,null,null,5,null,null,null,null,7,null,null,null,null,null,null,null,null,null,null,null,null,null,null,null,null,null,null,1,null,null,"","","","","",6,22,1637,null,null,null,null,null,null,null,null,null,null,null,null,1,1638]
[20,"Evangeline",5209,null,null,null,null,null,null,null,5,null,null,null,null,null,null,null,null,null,null,null,1,null,null,null,null,null,null,null,null,null,null,null,null,null,null,null,null,"","","","","",16,17,5248,null,null,null,null,null,null,null,null,null,4,null,null,2,5254]
[21,"Franklin",2463,null,null,null,null,null,null,null,null,null,null,null,null,1,null,null,null,null,null,null,null,null,null,null,null,null,null,null,null,null,null,null,null,null,null,null,null,"","","","","",4,33,2501,null,null,null,null,59,null,null,null,null,3,null,null,0,2563]
[22,"Grant",2699,null,null,null,null,null,null,null,null,null,null,null,null,null,null,null,null,null,null,null,null,null,null,null,null,null,null,null,null,null,null,null,null,null,null,null,null,"","","","","",3,16,2718,null,null,null,null,null,null,null,null,null,2,null,null,2,2722]
[23,"Iberia",10699,null,null,null,null,null,null,null,null,null,null,null,null,null,null,null,null,null,null,214,4,5,null,1,null,null,null,1,null,null,null,null,null,null,null,null,null,"","","","","",40,39,11003,null,130,null,null,null,null,null,null,null,2,null,1,1,11137]
[24,"Iberville",3748,null,2,null,null,null,null,null,null,null,5,null,3,null,null,null,198,null,null,null,null,null,1,null,null,null,null,null,null,null,null,2,null,null,null,null,null,"","","","","",2,8,3969,null,null,null,null,null,null,null,null,null,2,null,1,2,3974]
[25,"Jackson",1979,null,null,1,null,null,null,null,null,null,null,null,null,null,null,null,null,null,null,null,null,null,null,27,null,null,null,null,null,null,null,null,null,null,null,null,null,"","","","","",11,9,2027,null,null,null,null,null,null,null,null,null,null,null,null,0,2027]
[26,"Jefferson",45817,null,null,null,52,671,195,null,null,null,null,129,null,null,null,null,6,null,null,null,6,null,null,null,14,null,null,22,982,null,null,null,null,2,null,null,null,"","","","","",198,303,48397,null,null,426,null,null,229,null,null,null,7,42,7,14,49122]
[27,"Jefferson Davis",5108,null,null,null,null,null,null,8,null,null,null,null,null,null,null,null,null,5,null,1,null,null,null,null,null,null,null,null,null,null,null,null,null,null,null,null,null,"","","","","",13,14,5149,null,null,null,null,null,null,null,null,null,2,null,null,5,5156]
[28,"Lafayette",29444,null,null,null,null,null,null,null,6,null,1,null,null,null,null,null,null,null,null,2395,1391,571,null,null,null,55,null,null,null,null,null,1,null,null,null,null,null,"","","","","",82,165,34111,null,3,null,null,null,null,null,null,null,10,null,3,11,34138]
[29,"Lafourche",13079,null,null,null,null,null,null,null,null,null,null,null,null,null,null,null,50,null,null,null,11,null,null,null,null,null,null,null,null,null,null,null,null,null,null,null,null,"","","","","",32,73,13245,null,null,1,null,null,null,72,null,null,5,1,null,2,13326]
[30,"LaSalle",2388,null,null,null,null,null,null,null,null,null,null,null,null,null,null,null,null,null,null,null,null,null,null,null,null,null,null,null,null,null,null,null,null,null,null,null,null,"","","","","",4,20,2412,null,null,null,null,null,null,null,null,null,2,null,null,0,2414]
[31,"Lincoln",5624,null,null,60,null,null,null,null,null,null,null,null,null,null,null,null,null,null,3,null,null,null,null,553,null,null,null,null,null,null,null,null,null,null,null,null,null,"","","","","",10,10,6260,null,null,null,null,null,null,null,null,null,3,null,null,1,6264]
[32,"Livingston",26528,null,11,null,null,null,null,null,null,null,12,null,3,null,1,3,2,null,null,null,null,null,12,null,null,null,null,null,null,3,null,null,null,1,11,4,null,"","","","","",70,352,27013,null,null,null,null,null,null,null,null,null,12,null,4,13,27042]
[33,"Madison",1177,null,null,null,null,null,null,null,null,null,null,null,null,null,null,null,null,null,null,null,null,null,null,null,null,null,null,null,null,null,null,null,null,null,null,null,null,"","","","","",3,35,1215,null,null,null,null,220,null,null,null,null,null,null,null,0,1435]
[34,"Morehouse",3102,null,null,1,null,null,null,null,null,null,null,null,null,null,null,null,null,null,null,null,null,null,null,null,null,null,null,null,null,null,null,null,null,null,null,null,null,"","","","","",31,42,3176,2,null,null,null,1,null,null,null,null,null,null,null,0,3179]
[35,"Natchitoches",4797,null,null,null,null,null,null,null,null,null,null,null,null,null,null,null,null,null,null,null,null,null,null,null,null,null,null,null,null,null,null,null,null,null,null,null,null,"","","","","",20,5,4822,null,null,null,null,null,null,null,null,null,25,null,null,1,4848]
[36,"Orleans (With Independents)",42271,null,null,null,339,208,632,null,null,null,null,10,null,null,null,null,3,null,null,null,2,null,null,null,130,null,null,285,89,null,null,null,null,4,null,null,null,"","","","","",93,77,44143,null,null,606,null,null,159,null,null,null,1,138,4,4,45055]
[37,"Ouachita",17302,null,null,11,null,null,null,null,null,null,null,null,null,null,null,null,null,null,null,null,null,null,null,4,null,null,null,null,null,null,null,null,null,null,null,null,null,"","","","","",46,68,17431,72,null,null,null,4,null,null,null,null,6,null,null,3,17516]
[38,"Plaquemines",3556,null,null,null,null,15,2,null,null,null,null,1,null,null,null,null,null,null,null,null,null,null,null,null,null,null,null,null,7,null,null,null,null,null,null,null,null,"","","","","",3,21,3605,null,null,8,null,null,384,null,null,null,1,3,null,0,4001]
[39,"Pointe Coupee",2245,null,null,null,null,null,null,2,null,null,5,null,null,null,null,null,null,null,null,null,null,null,null,null,null,null,null,null,null,null,null,null,null,null,null,null,null,"","","","","",17,25,2294,null,null,null,null,null,null,null,null,null,3,null,1,2,2300]
[40,"Rapides",20556,null,null,null,null,null,null,null,null,null,null,null,null,null,null,null,null,null,null,null,null,null,null,null,null,null,null,null,null,null,null,null,null,null,null,null,null,"","","","","",49,78,20683,null,null,null,null,1,null,null,null,null,11,null,null,43,20738]
[41,"Red River",1138,null,null,null,null,null,null,null,null,null,null,null,null,null,null,null,null,null,null,null,null,null,null,null,null,null,null,null,null,null,null,null,null,null,null,null,1,"","","","","",7,4,1150,null,null,null,null,null,null,null,null,null,1,null,null,0,1151]
[42,"Richland",2637,null,null,null,null,null,null,null,null,null,null,null,null,null,null,null,null,null,null,null,null,null,null,null,null,null,null,null,null,null,null,null,null,null,null,null,null,"","","","","",7,9,2653,7,null,null,null,290,null,null,null,null,null,null,null,0,2950]
[43,"Sabine",3573,null,null,null,null,null,null,null,null,null,null,null,null,null,null,null,null,null,null,null,null,null,null,null,null,null,null,null,null,null,null,null,null,null,null,null,null,"","","","","",7,8,3588,null,null,null,null,null,null,null,null,null,2,null,null,1,3591]
[44,"St. Bernard",7389,null,null,null,4,7,6,null,null,null,null,1,null,null,null,null,null,null,null,null,null,null,null,null,3,null,null,2,3,null,null,null,null,null,null,null,null,"","","","","",29,33,7477,null,null,16,null,null,5,null,null,null,2,5,null,0,7505]
[45,"St. Charles",8942,null,null,null,null,null,7,null,null,null,null,2,null,null,null,null,1,null,null,null,2,null,null,null,null,null,null,null,null,null,null,null,null,null,null,null,null,"","","","","",18,25,8997,null,null,5,null,null,null,null,null,null,11,6,1,0,9020]
[46,"St. Helena",984,null,null,null,null,null,null,null,null,null,null,null,null,null,null,null,null,null,null,null,null,null,null,null,null,null,null,null,null,null,null,null,null,1,1,null,null,"","","","","",10,24,1020,null,null,null,null,null,null,null,null,null,null,null,null,0,1020]
[47,"St. James",3098,null,null,null,null,null,null,null,null,null,null,null,null,null,null,null,null,null,null,null,null,null,null,null,null,null,null,null,null,null,null,null,null,null,null,null,null,"","","","","",1,7,3106,null,null,null,null,null,null,null,null,null,1,null,1,0,3108]
[48,"St. John the Baptist",4871,null,null,null,null,null,1,null,null,null,2,null,null,null,null,null,null,null,null,null,null,null,null,null,1,null,null,null,null,null,null,null,null,null,null,null,null,"","","","","",15,38,4928,null,null,3,null,null,null,null,null,null,1,5,4,1,4942]
[49,"St. Landry",11028,null,null,null,null,null,null,null,394,2,3,null,null,null,null,null,null,null,null,9,151,21,null,null,null,2,null,null,null,null,null,302,null,null,null,null,null,"","","","","",85,109,12106,null,null,null,6,null,null,null,null,null,9,null,8,1,12130]
[50,"St. Martin",6658,null,null,null,null,null,null,null,null,null,null,null,null,null,null,null,null,null,null,133,75,11,null,null,null,null,null,null,null,null,null,null,null,null,null,null,null,"","","","","",36,55,6968,null,null,null,null,null,null,null,null,null,4,null,1,0,6973]
[51,"St. Mary",7238,null,null,null,null,null,null,null,null,null,null,null,null,null,null,null,1,null,null,null,null,null,null,null,null,null,null,null,null,null,null,null,null,null,null,null,null,"","","","","",10,53,7302,null,327,null,null,null,null,1,null,null,3,null,null,1,7634]
[52,"St. Tammany",35732,null,null,null,2,2,9,null,null,null,1,null,null,null,null,null,2,null,null,null,null,null,null,null,null,null,null,2,3,null,null,null,null,196,null,null,null,"","","","","",117,346,36412,null,null,9,null,null,12,null,null,null,13,23,2,3,36474]
[53,"Tangipahoa",18700,null,null,null,null,null,null,null,null,null,2,null,null,null,2,1,null,null,null,null,null,null,null,null,null,null,null,null,null,null,null,null,null,35,null,null,null,"","","","","",59,242,19041,null,null,null,null,null,null,null,null,null,9,3,2,6,19061]
[54,"Tensas",315,null,null,null,null,null,null,null,null,null,null,null,null,38,null,null,null,null,null,null,null,null,null,null,null,null,null,null,null,null,null,null,null,null,null,null,null,"","","","","",null,3,356,null,null,null,null,20,null,null,null,null,null,null,null,1,377]
[55,"Terrebonne",14282,null,null,null,null,null,null,null,null,null,null,null,null,null,null,null,31,null,null,null,10,null,null,null,null,null,null,null,null,null,null,null,null,null,null,null,null,"","","","","",69,146,14538,null,null,null,null,null,null,24,null,null,19,null,3,7,14591]
[56,"Union",1612,null,null,904,null,null,null,null,null,null,null,null,null,null,null,null,null,null,155,null,null,null,null,73,null,null,null,null,null,null,null,null,null,null,null,null,null,"","","","","",11,7,2762,null,null,null,null,null,null,null,null,null,1,null,null,2,2765]
[57,"Vermilion",9007,null,null,null,null,null,null,null,null,null,null,null,null,null,null,null,null,null,null,133,9,null,null,null,null,2,null,null,null,null,null,null,null,null,null,null,null,"","","","","",37,30,9218,null,1,null,null,null,null,null,null,null,2,null,null,1,9222]
[58,"Vernon",7576,null,null,null,null,null,null,null,null,null,null,null,null,null,null,null,null,null,null,null,null,null,null,null,null,null,null,null,null,null,null,null,null,null,null,null,null,"","","","","",29,28,7633,null,null,null,null,null,null,null,null,null,12,null,null,1,7646]
[59,"Washington",4392,null,null,null,null,null,null,null,null,null,null,null,null,null,null,null,null,null,null,null,null,null,null,null,null,null,null,null,null,null,null,null,null,2,null,null,null,"","","","","",12,55,4461,null,null,null,null,null,null,null,null,null,3,null,1,3,4468]
[60,"Webster",4982,null,null,null,null,null,null,null,null,null,null,null,null,null,null,null,null,null,null,null,null,null,null,2,null,null,null,null,null,null,null,null,null,null,null,null,1,"","","","","",4,18,5007,null,null,null,null,null,null,null,null,null,1,null,null,0,5008]
[61,"West Baton Rouge",3989,null,3,null,null,null,null,null,null,null,14,null,4,null,null,1,27,null,null,null,null,1,1,null,null,null,null,null,null,null,null,null,1,null,2,null,null,"","","","","",7,44,4094,null,null,null,null,null,null,null,null,null,3,null,6,6,4109]
[62,"West Carroll",1489,null,null,null,null,null,null,null,null,null,null,null,null,null,null,null,null,null,null,null,null,null,null,null,null,null,null,null,null,null,null,null,null,null,null,null,null,"","","","","",8,13,1510,null,null,null,null,37,null,null,null,null,null,null,null,0,1547]
[63,"West Feliciana",2068,null,null,null,null,null,null,null,null,null,null,null,null,null,null,1,null,null,null,null,null,null,null,null,null,null,null,null,null,null,null,null,null,null,null,null,null,"","","","","",3,16,2088,null,null,null,null,null,null,null,null,null,1,null,null,1,2090]
[64,"Winn",1744,null,null,null,null,null,null,null,null,null,null,null,null,null,null,null,null,null,null,null,null,null,null,null,null,null,null,null,null,null,null,null,null,null,null,null,null,"","","","","",7,4,1755,null,null,null,null,null,null,null,null,null,null,null,null,1,1756]
[65,"City of Monroe",7803,null,null,4,null,null,null,null,null,null,null,null,null,2,null,null,null,null,null,null,null,null,null,1,null,null,null,null,null,null,null,null,null,null,null,null,null,"","","","","",17,10,7837,124,null,null,null,1,null,null,null,null,1,null,null,2,7965]
[66,"City of Bogalusa",1834,null,null,null,null,null,null,null,null,null,null,null,null,null,null,null,null,null,null,null,null,null,null,null,null,null,null,null,null,null,null,null,null,2,null,null,null,"","","","","",15,26,1877,null,null,null,null,null,null,null,null,null,1,null,null,1,1879]
[67,"Zachary Community",5403,null,2,null,null,null,null,null,null,null,17,null,null,null,6,7,null,null,null,null,null,null,3,null,null,null,1,null,null,null,null,null,2,null,2,null,null,"","","","","",20,44,5507,null,null,null,null,null,null,null,null,null,5,null,null,2,5514]
[68,"City of Baker",886,null,18,null,null,null,null,null,null,null,19,null,null,null,214,247,null,null,null,null,null,null,13,null,null,null,23,null,null,10,null,null,35,null,null,5,null,"","","","","",13,27,1510,null,null,null,null,null,null,null,null,null,null,null,9,0,1519]
[69,"Central Community",4600,null,7,null,null,null,null,null,null,null,22,null,2,null,1,16,3,null,null,null,null,null,7,null,null,null,5,null,null,2,null,null,6,null,5,5,null,"","","","","",8,48,4737,null,null,null,null,null,null,null,null,null,6,null,5,0,4748]
["Total",null,619566,1723,594,983,397,903,852,876,407,734,428,143,682,485,434,599,474,598,200,2885,1724,619,777,717,148,60,480,312,1084,445,134,306,91,246,128,709,70,0,0,0,0,0,1920,3716,647649,205,461,1074,711,642,789,99,1468,789,281,227,178,256,654829]
["120% of Max Counts",null,"N/A","N/A",720,1113.5999999999999,"N/A","N/A","N/A",1032,720,1032,652.79999999999995,348,756,676.8,540,912,756,690,216,4680,3510,912,1200,756,630,180,564,378,1425.6,600,638.4,369.59999999999997,432,286,468,770.4,192,null,null,null,null,null,2304,4000,null,403.2,643.19999999999993,"N/A",900,960,1050,156,{"$error":"#N/A"},{"$error":"#N/A"},{"$error":"#N/A"},{"$error":"#N/A"},{"$error":"#N/A"},{"$error":"#N/A"}]
["Count Removed from Base"]

{"sheet":"2.1.24 Base Count","index":23,"n_rows":78,"n_cols":63,"rows_kept":78,"cut":false,"hidden":false,"merged":[[0,0,0,1],[75,0,75,1],[76,0,76,1],[77,0,77,1]]}
["MFP Base_2.1.24",null,null,null,null,null,null,null,null,null,null,null,null,null,null,null,null,null,null,null,null,null,null,null,null,null,null,null,null,null,null,null,null,null,"New in 22-22","New in 22-23","New in 23-24","New in 23-24","New in 23-24"]
[]
["LEA","School\nSystem","City/Parish","RSD\nOperated\n&\nType 5\nCharters","Madison\nPreparatory\nAcademy","D'Arbonne\nWoods\nCharter\nSchool","Int'l\nHigh\nSchool\nof New\nOrleans","New\nOrleans\nMilitary/\nMaritime\nAcademy","Lycee\nFrancais\nde la\nNouvelle-\nOrleans","Lake\nCharles\nCharter\nAcademy","JS Clark\nLeadership\nAcademy","Southwest\nLouisiana\nCharter\nSchool","Louisiana\nKey\nAcademy","JCFA -\nEast","GEO Prep \nMid-City of \nGreater \nBaton Rouge","Delta\nCharter\nSchool","Impact\nCharter","Advantage\nCharter\nAcademy","Iberville\nCharter\nAcademy","Lake\nCharles\nCollege\nPrep","Northeast\nClaiborne\nCharter","Acadiana\nRenaissance\nCharter\nAcademy","Lafayette\nRenaissance\nCharter\nAcademy","Willow\nCharter\nAcademy","GEO Prep\nAcademy","Lincoln\nPrep\nSchool","Noble\nMinds","JCFA\nLafayette","Collegiate\nAcademy","New Harmony\nHigh School","Athlos\nAcademy\nof Jefferson\nParish","GEO Next\nGeneration\nHigh\nSchool","Red River\nCharter\nAcademy","St Landry Charter School","GEO Prep Baker","LA Key Acadmey Northshore\n","Discovery Ochsner BR","Kenilworth Science and Technology","LaKey Caddo","LEAVE\nBLANK","LEAVE\nBLANK","LEAVE\nBLANK","LEAVE\nBLANK","LEAVE\nBLANK","Louisiana\nVirtual\nCharter\nAcademy","University\nView\nAcademy","Total\nTable 3","Legacy\nNew\nVision\nLearning\nAcademy","Legacy\nVB \nGlencoe\nCharter\nSchool","Legacy\nInt'l\nSchool of\nLouisiana","Legacy\nAvoyelles\nPublic\nCharter\nSchool","Legacy\nDelhi\nCharter\nSchool","Legacy\nBelle\nChasse\nAcademy","Legacy\nThe MAX\nCharter\nSchool","LSU \nLab\nSchool","Southern\nUniversity\nLab\nSchool","Louisiana\nSchool\nfor Math\nScience\n& the Arts","New\nOrleans\nCenter for\nCreative\nArts","Thrive Academy","Special School District\n (SSD +LSDVI)","Total\nMFP\nFunded"]
[null,null,null,null,343001,341001,344001,348001,347001,346001,"WAL001","WAK001","W7A001","W1A001","WZ8001","W4A001","W8A001","W1B001","W3B001","W4B001","W5B001","W6B001","W7B001","W2B001","WAU001","W33001","W18001","W1D001","WJ5001","WBQ001","WBR001","WBX001","WBY001","3C5001","WZN001","WZO001","WZP001","WZQ001","WZT001","N/A","N/A","N/A","N/A","N/A","WAG001",345001,null,321001,329001,331001,333001,336001,337001,340001,318,319,302006,334001,"3C1001",101001]
[null,null,1,2,3,4,5,6,7,8,9,10,11,12,13,14,15,16,17,18,19,20,21,22,23,24,25,26,27,28,29,30,31,32,33,34,35,36,37,null,null,null,null,null,38,39,40,41,42,43,44,45,46,47,48,49,50,51,52,53,54]
[]
[1,"Acadia",8773,null,null,null,null,null,null,null,2,null,null,null,null,null,null,null,null,null,null,null,47,9,null,null,null,2,null,null,null,null,null,1,null,null,null,null,null,"","","","","",20,30,8884,null,null,null,null,null,null,null,null,null,1,null,null,9,8894]
[2,"Allen",3702,null,null,null,null,null,null,1,null,null,null,null,null,null,null,null,null,null,null,null,null,null,null,null,null,null,null,null,null,null,null,null,null,null,null,null,null,"","","","","",4,17,3724,null,null,null,null,null,null,null,null,null,2,null,null,2,3728]
[3,"Ascension",23503,null,3,null,null,null,null,null,null,null,18,null,2,null,null,null,71,null,null,null,3,null,2,null,null,null,1,null,null,null,null,null,null,null,3,null,null,"","","","","",27,120,23753,null,null,null,null,null,null,null,null,null,6,null,9,20,23788]
[4,"Assumption",2613,null,null,null,null,null,null,null,null,null,null,null,null,null,null,null,8,null,null,null,5,null,null,null,null,null,null,null,null,null,null,null,null,null,null,null,null,"","","","","",13,16,2655,null,null,null,null,null,null,2,null,null,1,null,1,1,2660]
[5,"Avoyelles",4651,null,null,null,null,null,null,null,null,null,null,null,null,null,null,null,null,null,null,null,null,null,null,null,null,null,null,null,null,null,127,null,null,null,null,null,null,"","","","","",20,39,4837,null,null,null,685,null,null,null,null,null,1,null,null,5,5528]
[6,"Beauregard",5519,null,null,null,null,null,null,2,null,1,null,null,null,null,null,null,null,null,null,null,null,null,null,null,null,null,null,null,null,null,null,null,null,null,null,null,null,"","","","","",16,13,5551,null,null,null,null,null,null,null,null,null,5,null,null,null,5556]
[7,"Bienville",1762,null,null,null,null,null,null,null,null,null,null,null,null,null,null,null,null,null,null,null,null,null,null,14,null,null,null,null,null,null,null,null,null,null,null,null,null,"","","","","",4,10,1790,null,null,null,null,null,null,null,null,null,3,null,null,1,1794]
[8,"Bossier",21764,null,null,null,null,null,null,null,null,null,null,null,null,null,null,null,null,null,null,null,null,null,null,null,null,null,null,null,null,null,null,null,null,null,null,null,21,"","","","","",60,43,21888,null,null,null,null,null,null,null,null,null,8,null,null,1,21897]
[9,"Caddo",32422,991,null,null,null,null,null,null,null,null,null,null,null,null,null,null,null,null,null,null,null,null,null,null,null,null,null,null,null,null,null,null,null,null,null,null,61,"","","","","",119,70,33663,null,null,null,null,null,null,null,null,null,4,null,null,6,33673]
[10,"Calcasieu",27438,null,null,null,null,null,null,835,null,712,null,null,null,null,null,null,null,579,null,null,2,null,null,null,null,null,null,null,null,null,null,null,null,null,null,null,null,"","","","","",57,85,29708,null,null,null,null,null,null,null,null,null,20,null,null,7,29735]
[11,"Caldwell",1385,null,null,null,null,null,null,null,null,null,null,null,null,null,null,null,null,null,null,null,null,null,null,null,null,null,null,null,null,null,null,null,null,null,null,null,null,"","","","","",5,13,1403,null,null,null,null,null,null,null,1461,740,2,null,null,null,3606]
[12,"Cameron",1066,null,null,null,null,null,null,8,null,null,null,null,null,null,null,null,null,null,null,null,null,null,null,null,null,null,null,null,null,null,null,null,null,null,null,null,null,"","","","","",null,1,1075,null,null,null,null,null,null,null,null,null,null,null,null,null,1075]
[13,"Catahoula",912,null,null,null,null,null,null,null,null,null,null,null,null,83,null,null,null,null,null,null,null,null,null,null,null,null,null,null,null,null,null,null,null,null,null,null,null,"","","","","",2,3,1000,null,null,null,null,null,null,null,null,null,1,null,null,null,1001]
[14,"Claiborne",1529,null,null,2,null,null,null,null,null,null,null,null,null,null,null,null,null,null,41,null,null,null,null,38,null,null,null,null,null,null,null,null,null,null,null,null,null,"","","","","",6,3,1619,null,null,null,null,null,null,null,null,null,1,null,null,null,1620]
[15,"Concordia",2825,null,null,null,null,null,null,null,null,null,null,null,null,359,null,null,null,null,null,null,null,null,null,null,null,null,null,null,null,null,null,null,null,null,null,null,null,"","","","","",10,5,3199,null,null,null,null,null,null,null,null,null,null,null,null,2,3201]
[16,"DeSoto",4698,null,null,null,null,null,null,null,null,null,null,null,null,null,null,null,null,null,null,null,null,null,null,null,null,null,null,null,null,null,null,null,null,null,null,null,5,"","","","","",16,16,4735,null,null,null,null,null,null,null,null,null,3,null,null,null,4738]
[17,"East Baton Rouge",38555,684,540,null,null,null,null,null,null,null,314,null,645,null,198,302,69,null,null,null,null,null,730,null,null,null,466,null,null,418,null,null,43,null,102,676,null,"","","","","",131,337,44210,null,null,null,null,null,null,null,null,null,9,1,99,55,44374]
[18,"East Carroll",729,null,null,null,null,null,null,null,null,null,null,null,null,null,null,null,null,null,null,null,null,null,null,null,null,null,null,null,null,null,null,null,null,null,null,null,null,"","","","","",2,null,731,null,null,null,null,8,null,null,null,null,null,null,null,1,740]
[19,"East Feliciana",1602,null,null,null,null,null,null,null,null,null,5,null,null,null,null,8,null,null,null,null,null,null,null,null,null,null,null,null,null,null,null,null,null,null,1,null,null,"","","","","",7,20,1643,null,null,null,null,null,null,null,null,null,null,null,null,1,1644]
[20,"Evangeline",5197,null,null,null,null,null,null,null,5,null,null,null,null,null,null,null,null,null,null,null,1,null,null,null,null,null,null,null,null,null,null,null,null,null,null,null,null,"","","","","",16,17,5236,null,null,null,null,null,null,null,null,null,2,null,null,3,5241]
[21,"Franklin",2432,null,null,null,null,null,null,null,null,null,null,null,null,1,null,null,null,null,null,null,null,null,null,null,null,null,null,null,null,null,null,null,null,null,null,null,null,"","","","","",2,33,2468,null,null,null,null,59,null,null,null,null,3,null,null,null,2530]
[22,"Grant",2657,null,null,null,null,null,null,null,null,null,null,null,null,null,null,null,null,null,null,null,null,null,null,null,null,null,null,null,null,null,null,null,null,null,null,null,null,"","","","","",3,16,2676,null,null,null,null,null,null,null,null,null,1,null,null,3,2680]
[23,"Iberia",10645,null,null,null,null,null,null,null,null,null,null,null,null,null,null,null,null,null,null,206,2,3,null,null,null,null,null,1,null,null,null,null,null,null,null,null,null,"","","","","",36,44,10937,null,128,null,null,null,null,null,null,null,3,null,1,1,11070]
[24,"Iberville",3730,null,2,null,null,null,null,null,null,null,5,null,3,null,null,null,202,null,null,null,null,null,1,null,null,null,null,null,null,null,null,2,null,null,2,null,null,"","","","","",2,6,3955,null,null,null,null,null,null,null,null,null,2,null,1,2,3960]
[25,"Jackson",1962,null,null,1,null,null,null,null,null,null,null,null,null,null,null,null,null,null,null,null,null,null,null,28,null,null,null,null,null,null,null,null,null,null,null,null,null,"","","","","",11,8,2010,null,null,null,null,null,null,null,null,null,null,null,null,null,2010]
[26,"Jefferson",46035,null,null,null,53,663,194,null,null,null,null,121,null,null,null,null,8,null,null,null,8,null,null,null,17,null,null,25,969,null,null,null,null,2,null,null,null,"","","","","",190,299,48584,null,null,418,null,null,230,null,null,null,7,43,7,14,49303]
[27,"Jefferson Davis",5092,null,null,null,null,null,null,8,null,null,null,null,null,null,null,null,null,5,null,1,null,null,null,null,null,null,null,null,null,null,null,null,null,null,null,null,null,"","","","","",13,15,5134,null,null,null,null,null,null,null,null,null,2,null,null,4,5140]
[28,"Lafayette",29439,null,null,null,null,null,null,null,4,null,1,null,null,null,null,2,null,null,null,2386,1364,530,null,null,null,55,null,null,null,null,null,1,null,null,null,null,null,"","","","","",86,168,34036,null,3,null,null,null,null,null,null,null,9,null,3,10,34061]
[29,"Lafourche",13017,null,null,null,null,null,null,null,null,null,null,null,null,null,null,null,49,null,null,null,10,null,null,null,null,null,null,null,null,null,null,null,null,null,null,null,null,"","","","","",33,71,13180,null,null,1,null,null,null,71,null,null,5,1,1,2,13261]
[30,"LaSalle",2364,null,null,null,null,null,null,null,null,null,null,null,null,null,null,null,null,null,null,null,null,null,null,null,null,null,null,null,null,null,null,null,null,null,null,null,null,"","","","","",5,17,2386,null,null,null,null,null,null,null,null,null,2,null,null,null,2388]
[31,"Lincoln",5629,null,null,59,null,null,null,null,null,null,null,null,null,null,null,null,null,null,2,null,null,null,null,489,null,null,null,null,null,null,null,null,null,null,null,null,null,"","","","","",10,11,6200,null,null,null,null,null,null,null,null,null,3,null,null,2,6205]
[32,"Livingston",26411,null,11,null,null,null,null,null,null,null,14,null,3,null,null,3,2,null,null,null,null,null,10,null,null,null,null,null,null,3,null,null,null,1,11,1,null,"","","","","",67,348,26885,null,null,null,null,null,null,null,null,null,11,null,5,13,26914]
[33,"Madison",1189,null,null,null,null,null,null,null,null,null,null,null,null,null,null,null,null,null,null,null,null,null,null,null,null,null,null,null,null,null,null,null,null,null,null,null,null,"","","","","",2,31,1222,null,null,null,null,196,null,null,null,null,null,null,null,null,1418]
[34,"Morehouse",3103,null,null,1,null,null,null,null,null,null,null,null,null,null,null,null,null,null,null,null,null,null,null,null,null,null,null,null,null,null,null,null,null,null,null,null,null,"","","","","",29,33,3166,2,null,null,null,1,null,null,null,null,null,null,null,null,3169]
[35,"Natchitoches",4772,null,null,null,null,null,null,null,null,null,null,null,null,null,null,null,null,null,null,null,null,null,null,null,null,null,null,null,null,null,null,null,null,null,null,null,null,"","","","","",23,4,4799,null,null,null,null,null,null,null,null,null,20,null,null,1,4820]
[36,"Orleans (With Independents)",42428,null,null,null,349,205,620,null,null,null,null,6,null,null,null,null,3,null,null,null,2,null,null,null,138,null,null,303,88,null,null,null,null,4,null,null,null,"","","","","",94,78,44318,null,null,608,null,null,157,null,null,null,1,136,5,5,45230]
[37,"Ouachita",17246,null,null,11,null,null,null,null,null,null,null,null,null,null,null,null,null,null,null,null,null,null,null,5,null,null,null,null,null,null,null,null,null,null,null,null,null,"","","","","",46,78,17386,66,null,null,null,4,null,null,null,null,6,null,null,3,17465]
[38,"Plaquemines",3525,null,null,null,null,14,2,null,null,null,null,1,null,null,null,null,null,null,null,null,null,null,null,null,null,null,null,null,4,null,null,null,null,null,null,null,null,"","","","","",6,23,3575,null,null,8,null,null,380,null,null,null,1,3,1,null,3968]
[39,"Pointe Coupee",2237,null,null,null,null,null,null,2,null,null,4,null,null,null,null,null,null,null,null,null,null,null,null,null,null,null,null,null,null,null,null,null,null,null,null,null,null,"","","","","",17,22,2282,null,null,null,null,null,null,null,null,null,4,null,1,3,2290]
[40,"Rapides",20610,null,null,null,null,null,null,null,null,null,null,null,null,null,null,null,null,null,null,null,null,null,null,null,null,null,null,null,null,null,null,null,null,null,null,null,null,"","","","","",43,71,20724,null,null,null,null,1,null,null,null,null,11,null,null,42,20778]
[41,"Red River",1146,null,null,null,null,null,null,null,null,null,null,null,null,null,null,null,null,null,null,null,null,null,null,null,null,null,null,null,null,null,null,null,null,null,null,null,1,"","","","","",7,4,1158,null,null,null,null,null,null,null,null,null,1,null,null,null,1159]
[42,"Richland",2665,null,null,null,null,null,null,null,null,null,null,null,null,null,null,null,null,null,null,null,null,null,null,null,null,null,null,null,null,null,null,null,null,null,null,null,null,"","","","","",7,9,2681,2,null,null,null,285,null,null,null,null,null,null,null,1,2969]
[43,"Sabine",3561,null,null,null,null,null,null,null,null,null,null,null,null,null,null,null,null,null,null,null,null,null,null,null,null,null,null,null,null,null,null,null,null,null,null,null,null,"","","","","",6,9,3576,null,null,null,null,null,null,null,null,null,2,null,null,1,3579]
[44,"St. Bernard",7354,null,null,null,4,8,6,null,null,null,null,1,null,null,null,null,null,null,null,null,null,null,null,null,3,null,null,2,3,null,null,null,null,null,null,null,null,"","","","","",27,28,7436,null,null,16,null,null,5,null,null,null,null,5,null,1,7463]
[45,"St. Charles",8840,null,null,null,null,null,7,null,null,null,null,1,null,null,null,null,1,null,null,null,2,null,null,null,null,null,null,null,null,null,null,null,null,null,null,null,null,"","","","","",17,27,8895,null,null,5,null,null,null,null,null,null,11,6,null,null,8917]
[46,"St. Helena",996,null,null,null,null,null,null,null,null,null,null,null,null,null,null,null,null,null,null,null,null,null,null,null,null,null,1,null,null,null,null,null,null,1,1,null,null,"","","","","",9,23,1031,null,null,null,null,null,null,null,null,null,null,null,null,null,1031]
[47,"St. James",3115,null,null,null,null,null,null,null,null,null,null,null,null,null,null,null,null,null,null,null,null,null,null,null,null,null,null,null,null,null,null,null,null,null,null,null,null,"","","","","",1,7,3123,null,null,null,null,null,null,null,null,null,1,null,1,null,3125]
[48,"St. John the Baptist",4945,null,null,null,null,null,1,null,null,null,2,null,null,null,null,null,null,null,null,null,null,null,null,null,null,null,null,null,null,null,null,null,null,null,null,null,null,"","","","","",13,35,4996,null,null,3,null,null,null,null,null,null,1,5,7,null,5012]
[49,"St. Landry",10983,null,null,null,null,null,null,null,370,1,2,null,null,null,null,null,null,null,null,8,149,17,null,null,null,1,null,null,null,null,null,287,null,null,null,null,null,"","","","","",92,102,12012,null,null,null,6,null,null,null,null,null,8,null,4,1,12031]
[50,"St. Martin",6613,null,null,null,null,null,null,null,null,null,null,null,null,null,null,null,null,null,null,128,80,11,null,null,null,null,null,null,null,null,null,null,null,null,null,null,null,"","","","","",32,57,6921,null,null,null,null,null,null,null,null,null,4,null,null,null,6925]
[51,"St. Mary",7256,null,null,null,null,null,null,null,null,null,null,null,null,null,null,null,null,null,null,null,null,null,null,null,null,null,null,null,null,null,null,null,null,null,null,null,null,"","","","","",12,49,7317,null,318,null,null,null,null,1,null,null,3,null,null,1,7640]
[52,"St. Tammany",35725,null,null,null,2,3,8,null,null,null,1,1,null,null,null,null,2,null,null,null,null,null,null,null,null,null,null,2,3,null,null,null,null,207,null,null,null,"","","","","",111,353,36418,null,null,9,null,null,10,null,null,null,12,24,3,5,36481]
[53,"Tangipahoa",18656,null,null,null,null,null,null,null,null,null,1,null,null,null,2,1,null,null,null,null,null,null,null,null,1,null,null,null,null,null,null,null,null,38,null,null,null,"","","","","",46,239,18984,null,null,null,null,null,null,null,null,null,8,2,4,5,19003]
[54,"Tensas",318,null,null,null,null,null,null,null,null,null,null,null,null,34,null,null,null,null,null,null,null,null,null,null,null,null,null,null,null,null,null,null,null,null,null,null,null,"","","","","",null,3,355,null,null,null,null,17,null,null,null,null,null,null,null,1,373]
[55,"Terrebonne",14288,null,null,null,null,null,null,null,null,null,null,null,null,null,null,null,36,null,null,null,9,null,null,null,null,null,null,null,null,null,null,null,null,null,null,null,null,"","","","","",73,148,14554,null,null,null,null,null,null,24,null,null,19,null,3,8,14608]
[56,"Union",1615,null,null,893,null,null,null,null,null,null,null,null,null,null,null,null,null,null,155,null,null,null,null,61,null,null,null,null,null,null,null,null,null,null,null,null,null,"","","","","",13,7,2744,null,null,null,null,null,null,null,null,null,1,null,null,2,2747]
[57,"Vermilion",8927,null,null,null,null,null,null,null,null,null,null,null,null,null,null,null,null,null,null,122,4,null,null,null,null,null,null,null,null,null,null,null,null,null,null,null,null,"","","","","",31,29,9113,null,1,null,null,null,null,null,null,null,2,null,null,2,9118]
[58,"Vernon",7551,null,null,null,null,null,null,null,null,null,null,null,null,null,null,null,null,null,null,null,null,null,null,null,null,null,null,null,null,null,null,null,null,null,null,null,null,"","","","","",27,29,7607,null,null,null,null,null,null,null,null,null,10,null,null,1,7618]
[59,"Washington",4378,null,null,null,null,null,null,null,null,null,null,null,null,null,null,null,null,null,null,null,null,null,null,null,null,null,null,null,null,null,null,null,null,1,null,null,null,"","","","","",13,50,4442,null,null,null,null,null,null,null,null,null,2,null,1,5,4450]
[60,"Webster",4914,null,null,null,null,null,null,null,null,null,null,null,null,null,null,null,null,null,null,null,null,null,null,2,null,null,null,null,null,null,null,null,null,null,null,null,2,"","","","","",5,17,4940,null,null,null,null,null,null,null,null,null,1,null,null,null,4941]
[61,"West Baton Rouge",3948,null,3,null,null,null,null,null,null,null,14,null,4,null,null,1,30,null,null,null,null,1,1,null,null,null,1,null,null,null,null,null,1,null,2,null,null,"","","","","",8,46,4060,null,null,null,null,null,null,null,null,null,3,null,5,6,4074]
[62,"West Carroll",1484,null,null,null,null,null,null,null,null,null,null,null,null,null,null,null,null,null,null,null,null,null,null,null,null,null,null,null,null,null,null,null,null,null,null,null,null,"","","","","",8,11,1503,null,null,null,null,31,null,null,null,null,null,null,null,null,1534]
[63,"West Feliciana",2077,null,null,null,null,null,null,null,null,null,null,null,null,null,null,1,null,null,null,null,null,null,null,null,null,null,null,null,null,null,null,null,null,null,null,null,null,"","","","","",3,16,2097,null,null,null,null,null,null,null,null,null,1,null,null,1,2099]
[64,"Winn",1717,null,null,null,null,null,null,null,null,null,null,null,null,null,null,null,null,null,null,null,null,null,null,null,null,null,null,null,null,null,null,null,null,null,null,null,null,"","","","","",7,6,1730,null,null,null,null,null,null,null,null,null,null,null,null,1,1731]
[65,"City of Monroe",7890,null,null,4,null,null,null,null,null,null,null,null,null,null,null,null,null,null,null,null,null,null,null,1,null,null,null,null,null,null,null,null,null,null,null,null,null,"","","","","",17,10,7922,126,null,null,null,1,null,null,null,null,1,null,null,1,8051]
[66,"City of Bogalusa",1833,null,null,null,null,null,null,null,null,null,null,null,null,null,null,null,null,null,null,null,null,null,null,null,null,null,null,null,null,null,null,null,null,3,null,null,null,"","","","","",15,29,1880,null,null,null,null,null,null,null,null,null,1,null,null,null,1881]
[67,"Zachary Community",5396,null,2,null,null,null,null,null,null,null,17,null,null,null,5,9,null,null,null,null,null,null,3,null,null,null,2,null,null,null,null,null,3,null,2,1,null,"","","","","",21,48,5509,null,null,null,null,null,null,null,null,null,5,null,3,3,5520]
[68,"City of Baker",922,null,17,null,null,null,null,null,null,null,20,null,3,null,214,238,null,null,null,null,null,null,13,null,null,null,25,null,null,10,null,null,33,null,null,5,null,"","","","","",15,29,1544,null,null,null,null,null,null,null,null,null,null,null,9,null,1553]
[69,"Central Community",4580,null,7,null,null,null,null,null,null,null,24,null,2,null,1,15,4,null,null,null,null,null,7,null,null,null,5,null,null,2,null,null,6,null,3,5,null,"","","","","",6,39,4706,null,null,null,null,null,null,null,null,null,6,null,6,null,4718]
["Total",null,618861,1675,585,971,408,893,838,856,381,714,442,131,662,477,420,580,485,584,198,2851,1688,571,767,638,159,58,501,333,1067,433,127,291,86,257,127,688,90,0,0,0,0,0,1895,3693,646481,196,450,1068,691,603,782,98,1461,740,263,226,180,265,653504,1953489,true]
["120% of Max Counts",null,"N/A","N/A",720,1113.5999999999999,"N/A","N/A","N/A",1032,720,1032,652.79999999999995,348,756,676.8,540,912,756,690,216,4680,3510,912,1200,756,630,180,564,378,1425.6,600,638.4,369.59999999999997,432,286,468,770.4,192,null,null,null,null,null,2304,4000,null,403.2,643.19999999999993,"N/A",900,960,1050,156,{"$error":"#N/A"},{"$error":"#N/A"},{"$error":"#N/A"},{"$error":"#N/A"},{"$error":"#N/A"},{"$error":"#N/A"},null,null,"ck to adj student count file from 3/7/24"]
["Count Removed from Base"]